{"text_format":"1","workbook":"xlsx","n_sheets":18,"sheets":["Start","Indata","Resultat","Syreprofiler","RS","Sorterat","Vattenföring","Statistik","Diagram","Hist_data","Rapport","Kommentarer","Kontakt","Länkar","Förklaring","Problemhantering","Provpunkter","Formler"],"not_rendered":{"charts":138,"images":25,"macros":1,"external_links":0,"defined_names":8,"comments":8,"pivot_tables":0},"unopened":[],"bounds":{"document_bytes":16777216,"sheet_cells":100000,"rows_first":2000,"rows_last":500,"rows_between":2000,"halvings":0,"cell_chars":16384,"cell_head_chars":4096},"cells_cut":0,"cells_raw":0,"read":"whole","date_system":"1900"}

{"sheet":"Start","index":0,"n_rows":15,"n_cols":8,"rows_kept":15,"cut":false,"hidden":false,"merged":[]}
[]
[]
[null,null,null,null,"Rönne å, vattenkontroll, kemi - 2025"]
[]
[]
[null," Foto: Rössjön (pkt 51)"]
[null,null,"Resultat sorterat per månad",null,"Resultat sorterat per provpunkt",null,null,"Diagram och statistik"]
[]
[]
[]
[null,null,"Månadsrapport",null,"Kommentarer",null,null,"Vattenföring"]
[]
[null,null,"Länkar",null,"Kontakt"]
[]
[null,null,"På uppdrag av Rönneåkommitén och Ringsjöns vattenråd"]

{"sheet":"Indata","index":1,"n_rows":378,"n_cols":27,"rows_kept":378,"cut":false,"hidden":true,"merged":[]}
[null,"Rönne å 2025\nInskrivning"]
[]
[null,"Inskrivning","Denna flik används för att skriva in ny/redigera data. Fliken är dold i den publika versionen"]
[null,null,"Om du klistrar in data, t ex från en annan excelfil använd Klistra in värden"]
[null,null,"Klicka på \"Uppdatera sortering\" när du ändrat eller skrivit in nya data"]
[]
["Sorterings-","Provtagningspunkt","Provtagn"," Temp"," Syreh","Syrem","  pH"," Alkalin","Kond","   Färg","Gruml","Abs,filt","BOD7"," Perm.t.","COD-Cr","PO4-P","Tot-P filt","Tot-P"," NO3+2-N","NH4-N"," Tot-N","Ca","Mg","SO4","Klor a","Siktdjup","Anmärkning"]
["ordning","Nr Läge","datum","  °C","mg/l","%",null,"  mmol/l","mS/m"," mgPt/l","  FNU","/5cm","mg/l","   mg/l","   mg/l"," µg/l"," µg/l"," µg/l","  µg/l","  µg/l","  µg/l","mekv/l","mekv/l","mekv/l"," µg/l","m"]
[250,"januari"]
[3,"3  Rönneå, uppstr Bålamöllan","2025-01-15",1.7,12.8,{"$f":"IF(E10<>\"\",ROUND((E10/((9.266*EXP(-0.04555*D10)+5.374))*100),0),\"\")","v":92},7.5,1.6,26.7,50,7.7,0.12,2.5,38.314999999999998,40,null,null,77,1500,72,2400,1.9,0.33,0.41]
[10,"11 Rönneå, vid Djupadalsmölla","2025-01-15",2.1,13,{"$f":"IF(E11<>\"\",ROUND((E11/((9.266*EXP(-0.04555*D11)+5.374))*100),0),\"\")","v":94},7.6,1.6,27.9,50,7.7,0.13,2.2000000000000002,35.550000000000004,33,null,null,62,1900,97,2400,2,0.38,0.46]
[25,"24 Rönneå, vid Forsmöllan","2025-01-15",2.2999999999999998,12.9,94,7.3,0.85,19.2,120,4.5999999999999996,0.24,null,51.35,null,null,null,38,1600,null,2100,1.2,0.3,0.37]
[30,"25 Rönneå, vid Stackarps bro","2025-01-15",2.2999999999999998,13.8,101,7.4,0.85,19.600000000000001,120,4.5999999999999996,0.24,null,47.400000000000006,null,null,null,37,1700,null,2200,1.2,0.3,0.38]
[40,"49 Rönneå, uppstr Ängelholm","2025-01-15",1.7,13.4,96,7.1,0.56000000000000005,17.399999999999999,130,8,0.3,2.1,51.35,42,null,null,39,1500,56,2000,0.75,0.24,0.34]
[45,"57 Rönneå, vid utfl t Skälderviken","2025-01-15",1.8,13.5,97,7.2,0.59,18.100000000000001,120,8.1,0.3,null,43.45,null,null,null,40,1600,null,2200,0.79,0.25,0.35]
[75,"16 Ybbarpsån, nedstr Perstorp AB","2025-01-15",2,13.8,100,6.7,0.28000000000000003,20.100000000000001,200,6,0.38,null,71.100000000000009,null,null,null,30,1400,null,2100,0.36,0.18,0.46]
[85,"22 Ybbarpsån, vid Herrevadskloster","2025-01-15",1,12.8,90,6.7,0.31,17.600000000000001,200,5,0.38,null,75.05,null,null,null,30,1100,null,1700,0.41,0.2,0.42]
[120,"33 Bäljaneå, nedstr Klippan","2025-01-15",2.5,13.5,99,6.6,0.13,10.5,180,5.5,0.36,null,67.150000000000006,null,null,null,28,1100,null,1600,0.34,0.16,0.22]
[145,"44 Pinnån, utfl ur Kopparmölledamm","2025-01-15",1.9,13.8,99,6.5,0.14000000000000001,12.5,250,3,0.43,null,75.05,null,null,null,28,800,null,1300,0.28000000000000003,0.14000000000000001,0.32]
[150,"58 Pinnån, vid utfl t Rönneå","2025-01-15",2.4,13.2,96,6.7,0.2,13.9,400,4.7,0.41,null,71.100000000000009,null,null,null,32,1000,null,1500,0.35,0.16,0.33]
[165,"56 Rössjöholmsån, f utfl t Rönneå","2025-01-15",2.4,13.6,99,7.3,0.56999999999999995,13.8,120,9.8000000000000007,0.23,1.9,43.45,32,null,null,40,870,11,1200,0.59,0.23,0.16]
[220,"Ri5 Sätoftasjön, ytan","2025-01-15",0.7,13.8,96,7.9,1.3,21.5,75,null,0.14000000000000001,null,35.550000000000004,null,"<2",11,34,690,null,1200,null,0.24,0.3,20,1.1000000000000001]
[230,"Ri4 Östra Ringsjön, ytan","2025-01-15",1.6,13.5,97,8,1.6,26.4,12,null,8.6999999999999994E-2,null,26.86,null,36,46,64,1300,null,1600,null,0.26,0.32,12,1.7]
[240,"Ri2 Västra Ringsjön, ytan","2025-01-15",0.8,14.9,104,8.3000000000000007,1.6,25.8,45,null,5.2999999999999999E-2,null,25.675000000000001,null,"<2",7.6,46,420,null,1100,null,0.26,0.31,61,1]
[300,"provtagningsuppgifter",null,null,"Provtagning: Jan Pröjts  Uppdragsansvarig: Birgitta Bengtsson"]
[250,"februari"]
[3,"3  Rönneå, uppstr Bålamöllan","2025-02-10",2.1,13.9,{"$f":"IF(E27<>\"\",ROUND((E27/((9.266*EXP(-0.04555*D27)+5.374))*100),0),\"\")","v":101},8,1.8,26.6,60,5.3,8.1000000000000003E-2,2.9,31.995000000000001,"<30",null,null,43,730,"<10",1300,2,0.26,0.33]
[5,"75 Rönneå, Bögerup vid bron innan Bolebäcken","2025-02-10",2,13.9,100,7.9,1.6,25.5,100,5.7,9.9000000000000005E-2,2.6,33.18,"<30",null,null,41,810,14,1400,2,0.28000000000000003,0.34]
[10,"11 Rönneå, vid Djupadalsmölla","2025-02-10",2.1,13.9,101,7.9,1.8,26.3,50,5.4,0.09,2.4,31.205000000000002,"<30",null,null,41,880,"<10",1400,2,0.28000000000000003,0.35]
[15,"14 Rönneå, uppstr Ljungbyheds ARV","2025-02-10",1.7,13.8,99,7.8,1.5,24.5,70,5.6,0.12,2.1,37.130000000000003,"<30",null,null,41,940,11,1500,1.8,0.28999999999999998,0.34]
[20,"79 Rönneå, nedstr Ljungbyhed ARV","2025-02-11",1.5,14,100,7.8,1.5,24.8,100,5.5,0.12,2.2000000000000002,28.835000000000001,"<30",null,null,51,1000,"<10",1600,1.8,0.28999999999999998,0.34]
[25,"24 Rönneå, vid Forsmöllan","2025-02-11",1.7,14,100,7.7,1.4,23.6,100,5.0999999999999996,0.15,null,32.785000000000004,null,null,null,34,990,null,1600,1.6,0.28999999999999998,0.34]
[30,"25 Rönneå, vid Stackarps bro","2025-02-11",1.6,14.5,104,7.7,1.4,23.9,100,5.4,0.28000000000000003,null,30.02,null,null,null,34,1000,null,1600,1.6,0.28999999999999998,0.36]
[35,"34 Rönneå, vid Tranarps bro","2025-02-11",2.1,14.1,102,7.6,1.2,21.6,100,6.7,0.18,2,38.710000000000008,30,null,null,34,1100,26,1600,1.4,0.27,0.34]
[40,"49 Rönneå, uppstr Ängelholm","2025-02-11",2.7,13.6,100,7.6,1.1000000000000001,22.1,100,6.8,0.2,1.9,39.5,"<30",null,null,35,1200,41,1600,1.3,0.28000000000000003,0.4]
[45,"57 Rönneå, vid utfl t Skälderviken","2025-02-11",2.2999999999999998,13.9,101,7.5,1.1000000000000001,22.2,150,6.1,0.2,null,38.710000000000008,null,null,null,39,1200,null,1900,1.3,0.28999999999999998,0.39]
[50,"6  Bäljaneå, uppstr Röstånga","2025-02-10",3,13.7,102,8.1,2.6,38.700000000000003,45,4.2,7.8E-2,1.4,15.8,"<30",null,null,24,3500,17,3400,3,0.81,0.75]
[55,"8  Bäljaneå, före utfl t Rönneå","2025-02-10",3.8,12.4,94,7.5,2,31,100,7,0.13,1.1000000000000001,25.28,"<30",null,null,24,2100,40,2200,2.2000000000000002,0.56000000000000005,0.61]
[60,"59 Klingstorpabäcken, Färingstofta","2025-02-11",2,13.7,99,6.8,0.21,9.61,150,3,0.34,null,71.100000000000009,null,null,null,21,760,null,1200,0.39,0.19,0.19]
[65,"72 Storedamm, utlopp mot Svenstorp","2025-02-11",1.5,13.7,98,6.2,6.2E-2,7.25,220,3.6,0.39,null,79,null,null,null,21,280,null,1000,0.23,0.12,0.16]
[70,"15 Ybbarpsån, utfl ur Ybbarpssjön","2025-02-11",0.7,13.9,97,6.8,0.23,9.7899999999999991,150,8.8000000000000007,0.37,null,51.35,null,null,null,21,500,null,960,0.35,0.18,0.19]
[75,"16 Ybbarpsån, nedstr Perstorp AB","2025-02-11",1.8,14,101,7,0.44,23.3,220,8.4,0.36,null,55.300000000000004,null,null,null,23,690,null,1200,0.38,0.19,0.5]
[80,"17 Ybbarpsån, Storarydsdammens utl","2025-02-12",1.6,13.3,95,7,0.36,21,150,6.7,0.28000000000000003,null,51.35,null,null,null,21,760,null,1100,0.38,0.2,0.5]
[85,"22 Ybbarpsån, vid Herrevadskloster","2025-02-11",1.2,14.2,100,6.9,0.34,18.399999999999999,150,8.4,0.36,null,63.2,null,null,null,31,1100,null,1700,0.45,0.2,0.41]
[90,"28 Perstorpsbäcken, uppstr Perstorp","2025-02-11",1.6,13.4,96,6.6,0.2,9.19,150,12,0.39,1.4,71.100000000000009,43,null,null,23,480,170,1100,0.38,0.16,0.2]
[95,"29 Perstorpsbäcken, nedstr Perstorp","2025-02-11",2,13.4,97,7,0.33,14.1,220,9.6,0.35,1.1000000000000001,51.35,34,null,null,20,1400,280,2200,0.52,0.21,0.24]
[100,"76 Oderbäcken, uppstr Oderljunga ARV","2025-02-12",1.3,13.5,96,6.4,0.16,9.69,150,7.3,0.3,1.4,59.25,36,null,null,20,730,77,1100,0.34,0.16,0.21]
[105,"30 Bäljaneå, vid Hyllstofta","2025-02-11",1.7,14.1,101,6.9,0.23,11.4,150,9.3000000000000007,0.31,1.3,47.400000000000006,33,null,null,20,1100,140,1600,0.41,0.18,0.21]
[110,"32 Bäljaneå, uppstr Klippan","2025-02-11",2,14.1,102,7,0.25,12,150,7.9,0.3,1.4,47.400000000000006,34,null,null,19,1000,110,1600,0.43,0.2,0.23]
[115,"78 Bäljaneå, nedstr Klippans ARV","2025-02-11",2.2000000000000002,13.9,101,7.1,0.26,13.2,150,8,0.28999999999999998,1.5,51.35,34,null,null,23,1200,110,1800,0.48,0.21,0.27]
[120,"33 Bäljaneå, nedstr Klippan","2025-02-11",2,14,101,6.9,0.26,12,250,8.3000000000000007,0.32,null,43.45,null,null,null,23,1100,null,1700,0.45,0.2,0.24]
[125,"77 Biflöde till Rönneå, uppstr Kvidinge ARV","2025-02-11",2.5,13.5,99,7.5,1.4,38.4,100,17,0.14000000000000001,1.4,30.810000000000002,"<30",null,null,91,8800,92,8800,2.2000000000000002,0.59,0.83]
[130,"36 Pinnån, nedstr Åsljungasjön","2025-02-12",1.1000000000000001,12.5,88,6.3,0.11,8.9600000000000009,300,4.8,0.46,1.7,86.9,48,null,null,29,370,35,940,0.25,0.12,0.12]
[135,"40 Pinnån, nedstr Örkelljunga","2025-02-12",1.6,13.7,98,6.6,0.15,10.7,150,3.1,0.41,2.6,75.05,45,null,null,28,940,240,1500,0.3,0.15,0.15]
[140,"42 Pinnån, uppstr Gelita","2025-02-11",1.8,13.8,99,6.5,0.18,10.4,220,3.8,0.39,null,63.2,null,null,null,26,790,null,1400,0.32,0.16,0.15]
[145,"44 Pinnån, utfl ur Kopparmölledamm","2025-02-11",2.4,13.8,101,6.8,0.26,19.100000000000001,150,4.3,0.38,null,67.150000000000006,null,null,null,36,920,null,1600,0.35,0.16,0.68]
[150,"58 Pinnån, vid utfl t Rönneå","2025-02-11",2.8,13.7,101,7,0.38,19.899999999999999,250,5.5,0.42,null,59.25,null,null,null,29,1100,null,1700,0.48,0.21,0.7]
[155,"70 Kägleån, vid Ängeltofta","2025-02-11",2.2000000000000002,14,102,7.6,1.2,21,100,6,0.17,null,23.305000000000003,null,null,null,32,1500,null,1900,1.2,0.36,0.25]
[160,"55 Kägleån, vägbro Åkersholm","2025-02-11",2.2000000000000002,13.9,101,7.7,1.5,24.5,100,7.8,0.19,null,25.28,null,null,null,40,1400,null,1700,1.3,0.45,0.28000000000000003]
[165,"56 Rössjöholmsån, f utfl t Rönneå","2025-02-11",1.9,14.1,102,7.5,0.87,17,150,7.2,0.22,1.3,35.945,"<30",null,null,32,1000,34,1300,0.83,0.31,0.21]
[170,"60 Storarydsdammen yta","2025-02-12",1.7,13.3,95,7,0.34,20.8,150,null,0.28000000000000003,null,51.35,null,4.3,13,23,770,null,1200,null,0.21,0.49,null,1.3]
[175,"60 Storarydsdammen 4 m","2025-02-12",1.6,13.2,94]
[180,"19 Ö Sorrödssjön, ytan","2025-02-12",1.5,13.2,94,7,0.3,18.899999999999999,150,null,0.3,null,59.25,null,3.5,11,22,990,null,1300,null,0.2,0.44,null,1.1000000000000001]
[185,"19 Ö Sorrödssjön,  4 m","2025-02-12",1.2,13.5,95,null,null,null,null,null,null,null,null,null,3.4,11,55,990,44,1300]
[190,"37 Hjälmsjön, ytan","2025-02-12",1.4,13.3,95,6.4,9.7000000000000003E-2,8.69,200,null,0.46,null,82.95,null,2.9,12,24,550,null,1000,null,0.13,0.12,null,1.1000000000000001]
[195,"37 Hjälmsjön, 6,5 m","2025-02-12",1.1000000000000001,13.4,94,null,null,null,null,null,null,null,null,null,2.7,8.1999999999999993,13,540,"<10",1000]
[200,"50 Västersjön, ytan","2025-02-12",1.1000000000000001,13.9,98,6.9,0.15,6.86,100,null,0.24,null,51.35,null,"<2",8.1,15,170,null,550,null,0.12,9.1999999999999998E-2,null,1.9]
[205,"50 Västersjön, 10 m","2025-02-12",0.6,14,97,null,null,null,null,null,null,null,null,null,"<2",8.9,15,170,12,560]
[210,"51 Rössjön, ytan","2025-02-12",1.5,13.6,97,6.9,0.16,7.66,100,null,0.18,null,39.5,null,"<2",8.8000000000000007,13,360,null,630,null,0.14000000000000001,0.11,null,2.2000000000000002]
[215,"51 Rössjön, 18 m","2025-02-12",null,null,"",null,null,null,null,null,null,null,null,null,null,null,null,null,null,null,null,null,null,null,null,"Inget prov pga stark vind"]
[220,"Ri5 Sätoftasjön, ytan","2025-02-10",1.7,14.1,101,7.9,1.2,21.1,90,null,0.16,null,37.130000000000003,null,"<2",8.1,33,720,null,1400,null,0.22,0.3,33,1.1000000000000001,"Siktdjup osäkert pga stark vind"]
[230,"Ri4 Östra Ringsjön, ytan","2025-02-10",2,14.3,103,8,1.6,25.9,55,null,0.1,null,26.465000000000003,null,19,32,58,1300,null,1900,null,0.24,0.32,17,1.5,"Siktdjup osäkert pga stark vind"]
[240,"Ri2 Västra Ringsjön, ytan","2025-02-10",1.7,14.3,103,8.3000000000000007,1.6,25.5,35,null,7.3999999999999996E-2,null,23.305000000000003,null,"<2",7.8,29,480,null,1200,null,0.24,0.3,20,1.7,"Siktdjup osäkert pga stark vind"]
[300,"provtagningsuppgifter",null,null,"Provtagning: Birgiytta Bengtsson/Jan Pröjts  Uppdragsansvarig: Birgitta Bengtsson"]
[250,"mars"]
[3,"3  Rönneå, uppstr Bålamöllan",null,null,null,{"$f":"IF(E76<>\"\",ROUND((E76/((9.266*EXP(-0.04555*D76)+5.374))*100),0),\"\")","v":""}]
[10,"11 Rönneå, vid Djupadalsmölla",null,null,null,""]
[25,"24 Rönneå, vid Forsmöllan",null,null,null,""]
[30,"25 Rönneå, vid Stackarps bro",null,null,null,""]
[40,"49 Rönneå, uppstr Ängelholm",null,null,null,""]
[45,"57 Rönneå, vid utfl t Skälderviken",null,null,null,""]
[75,"16 Ybbarpsån, nedstr Perstorp AB",null,null,null,""]
[85,"22 Ybbarpsån, vid Herrevadskloster",null,null,null,""]
[120,"33 Bäljaneå, nedstr Klippan",null,null,null,""]
[145,"44 Pinnån, utfl ur Kopparmölledamm",null,null,null,""]
[150,"58 Pinnån, vid utfl t Rönneå",null,null,null,""]
[165,"56 Rössjöholmsån, f utfl t Rönneå",null,null,null,""]
[220,"Ri5 Sätoftasjön, ytan",null,null,null,""]
[230,"Ri4 Östra Ringsjön, ytan",null,null,null,""]
[240,"Ri2 Västra Ringsjön, ytan",null,null,null,""]
[300,"provtagningsuppgifter",null,null,"Provtagning: Namn  Uppdragsansvarig: Namn"]
[250,"april"]
[3,"3  Rönneå, uppstr Bålamöllan",null,null,null,{"$f":"IF(E93<>\"\",ROUND((E93/((9.266*EXP(-0.04555*D93)+5.374))*100),0),\"\")","v":""}]
[5,"75 Rönneå, Bögerup vid bron innan Bolebäcken",null,null,null,""]
[10,"11 Rönneå, vid Djupadalsmölla",null,null,null,""]
[15,"14 Rönneå, uppstr Ljungbyheds ARV",null,null,null,""]
[20,"79 Rönneå, nedstr Ljungbyhed ARV",null,null,null,""]
[25,"24 Rönneå, vid Forsmöllan",null,null,null,""]
[30,"25 Rönneå, vid Stackarps bro",null,null,null,""]
[35,"34 Rönneå, vid Tranarps bro",null,null,null,""]
[40,"49 Rönneå, uppstr Ängelholm",null,null,null,""]
[45,"57 Rönneå, vid utfl t Skälderviken",null,null,null,""]
[50,"6  Bäljaneå, uppstr Röstånga",null,null,null,""]
[55,"8  Bäljaneå, före utfl t Rönneå",null,null,null,""]
[60,"59 Klingstorpabäcken, Färingstofta",null,null,null,""]
[65,"72 Storedamm, utlopp mot Svenstorp",null,null,null,""]
[70,"15 Ybbarpsån, utfl ur Ybbarpssjön",null,null,null,""]
[75,"16 Ybbarpsån, nedstr Perstorp AB",null,null,null,""]
[80,"17 Ybbarpsån, Storarydsdammens utl",null,null,null,""]
[85,"22 Ybbarpsån, vid Herrevadskloster",null,null,null,""]
[90,"28 Perstorpsbäcken, uppstr Perstorp",null,null,null,""]
[95,"29 Perstorpsbäcken, nedstr Perstorp",null,null,null,""]
[100,"76 Oderbäcken, uppstr Oderljunga ARV",null,null,null,""]
[105,"30 Bäljaneå, vid Hyllstofta",null,null,null,""]
[110,"32 Bäljaneå, uppstr Klippan",null,null,null,""]
[115,"78 Bäljaneå, nedstr Klippans ARV",null,null,null,""]
[120,"33 Bäljaneå, nedstr Klippan",null,null,null,""]
[125,"77 Biflöde till Rönneå, uppstr Kvidinge ARV",null,null,null,""]
[130,"36 Pinnån, nedstr Åsljungasjön",null,null,null,""]
[135,"40 Pinnån, nedstr Örkelljunga",null,null,null,""]
[140,"42 Pinnån, uppstr Gelita",null,null,null,""]
[145,"44 Pinnån, utfl ur Kopparmölledamm",null,null,null,""]
[150,"58 Pinnån, vid utfl t Rönneå",null,null,null,""]
[155,"70 Kägleån, vid Ängeltofta",null,null,null,""]
[160,"55 Kägleån, vägbro Åkersholm",null,null,null,""]
[165,"56 Rössjöholmsån, f utfl t Rönneå",null,null,null,""]
[220,"Ri5 Sätoftasjön, ytan",null,null,null,""]
[230,"Ri4 Östra Ringsjön, ytan",null,null,null,""]
[240,"Ri2 Västra Ringsjön, ytan",null,null,null,""]
[300,"provtagningsuppgifter",null,null,"Provtagning: Namn  Uppdragsansvarig: Namn"]
[250,"maj"]
[3,"3  Rönneå, uppstr Bålamöllan",null,null,null,{"$f":"IF(E132<>\"\",ROUND((E132/((9.266*EXP(-0.04555*D132)+5.374))*100),0),\"\")","v":""}]
[10,"11 Rönneå, vid Djupadalsmölla",null,null,null,""]
[25,"24 Rönneå, vid Forsmöllan",null,null,null,""]
[30,"25 Rönneå, vid Stackarps bro",null,null,null,""]
[40,"49 Rönneå, uppstr Ängelholm",null,null,null,""]
[45,"57 Rönneå, vid utfl t Skälderviken",null,null,null,""]
[75,"16 Ybbarpsån, nedstr Perstorp AB",null,null,null,""]
[85,"22 Ybbarpsån, vid Herrevadskloster",null,null,null,""]
[120,"33 Bäljaneå, nedstr Klippan",null,null,null,""]
[145,"44 Pinnån, utfl ur Kopparmölledamm",null,null,null,""]
[150,"58 Pinnån, vid utfl t Rönneå",null,null,null,""]
[165,"56 Rössjöholmsån, f utfl t Rönneå",null,null,null,""]
[220,"Ri5 Sätoftasjön, ytan",null,null,null,""]
[230,"Ri4 Östra Ringsjön, ytan",null,null,null,""]
[240,"Ri2 Västra Ringsjön, ytan",null,null,null,""]
[300,"provtagningsuppgifter",null,null,"Provtagning: Namn  Uppdragsansvarig: Namn"]
[250,"juni"]
[3,"3  Rönneå, uppstr Bålamöllan",null,null,null,{"$f":"IF(E149<>\"\",ROUND((E149/((9.266*EXP(-0.04555*D149)+5.374))*100),0),\"\")","v":""}]
[10,"11 Rönneå, vid Djupadalsmölla",null,null,null,""]
[25,"24 Rönneå, vid Forsmöllan",null,null,null,""]
[30,"25 Rönneå, vid Stackarps bro",null,null,null,""]
[40,"49 Rönneå, uppstr Ängelholm",null,null,null,""]
[45,"57 Rönneå, vid utfl t Skälderviken",null,null,null,""]
[75,"16 Ybbarpsån, nedstr Perstorp AB",null,null,null,""]
[85,"22 Ybbarpsån, vid Herrevadskloster",null,null,null,""]
[120,"33 Bäljaneå, nedstr Klippan",null,null,null,""]
[145,"44 Pinnån, utfl ur Kopparmölledamm",null,null,null,""]
[150,"58 Pinnån, vid utfl t Rönneå",null,null,null,""]
[165,"56 Rössjöholmsån, f utfl t Rönneå",null,null,null,""]
[220,"Ri5 Sätoftasjön, ytan",null,null,null,""]
[225,"Ri5 Sätoftasjön, 15 m",null,null,null,""]
[230,"Ri4 Östra Ringsjön, ytan",null,null,null,""]
[235,"Ri4 Östra Ringsjön, 15 m",null,null,null,""]
[240,"Ri2 Västra Ringsjön, ytan",null,null,null,""]
[245,"Ri2 Västra Ringsjön, 4 m",null,null,null,""]
[300,"provtagningsuppgifter",null,null,"Provtagning: Namn  Uppdragsansvarig: Namn"]
[250,"juli"]
[3,"3  Rönneå, uppstr Bålamöllan",null,null,null,{"$f":"IF(E169<>\"\",ROUND((E169/((9.266*EXP(-0.04555*D169)+5.374))*100),0),\"\")","v":""}]
[5,"75 Rönneå, Bögerup vid bron innan Bolebäcken",null,null,null,""]
[10,"11 Rönneå, vid Djupadalsmölla",null,null,null,""]
[15,"14 Rönneå, uppstr Ljungbyheds ARV",null,null,null,""]
[20,"79 Rönneå, nedstr Ljungbyhed ARV",null,null,null,""]
[25,"24 Rönneå, vid Forsmöllan",null,null,null,""]
[30,"25 Rönneå, vid Stackarps bro",null,null,null,""]
[35,"34 Rönneå, vid Tranarps bro",null,null,null,""]
[40,"49 Rönneå, uppstr Ängelholm",null,null,null,""]
[45,"57 Rönneå, vid utfl t Skälderviken",null,null,null,""]
[50,"6  Bäljaneå, uppstr Röstånga",null,null,null,""]
[55,"8  Bäljaneå, före utfl t Rönneå",null,null,null,""]
[60,"59 Klingstorpabäcken, Färingstofta",null,null,null,""]
[65,"72 Storedamm, utlopp mot Svenstorp",null,null,null,""]
[70,"15 Ybbarpsån, utfl ur Ybbarpssjön",null,null,null,""]
[75,"16 Ybbarpsån, nedstr Perstorp AB",null,null,null,""]
[80,"17 Ybbarpsån, Storarydsdammens utl",null,null,null,""]
[85,"22 Ybbarpsån, vid Herrevadskloster",null,null,null,""]
[90,"28 Perstorpsbäcken, uppstr Perstorp",null,null,null,""]
[95,"29 Perstorpsbäcken, nedstr Perstorp",null,null,null,""]
[100,"76 Oderbäcken, uppstr Oderljunga ARV",null,null,null,""]
[105,"30 Bäljaneå, vid Hyllstofta",null,null,null,""]
[110,"32 Bäljaneå, uppstr Klippan",null,null,null,""]
[115,"78 Bäljaneå, nedstr Klippans ARV",null,null,null,""]
[120,"33 Bäljaneå, nedstr Klippan",null,null,null,""]
[125,"77 Biflöde till Rönneå, uppstr Kvidinge ARV",null,null,null,""]
[130,"36 Pinnån, nedstr Åsljungasjön",null,null,null,""]
[135,"40 Pinnån, nedstr Örkelljunga",null,null,null,""]
[140,"42 Pinnån, uppstr Gelita",null,null,null,""]
[145,"44 Pinnån, utfl ur Kopparmölledamm",null,null,null,""]
[150,"58 Pinnån, vid utfl t Rönneå",null,null,null,""]
[155,"70 Kägleån, vid Ängeltofta",null,null,null,""]
[160,"55 Kägleån, vägbro Åkersholm",null,null,null,""]
[165,"56 Rössjöholmsån, f utfl t Rönneå",null,null,null,""]
[220,"Ri5 Sätoftasjön, ytan",null,null,null,""]
[225,"Ri5 Sätoftasjön, 15 m",null,null,null,""]
[230,"Ri4 Östra Ringsjön, ytan",null,null,null,""]
[235,"Ri4 Östra Ringsjön, 15 m",null,null,null,""]
[240,"Ri2 Västra Ringsjön, ytan",null,null,null,""]
[245,"Ri2 Västra Ringsjön, 4 m",null,null,null,""]
[300,"provtagningsuppgifter",null,null,"Provtagning: Namn  Uppdragsansvarig: Namn"]
[250,"augusti"]
[3,"3  Rönneå, uppstr Bålamöllan",null,null,null,{"$f":"IF(E211<>\"\",ROUND((E211/((9.266*EXP(-0.04555*D211)+5.374))*100),0),\"\")","v":""}]
[5,"75 Rönneå, Bögerup vid bron innan Bolebäcken",null,null,null,""]
[10,"11 Rönneå, vid Djupadalsmölla",null,null,null,""]
[15,"14 Rönneå, uppstr Ljungbyheds ARV",null,null,null,""]
[20,"79 Rönneå, nedstr Ljungbyhed ARV",null,null,null,""]
[25,"24 Rönneå, vid Forsmöllan",null,null,null,""]
[30,"25 Rönneå, vid Stackarps bro",null,null,null,""]
[35,"34 Rönneå, vid Tranarps bro",null,null,null,""]
[40,"49 Rönneå, uppstr Ängelholm",null,null,null,""]
[45,"57 Rönneå, vid utfl t Skälderviken",null,null,null,""]
[50,"6  Bäljaneå, uppstr Röstånga",null,null,null,""]
[55,"8  Bäljaneå, före utfl t Rönneå",null,null,null,""]
[60,"59 Klingstorpabäcken, Färingstofta",null,null,null,""]
[65,"72 Storedamm, utlopp mot Svenstorp",null,null,null,""]
[70,"15 Ybbarpsån, utfl ur Ybbarpssjön",null,null,null,""]
[75,"16 Ybbarpsån, nedstr Perstorp AB",null,null,null,""]
[80,"17 Ybbarpsån, Storarydsdammens utl",null,null,null,""]
[85,"22 Ybbarpsån, vid Herrevadskloster",null,null,null,""]
[90,"28 Perstorpsbäcken, uppstr Perstorp",null,null,null,""]
[95,"29 Perstorpsbäcken, nedstr Perstorp",null,null,null,""]
[100,"76 Oderbäcken, uppstr Oderljunga ARV",null,null,null,""]
[105,"30 Bäljaneå, vid Hyllstofta",null,null,null,""]
[110,"32 Bäljaneå, uppstr Klippan",null,null,null,""]
[115,"78 Bäljaneå, nedstr Klippans ARV",null,null,null,""]
[120,"33 Bäljaneå, nedstr Klippan",null,null,null,""]
[125,"77 Biflöde till Rönneå, uppstr Kvidinge ARV",null,null,null,""]
[130,"36 Pinnån, nedstr Åsljungasjön",null,null,null,""]
[135,"40 Pinnån, nedstr Örkelljunga",null,null,null,""]
[140,"42 Pinnån, uppstr Gelita",null,null,null,""]
[145,"44 Pinnån, utfl ur Kopparmölledamm",null,null,null,""]
[150,"58 Pinnån, vid utfl t Rönneå",null,null,null,""]
[155,"70 Kägleån, vid Ängeltofta",null,null,null,""]
[160,"55 Kägleån, vägbro Åkersholm",null,null,null,""]
[165,"56 Rössjöholmsån, f utfl t Rönneå",null,null,null,""]
[170,"60 Storarydsdammen yta",null,null,null,""]
[175,"60 Storarydsdammen 4 m",null,null,null,""]
[180,"19 Ö Sorrödssjön, ytan",null,null,null,""]
[185,"19 Ö Sorrödssjön,  4 m",null,null,null,""]
[190,"37 Hjälmsjön, ytan",null,null,null,""]
[195,"37 Hjälmsjön, 6,5 m",null,null,null,""]
[200,"50 Västersjön, ytan",null,null,null,""]
[205,"50 Västersjön, 10 m",null,null,null,""]
[210,"51 Rössjön, ytan",null,null,null,""]
[215,"51 Rössjön, 18 m",null,null,null,""]
[220,"Ri5 Sätoftasjön, ytan",null,null,null,""]
[225,"Ri5 Sätoftasjön, 15 m",null,null,null,""]
[230,"Ri4 Östra Ringsjön, ytan",null,null,null,""]
[235,"Ri4 Östra Ringsjön, 15 m",null,null,null,""]
[240,"Ri2 Västra Ringsjön, ytan",null,null,null,""]
[245,"Ri2 Västra Ringsjön, 4 m",null,null,null,""]
[300,"provtagningsuppgifter",null,null,"Provtagning: Namn  Uppdragsansvarig: Namn"]
[250,"september"]
[3,"3  Rönneå, uppstr Bålamöllan",null,null,null,{"$f":"IF(E263<>\"\",ROUND((E263/((9.266*EXP(-0.04555*D263)+5.374))*100),0),\"\")","v":""}]
[5,"75 Rönneå, Bögerup vid bron innan Bolebäcken",null,null,null,""]
[10,"11 Rönneå, vid Djupadalsmölla",null,null,null,""]
[15,"14 Rönneå, uppstr Ljungbyheds ARV",null,null,null,""]
[20,"79 Rönneå, nedstr Ljungbyhed ARV",null,null,null,""]
[25,"24 Rönneå, vid Forsmöllan",null,null,null,""]
[30,"25 Rönneå, vid Stackarps bro",null,null,null,""]
[35,"34 Rönneå, vid Tranarps bro",null,null,null,""]
[40,"49 Rönneå, uppstr Ängelholm",null,null,null,""]
[45,"57 Rönneå, vid utfl t Skälderviken",null,null,null,""]
[50,"6  Bäljaneå, uppstr Röstånga",null,null,null,""]
[55,"8  Bäljaneå, före utfl t Rönneå",null,null,null,""]
[60,"59 Klingstorpabäcken, Färingstofta",null,null,null,""]
[65,"72 Storedamm, utlopp mot Svenstorp",null,null,null,""]
[70,"15 Ybbarpsån, utfl ur Ybbarpssjön",null,null,null,""]
[75,"16 Ybbarpsån, nedstr Perstorp AB",null,null,null,""]
[80,"17 Ybbarpsån, Storarydsdammens utl",null,null,null,""]
[85,"22 Ybbarpsån, vid Herrevadskloster",null,null,null,""]
[90,"28 Perstorpsbäcken, uppstr Perstorp",null,null,null,""]
[95,"29 Perstorpsbäcken, nedstr Perstorp",null,null,null,""]
[100,"76 Oderbäcken, uppstr Oderljunga ARV",null,null,null,""]
[105,"30 Bäljaneå, vid Hyllstofta",null,null,null,""]
[110,"32 Bäljaneå, uppstr Klippan",null,null,null,""]
[115,"78 Bäljaneå, nedstr Klippans ARV",null,null,null,""]
[120,"33 Bäljaneå, nedstr Klippan",null,null,null,""]
[125,"77 Biflöde till Rönneå, uppstr Kvidinge ARV",null,null,null,""]
[130,"36 Pinnån, nedstr Åsljungasjön",null,null,null,""]
[135,"40 Pinnån, nedstr Örkelljunga",null,null,null,""]
[140,"42 Pinnån, uppstr Gelita",null,null,null,""]
[145,"44 Pinnån, utfl ur Kopparmölledamm",null,null,null,""]
[150,"58 Pinnån, vid utfl t Rönneå",null,null,null,""]
[155,"70 Kägleån, vid Ängeltofta",null,null,null,""]
[160,"55 Kägleån, vägbro Åkersholm",null,null,null,""]
[165,"56 Rössjöholmsån, f utfl t Rönneå",null,null,null,""]
[220,"Ri5 Sätoftasjön, ytan",null,null,null,""]
[225,"Ri5 Sätoftasjön, 15 m",null,null,null,""]
[230,"Ri4 Östra Ringsjön, ytan",null,null,null,""]
[235,"Ri4 Östra Ringsjön, 15 m",null,null,null,""]
[240,"Ri2 Västra Ringsjön, ytan",null,null,null,""]
[245,"Ri2 Västra Ringsjön, 4 m",null,null,null,""]
[300,"provtagningsuppgifter",null,null,"Provtagning: Namn  Uppdragsansvarig: Namn"]
[250,"oktober"]
[3,"3  Rönneå, uppstr Bålamöllan",null,null,null,{"$f":"IF(E305<>\"\",ROUND((E305/((9.266*EXP(-0.04555*D305)+5.374))*100),0),\"\")","v":""}]
[10,"11 Rönneå, vid Djupadalsmölla",null,null,null,""]
[25,"24 Rönneå, vid Forsmöllan",null,null,null,""]
[30,"25 Rönneå, vid Stackarps bro",null,null,null,""]
[40,"49 Rönneå, uppstr Ängelholm",null,null,null,""]
[45,"57 Rönneå, vid utfl t Skälderviken",null,null,null,""]
[75,"16 Ybbarpsån, nedstr Perstorp AB",null,null,null,""]
[85,"22 Ybbarpsån, vid Herrevadskloster",null,null,null,""]
[120,"33 Bäljaneå, nedstr Klippan",null,null,null,""]
[145,"44 Pinnån, utfl ur Kopparmölledamm",null,null,null,""]
[150,"58 Pinnån, vid utfl t Rönneå",null,null,null,""]
[165,"56 Rössjöholmsån, f utfl t Rönneå",null,null,null,""]
[220,"Ri5 Sätoftasjön, ytan",null,null,null,""]
[230,"Ri4 Östra Ringsjön, ytan",null,null,null,""]
[240,"Ri2 Västra Ringsjön, ytan",null,null,null,""]
[300,"provtagningsuppgifter",null,null,"Provtagning: Namn  Uppdragsansvarig: Namn"]
[250,"november"]
[3,"3  Rönneå, uppstr Bålamöllan",null,null,null,{"$f":"IF(E322<>\"\",ROUND((E322/((9.266*EXP(-0.04555*D322)+5.374))*100),0),\"\")","v":""}]
[5,"75 Rönneå, Bögerup vid bron innan Bolebäcken",null,null,null,""]
[10,"11 Rönneå, vid Djupadalsmölla",null,null,null,""]
[15,"14 Rönneå, uppstr Ljungbyheds ARV",null,null,null,""]
[20,"79 Rönneå, nedstr Ljungbyhed ARV",null,null,null,""]
[25,"24 Rönneå, vid Forsmöllan",null,null,null,""]
[30,"25 Rönneå, vid Stackarps bro",null,null,null,""]
[35,"34 Rönneå, vid Tranarps bro",null,null,null,""]
[40,"49 Rönneå, uppstr Ängelholm",null,null,null,""]
[45,"57 Rönneå, vid utfl t Skälderviken",null,null,null,""]
[50,"6  Bäljaneå, uppstr Röstånga",null,null,null,""]
[55,"8  Bäljaneå, före utfl t Rönneå",null,null,null,""]
[60,"59 Klingstorpabäcken, Färingstofta",null,null,null,""]
[65,"72 Storedamm, utlopp mot Svenstorp",null,null,null,""]
[70,"15 Ybbarpsån, utfl ur Ybbarpssjön",null,null,null,""]
[75,"16 Ybbarpsån, nedstr Perstorp AB",null,null,null,""]
[80,"17 Ybbarpsån, Storarydsdammens utl",null,null,null,""]
[85,"22 Ybbarpsån, vid Herrevadskloster",null,null,null,""]
[90,"28 Perstorpsbäcken, uppstr Perstorp",null,null,null,""]
[95,"29 Perstorpsbäcken, nedstr Perstorp",null,null,null,""]
[100,"76 Oderbäcken, uppstr Oderljunga ARV",null,null,null,""]
[105,"30 Bäljaneå, vid Hyllstofta",null,null,null,""]
[110,"32 Bäljaneå, uppstr Klippan",null,null,null,""]
[115,"78 Bäljaneå, nedstr Klippans ARV",null,null,null,""]
[120,"33 Bäljaneå, nedstr Klippan",null,null,null,""]
[125,"77 Biflöde till Rönneå, uppstr Kvidinge ARV",null,null,null,""]
[130,"36 Pinnån, nedstr Åsljungasjön",null,null,null,""]
[135,"40 Pinnån, nedstr Örkelljunga",null,null,null,""]
[140,"42 Pinnån, uppstr Gelita",null,null,null,""]
[145,"44 Pinnån, utfl ur Kopparmölledamm",null,null,null,""]
[150,"58 Pinnån, vid utfl t Rönneå",null,null,null,""]
[155,"70 Kägleån, vid Ängeltofta",null,null,null,""]
[160,"55 Kägleån, vägbro Åkersholm",null,null,null,""]
[165,"56 Rössjöholmsån, f utfl t Rönneå",null,null,null,""]
[220,"Ri5 Sätoftasjön, ytan",null,null,null,""]
[230,"Ri4 Östra Ringsjön, ytan",null,null,null,""]
[240,"Ri2 Västra Ringsjön, ytan",null,null,null,""]
[300,"provtagningsuppgifter",null,null,"Provtagning: Namn  Uppdragsansvarig: Namn"]
[250,"december"]
[3,"3  Rönneå, uppstr Bålamöllan",null,null,null,{"$f":"IF(E361<>\"\",ROUND((E361/((9.266*EXP(-0.04555*D361)+5.374))*100),0),\"\")","v":""}]
[10,"11 Rönneå, vid Djupadalsmölla",null,null,null,""]
[25,"24 Rönneå, vid Forsmöllan",null,null,null,""]
[30,"25 Rönneå, vid Stackarps bro",null,null,null,""]
[40,"49 Rönneå, uppstr Ängelholm",null,null,null,""]
[45,"57 Rönneå, vid utfl t Skälderviken",null,null,null,""]
[75,"16 Ybbarpsån, nedstr Perstorp AB",null,null,null,""]
[85,"22 Ybbarpsån, vid Herrevadskloster",null,null,null,""]
[120,"33 Bäljaneå, nedstr Klippan",null,null,null,""]
[145,"44 Pinnån, utfl ur Kopparmölledamm",null,null,null,""]
[150,"58 Pinnån, vid utfl t Rönneå",null,null,null,""]
[165,"56 Rössjöholmsån, f utfl t Rönneå",null,null,null,""]
[220,"Ri5 Sätoftasjön, ytan",null,null,null,""]
[230,"Ri4 Östra Ringsjön, ytan",null,null,null,""]
[240,"Ri2 Västra Ringsjön, ytan",null,null,null,""]
[300,"provtagningsuppgifter",null,null,"Provtagning: Namn  Uppdragsansvarig: Namn"]
[null,""]
[null,""]

{"sheet":"Resultat","index":2,"n_rows":374,"n_cols":27,"rows_kept":374,"cut":false,"hidden":false,"merged":[]}
[null,"Rönne å 2025\nResultat"]
[null,null,null,"Peka på röda trianglar (►) för förklaring av parametrar"]
["Sorterings-","Provtagningspunkt","Provtagn"," Temp"," Syreh","Syrem","  pH"," Alkalin","Kond","   Färg","Gruml","Abs,filt","BOD7"," Perm.t.","COD-Cr","PO4-P","Tot-P filt","Tot-P"," NO3+2-N","NH4-N"," Tot-N","Ca","Mg","SO4","Klor a","Siktdjup","Anmärkning"]
["ordning","Nr Läge","datum","  °C","mg/l","%",null,"  mmol/l","mS/m"," mgPt/l","  FNU","/5cm","mg/l","   mg/l","   mg/l"," µg/l"," µg/l"," µg/l","  µg/l","  µg/l","  µg/l","mekv/l","mekv/l","mekv/l"," µg/l","m"]
[250,"januari"]
[3,"3  Rönneå, uppstr Bålamöllan","2025-01-15",1.7,12.8,92,7.5,1.6,26.7,50,7.7,0.12,2.5,38.314999999999998,40,"",{"$f":"IF(Indata!Q10=\"\",\"\",Indata!Q10)","v":""},{"$f":"IF(Indata!R10=\"\",\"\",Indata!R10)","v":77},{"$f":"IF(Indata!S10=\"\",\"\",Indata!S10)","v":1500},{"$f":"IF(Indata!T10=\"\",\"\",Indata!T10)","v":72},{"$f":"IF(Indata!U10=\"\",\"\",Indata!U10)","v":2400},{"$f":"IF(Indata!V10=\"\",\"\",Indata!V10)","v":1.9},{"$f":"IF(Indata!W10=\"\",\"\",Indata!W10)","v":0.33},{"$f":"IF(Indata!X10=\"\",\"\",Indata!X10)","v":0.41},{"$f":"IF(Indata!Y10=\"\",\"\",Indata!Y10)","v":""},{"$f":"IF(Indata!Z10=\"\",\"\",Indata!Z10)","v":""},{"$f":"IF(Indata!AA10=\"\",\"\",Indata!AA10)","v":""}]
[10,"11 Rönneå, vid Djupadalsmölla","2025-01-15",2.1,13,94,7.6,1.6,27.9,50,7.7,0.13,2.2000000000000002,35.550000000000004,33,"",{"$f":"IF(Indata!Q11=\"\",\"\",Indata!Q11)","v":""},{"$f":"IF(Indata!R11=\"\",\"\",Indata!R11)","v":62},{"$f":"IF(Indata!S11=\"\",\"\",Indata!S11)","v":1900},{"$f":"IF(Indata!T11=\"\",\"\",Indata!T11)","v":97},{"$f":"IF(Indata!U11=\"\",\"\",Indata!U11)","v":2400},{"$f":"IF(Indata!V11=\"\",\"\",Indata!V11)","v":2},{"$f":"IF(Indata!W11=\"\",\"\",Indata!W11)","v":0.38},{"$f":"IF(Indata!X11=\"\",\"\",Indata!X11)","v":0.46},{"$f":"IF(Indata!Y11=\"\",\"\",Indata!Y11)","v":""},{"$f":"IF(Indata!Z11=\"\",\"\",Indata!Z11)","v":""},{"$f":"IF(Indata!AA11=\"\",\"\",Indata!AA11)","v":""}]
[25,"24 Rönneå, vid Forsmöllan","2025-01-15",2.2999999999999998,12.9,94,7.3,0.85,19.2,120,4.5999999999999996,0.24,"",51.35,"","",{"$f":"IF(Indata!Q12=\"\",\"\",Indata!Q12)","v":""},{"$f":"IF(Indata!R12=\"\",\"\",Indata!R12)","v":38},{"$f":"IF(Indata!S12=\"\",\"\",Indata!S12)","v":1600},{"$f":"IF(Indata!T12=\"\",\"\",Indata!T12)","v":""},{"$f":"IF(Indata!U12=\"\",\"\",Indata!U12)","v":2100},{"$f":"IF(Indata!V12=\"\",\"\",Indata!V12)","v":1.2},{"$f":"IF(Indata!W12=\"\",\"\",Indata!W12)","v":0.3},{"$f":"IF(Indata!X12=\"\",\"\",Indata!X12)","v":0.37},{"$f":"IF(Indata!Y12=\"\",\"\",Indata!Y12)","v":""},{"$f":"IF(Indata!Z12=\"\",\"\",Indata!Z12)","v":""},{"$f":"IF(Indata!AA12=\"\",\"\",Indata!AA12)","v":""}]
[30,"25 Rönneå, vid Stackarps bro","2025-01-15",2.2999999999999998,13.8,101,7.4,0.85,19.600000000000001,120,4.5999999999999996,0.24,"",47.400000000000006,"","",{"$f":"IF(Indata!Q13=\"\",\"\",Indata!Q13)","v":""},{"$f":"IF(Indata!R13=\"\",\"\",Indata!R13)","v":37},{"$f":"IF(Indata!S13=\"\",\"\",Indata!S13)","v":1700},{"$f":"IF(Indata!T13=\"\",\"\",Indata!T13)","v":""},{"$f":"IF(Indata!U13=\"\",\"\",Indata!U13)","v":2200},{"$f":"IF(Indata!V13=\"\",\"\",Indata!V13)","v":1.2},{"$f":"IF(Indata!W13=\"\",\"\",Indata!W13)","v":0.3},{"$f":"IF(Indata!X13=\"\",\"\",Indata!X13)","v":0.38},{"$f":"IF(Indata!Y13=\"\",\"\",Indata!Y13)","v":""},{"$f":"IF(Indata!Z13=\"\",\"\",Indata!Z13)","v":""},{"$f":"IF(Indata!AA13=\"\",\"\",Indata!AA13)","v":""}]
[40,"49 Rönneå, uppstr Ängelholm","2025-01-15",1.7,13.4,96,7.1,0.56000000000000005,17.399999999999999,130,8,0.3,2.1,51.35,42,"",{"$f":"IF(Indata!Q14=\"\",\"\",Indata!Q14)","v":""},{"$f":"IF(Indata!R14=\"\",\"\",Indata!R14)","v":39},{"$f":"IF(Indata!S14=\"\",\"\",Indata!S14)","v":1500},{"$f":"IF(Indata!T14=\"\",\"\",Indata!T14)","v":56},{"$f":"IF(Indata!U14=\"\",\"\",Indata!U14)","v":2000},{"$f":"IF(Indata!V14=\"\",\"\",Indata!V14)","v":0.75},{"$f":"IF(Indata!W14=\"\",\"\",Indata!W14)","v":0.24},{"$f":"IF(Indata!X14=\"\",\"\",Indata!X14)","v":0.34},{"$f":"IF(Indata!Y14=\"\",\"\",Indata!Y14)","v":""},{"$f":"IF(Indata!Z14=\"\",\"\",Indata!Z14)","v":""},{"$f":"IF(Indata!AA14=\"\",\"\",Indata!AA14)","v":""}]
[45,"57 Rönneå, vid utfl t Skälderviken","2025-01-15",1.8,13.5,97,7.2,0.59,18.100000000000001,120,8.1,0.3,"",43.45,"","",{"$f":"IF(Indata!Q15=\"\",\"\",Indata!Q15)","v":""},{"$f":"IF(Indata!R15=\"\",\"\",Indata!R15)","v":40},{"$f":"IF(Indata!S15=\"\",\"\",Indata!S15)","v":1600},{"$f":"IF(Indata!T15=\"\",\"\",Indata!T15)","v":""},{"$f":"IF(Indata!U15=\"\",\"\",Indata!U15)","v":2200},{"$f":"IF(Indata!V15=\"\",\"\",Indata!V15)","v":0.79},{"$f":"IF(Indata!W15=\"\",\"\",Indata!W15)","v":0.25},{"$f":"IF(Indata!X15=\"\",\"\",Indata!X15)","v":0.35},{"$f":"IF(Indata!Y15=\"\",\"\",Indata!Y15)","v":""},{"$f":"IF(Indata!Z15=\"\",\"\",Indata!Z15)","v":""},{"$f":"IF(Indata!AA15=\"\",\"\",Indata!AA15)","v":""}]
[75,"16 Ybbarpsån, nedstr Perstorp AB","2025-01-15",2,13.8,100,6.7,0.28000000000000003,20.100000000000001,200,6,0.38,"",71.100000000000009,"","",{"$f":"IF(Indata!Q16=\"\",\"\",Indata!Q16)","v":""},{"$f":"IF(Indata!R16=\"\",\"\",Indata!R16)","v":30},{"$f":"IF(Indata!S16=\"\",\"\",Indata!S16)","v":1400},{"$f":"IF(Indata!T16=\"\",\"\",Indata!T16)","v":""},{"$f":"IF(Indata!U16=\"\",\"\",Indata!U16)","v":2100},{"$f":"IF(Indata!V16=\"\",\"\",Indata!V16)","v":0.36},{"$f":"IF(Indata!W16=\"\",\"\",Indata!W16)","v":0.18},{"$f":"IF(Indata!X16=\"\",\"\",Indata!X16)","v":0.46},{"$f":"IF(Indata!Y16=\"\",\"\",Indata!Y16)","v":""},{"$f":"IF(Indata!Z16=\"\",\"\",Indata!Z16)","v":""},{"$f":"IF(Indata!AA16=\"\",\"\",Indata!AA16)","v":""}]
[85,"22 Ybbarpsån, vid Herrevadskloster","2025-01-15",1,12.8,90,6.7,0.31,17.600000000000001,200,5,0.38,"",75.05,"","",{"$f":"IF(Indata!Q17=\"\",\"\",Indata!Q17)","v":""},{"$f":"IF(Indata!R17=\"\",\"\",Indata!R17)","v":30},{"$f":"IF(Indata!S17=\"\",\"\",Indata!S17)","v":1100},{"$f":"IF(Indata!T17=\"\",\"\",Indata!T17)","v":""},{"$f":"IF(Indata!U17=\"\",\"\",Indata!U17)","v":1700},{"$f":"IF(Indata!V17=\"\",\"\",Indata!V17)","v":0.41},{"$f":"IF(Indata!W17=\"\",\"\",Indata!W17)","v":0.2},{"$f":"IF(Indata!X17=\"\",\"\",Indata!X17)","v":0.42},{"$f":"IF(Indata!Y17=\"\",\"\",Indata!Y17)","v":""},{"$f":"IF(Indata!Z17=\"\",\"\",Indata!Z17)","v":""},{"$f":"IF(Indata!AA17=\"\",\"\",Indata!AA17)","v":""}]
[120,"33 Bäljaneå, nedstr Klippan","2025-01-15",2.5,13.5,99,6.6,0.13,10.5,180,5.5,0.36,"",67.150000000000006,"","",{"$f":"IF(Indata!Q18=\"\",\"\",Indata!Q18)","v":""},{"$f":"IF(Indata!R18=\"\",\"\",Indata!R18)","v":28},{"$f":"IF(Indata!S18=\"\",\"\",Indata!S18)","v":1100},{"$f":"IF(Indata!T18=\"\",\"\",Indata!T18)","v":""},{"$f":"IF(Indata!U18=\"\",\"\",Indata!U18)","v":1600},{"$f":"IF(Indata!V18=\"\",\"\",Indata!V18)","v":0.34},{"$f":"IF(Indata!W18=\"\",\"\",Indata!W18)","v":0.16},{"$f":"IF(Indata!X18=\"\",\"\",Indata!X18)","v":0.22},{"$f":"IF(Indata!Y18=\"\",\"\",Indata!Y18)","v":""},{"$f":"IF(Indata!Z18=\"\",\"\",Indata!Z18)","v":""},{"$f":"IF(Indata!AA18=\"\",\"\",Indata!AA18)","v":""}]
[145,"44 Pinnån, utfl ur Kopparmölledamm","2025-01-15",1.9,13.8,99,6.5,0.14000000000000001,12.5,250,3,0.43,"",75.05,"","",{"$f":"IF(Indata!Q19=\"\",\"\",Indata!Q19)","v":""},{"$f":"IF(Indata!R19=\"\",\"\",Indata!R19)","v":28},{"$f":"IF(Indata!S19=\"\",\"\",Indata!S19)","v":800},{"$f":"IF(Indata!T19=\"\",\"\",Indata!T19)","v":""},{"$f":"IF(Indata!U19=\"\",\"\",Indata!U19)","v":1300},{"$f":"IF(Indata!V19=\"\",\"\",Indata!V19)","v":0.28000000000000003},{"$f":"IF(Indata!W19=\"\",\"\",Indata!W19)","v":0.14000000000000001},{"$f":"IF(Indata!X19=\"\",\"\",Indata!X19)","v":0.32},{"$f":"IF(Indata!Y19=\"\",\"\",Indata!Y19)","v":""},{"$f":"IF(Indata!Z19=\"\",\"\",Indata!Z19)","v":""},{"$f":"IF(Indata!AA19=\"\",\"\",Indata!AA19)","v":""}]
[150,"58 Pinnån, vid utfl t Rönneå","2025-01-15",2.4,13.2,96,6.7,0.2,13.9,400,4.7,0.41,"",71.100000000000009,"","",{"$f":"IF(Indata!Q20=\"\",\"\",Indata!Q20)","v":""},{"$f":"IF(Indata!R20=\"\",\"\",Indata!R20)","v":32},{"$f":"IF(Indata!S20=\"\",\"\",Indata!S20)","v":1000},{"$f":"IF(Indata!T20=\"\",\"\",Indata!T20)","v":""},{"$f":"IF(Indata!U20=\"\",\"\",Indata!U20)","v":1500},{"$f":"IF(Indata!V20=\"\",\"\",Indata!V20)","v":0.35},{"$f":"IF(Indata!W20=\"\",\"\",Indata!W20)","v":0.16},{"$f":"IF(Indata!X20=\"\",\"\",Indata!X20)","v":0.33},{"$f":"IF(Indata!Y20=\"\",\"\",Indata!Y20)","v":""},{"$f":"IF(Indata!Z20=\"\",\"\",Indata!Z20)","v":""},{"$f":"IF(Indata!AA20=\"\",\"\",Indata!AA20)","v":""}]
[165,"56 Rössjöholmsån, f utfl t Rönneå","2025-01-15",2.4,13.6,99,7.3,0.56999999999999995,13.8,120,9.8000000000000007,0.23,1.9,43.45,32,"",{"$f":"IF(Indata!Q21=\"\",\"\",Indata!Q21)","v":""},{"$f":"IF(Indata!R21=\"\",\"\",Indata!R21)","v":40},{"$f":"IF(Indata!S21=\"\",\"\",Indata!S21)","v":870},{"$f":"IF(Indata!T21=\"\",\"\",Indata!T21)","v":11},{"$f":"IF(Indata!U21=\"\",\"\",Indata!U21)","v":1200},{"$f":"IF(Indata!V21=\"\",\"\",Indata!V21)","v":0.59},{"$f":"IF(Indata!W21=\"\",\"\",Indata!W21)","v":0.23},{"$f":"IF(Indata!X21=\"\",\"\",Indata!X21)","v":0.16},{"$f":"IF(Indata!Y21=\"\",\"\",Indata!Y21)","v":""},{"$f":"IF(Indata!Z21=\"\",\"\",Indata!Z21)","v":""},{"$f":"IF(Indata!AA21=\"\",\"\",Indata!AA21)","v":""}]
[220,"Ri5 Sätoftasjön, ytan","2025-01-15",0.7,13.8,96,7.9,1.3,21.5,75,"",0.14000000000000001,"",35.550000000000004,"","<2",{"$f":"IF(Indata!Q22=\"\",\"\",Indata!Q22)","v":11},{"$f":"IF(Indata!R22=\"\",\"\",Indata!R22)","v":34},{"$f":"IF(Indata!S22=\"\",\"\",Indata!S22)","v":690},{"$f":"IF(Indata!T22=\"\",\"\",Indata!T22)","v":""},{"$f":"IF(Indata!U22=\"\",\"\",Indata!U22)","v":1200},{"$f":"IF(Indata!V22=\"\",\"\",Indata!V22)","v":""},{"$f":"IF(Indata!W22=\"\",\"\",Indata!W22)","v":0.24},{"$f":"IF(Indata!X22=\"\",\"\",Indata!X22)","v":0.3},{"$f":"IF(Indata!Y22=\"\",\"\",Indata!Y22)","v":20},{"$f":"IF(Indata!Z22=\"\",\"\",Indata!Z22)","v":1.1000000000000001},{"$f":"IF(Indata!AA22=\"\",\"\",Indata!AA22)","v":""}]
[230,"Ri4 Östra Ringsjön, ytan","2025-01-15",1.6,13.5,97,8,1.6,26.4,12,"",8.6999999999999994E-2,"",26.86,"",36,{"$f":"IF(Indata!Q23=\"\",\"\",Indata!Q23)","v":46},{"$f":"IF(Indata!R23=\"\",\"\",Indata!R23)","v":64},{"$f":"IF(Indata!S23=\"\",\"\",Indata!S23)","v":1300},{"$f":"IF(Indata!T23=\"\",\"\",Indata!T23)","v":""},{"$f":"IF(Indata!U23=\"\",\"\",Indata!U23)","v":1600},{"$f":"IF(Indata!V23=\"\",\"\",Indata!V23)","v":""},{"$f":"IF(Indata!W23=\"\",\"\",Indata!W23)","v":0.26},{"$f":"IF(Indata!X23=\"\",\"\",Indata!X23)","v":0.32},{"$f":"IF(Indata!Y23=\"\",\"\",Indata!Y23)","v":12},{"$f":"IF(Indata!Z23=\"\",\"\",Indata!Z23)","v":1.7},{"$f":"IF(Indata!AA23=\"\",\"\",Indata!AA23)","v":""}]
[240,"Ri2 Västra Ringsjön, ytan","2025-01-15",0.8,14.9,104,8.3000000000000007,1.6,25.8,45,"",5.2999999999999999E-2,"",25.675000000000001,"","<2",{"$f":"IF(Indata!Q24=\"\",\"\",Indata!Q24)","v":7.6},{"$f":"IF(Indata!R24=\"\",\"\",Indata!R24)","v":46},{"$f":"IF(Indata!S24=\"\",\"\",Indata!S24)","v":420},{"$f":"IF(Indata!T24=\"\",\"\",Indata!T24)","v":""},{"$f":"IF(Indata!U24=\"\",\"\",Indata!U24)","v":1100},{"$f":"IF(Indata!V24=\"\",\"\",Indata!V24)","v":""},{"$f":"IF(Indata!W24=\"\",\"\",Indata!W24)","v":0.26},{"$f":"IF(Indata!X24=\"\",\"\",Indata!X24)","v":0.31},{"$f":"IF(Indata!Y24=\"\",\"\",Indata!Y24)","v":61},{"$f":"IF(Indata!Z24=\"\",\"\",Indata!Z24)","v":1},{"$f":"IF(Indata!AA24=\"\",\"\",Indata!AA24)","v":""}]
[300]
[250,"februari"]
[3,"3  Rönneå, uppstr Bålamöllan","2025-02-10",2.1,13.9,101,8,1.8,26.6,60,5.3,8.1000000000000003E-2,2.9,31.995000000000001,"<30","",{"$f":"IF(Indata!Q27=\"\",\"\",Indata!Q27)","v":""},{"$f":"IF(Indata!R27=\"\",\"\",Indata!R27)","v":43},{"$f":"IF(Indata!S27=\"\",\"\",Indata!S27)","v":730},{"$f":"IF(Indata!T27=\"\",\"\",Indata!T27)","v":"<10"},{"$f":"IF(Indata!U27=\"\",\"\",Indata!U27)","v":1300},{"$f":"IF(Indata!V27=\"\",\"\",Indata!V27)","v":2},{"$f":"IF(Indata!W27=\"\",\"\",Indata!W27)","v":0.26},{"$f":"IF(Indata!X27=\"\",\"\",Indata!X27)","v":0.33},{"$f":"IF(Indata!Y27=\"\",\"\",Indata!Y27)","v":""},{"$f":"IF(Indata!Z27=\"\",\"\",Indata!Z27)","v":""},{"$f":"IF(Indata!AA27=\"\",\"\",Indata!AA27)","v":""}]
[5,"75 Rönneå, Bögerup vid bron innan Bolebäcken","2025-02-10",2,13.9,100,7.9,1.6,25.5,100,5.7,9.9000000000000005E-2,2.6,33.18,"<30","",{"$f":"IF(Indata!Q28=\"\",\"\",Indata!Q28)","v":""},{"$f":"IF(Indata!R28=\"\",\"\",Indata!R28)","v":41},{"$f":"IF(Indata!S28=\"\",\"\",Indata!S28)","v":810},{"$f":"IF(Indata!T28=\"\",\"\",Indata!T28)","v":14},{"$f":"IF(Indata!U28=\"\",\"\",Indata!U28)","v":1400},{"$f":"IF(Indata!V28=\"\",\"\",Indata!V28)","v":2},{"$f":"IF(Indata!W28=\"\",\"\",Indata!W28)","v":0.28000000000000003},{"$f":"IF(Indata!X28=\"\",\"\",Indata!X28)","v":0.34},{"$f":"IF(Indata!Y28=\"\",\"\",Indata!Y28)","v":""},{"$f":"IF(Indata!Z28=\"\",\"\",Indata!Z28)","v":""},{"$f":"IF(Indata!AA28=\"\",\"\",Indata!AA28)","v":""}]
[10,"11 Rönneå, vid Djupadalsmölla","2025-02-10",2.1,13.9,101,7.9,1.8,26.3,50,5.4,0.09,2.4,31.205000000000002,"<30","",{"$f":"IF(Indata!Q29=\"\",\"\",Indata!Q29)","v":""},{"$f":"IF(Indata!R29=\"\",\"\",Indata!R29)","v":41},{"$f":"IF(Indata!S29=\"\",\"\",Indata!S29)","v":880},{"$f":"IF(Indata!T29=\"\",\"\",Indata!T29)","v":"<10"},{"$f":"IF(Indata!U29=\"\",\"\",Indata!U29)","v":1400},{"$f":"IF(Indata!V29=\"\",\"\",Indata!V29)","v":2},{"$f":"IF(Indata!W29=\"\",\"\",Indata!W29)","v":0.28000000000000003},{"$f":"IF(Indata!X29=\"\",\"\",Indata!X29)","v":0.35},{"$f":"IF(Indata!Y29=\"\",\"\",Indata!Y29)","v":""},{"$f":"IF(Indata!Z29=\"\",\"\",Indata!Z29)","v":""},{"$f":"IF(Indata!AA29=\"\",\"\",Indata!AA29)","v":""}]
[15,"14 Rönneå, uppstr Ljungbyheds ARV","2025-02-10",1.7,13.8,99,7.8,1.5,24.5,70,5.6,0.12,2.1,37.130000000000003,"<30","",{"$f":"IF(Indata!Q30=\"\",\"\",Indata!Q30)","v":""},{"$f":"IF(Indata!R30=\"\",\"\",Indata!R30)","v":41},{"$f":"IF(Indata!S30=\"\",\"\",Indata!S30)","v":940},{"$f":"IF(Indata!T30=\"\",\"\",Indata!T30)","v":11},{"$f":"IF(Indata!U30=\"\",\"\",Indata!U30)","v":1500},{"$f":"IF(Indata!V30=\"\",\"\",Indata!V30)","v":1.8},{"$f":"IF(Indata!W30=\"\",\"\",Indata!W30)","v":0.28999999999999998},{"$f":"IF(Indata!X30=\"\",\"\",Indata!X30)","v":0.34},{"$f":"IF(Indata!Y30=\"\",\"\",Indata!Y30)","v":""},{"$f":"IF(Indata!Z30=\"\",\"\",Indata!Z30)","v":""},{"$f":"IF(Indata!AA30=\"\",\"\",Indata!AA30)","v":""}]
[20,"79 Rönneå, nedstr Ljungbyhed ARV","2025-02-11",1.5,14,100,7.8,1.5,24.8,100,5.5,0.12,2.2000000000000002,28.835000000000001,"<30","",{"$f":"IF(Indata!Q31=\"\",\"\",Indata!Q31)","v":""},{"$f":"IF(Indata!R31=\"\",\"\",Indata!R31)","v":51},{"$f":"IF(Indata!S31=\"\",\"\",Indata!S31)","v":1000},{"$f":"IF(Indata!T31=\"\",\"\",Indata!T31)","v":"<10"},{"$f":"IF(Indata!U31=\"\",\"\",Indata!U31)","v":1600},{"$f":"IF(Indata!V31=\"\",\"\",Indata!V31)","v":1.8},{"$f":"IF(Indata!W31=\"\",\"\",Indata!W31)","v":0.28999999999999998},{"$f":"IF(Indata!X31=\"\",\"\",Indata!X31)","v":0.34},{"$f":"IF(Indata!Y31=\"\",\"\",Indata!Y31)","v":""},{"$f":"IF(Indata!Z31=\"\",\"\",Indata!Z31)","v":""},{"$f":"IF(Indata!AA31=\"\",\"\",Indata!AA31)","v":""}]
[25,"24 Rönneå, vid Forsmöllan","2025-02-11",1.7,14,100,7.7,1.4,23.6,100,5.0999999999999996,0.15,"",32.785000000000004,"","",{"$f":"IF(Indata!Q32=\"\",\"\",Indata!Q32)","v":""},{"$f":"IF(Indata!R32=\"\",\"\",Indata!R32)","v":34},{"$f":"IF(Indata!S32=\"\",\"\",Indata!S32)","v":990},{"$f":"IF(Indata!T32=\"\",\"\",Indata!T32)","v":""},{"$f":"IF(Indata!U32=\"\",\"\",Indata!U32)","v":1600},{"$f":"IF(Indata!V32=\"\",\"\",Indata!V32)","v":1.6},{"$f":"IF(Indata!W32=\"\",\"\",Indata!W32)","v":0.28999999999999998},{"$f":"IF(Indata!X32=\"\",\"\",Indata!X32)","v":0.34},{"$f":"IF(Indata!Y32=\"\",\"\",Indata!Y32)","v":""},{"$f":"IF(Indata!Z32=\"\",\"\",Indata!Z32)","v":""},{"$f":"IF(Indata!AA32=\"\",\"\",Indata!AA32)","v":""}]
[30,"25 Rönneå, vid Stackarps bro","2025-02-11",1.6,14.5,104,7.7,1.4,23.9,100,5.4,0.28000000000000003,"",30.02,"","",{"$f":"IF(Indata!Q33=\"\",\"\",Indata!Q33)","v":""},{"$f":"IF(Indata!R33=\"\",\"\",Indata!R33)","v":34},{"$f":"IF(Indata!S33=\"\",\"\",Indata!S33)","v":1000},{"$f":"IF(Indata!T33=\"\",\"\",Indata!T33)","v":""},{"$f":"IF(Indata!U33=\"\",\"\",Indata!U33)","v":1600},{"$f":"IF(Indata!V33=\"\",\"\",Indata!V33)","v":1.6},{"$f":"IF(Indata!W33=\"\",\"\",Indata!W33)","v":0.28999999999999998},{"$f":"IF(Indata!X33=\"\",\"\",Indata!X33)","v":0.36},{"$f":"IF(Indata!Y33=\"\",\"\",Indata!Y33)","v":""},{"$f":"IF(Indata!Z33=\"\",\"\",Indata!Z33)","v":""},{"$f":"IF(Indata!AA33=\"\",\"\",Indata!AA33)","v":""}]
[35,"34 Rönneå, vid Tranarps bro","2025-02-11",2.1,14.1,102,7.6,1.2,21.6,100,6.7,0.18,2,38.710000000000008,30,"",{"$f":"IF(Indata!Q34=\"\",\"\",Indata!Q34)","v":""},{"$f":"IF(Indata!R34=\"\",\"\",Indata!R34)","v":34},{"$f":"IF(Indata!S34=\"\",\"\",Indata!S34)","v":1100},{"$f":"IF(Indata!T34=\"\",\"\",Indata!T34)","v":26},{"$f":"IF(Indata!U34=\"\",\"\",Indata!U34)","v":1600},{"$f":"IF(Indata!V34=\"\",\"\",Indata!V34)","v":1.4},{"$f":"IF(Indata!W34=\"\",\"\",Indata!W34)","v":0.27},{"$f":"IF(Indata!X34=\"\",\"\",Indata!X34)","v":0.34},{"$f":"IF(Indata!Y34=\"\",\"\",Indata!Y34)","v":""},{"$f":"IF(Indata!Z34=\"\",\"\",Indata!Z34)","v":""},{"$f":"IF(Indata!AA34=\"\",\"\",Indata!AA34)","v":""}]
[40,"49 Rönneå, uppstr Ängelholm","2025-02-11",2.7,13.6,100,7.6,1.1000000000000001,22.1,100,6.8,0.2,1.9,39.5,"<30","",{"$f":"IF(Indata!Q35=\"\",\"\",Indata!Q35)","v":""},{"$f":"IF(Indata!R35=\"\",\"\",Indata!R35)","v":35},{"$f":"IF(Indata!S35=\"\",\"\",Indata!S35)","v":1200},{"$f":"IF(Indata!T35=\"\",\"\",Indata!T35)","v":41},{"$f":"IF(Indata!U35=\"\",\"\",Indata!U35)","v":1600},{"$f":"IF(Indata!V35=\"\",\"\",Indata!V35)","v":1.3},{"$f":"IF(Indata!W35=\"\",\"\",Indata!W35)","v":0.28000000000000003},{"$f":"IF(Indata!X35=\"\",\"\",Indata!X35)","v":0.4},{"$f":"IF(Indata!Y35=\"\",\"\",Indata!Y35)","v":""},{"$f":"IF(Indata!Z35=\"\",\"\",Indata!Z35)","v":""},{"$f":"IF(Indata!AA35=\"\",\"\",Indata!AA35)","v":""}]
[45,"57 Rönneå, vid utfl t Skälderviken","2025-02-11",2.2999999999999998,13.9,101,7.5,1.1000000000000001,22.2,150,6.1,0.2,"",38.710000000000008,"","",{"$f":"IF(Indata!Q36=\"\",\"\",Indata!Q36)","v":""},{"$f":"IF(Indata!R36=\"\",\"\",Indata!R36)","v":39},{"$f":"IF(Indata!S36=\"\",\"\",Indata!S36)","v":1200},{"$f":"IF(Indata!T36=\"\",\"\",Indata!T36)","v":""},{"$f":"IF(Indata!U36=\"\",\"\",Indata!U36)","v":1900},{"$f":"IF(Indata!V36=\"\",\"\",Indata!V36)","v":1.3},{"$f":"IF(Indata!W36=\"\",\"\",Indata!W36)","v":0.28999999999999998},{"$f":"IF(Indata!X36=\"\",\"\",Indata!X36)","v":0.39},{"$f":"IF(Indata!Y36=\"\",\"\",Indata!Y36)","v":""},{"$f":"IF(Indata!Z36=\"\",\"\",Indata!Z36)","v":""},{"$f":"IF(Indata!AA36=\"\",\"\",Indata!AA36)","v":""}]
[50,"6  Bäljaneå, uppstr Röstånga","2025-02-10",3,13.7,102,8.1,2.6,38.700000000000003,45,4.2,7.8E-2,1.4,15.8,"<30","",{"$f":"IF(Indata!Q37=\"\",\"\",Indata!Q37)","v":""},{"$f":"IF(Indata!R37=\"\",\"\",Indata!R37)","v":24},{"$f":"IF(Indata!S37=\"\",\"\",Indata!S37)","v":3500},{"$f":"IF(Indata!T37=\"\",\"\",Indata!T37)","v":17},{"$f":"IF(Indata!U37=\"\",\"\",Indata!U37)","v":3400},{"$f":"IF(Indata!V37=\"\",\"\",Indata!V37)","v":3},{"$f":"IF(Indata!W37=\"\",\"\",Indata!W37)","v":0.81},{"$f":"IF(Indata!X37=\"\",\"\",Indata!X37)","v":0.75},{"$f":"IF(Indata!Y37=\"\",\"\",Indata!Y37)","v":""},{"$f":"IF(Indata!Z37=\"\",\"\",Indata!Z37)","v":""},{"$f":"IF(Indata!AA37=\"\",\"\",Indata!AA37)","v":""}]
[55,"8  Bäljaneå, före utfl t Rönneå","2025-02-10",3.8,12.4,94,7.5,2,31,100,7,0.13,1.1000000000000001,25.28,"<30","",{"$f":"IF(Indata!Q38=\"\",\"\",Indata!Q38)","v":""},{"$f":"IF(Indata!R38=\"\",\"\",Indata!R38)","v":24},{"$f":"IF(Indata!S38=\"\",\"\",Indata!S38)","v":2100},{"$f":"IF(Indata!T38=\"\",\"\",Indata!T38)","v":40},{"$f":"IF(Indata!U38=\"\",\"\",Indata!U38)","v":2200},{"$f":"IF(Indata!V38=\"\",\"\",Indata!V38)","v":2.2000000000000002},{"$f":"IF(Indata!W38=\"\",\"\",Indata!W38)","v":0.56000000000000005},{"$f":"IF(Indata!X38=\"\",\"\",Indata!X38)","v":0.61},{"$f":"IF(Indata!Y38=\"\",\"\",Indata!Y38)","v":""},{"$f":"IF(Indata!Z38=\"\",\"\",Indata!Z38)","v":""},{"$f":"IF(Indata!AA38=\"\",\"\",Indata!AA38)","v":""}]
[60,"59 Klingstorpabäcken, Färingstofta","2025-02-11",2,13.7,99,6.8,0.21,9.61,150,3,0.34,"",71.100000000000009,"","",{"$f":"IF(Indata!Q39=\"\",\"\",Indata!Q39)","v":""},{"$f":"IF(Indata!R39=\"\",\"\",Indata!R39)","v":21},{"$f":"IF(Indata!S39=\"\",\"\",Indata!S39)","v":760},{"$f":"IF(Indata!T39=\"\",\"\",Indata!T39)","v":""},{"$f":"IF(Indata!U39=\"\",\"\",Indata!U39)","v":1200},{"$f":"IF(Indata!V39=\"\",\"\",Indata!V39)","v":0.39},{"$f":"IF(Indata!W39=\"\",\"\",Indata!W39)","v":0.19},{"$f":"IF(Indata!X39=\"\",\"\",Indata!X39)","v":0.19},{"$f":"IF(Indata!Y39=\"\",\"\",Indata!Y39)","v":""},{"$f":"IF(Indata!Z39=\"\",\"\",Indata!Z39)","v":""},{"$f":"IF(Indata!AA39=\"\",\"\",Indata!AA39)","v":""}]
[65,"72 Storedamm, utlopp mot Svenstorp","2025-02-11",1.5,13.7,98,6.2,6.2E-2,7.25,220,3.6,0.39,"",79,"","",{"$f":"IF(Indata!Q40=\"\",\"\",Indata!Q40)","v":""},{"$f":"IF(Indata!R40=\"\",\"\",Indata!R40)","v":21},{"$f":"IF(Indata!S40=\"\",\"\",Indata!S40)","v":280},{"$f":"IF(Indata!T40=\"\",\"\",Indata!T40)","v":""},{"$f":"IF(Indata!U40=\"\",\"\",Indata!U40)","v":1000},{"$f":"IF(Indata!V40=\"\",\"\",Indata!V40)","v":0.23},{"$f":"IF(Indata!W40=\"\",\"\",Indata!W40)","v":0.12},{"$f":"IF(Indata!X40=\"\",\"\",Indata!X40)","v":0.16},{"$f":"IF(Indata!Y40=\"\",\"\",Indata!Y40)","v":""},{"$f":"IF(Indata!Z40=\"\",\"\",Indata!Z40)","v":""},{"$f":"IF(Indata!AA40=\"\",\"\",Indata!AA40)","v":""}]
[70,"15 Ybbarpsån, utfl ur Ybbarpssjön","2025-02-11",0.7,13.9,97,6.8,0.23,9.7899999999999991,150,8.8000000000000007,0.37,"",51.35,"","",{"$f":"IF(Indata!Q41=\"\",\"\",Indata!Q41)","v":""},{"$f":"IF(Indata!R41=\"\",\"\",Indata!R41)","v":21},{"$f":"IF(Indata!S41=\"\",\"\",Indata!S41)","v":500},{"$f":"IF(Indata!T41=\"\",\"\",Indata!T41)","v":""},{"$f":"IF(Indata!U41=\"\",\"\",Indata!U41)","v":960},{"$f":"IF(Indata!V41=\"\",\"\",Indata!V41)","v":0.35},{"$f":"IF(Indata!W41=\"\",\"\",Indata!W41)","v":0.18},{"$f":"IF(Indata!X41=\"\",\"\",Indata!X41)","v":0.19},{"$f":"IF(Indata!Y41=\"\",\"\",Indata!Y41)","v":""},{"$f":"IF(Indata!Z41=\"\",\"\",Indata!Z41)","v":""},{"$f":"IF(Indata!AA41=\"\",\"\",Indata!AA41)","v":""}]
[75,"16 Ybbarpsån, nedstr Perstorp AB","2025-02-11",1.8,14,101,7,0.44,23.3,220,8.4,0.36,"",55.300000000000004,"","",{"$f":"IF(Indata!Q42=\"\",\"\",Indata!Q42)","v":""},{"$f":"IF(Indata!R42=\"\",\"\",Indata!R42)","v":23},{"$f":"IF(Indata!S42=\"\",\"\",Indata!S42)","v":690},{"$f":"IF(Indata!T42=\"\",\"\",Indata!T42)","v":""},{"$f":"IF(Indata!U42=\"\",\"\",Indata!U42)","v":1200},{"$f":"IF(Indata!V42=\"\",\"\",Indata!V42)","v":0.38},{"$f":"IF(Indata!W42=\"\",\"\",Indata!W42)","v":0.19},{"$f":"IF(Indata!X42=\"\",\"\",Indata!X42)","v":0.5},{"$f":"IF(Indata!Y42=\"\",\"\",Indata!Y42)","v":""},{"$f":"IF(Indata!Z42=\"\",\"\",Indata!Z42)","v":""},{"$f":"IF(Indata!AA42=\"\",\"\",Indata!AA42)","v":""}]
[80,"17 Ybbarpsån, Storarydsdammens utl","2025-02-12",1.6,13.3,95,7,0.36,21,150,6.7,0.28000000000000003,"",51.35,"","",{"$f":"IF(Indata!Q43=\"\",\"\",Indata!Q43)","v":""},{"$f":"IF(Indata!R43=\"\",\"\",Indata!R43)","v":21},{"$f":"IF(Indata!S43=\"\",\"\",Indata!S43)","v":760},{"$f":"IF(Indata!T43=\"\",\"\",Indata!T43)","v":""},{"$f":"IF(Indata!U43=\"\",\"\",Indata!U43)","v":1100},{"$f":"IF(Indata!V43=\"\",\"\",Indata!V43)","v":0.38},{"$f":"IF(Indata!W43=\"\",\"\",Indata!W43)","v":0.2},{"$f":"IF(Indata!X43=\"\",\"\",Indata!X43)","v":0.5},{"$f":"IF(Indata!Y43=\"\",\"\",Indata!Y43)","v":""},{"$f":"IF(Indata!Z43=\"\",\"\",Indata!Z43)","v":""},{"$f":"IF(Indata!AA43=\"\",\"\",Indata!AA43)","v":""}]
[85,"22 Ybbarpsån, vid Herrevadskloster","2025-02-11",1.2,14.2,100,6.9,0.34,18.399999999999999,150,8.4,0.36,"",63.2,"","",{"$f":"IF(Indata!Q44=\"\",\"\",Indata!Q44)","v":""},{"$f":"IF(Indata!R44=\"\",\"\",Indata!R44)","v":31},{"$f":"IF(Indata!S44=\"\",\"\",Indata!S44)","v":1100},{"$f":"IF(Indata!T44=\"\",\"\",Indata!T44)","v":""},{"$f":"IF(Indata!U44=\"\",\"\",Indata!U44)","v":1700},{"$f":"IF(Indata!V44=\"\",\"\",Indata!V44)","v":0.45},{"$f":"IF(Indata!W44=\"\",\"\",Indata!W44)","v":0.2},{"$f":"IF(Indata!X44=\"\",\"\",Indata!X44)","v":0.41},{"$f":"IF(Indata!Y44=\"\",\"\",Indata!Y44)","v":""},{"$f":"IF(Indata!Z44=\"\",\"\",Indata!Z44)","v":""},{"$f":"IF(Indata!AA44=\"\",\"\",Indata!AA44)","v":""}]
[90,"28 Perstorpsbäcken, uppstr Perstorp","2025-02-11",1.6,13.4,96,6.6,0.2,9.19,150,12,0.39,1.4,71.100000000000009,43,"",{"$f":"IF(Indata!Q45=\"\",\"\",Indata!Q45)","v":""},{"$f":"IF(Indata!R45=\"\",\"\",Indata!R45)","v":23},{"$f":"IF(Indata!S45=\"\",\"\",Indata!S45)","v":480},{"$f":"IF(Indata!T45=\"\",\"\",Indata!T45)","v":170},{"$f":"IF(Indata!U45=\"\",\"\",Indata!U45)","v":1100},{"$f":"IF(Indata!V45=\"\",\"\",Indata!V45)","v":0.38},{"$f":"IF(Indata!W45=\"\",\"\",Indata!W45)","v":0.16},{"$f":"IF(Indata!X45=\"\",\"\",Indata!X45)","v":0.2},{"$f":"IF(Indata!Y45=\"\",\"\",Indata!Y45)","v":""},{"$f":"IF(Indata!Z45=\"\",\"\",Indata!Z45)","v":""},{"$f":"IF(Indata!AA45=\"\",\"\",Indata!AA45)","v":""}]
[95,"29 Perstorpsbäcken, nedstr Perstorp","2025-02-11",2,13.4,97,7,0.33,14.1,220,9.6,0.35,1.1000000000000001,51.35,34,"",{"$f":"IF(Indata!Q46=\"\",\"\",Indata!Q46)","v":""},{"$f":"IF(Indata!R46=\"\",\"\",Indata!R46)","v":20},{"$f":"IF(Indata!S46=\"\",\"\",Indata!S46)","v":1400},{"$f":"IF(Indata!T46=\"\",\"\",Indata!T46)","v":280},{"$f":"IF(Indata!U46=\"\",\"\",Indata!U46)","v":2200},{"$f":"IF(Indata!V46=\"\",\"\",Indata!V46)","v":0.52},{"$f":"IF(Indata!W46=\"\",\"\",Indata!W46)","v":0.21},{"$f":"IF(Indata!X46=\"\",\"\",Indata!X46)","v":0.24},{"$f":"IF(Indata!Y46=\"\",\"\",Indata!Y46)","v":""},{"$f":"IF(Indata!Z46=\"\",\"\",Indata!Z46)","v":""},{"$f":"IF(Indata!AA46=\"\",\"\",Indata!AA46)","v":""}]
[100,"76 Oderbäcken, uppstr Oderljunga ARV","2025-02-12",1.3,13.5,96,6.4,0.16,9.69,150,7.3,0.3,1.4,59.25,36,"",{"$f":"IF(Indata!Q47=\"\",\"\",Indata!Q47)","v":""},{"$f":"IF(Indata!R47=\"\",\"\",Indata!R47)","v":20},{"$f":"IF(Indata!S47=\"\",\"\",Indata!S47)","v":730},{"$f":"IF(Indata!T47=\"\",\"\",Indata!T47)","v":77},{"$f":"IF(Indata!U47=\"\",\"\",Indata!U47)","v":1100},{"$f":"IF(Indata!V47=\"\",\"\",Indata!V47)","v":0.34},{"$f":"IF(Indata!W47=\"\",\"\",Indata!W47)","v":0.16},{"$f":"IF(Indata!X47=\"\",\"\",Indata!X47)","v":0.21},{"$f":"IF(Indata!Y47=\"\",\"\",Indata!Y47)","v":""},{"$f":"IF(Indata!Z47=\"\",\"\",Indata!Z47)","v":""},{"$f":"IF(Indata!AA47=\"\",\"\",Indata!AA47)","v":""}]
[105,"30 Bäljaneå, vid Hyllstofta","2025-02-11",1.7,14.1,101,6.9,0.23,11.4,150,9.3000000000000007,0.31,1.3,47.400000000000006,33,"",{"$f":"IF(Indata!Q48=\"\",\"\",Indata!Q48)","v":""},{"$f":"IF(Indata!R48=\"\",\"\",Indata!R48)","v":20},{"$f":"IF(Indata!S48=\"\",\"\",Indata!S48)","v":1100},{"$f":"IF(Indata!T48=\"\",\"\",Indata!T48)","v":140},{"$f":"IF(Indata!U48=\"\",\"\",Indata!U48)","v":1600},{"$f":"IF(Indata!V48=\"\",\"\",Indata!V48)","v":0.41},{"$f":"IF(Indata!W48=\"\",\"\",Indata!W48)","v":0.18},{"$f":"IF(Indata!X48=\"\",\"\",Indata!X48)","v":0.21},{"$f":"IF(Indata!Y48=\"\",\"\",Indata!Y48)","v":""},{"$f":"IF(Indata!Z48=\"\",\"\",Indata!Z48)","v":""},{"$f":"IF(Indata!AA48=\"\",\"\",Indata!AA48)","v":""}]
[110,"32 Bäljaneå, uppstr Klippan","2025-02-11",2,14.1,102,7,0.25,12,150,7.9,0.3,1.4,47.400000000000006,34,"",{"$f":"IF(Indata!Q49=\"\",\"\",Indata!Q49)","v":""},{"$f":"IF(Indata!R49=\"\",\"\",Indata!R49)","v":19},{"$f":"IF(Indata!S49=\"\",\"\",Indata!S49)","v":1000},{"$f":"IF(Indata!T49=\"\",\"\",Indata!T49)","v":110},{"$f":"IF(Indata!U49=\"\",\"\",Indata!U49)","v":1600},{"$f":"IF(Indata!V49=\"\",\"\",Indata!V49)","v":0.43},{"$f":"IF(Indata!W49=\"\",\"\",Indata!W49)","v":0.2},{"$f":"IF(Indata!X49=\"\",\"\",Indata!X49)","v":0.23},{"$f":"IF(Indata!Y49=\"\",\"\",Indata!Y49)","v":""},{"$f":"IF(Indata!Z49=\"\",\"\",Indata!Z49)","v":""},{"$f":"IF(Indata!AA49=\"\",\"\",Indata!AA49)","v":""}]
[115,"78 Bäljaneå, nedstr Klippans ARV","2025-02-11",2.2000000000000002,13.9,101,7.1,0.26,13.2,150,8,0.28999999999999998,1.5,51.35,34,"",{"$f":"IF(Indata!Q50=\"\",\"\",Indata!Q50)","v":""},{"$f":"IF(Indata!R50=\"\",\"\",Indata!R50)","v":23},{"$f":"IF(Indata!S50=\"\",\"\",Indata!S50)","v":1200},{"$f":"IF(Indata!T50=\"\",\"\",Indata!T50)","v":110},{"$f":"IF(Indata!U50=\"\",\"\",Indata!U50)","v":1800},{"$f":"IF(Indata!V50=\"\",\"\",Indata!V50)","v":0.48},{"$f":"IF(Indata!W50=\"\",\"\",Indata!W50)","v":0.21},{"$f":"IF(Indata!X50=\"\",\"\",Indata!X50)","v":0.27},{"$f":"IF(Indata!Y50=\"\",\"\",Indata!Y50)","v":""},{"$f":"IF(Indata!Z50=\"\",\"\",Indata!Z50)","v":""},{"$f":"IF(Indata!AA50=\"\",\"\",Indata!AA50)","v":""}]
[120,"33 Bäljaneå, nedstr Klippan","2025-02-11",2,14,101,6.9,0.26,12,250,8.3000000000000007,0.32,"",43.45,"","",{"$f":"IF(Indata!Q51=\"\",\"\",Indata!Q51)","v":""},{"$f":"IF(Indata!R51=\"\",\"\",Indata!R51)","v":23},{"$f":"IF(Indata!S51=\"\",\"\",Indata!S51)","v":1100},{"$f":"IF(Indata!T51=\"\",\"\",Indata!T51)","v":""},{"$f":"IF(Indata!U51=\"\",\"\",Indata!U51)","v":1700},{"$f":"IF(Indata!V51=\"\",\"\",Indata!V51)","v":0.45},{"$f":"IF(Indata!W51=\"\",\"\",Indata!W51)","v":0.2},{"$f":"IF(Indata!X51=\"\",\"\",Indata!X51)","v":0.24},{"$f":"IF(Indata!Y51=\"\",\"\",Indata!Y51)","v":""},{"$f":"IF(Indata!Z51=\"\",\"\",Indata!Z51)","v":""},{"$f":"IF(Indata!AA51=\"\",\"\",Indata!AA51)","v":""}]
[125,"77 Biflöde till Rönneå, uppstr Kvidinge ARV","2025-02-11",2.5,13.5,99,7.5,1.4,38.4,100,17,0.14000000000000001,1.4,30.810000000000002,"<30","",{"$f":"IF(Indata!Q52=\"\",\"\",Indata!Q52)","v":""},{"$f":"IF(Indata!R52=\"\",\"\",Indata!R52)","v":91},{"$f":"IF(Indata!S52=\"\",\"\",Indata!S52)","v":8800},{"$f":"IF(Indata!T52=\"\",\"\",Indata!T52)","v":92},{"$f":"IF(Indata!U52=\"\",\"\",Indata!U52)","v":8800},{"$f":"IF(Indata!V52=\"\",\"\",Indata!V52)","v":2.2000000000000002},{"$f":"IF(Indata!W52=\"\",\"\",Indata!W52)","v":0.59},{"$f":"IF(Indata!X52=\"\",\"\",Indata!X52)","v":0.83},{"$f":"IF(Indata!Y52=\"\",\"\",Indata!Y52)","v":""},{"$f":"IF(Indata!Z52=\"\",\"\",Indata!Z52)","v":""},{"$f":"IF(Indata!AA52=\"\",\"\",Indata!AA52)","v":""}]
[130,"36 Pinnån, nedstr Åsljungasjön","2025-02-12",1.1000000000000001,12.5,88,6.3,0.11,8.9600000000000009,300,4.8,0.46,1.7,86.9,48,"",{"$f":"IF(Indata!Q53=\"\",\"\",Indata!Q53)","v":""},{"$f":"IF(Indata!R53=\"\",\"\",Indata!R53)","v":29},{"$f":"IF(Indata!S53=\"\",\"\",Indata!S53)","v":370},{"$f":"IF(Indata!T53=\"\",\"\",Indata!T53)","v":35},{"$f":"IF(Indata!U53=\"\",\"\",Indata!U53)","v":940},{"$f":"IF(Indata!V53=\"\",\"\",Indata!V53)","v":0.25},{"$f":"IF(Indata!W53=\"\",\"\",Indata!W53)","v":0.12},{"$f":"IF(Indata!X53=\"\",\"\",Indata!X53)","v":0.12},{"$f":"IF(Indata!Y53=\"\",\"\",Indata!Y53)","v":""},{"$f":"IF(Indata!Z53=\"\",\"\",Indata!Z53)","v":""},{"$f":"IF(Indata!AA53=\"\",\"\",Indata!AA53)","v":""}]
[135,"40 Pinnån, nedstr Örkelljunga","2025-02-12",1.6,13.7,98,6.6,0.15,10.7,150,3.1,0.41,2.6,75.05,45,"",{"$f":"IF(Indata!Q54=\"\",\"\",Indata!Q54)","v":""},{"$f":"IF(Indata!R54=\"\",\"\",Indata!R54)","v":28},{"$f":"IF(Indata!S54=\"\",\"\",Indata!S54)","v":940},{"$f":"IF(Indata!T54=\"\",\"\",Indata!T54)","v":240},{"$f":"IF(Indata!U54=\"\",\"\",Indata!U54)","v":1500},{"$f":"IF(Indata!V54=\"\",\"\",Indata!V54)","v":0.3},{"$f":"IF(Indata!W54=\"\",\"\",Indata!W54)","v":0.15},{"$f":"IF(Indata!X54=\"\",\"\",Indata!X54)","v":0.15},{"$f":"IF(Indata!Y54=\"\",\"\",Indata!Y54)","v":""},{"$f":"IF(Indata!Z54=\"\",\"\",Indata!Z54)","v":""},{"$f":"IF(Indata!AA54=\"\",\"\",Indata!AA54)","v":""}]
[140,"42 Pinnån, uppstr Gelita","2025-02-11",1.8,13.8,99,6.5,0.18,10.4,220,3.8,0.39,"",63.2,"","",{"$f":"IF(Indata!Q55=\"\",\"\",Indata!Q55)","v":""},{"$f":"IF(Indata!R55=\"\",\"\",Indata!R55)","v":26},{"$f":"IF(Indata!S55=\"\",\"\",Indata!S55)","v":790},{"$f":"IF(Indata!T55=\"\",\"\",Indata!T55)","v":""},{"$f":"IF(Indata!U55=\"\",\"\",Indata!U55)","v":1400},{"$f":"IF(Indata!V55=\"\",\"\",Indata!V55)","v":0.32},{"$f":"IF(Indata!W55=\"\",\"\",Indata!W55)","v":0.16},{"$f":"IF(Indata!X55=\"\",\"\",Indata!X55)","v":0.15},{"$f":"IF(Indata!Y55=\"\",\"\",Indata!Y55)","v":""},{"$f":"IF(Indata!Z55=\"\",\"\",Indata!Z55)","v":""},{"$f":"IF(Indata!AA55=\"\",\"\",Indata!AA55)","v":""}]
[145,"44 Pinnån, utfl ur Kopparmölledamm","2025-02-11",2.4,13.8,101,6.8,0.26,19.100000000000001,150,4.3,0.38,"",67.150000000000006,"","",{"$f":"IF(Indata!Q56=\"\",\"\",Indata!Q56)","v":""},{"$f":"IF(Indata!R56=\"\",\"\",Indata!R56)","v":36},{"$f":"IF(Indata!S56=\"\",\"\",Indata!S56)","v":920},{"$f":"IF(Indata!T56=\"\",\"\",Indata!T56)","v":""},{"$f":"IF(Indata!U56=\"\",\"\",Indata!U56)","v":1600},{"$f":"IF(Indata!V56=\"\",\"\",Indata!V56)","v":0.35},{"$f":"IF(Indata!W56=\"\",\"\",Indata!W56)","v":0.16},{"$f":"IF(Indata!X56=\"\",\"\",Indata!X56)","v":0.68},{"$f":"IF(Indata!Y56=\"\",\"\",Indata!Y56)","v":""},{"$f":"IF(Indata!Z56=\"\",\"\",Indata!Z56)","v":""},{"$f":"IF(Indata!AA56=\"\",\"\",Indata!AA56)","v":""}]
[150,"58 Pinnån, vid utfl t Rönneå","2025-02-11",2.8,13.7,101,7,0.38,19.899999999999999,250,5.5,0.42,"",59.25,"","",{"$f":"IF(Indata!Q57=\"\",\"\",Indata!Q57)","v":""},{"$f":"IF(Indata!R57=\"\",\"\",Indata!R57)","v":29},{"$f":"IF(Indata!S57=\"\",\"\",Indata!S57)","v":1100},{"$f":"IF(Indata!T57=\"\",\"\",Indata!T57)","v":""},{"$f":"IF(Indata!U57=\"\",\"\",Indata!U57)","v":1700},{"$f":"IF(Indata!V57=\"\",\"\",Indata!V57)","v":0.48},{"$f":"IF(Indata!W57=\"\",\"\",Indata!W57)","v":0.21},{"$f":"IF(Indata!X57=\"\",\"\",Indata!X57)","v":0.7},{"$f":"IF(Indata!Y57=\"\",\"\",Indata!Y57)","v":""},{"$f":"IF(Indata!Z57=\"\",\"\",Indata!Z57)","v":""},{"$f":"IF(Indata!AA57=\"\",\"\",Indata!AA57)","v":""}]
[155,"70 Kägleån, vid Ängeltofta","2025-02-11",2.2000000000000002,14,102,7.6,1.2,21,100,6,0.17,"",23.305000000000003,"","",{"$f":"IF(Indata!Q58=\"\",\"\",Indata!Q58)","v":""},{"$f":"IF(Indata!R58=\"\",\"\",Indata!R58)","v":32},{"$f":"IF(Indata!S58=\"\",\"\",Indata!S58)","v":1500},{"$f":"IF(Indata!T58=\"\",\"\",Indata!T58)","v":""},{"$f":"IF(Indata!U58=\"\",\"\",Indata!U58)","v":1900},{"$f":"IF(Indata!V58=\"\",\"\",Indata!V58)","v":1.2},{"$f":"IF(Indata!W58=\"\",\"\",Indata!W58)","v":0.36},{"$f":"IF(Indata!X58=\"\",\"\",Indata!X58)","v":0.25},{"$f":"IF(Indata!Y58=\"\",\"\",Indata!Y58)","v":""},{"$f":"IF(Indata!Z58=\"\",\"\",Indata!Z58)","v":""},{"$f":"IF(Indata!AA58=\"\",\"\",Indata!AA58)","v":""}]
[160,"55 Kägleån, vägbro Åkersholm","2025-02-11",2.2000000000000002,13.9,101,7.7,1.5,24.5,100,7.8,0.19,"",25.28,"","",{"$f":"IF(Indata!Q59=\"\",\"\",Indata!Q59)","v":""},{"$f":"IF(Indata!R59=\"\",\"\",Indata!R59)","v":40},{"$f":"IF(Indata!S59=\"\",\"\",Indata!S59)","v":1400},{"$f":"IF(Indata!T59=\"\",\"\",Indata!T59)","v":""},{"$f":"IF(Indata!U59=\"\",\"\",Indata!U59)","v":1700},{"$f":"IF(Indata!V59=\"\",\"\",Indata!V59)","v":1.3},{"$f":"IF(Indata!W59=\"\",\"\",Indata!W59)","v":0.45},{"$f":"IF(Indata!X59=\"\",\"\",Indata!X59)","v":0.28000000000000003},{"$f":"IF(Indata!Y59=\"\",\"\",Indata!Y59)","v":""},{"$f":"IF(Indata!Z59=\"\",\"\",Indata!Z59)","v":""},{"$f":"IF(Indata!AA59=\"\",\"\",Indata!AA59)","v":""}]
[165,"56 Rössjöholmsån, f utfl t Rönneå","2025-02-11",1.9,14.1,102,7.5,0.87,17,150,7.2,0.22,1.3,35.945,"<30","",{"$f":"IF(Indata!Q60=\"\",\"\",Indata!Q60)","v":""},{"$f":"IF(Indata!R60=\"\",\"\",Indata!R60)","v":32},{"$f":"IF(Indata!S60=\"\",\"\",Indata!S60)","v":1000},{"$f":"IF(Indata!T60=\"\",\"\",Indata!T60)","v":34},{"$f":"IF(Indata!U60=\"\",\"\",Indata!U60)","v":1300},{"$f":"IF(Indata!V60=\"\",\"\",Indata!V60)","v":0.83},{"$f":"IF(Indata!W60=\"\",\"\",Indata!W60)","v":0.31},{"$f":"IF(Indata!X60=\"\",\"\",Indata!X60)","v":0.21},{"$f":"IF(Indata!Y60=\"\",\"\",Indata!Y60)","v":""},{"$f":"IF(Indata!Z60=\"\",\"\",Indata!Z60)","v":""},{"$f":"IF(Indata!AA60=\"\",\"\",Indata!AA60)","v":""}]
[170,"60 Storarydsdammen yta","2025-02-12",1.7,13.3,95,7,0.34,20.8,150,"",0.28000000000000003,"",51.35,"",4.3,{"$f":"IF(Indata!Q61=\"\",\"\",Indata!Q61)","v":13},{"$f":"IF(Indata!R61=\"\",\"\",Indata!R61)","v":23},{"$f":"IF(Indata!S61=\"\",\"\",Indata!S61)","v":770},{"$f":"IF(Indata!T61=\"\",\"\",Indata!T61)","v":""},{"$f":"IF(Indata!U61=\"\",\"\",Indata!U61)","v":1200},{"$f":"IF(Indata!V61=\"\",\"\",Indata!V61)","v":""},{"$f":"IF(Indata!W61=\"\",\"\",Indata!W61)","v":0.21},{"$f":"IF(Indata!X61=\"\",\"\",Indata!X61)","v":0.49},{"$f":"IF(Indata!Y61=\"\",\"\",Indata!Y61)","v":""},{"$f":"IF(Indata!Z61=\"\",\"\",Indata!Z61)","v":1.3},{"$f":"IF(Indata!AA61=\"\",\"\",Indata!AA61)","v":""}]
[175,"60 Storarydsdammen 4 m","2025-02-12",1.6,13.2,94,"","","","","","","","","","",{"$f":"IF(Indata!Q62=\"\",\"\",Indata!Q62)","v":""},{"$f":"IF(Indata!R62=\"\",\"\",Indata!R62)","v":""},{"$f":"IF(Indata!S62=\"\",\"\",Indata!S62)","v":""},{"$f":"IF(Indata!T62=\"\",\"\",Indata!T62)","v":""},{"$f":"IF(Indata!U62=\"\",\"\",Indata!U62)","v":""},{"$f":"IF(Indata!V62=\"\",\"\",Indata!V62)","v":""},{"$f":"IF(Indata!W62=\"\",\"\",Indata!W62)","v":""},{"$f":"IF(Indata!X62=\"\",\"\",Indata!X62)","v":""},{"$f":"IF(Indata!Y62=\"\",\"\",Indata!Y62)","v":""},{"$f":"IF(Indata!Z62=\"\",\"\",Indata!Z62)","v":""},{"$f":"IF(Indata!AA62=\"\",\"\",Indata!AA62)","v":""}]
[180,"19 Ö Sorrödssjön, ytan","2025-02-12",1.5,13.2,94,7,0.3,18.899999999999999,150,"",0.3,"",59.25,"",3.5,{"$f":"IF(Indata!Q63=\"\",\"\",Indata!Q63)","v":11},{"$f":"IF(Indata!R63=\"\",\"\",Indata!R63)","v":22},{"$f":"IF(Indata!S63=\"\",\"\",Indata!S63)","v":990},{"$f":"IF(Indata!T63=\"\",\"\",Indata!T63)","v":""},{"$f":"IF(Indata!U63=\"\",\"\",Indata!U63)","v":1300},{"$f":"IF(Indata!V63=\"\",\"\",Indata!V63)","v":""},{"$f":"IF(Indata!W63=\"\",\"\",Indata!W63)","v":0.2},{"$f":"IF(Indata!X63=\"\",\"\",Indata!X63)","v":0.44},{"$f":"IF(Indata!Y63=\"\",\"\",Indata!Y63)","v":""},{"$f":"IF(Indata!Z63=\"\",\"\",Indata!Z63)","v":1.1000000000000001},{"$f":"IF(Indata!AA63=\"\",\"\",Indata!AA63)","v":""}]
[185,"19 Ö Sorrödssjön,  4 m","2025-02-12",1.2,13.5,95,"","","","","","","","","",3.4,{"$f":"IF(Indata!Q64=\"\",\"\",Indata!Q64)","v":11},{"$f":"IF(Indata!R64=\"\",\"\",Indata!R64)","v":55},{"$f":"IF(Indata!S64=\"\",\"\",Indata!S64)","v":990},{"$f":"IF(Indata!T64=\"\",\"\",Indata!T64)","v":44},{"$f":"IF(Indata!U64=\"\",\"\",Indata!U64)","v":1300},{"$f":"IF(Indata!V64=\"\",\"\",Indata!V64)","v":""},{"$f":"IF(Indata!W64=\"\",\"\",Indata!W64)","v":""},{"$f":"IF(Indata!X64=\"\",\"\",Indata!X64)","v":""},{"$f":"IF(Indata!Y64=\"\",\"\",Indata!Y64)","v":""},{"$f":"IF(Indata!Z64=\"\",\"\",Indata!Z64)","v":""},{"$f":"IF(Indata!AA64=\"\",\"\",Indata!AA64)","v":""}]
[190,"37 Hjälmsjön, ytan","2025-02-12",1.4,13.3,95,6.4,9.7000000000000003E-2,8.69,200,"",0.46,"",82.95,"",2.9,{"$f":"IF(Indata!Q65=\"\",\"\",Indata!Q65)","v":12},{"$f":"IF(Indata!R65=\"\",\"\",Indata!R65)","v":24},{"$f":"IF(Indata!S65=\"\",\"\",Indata!S65)","v":550},{"$f":"IF(Indata!T65=\"\",\"\",Indata!T65)","v":""},{"$f":"IF(Indata!U65=\"\",\"\",Indata!U65)","v":1000},{"$f":"IF(Indata!V65=\"\",\"\",Indata!V65)","v":""},{"$f":"IF(Indata!W65=\"\",\"\",Indata!W65)","v":0.13},{"$f":"IF(Indata!X65=\"\",\"\",Indata!X65)","v":0.12},{"$f":"IF(Indata!Y65=\"\",\"\",Indata!Y65)","v":""},{"$f":"IF(Indata!Z65=\"\",\"\",Indata!Z65)","v":1.1000000000000001},{"$f":"IF(Indata!AA65=\"\",\"\",Indata!AA65)","v":""}]
[195,"37 Hjälmsjön, 6,5 m","2025-02-12",1.1000000000000001,13.4,94,"","","","","","","","","",2.7,{"$f":"IF(Indata!Q66=\"\",\"\",Indata!Q66)","v":8.1999999999999993},{"$f":"IF(Indata!R66=\"\",\"\",Indata!R66)","v":13},{"$f":"IF(Indata!S66=\"\",\"\",Indata!S66)","v":540},{"$f":"IF(Indata!T66=\"\",\"\",Indata!T66)","v":"<10"},{"$f":"IF(Indata!U66=\"\",\"\",Indata!U66)","v":1000},{"$f":"IF(Indata!V66=\"\",\"\",Indata!V66)","v":""},{"$f":"IF(Indata!W66=\"\",\"\",Indata!W66)","v":""},{"$f":"IF(Indata!X66=\"\",\"\",Indata!X66)","v":""},{"$f":"IF(Indata!Y66=\"\",\"\",Indata!Y66)","v":""},{"$f":"IF(Indata!Z66=\"\",\"\",Indata!Z66)","v":""},{"$f":"IF(Indata!AA66=\"\",\"\",Indata!AA66)","v":""}]
[200,"50 Västersjön, ytan","2025-02-12",1.1000000000000001,13.9,98,6.9,0.15,6.86,100,"",0.24,"",51.35,"","<2",{"$f":"IF(Indata!Q67=\"\",\"\",Indata!Q67)","v":8.1},{"$f":"IF(Indata!R67=\"\",\"\",Indata!R67)","v":15},{"$f":"IF(Indata!S67=\"\",\"\",Indata!S67)","v":170},{"$f":"IF(Indata!T67=\"\",\"\",Indata!T67)","v":""},{"$f":"IF(Indata!U67=\"\",\"\",Indata!U67)","v":550},{"$f":"IF(Indata!V67=\"\",\"\",Indata!V67)","v":""},{"$f":"IF(Indata!W67=\"\",\"\",Indata!W67)","v":0.12},{"$f":"IF(Indata!X67=\"\",\"\",Indata!X67)","v":9.1999999999999998E-2},{"$f":"IF(Indata!Y67=\"\",\"\",Indata!Y67)","v":""},{"$f":"IF(Indata!Z67=\"\",\"\",Indata!Z67)","v":1.9},{"$f":"IF(Indata!AA67=\"\",\"\",Indata!AA67)","v":""}]
[205,"50 Västersjön, 10 m","2025-02-12",0.6,14,97,"","","","","","","","","","<2",{"$f":"IF(Indata!Q68=\"\",\"\",Indata!Q68)","v":8.9},{"$f":"IF(Indata!R68=\"\",\"\",Indata!R68)","v":15},{"$f":"IF(Indata!S68=\"\",\"\",Indata!S68)","v":170},{"$f":"IF(Indata!T68=\"\",\"\",Indata!T68)","v":12},{"$f":"IF(Indata!U68=\"\",\"\",Indata!U68)","v":560},{"$f":"IF(Indata!V68=\"\",\"\",Indata!V68)","v":""},{"$f":"IF(Indata!W68=\"\",\"\",Indata!W68)","v":""},{"$f":"IF(Indata!X68=\"\",\"\",Indata!X68)","v":""},{"$f":"IF(Indata!Y68=\"\",\"\",Indata!Y68)","v":""},{"$f":"IF(Indata!Z68=\"\",\"\",Indata!Z68)","v":""},{"$f":"IF(Indata!AA68=\"\",\"\",Indata!AA68)","v":""}]
[210,"51 Rössjön, ytan","2025-02-12",1.5,13.6,97,6.9,0.16,7.66,100,"",0.18,"",39.5,"","<2",{"$f":"IF(Indata!Q69=\"\",\"\",Indata!Q69)","v":8.8000000000000007},{"$f":"IF(Indata!R69=\"\",\"\",Indata!R69)","v":13},{"$f":"IF(Indata!S69=\"\",\"\",Indata!S69)","v":360},{"$f":"IF(Indata!T69=\"\",\"\",Indata!T69)","v":""},{"$f":"IF(Indata!U69=\"\",\"\",Indata!U69)","v":630},{"$f":"IF(Indata!V69=\"\",\"\",Indata!V69)","v":""},{"$f":"IF(Indata!W69=\"\",\"\",Indata!W69)","v":0.14000000000000001},{"$f":"IF(Indata!X69=\"\",\"\",Indata!X69)","v":0.11},{"$f":"IF(Indata!Y69=\"\",\"\",Indata!Y69)","v":""},{"$f":"IF(Indata!Z69=\"\",\"\",Indata!Z69)","v":2.2000000000000002},{"$f":"IF(Indata!AA69=\"\",\"\",Indata!AA69)","v":""}]
[215,"51 Rössjön, 18 m","2025-02-12","","","","","","","","","","","","","",{"$f":"IF(Indata!Q70=\"\",\"\",Indata!Q70)","v":""},{"$f":"IF(Indata!R70=\"\",\"\",Indata!R70)","v":""},{"$f":"IF(Indata!S70=\"\",\"\",Indata!S70)","v":""},{"$f":"IF(Indata!T70=\"\",\"\",Indata!T70)","v":""},{"$f":"IF(Indata!U70=\"\",\"\",Indata!U70)","v":""},{"$f":"IF(Indata!V70=\"\",\"\",Indata!V70)","v":""},{"$f":"IF(Indata!W70=\"\",\"\",Indata!W70)","v":""},{"$f":"IF(Indata!X70=\"\",\"\",Indata!X70)","v":""},{"$f":"IF(Indata!Y70=\"\",\"\",Indata!Y70)","v":""},{"$f":"IF(Indata!Z70=\"\",\"\",Indata!Z70)","v":""},{"$f":"IF(Indata!AA70=\"\",\"\",Indata!AA70)","v":"Inget prov pga stark vind"}]
[220,"Ri5 Sätoftasjön, ytan","2025-02-10",1.7,14.1,101,7.9,1.2,21.1,90,"",0.16,"",37.130000000000003,"","<2",{"$f":"IF(Indata!Q71=\"\",\"\",Indata!Q71)","v":8.1},{"$f":"IF(Indata!R71=\"\",\"\",Indata!R71)","v":33},{"$f":"IF(Indata!S71=\"\",\"\",Indata!S71)","v":720},{"$f":"IF(Indata!T71=\"\",\"\",Indata!T71)","v":""},{"$f":"IF(Indata!U71=\"\",\"\",Indata!U71)","v":1400},{"$f":"IF(Indata!V71=\"\",\"\",Indata!V71)","v":""},{"$f":"IF(Indata!W71=\"\",\"\",Indata!W71)","v":0.22},{"$f":"IF(Indata!X71=\"\",\"\",Indata!X71)","v":0.3},{"$f":"IF(Indata!Y71=\"\",\"\",Indata!Y71)","v":33},{"$f":"IF(Indata!Z71=\"\",\"\",Indata!Z71)","v":1.1000000000000001},{"$f":"IF(Indata!AA71=\"\",\"\",Indata!AA71)","v":"Siktdjup osäkert pga stark vind"}]
[230,"Ri4 Östra Ringsjön, ytan","2025-02-10",2,14.3,103,8,1.6,25.9,55,"",0.1,"",26.465000000000003,"",19,{"$f":"IF(Indata!Q72=\"\",\"\",Indata!Q72)","v":32},{"$f":"IF(Indata!R72=\"\",\"\",Indata!R72)","v":58},{"$f":"IF(Indata!S72=\"\",\"\",Indata!S72)","v":1300},{"$f":"IF(Indata!T72=\"\",\"\",Indata!T72)","v":""},{"$f":"IF(Indata!U72=\"\",\"\",Indata!U72)","v":1900},{"$f":"IF(Indata!V72=\"\",\"\",Indata!V72)","v":""},{"$f":"IF(Indata!W72=\"\",\"\",Indata!W72)","v":0.24},{"$f":"IF(Indata!X72=\"\",\"\",Indata!X72)","v":0.32},{"$f":"IF(Indata!Y72=\"\",\"\",Indata!Y72)","v":17},{"$f":"IF(Indata!Z72=\"\",\"\",Indata!Z72)","v":1.5},{"$f":"IF(Indata!AA72=\"\",\"\",Indata!AA72)","v":"Siktdjup osäkert pga stark vind"}]
[240,"Ri2 Västra Ringsjön, ytan","2025-02-10",1.7,14.3,103,8.3000000000000007,1.6,25.5,35,"",7.3999999999999996E-2,"",23.305000000000003,"","<2",{"$f":"IF(Indata!Q73=\"\",\"\",Indata!Q73)","v":7.8},{"$f":"IF(Indata!R73=\"\",\"\",Indata!R73)","v":29},{"$f":"IF(Indata!S73=\"\",\"\",Indata!S73)","v":480},{"$f":"IF(Indata!T73=\"\",\"\",Indata!T73)","v":""},{"$f":"IF(Indata!U73=\"\",\"\",Indata!U73)","v":1200},{"$f":"IF(Indata!V73=\"\",\"\",Indata!V73)","v":""},{"$f":"IF(Indata!W73=\"\",\"\",Indata!W73)","v":0.24},{"$f":"IF(Indata!X73=\"\",\"\",Indata!X73)","v":0.3},{"$f":"IF(Indata!Y73=\"\",\"\",Indata!Y73)","v":20},{"$f":"IF(Indata!Z73=\"\",\"\",Indata!Z73)","v":1.7},{"$f":"IF(Indata!AA73=\"\",\"\",Indata!AA73)","v":"Siktdjup osäkert pga stark vind"}]
[300]
[250,"mars"]
[3,"3  Rönneå, uppstr Bålamöllan","","","","","","","","","","","","","","",{"$f":"IF(Indata!Q76=\"\",\"\",Indata!Q76)","v":""},{"$f":"IF(Indata!R76=\"\",\"\",Indata!R76)","v":""},{"$f":"IF(Indata!S76=\"\",\"\",Indata!S76)","v":""},{"$f":"IF(Indata!T76=\"\",\"\",Indata!T76)","v":""},{"$f":"IF(Indata!U76=\"\",\"\",Indata!U76)","v":""},{"$f":"IF(Indata!V76=\"\",\"\",Indata!V76)","v":""},{"$f":"IF(Indata!W76=\"\",\"\",Indata!W76)","v":""},{"$f":"IF(Indata!X76=\"\",\"\",Indata!X76)","v":""},{"$f":"IF(Indata!Y76=\"\",\"\",Indata!Y76)","v":""},{"$f":"IF(Indata!Z76=\"\",\"\",Indata!Z76)","v":""},{"$f":"IF(Indata!AA76=\"\",\"\",Indata!AA76)","v":""}]
[10,"11 Rönneå, vid Djupadalsmölla","","","","","","","","","","","","","","",{"$f":"IF(Indata!Q77=\"\",\"\",Indata!Q77)","v":""},{"$f":"IF(Indata!R77=\"\",\"\",Indata!R77)","v":""},{"$f":"IF(Indata!S77=\"\",\"\",Indata!S77)","v":""},{"$f":"IF(Indata!T77=\"\",\"\",Indata!T77)","v":""},{"$f":"IF(Indata!U77=\"\",\"\",Indata!U77)","v":""},{"$f":"IF(Indata!V77=\"\",\"\",Indata!V77)","v":""},{"$f":"IF(Indata!W77=\"\",\"\",Indata!W77)","v":""},{"$f":"IF(Indata!X77=\"\",\"\",Indata!X77)","v":""},{"$f":"IF(Indata!Y77=\"\",\"\",Indata!Y77)","v":""},{"$f":"IF(Indata!Z77=\"\",\"\",Indata!Z77)","v":""},{"$f":"IF(Indata!AA77=\"\",\"\",Indata!AA77)","v":""}]
[25,"24 Rönneå, vid Forsmöllan","","","","","","","","","","","","","","",{"$f":"IF(Indata!Q78=\"\",\"\",Indata!Q78)","v":""},{"$f":"IF(Indata!R78=\"\",\"\",Indata!R78)","v":""},{"$f":"IF(Indata!S78=\"\",\"\",Indata!S78)","v":""},{"$f":"IF(Indata!T78=\"\",\"\",Indata!T78)","v":""},{"$f":"IF(Indata!U78=\"\",\"\",Indata!U78)","v":""},{"$f":"IF(Indata!V78=\"\",\"\",Indata!V78)","v":""},{"$f":"IF(Indata!W78=\"\",\"\",Indata!W78)","v":""},{"$f":"IF(Indata!X78=\"\",\"\",Indata!X78)","v":""},{"$f":"IF(Indata!Y78=\"\",\"\",Indata!Y78)","v":""},{"$f":"IF(Indata!Z78=\"\",\"\",Indata!Z78)","v":""},{"$f":"IF(Indata!AA78=\"\",\"\",Indata!AA78)","v":""}]
[30,"25 Rönneå, vid Stackarps bro","","","","","","","","","","","","","","",{"$f":"IF(Indata!Q79=\"\",\"\",Indata!Q79)","v":""},{"$f":"IF(Indata!R79=\"\",\"\",Indata!R79)","v":""},{"$f":"IF(Indata!S79=\"\",\"\",Indata!S79)","v":""},{"$f":"IF(Indata!T79=\"\",\"\",Indata!T79)","v":""},{"$f":"IF(Indata!U79=\"\",\"\",Indata!U79)","v":""},{"$f":"IF(Indata!V79=\"\",\"\",Indata!V79)","v":""},{"$f":"IF(Indata!W79=\"\",\"\",Indata!W79)","v":""},{"$f":"IF(Indata!X79=\"\",\"\",Indata!X79)","v":""},{"$f":"IF(Indata!Y79=\"\",\"\",Indata!Y79)","v":""},{"$f":"IF(Indata!Z79=\"\",\"\",Indata!Z79)","v":""},{"$f":"IF(Indata!AA79=\"\",\"\",Indata!AA79)","v":""}]
[40,"49 Rönneå, uppstr Ängelholm","","","","","","","","","","","","","","",{"$f":"IF(Indata!Q80=\"\",\"\",Indata!Q80)","v":""},{"$f":"IF(Indata!R80=\"\",\"\",Indata!R80)","v":""},{"$f":"IF(Indata!S80=\"\",\"\",Indata!S80)","v":""},{"$f":"IF(Indata!T80=\"\",\"\",Indata!T80)","v":""},{"$f":"IF(Indata!U80=\"\",\"\",Indata!U80)","v":""},{"$f":"IF(Indata!V80=\"\",\"\",Indata!V80)","v":""},{"$f":"IF(Indata!W80=\"\",\"\",Indata!W80)","v":""},{"$f":"IF(Indata!X80=\"\",\"\",Indata!X80)","v":""},{"$f":"IF(Indata!Y80=\"\",\"\",Indata!Y80)","v":""},{"$f":"IF(Indata!Z80=\"\",\"\",Indata!Z80)","v":""},{"$f":"IF(Indata!AA80=\"\",\"\",Indata!AA80)","v":""}]
[45,"57 Rönneå, vid utfl t Skälderviken","","","","","","","","","","","","","","",{"$f":"IF(Indata!Q81=\"\",\"\",Indata!Q81)","v":""},{"$f":"IF(Indata!R81=\"\",\"\",Indata!R81)","v":""},{"$f":"IF(Indata!S81=\"\",\"\",Indata!S81)","v":""},{"$f":"IF(Indata!T81=\"\",\"\",Indata!T81)","v":""},{"$f":"IF(Indata!U81=\"\",\"\",Indata!U81)","v":""},{"$f":"IF(Indata!V81=\"\",\"\",Indata!V81)","v":""},{"$f":"IF(Indata!W81=\"\",\"\",Indata!W81)","v":""},{"$f":"IF(Indata!X81=\"\",\"\",Indata!X81)","v":""},{"$f":"IF(Indata!Y81=\"\",\"\",Indata!Y81)","v":""},{"$f":"IF(Indata!Z81=\"\",\"\",Indata!Z81)","v":""},{"$f":"IF(Indata!AA81=\"\",\"\",Indata!AA81)","v":""}]
[75,"16 Ybbarpsån, nedstr Perstorp AB","","","","","","","","","","","","","","",{"$f":"IF(Indata!Q82=\"\",\"\",Indata!Q82)","v":""},{"$f":"IF(Indata!R82=\"\",\"\",Indata!R82)","v":""},{"$f":"IF(Indata!S82=\"\",\"\",Indata!S82)","v":""},{"$f":"IF(Indata!T82=\"\",\"\",Indata!T82)","v":""},{"$f":"IF(Indata!U82=\"\",\"\",Indata!U82)","v":""},{"$f":"IF(Indata!V82=\"\",\"\",Indata!V82)","v":""},{"$f":"IF(Indata!W82=\"\",\"\",Indata!W82)","v":""},{"$f":"IF(Indata!X82=\"\",\"\",Indata!X82)","v":""},{"$f":"IF(Indata!Y82=\"\",\"\",Indata!Y82)","v":""},{"$f":"IF(Indata!Z82=\"\",\"\",Indata!Z82)","v":""},{"$f":"IF(Indata!AA82=\"\",\"\",Indata!AA82)","v":""}]
[85,"22 Ybbarpsån, vid Herrevadskloster","","","","","","","","","","","","","","",{"$f":"IF(Indata!Q83=\"\",\"\",Indata!Q83)","v":""},{"$f":"IF(Indata!R83=\"\",\"\",Indata!R83)","v":""},{"$f":"IF(Indata!S83=\"\",\"\",Indata!S83)","v":""},{"$f":"IF(Indata!T83=\"\",\"\",Indata!T83)","v":""},{"$f":"IF(Indata!U83=\"\",\"\",Indata!U83)","v":""},{"$f":"IF(Indata!V83=\"\",\"\",Indata!V83)","v":""},{"$f":"IF(Indata!W83=\"\",\"\",Indata!W83)","v":""},{"$f":"IF(Indata!X83=\"\",\"\",Indata!X83)","v":""},{"$f":"IF(Indata!Y83=\"\",\"\",Indata!Y83)","v":""},{"$f":"IF(Indata!Z83=\"\",\"\",Indata!Z83)","v":""},{"$f":"IF(Indata!AA83=\"\",\"\",Indata!AA83)","v":""}]
[120,"33 Bäljaneå, nedstr Klippan","","","","","","","","","","","","","","",{"$f":"IF(Indata!Q84=\"\",\"\",Indata!Q84)","v":""},{"$f":"IF(Indata!R84=\"\",\"\",Indata!R84)","v":""},{"$f":"IF(Indata!S84=\"\",\"\",Indata!S84)","v":""},{"$f":"IF(Indata!T84=\"\",\"\",Indata!T84)","v":""},{"$f":"IF(Indata!U84=\"\",\"\",Indata!U84)","v":""},{"$f":"IF(Indata!V84=\"\",\"\",Indata!V84)","v":""},{"$f":"IF(Indata!W84=\"\",\"\",Indata!W84)","v":""},{"$f":"IF(Indata!X84=\"\",\"\",Indata!X84)","v":""},{"$f":"IF(Indata!Y84=\"\",\"\",Indata!Y84)","v":""},{"$f":"IF(Indata!Z84=\"\",\"\",Indata!Z84)","v":""},{"$f":"IF(Indata!AA84=\"\",\"\",Indata!AA84)","v":""}]
[145,"44 Pinnån, utfl ur Kopparmölledamm","","","","","","","","","","","","","","",{"$f":"IF(Indata!Q85=\"\",\"\",Indata!Q85)","v":""},{"$f":"IF(Indata!R85=\"\",\"\",Indata!R85)","v":""},{"$f":"IF(Indata!S85=\"\",\"\",Indata!S85)","v":""},{"$f":"IF(Indata!T85=\"\",\"\",Indata!T85)","v":""},{"$f":"IF(Indata!U85=\"\",\"\",Indata!U85)","v":""},{"$f":"IF(Indata!V85=\"\",\"\",Indata!V85)","v":""},{"$f":"IF(Indata!W85=\"\",\"\",Indata!W85)","v":""},{"$f":"IF(Indata!X85=\"\",\"\",Indata!X85)","v":""},{"$f":"IF(Indata!Y85=\"\",\"\",Indata!Y85)","v":""},{"$f":"IF(Indata!Z85=\"\",\"\",Indata!Z85)","v":""},{"$f":"IF(Indata!AA85=\"\",\"\",Indata!AA85)","v":""}]
[150,"58 Pinnån, vid utfl t Rönneå","","","","","","","","","","","","","","",{"$f":"IF(Indata!Q86=\"\",\"\",Indata!Q86)","v":""},{"$f":"IF(Indata!R86=\"\",\"\",Indata!R86)","v":""},{"$f":"IF(Indata!S86=\"\",\"\",Indata!S86)","v":""},{"$f":"IF(Indata!T86=\"\",\"\",Indata!T86)","v":""},{"$f":"IF(Indata!U86=\"\",\"\",Indata!U86)","v":""},{"$f":"IF(Indata!V86=\"\",\"\",Indata!V86)","v":""},{"$f":"IF(Indata!W86=\"\",\"\",Indata!W86)","v":""},{"$f":"IF(Indata!X86=\"\",\"\",Indata!X86)","v":""},{"$f":"IF(Indata!Y86=\"\",\"\",Indata!Y86)","v":""},{"$f":"IF(Indata!Z86=\"\",\"\",Indata!Z86)","v":""},{"$f":"IF(Indata!AA86=\"\",\"\",Indata!AA86)","v":""}]
[165,"56 Rössjöholmsån, f utfl t Rönneå","","","","","","","","","","","","","","",{"$f":"IF(Indata!Q87=\"\",\"\",Indata!Q87)","v":""},{"$f":"IF(Indata!R87=\"\",\"\",Indata!R87)","v":""},{"$f":"IF(Indata!S87=\"\",\"\",Indata!S87)","v":""},{"$f":"IF(Indata!T87=\"\",\"\",Indata!T87)","v":""},{"$f":"IF(Indata!U87=\"\",\"\",Indata!U87)","v":""},{"$f":"IF(Indata!V87=\"\",\"\",Indata!V87)","v":""},{"$f":"IF(Indata!W87=\"\",\"\",Indata!W87)","v":""},{"$f":"IF(Indata!X87=\"\",\"\",Indata!X87)","v":""},{"$f":"IF(Indata!Y87=\"\",\"\",Indata!Y87)","v":""},{"$f":"IF(Indata!Z87=\"\",\"\",Indata!Z87)","v":""},{"$f":"IF(Indata!AA87=\"\",\"\",Indata!AA87)","v":""}]
[220,"Ri5 Sätoftasjön, ytan","","","","","","","","","","","","","","",{"$f":"IF(Indata!Q88=\"\",\"\",Indata!Q88)","v":""},{"$f":"IF(Indata!R88=\"\",\"\",Indata!R88)","v":""},{"$f":"IF(Indata!S88=\"\",\"\",Indata!S88)","v":""},{"$f":"IF(Indata!T88=\"\",\"\",Indata!T88)","v":""},{"$f":"IF(Indata!U88=\"\",\"\",Indata!U88)","v":""},{"$f":"IF(Indata!V88=\"\",\"\",Indata!V88)","v":""},{"$f":"IF(Indata!W88=\"\",\"\",Indata!W88)","v":""},{"$f":"IF(Indata!X88=\"\",\"\",Indata!X88)","v":""},{"$f":"IF(Indata!Y88=\"\",\"\",Indata!Y88)","v":""},{"$f":"IF(Indata!Z88=\"\",\"\",Indata!Z88)","v":""},{"$f":"IF(Indata!AA88=\"\",\"\",Indata!AA88)","v":""}]
[230,"Ri4 Östra Ringsjön, ytan","","","","","","","","","","","","","","",{"$f":"IF(Indata!Q89=\"\",\"\",Indata!Q89)","v":""},{"$f":"IF(Indata!R89=\"\",\"\",Indata!R89)","v":""},{"$f":"IF(Indata!S89=\"\",\"\",Indata!S89)","v":""},{"$f":"IF(Indata!T89=\"\",\"\",Indata!T89)","v":""},{"$f":"IF(Indata!U89=\"\",\"\",Indata!U89)","v":""},{"$f":"IF(Indata!V89=\"\",\"\",Indata!V89)","v":""},{"$f":"IF(Indata!W89=\"\",\"\",Indata!W89)","v":""},{"$f":"IF(Indata!X89=\"\",\"\",Indata!X89)","v":""},{"$f":"IF(Indata!Y89=\"\",\"\",Indata!Y89)","v":""},{"$f":"IF(Indata!Z89=\"\",\"\",Indata!Z89)","v":""},{"$f":"IF(Indata!AA89=\"\",\"\",Indata!AA89)","v":""}]
[240,"Ri2 Västra Ringsjön, ytan","","","","","","","","","","","","","","",{"$f":"IF(Indata!Q90=\"\",\"\",Indata!Q90)","v":""},{"$f":"IF(Indata!R90=\"\",\"\",Indata!R90)","v":""},{"$f":"IF(Indata!S90=\"\",\"\",Indata!S90)","v":""},{"$f":"IF(Indata!T90=\"\",\"\",Indata!T90)","v":""},{"$f":"IF(Indata!U90=\"\",\"\",Indata!U90)","v":""},{"$f":"IF(Indata!V90=\"\",\"\",Indata!V90)","v":""},{"$f":"IF(Indata!W90=\"\",\"\",Indata!W90)","v":""},{"$f":"IF(Indata!X90=\"\",\"\",Indata!X90)","v":""},{"$f":"IF(Indata!Y90=\"\",\"\",Indata!Y90)","v":""},{"$f":"IF(Indata!Z90=\"\",\"\",Indata!Z90)","v":""},{"$f":"IF(Indata!AA90=\"\",\"\",Indata!AA90)","v":""}]
[300,null,"",null,"Provtagning: Namn  Uppdragsansvarig: Namn","","",null,null,null,"","","",null,null,"",null,{"$f":"IF(Indata!R91=\"\",\"\",Indata!R91)","v":""},{"$f":"IF(Indata!S91=\"\",\"\",Indata!S91)","v":""},{"$f":"IF(Indata!T91=\"\",\"\",Indata!T91)","v":""},{"$f":"IF(Indata!U91=\"\",\"\",Indata!U91)","v":""},{"$f":"IF(Indata!V91=\"\",\"\",Indata!V91)","v":""},{"$f":"IF(Indata!W91=\"\",\"\",Indata!W91)","v":""},{"$f":"IF(Indata!X91=\"\",\"\",Indata!X91)","v":""},null,{"$f":"IF(Indata!Z91=\"\",\"\",Indata!Z91)","v":""},{"$f":"IF(Indata!AA91=\"\",\"\",Indata!AA91)","v":""}]
[250,"april"]
[3,"3  Rönneå, uppstr Bålamöllan","","","","","","","","","","","","","","",{"$f":"IF(Indata!Q93=\"\",\"\",Indata!Q93)","v":""},{"$f":"IF(Indata!R93=\"\",\"\",Indata!R93)","v":""},{"$f":"IF(Indata!S93=\"\",\"\",Indata!S93)","v":""},{"$f":"IF(Indata!T93=\"\",\"\",Indata!T93)","v":""},{"$f":"IF(Indata!U93=\"\",\"\",Indata!U93)","v":""},{"$f":"IF(Indata!V93=\"\",\"\",Indata!V93)","v":""},{"$f":"IF(Indata!W93=\"\",\"\",Indata!W93)","v":""},{"$f":"IF(Indata!X93=\"\",\"\",Indata!X93)","v":""},{"$f":"IF(Indata!Y93=\"\",\"\",Indata!Y93)","v":""},{"$f":"IF(Indata!Z93=\"\",\"\",Indata!Z93)","v":""},{"$f":"IF(Indata!AA93=\"\",\"\",Indata!AA93)","v":""}]
[5,"75 Rönneå, Bögerup vid bron innan Bolebäcken","","","","","","","","","","","","","","",{"$f":"IF(Indata!Q94=\"\",\"\",Indata!Q94)","v":""},{"$f":"IF(Indata!R94=\"\",\"\",Indata!R94)","v":""},{"$f":"IF(Indata!S94=\"\",\"\",Indata!S94)","v":""},{"$f":"IF(Indata!T94=\"\",\"\",Indata!T94)","v":""},{"$f":"IF(Indata!U94=\"\",\"\",Indata!U94)","v":""},{"$f":"IF(Indata!V94=\"\",\"\",Indata!V94)","v":""},{"$f":"IF(Indata!W94=\"\",\"\",Indata!W94)","v":""},{"$f":"IF(Indata!X94=\"\",\"\",Indata!X94)","v":""},{"$f":"IF(Indata!Y94=\"\",\"\",Indata!Y94)","v":""},{"$f":"IF(Indata!Z94=\"\",\"\",Indata!Z94)","v":""},{"$f":"IF(Indata!AA94=\"\",\"\",Indata!AA94)","v":""}]
[10,"11 Rönneå, vid Djupadalsmölla","","","","","","","","","","","","","","",{"$f":"IF(Indata!Q95=\"\",\"\",Indata!Q95)","v":""},{"$f":"IF(Indata!R95=\"\",\"\",Indata!R95)","v":""},{"$f":"IF(Indata!S95=\"\",\"\",Indata!S95)","v":""},{"$f":"IF(Indata!T95=\"\",\"\",Indata!T95)","v":""},{"$f":"IF(Indata!U95=\"\",\"\",Indata!U95)","v":""},{"$f":"IF(Indata!V95=\"\",\"\",Indata!V95)","v":""},{"$f":"IF(Indata!W95=\"\",\"\",Indata!W95)","v":""},{"$f":"IF(Indata!X95=\"\",\"\",Indata!X95)","v":""},{"$f":"IF(Indata!Y95=\"\",\"\",Indata!Y95)","v":""},{"$f":"IF(Indata!Z95=\"\",\"\",Indata!Z95)","v":""},{"$f":"IF(Indata!AA95=\"\",\"\",Indata!AA95)","v":""}]
[15,"14 Rönneå, uppstr Ljungbyheds ARV","","","","","","","","","","","","","","",{"$f":"IF(Indata!Q96=\"\",\"\",Indata!Q96)","v":""},{"$f":"IF(Indata!R96=\"\",\"\",Indata!R96)","v":""},{"$f":"IF(Indata!S96=\"\",\"\",Indata!S96)","v":""},{"$f":"IF(Indata!T96=\"\",\"\",Indata!T96)","v":""},{"$f":"IF(Indata!U96=\"\",\"\",Indata!U96)","v":""},{"$f":"IF(Indata!V96=\"\",\"\",Indata!V96)","v":""},{"$f":"IF(Indata!W96=\"\",\"\",Indata!W96)","v":""},{"$f":"IF(Indata!X96=\"\",\"\",Indata!X96)","v":""},{"$f":"IF(Indata!Y96=\"\",\"\",Indata!Y96)","v":""},{"$f":"IF(Indata!Z96=\"\",\"\",Indata!Z96)","v":""},{"$f":"IF(Indata!AA96=\"\",\"\",Indata!AA96)","v":""}]
[20,"79 Rönneå, nedstr Ljungbyhed ARV","","","","","","","","","","","","","","",{"$f":"IF(Indata!Q97=\"\",\"\",Indata!Q97)","v":""},{"$f":"IF(Indata!R97=\"\",\"\",Indata!R97)","v":""},{"$f":"IF(Indata!S97=\"\",\"\",Indata!S97)","v":""},{"$f":"IF(Indata!T97=\"\",\"\",Indata!T97)","v":""},{"$f":"IF(Indata!U97=\"\",\"\",Indata!U97)","v":""},{"$f":"IF(Indata!V97=\"\",\"\",Indata!V97)","v":""},{"$f":"IF(Indata!W97=\"\",\"\",Indata!W97)","v":""},{"$f":"IF(Indata!X97=\"\",\"\",Indata!X97)","v":""},{"$f":"IF(Indata!Y97=\"\",\"\",Indata!Y97)","v":""},{"$f":"IF(Indata!Z97=\"\",\"\",Indata!Z97)","v":""},{"$f":"IF(Indata!AA97=\"\",\"\",Indata!AA97)","v":""}]
[25,"24 Rönneå, vid Forsmöllan","","","","","","","","","","","","","","",{"$f":"IF(Indata!Q98=\"\",\"\",Indata!Q98)","v":""},{"$f":"IF(Indata!R98=\"\",\"\",Indata!R98)","v":""},{"$f":"IF(Indata!S98=\"\",\"\",Indata!S98)","v":""},{"$f":"IF(Indata!T98=\"\",\"\",Indata!T98)","v":""},{"$f":"IF(Indata!U98=\"\",\"\",Indata!U98)","v":""},{"$f":"IF(Indata!V98=\"\",\"\",Indata!V98)","v":""},{"$f":"IF(Indata!W98=\"\",\"\",Indata!W98)","v":""},{"$f":"IF(Indata!X98=\"\",\"\",Indata!X98)","v":""},{"$f":"IF(Indata!Y98=\"\",\"\",Indata!Y98)","v":""},{"$f":"IF(Indata!Z98=\"\",\"\",Indata!Z98)","v":""},{"$f":"IF(Indata!AA98=\"\",\"\",Indata!AA98)","v":""}]
[30,"25 Rönneå, vid Stackarps bro","","","","","","","","","","","","","","",{"$f":"IF(Indata!Q99=\"\",\"\",Indata!Q99)","v":""},{"$f":"IF(Indata!R99=\"\",\"\",Indata!R99)","v":""},{"$f":"IF(Indata!S99=\"\",\"\",Indata!S99)","v":""},{"$f":"IF(Indata!T99=\"\",\"\",Indata!T99)","v":""},{"$f":"IF(Indata!U99=\"\",\"\",Indata!U99)","v":""},{"$f":"IF(Indata!V99=\"\",\"\",Indata!V99)","v":""},{"$f":"IF(Indata!W99=\"\",\"\",Indata!W99)","v":""},{"$f":"IF(Indata!X99=\"\",\"\",Indata!X99)","v":""},{"$f":"IF(Indata!Y99=\"\",\"\",Indata!Y99)","v":""},{"$f":"IF(Indata!Z99=\"\",\"\",Indata!Z99)","v":""},{"$f":"IF(Indata!AA99=\"\",\"\",Indata!AA99)","v":""}]
[35,"34 Rönneå, vid Tranarps bro","","","","","","","","","","","","","","",{"$f":"IF(Indata!Q100=\"\",\"\",Indata!Q100)","v":""},{"$f":"IF(Indata!R100=\"\",\"\",Indata!R100)","v":""},{"$f":"IF(Indata!S100=\"\",\"\",Indata!S100)","v":""},{"$f":"IF(Indata!T100=\"\",\"\",Indata!T100)","v":""},{"$f":"IF(Indata!U100=\"\",\"\",Indata!U100)","v":""},{"$f":"IF(Indata!V100=\"\",\"\",Indata!V100)","v":""},{"$f":"IF(Indata!W100=\"\",\"\",Indata!W100)","v":""},{"$f":"IF(Indata!X100=\"\",\"\",Indata!X100)","v":""},{"$f":"IF(Indata!Y100=\"\",\"\",Indata!Y100)","v":""},{"$f":"IF(Indata!Z100=\"\",\"\",Indata!Z100)","v":""},{"$f":"IF(Indata!AA100=\"\",\"\",Indata!AA100)","v":""}]
[40,"49 Rönneå, uppstr Ängelholm","","","","","","","","","","","","","","",{"$f":"IF(Indata!Q101=\"\",\"\",Indata!Q101)","v":""},{"$f":"IF(Indata!R101=\"\",\"\",Indata!R101)","v":""},{"$f":"IF(Indata!S101=\"\",\"\",Indata!S101)","v":""},{"$f":"IF(Indata!T101=\"\",\"\",Indata!T101)","v":""},{"$f":"IF(Indata!U101=\"\",\"\",Indata!U101)","v":""},{"$f":"IF(Indata!V101=\"\",\"\",Indata!V101)","v":""},{"$f":"IF(Indata!W101=\"\",\"\",Indata!W101)","v":""},{"$f":"IF(Indata!X101=\"\",\"\",Indata!X101)","v":""},{"$f":"IF(Indata!Y101=\"\",\"\",Indata!Y101)","v":""},{"$f":"IF(Indata!Z101=\"\",\"\",Indata!Z101)","v":""},{"$f":"IF(Indata!AA101=\"\",\"\",Indata!AA101)","v":""}]
[45,"57 Rönneå, vid utfl t Skälderviken","","","","","","","","","","","","","","",{"$f":"IF(Indata!Q102=\"\",\"\",Indata!Q102)","v":""},{"$f":"IF(Indata!R102=\"\",\"\",Indata!R102)","v":""},{"$f":"IF(Indata!S102=\"\",\"\",Indata!S102)","v":""},{"$f":"IF(Indata!T102=\"\",\"\",Indata!T102)","v":""},{"$f":"IF(Indata!U102=\"\",\"\",Indata!U102)","v":""},{"$f":"IF(Indata!V102=\"\",\"\",Indata!V102)","v":""},{"$f":"IF(Indata!W102=\"\",\"\",Indata!W102)","v":""},{"$f":"IF(Indata!X102=\"\",\"\",Indata!X102)","v":""},{"$f":"IF(Indata!Y102=\"\",\"\",Indata!Y102)","v":""},{"$f":"IF(Indata!Z102=\"\",\"\",Indata!Z102)","v":""},{"$f":"IF(Indata!AA102=\"\",\"\",Indata!AA102)","v":""}]
[50,"6  Bäljaneå, uppstr Röstånga","","","","","","","","","","","","","","",{"$f":"IF(Indata!Q103=\"\",\"\",Indata!Q103)","v":""},{"$f":"IF(Indata!R103=\"\",\"\",Indata!R103)","v":""},{"$f":"IF(Indata!S103=\"\",\"\",Indata!S103)","v":""},{"$f":"IF(Indata!T103=\"\",\"\",Indata!T103)","v":""},{"$f":"IF(Indata!U103=\"\",\"\",Indata!U103)","v":""},{"$f":"IF(Indata!V103=\"\",\"\",Indata!V103)","v":""},{"$f":"IF(Indata!W103=\"\",\"\",Indata!W103)","v":""},{"$f":"IF(Indata!X103=\"\",\"\",Indata!X103)","v":""},{"$f":"IF(Indata!Y103=\"\",\"\",Indata!Y103)","v":""},{"$f":"IF(Indata!Z103=\"\",\"\",Indata!Z103)","v":""},{"$f":"IF(Indata!AA103=\"\",\"\",Indata!AA103)","v":""}]
[55,"8  Bäljaneå, före utfl t Rönneå","","","","","","","","","","","","","","",{"$f":"IF(Indata!Q104=\"\",\"\",Indata!Q104)","v":""},{"$f":"IF(Indata!R104=\"\",\"\",Indata!R104)","v":""},{"$f":"IF(Indata!S104=\"\",\"\",Indata!S104)","v":""},{"$f":"IF(Indata!T104=\"\",\"\",Indata!T104)","v":""},{"$f":"IF(Indata!U104=\"\",\"\",Indata!U104)","v":""},{"$f":"IF(Indata!V104=\"\",\"\",Indata!V104)","v":""},{"$f":"IF(Indata!W104=\"\",\"\",Indata!W104)","v":""},{"$f":"IF(Indata!X104=\"\",\"\",Indata!X104)","v":""},{"$f":"IF(Indata!Y104=\"\",\"\",Indata!Y104)","v":""},{"$f":"IF(Indata!Z104=\"\",\"\",Indata!Z104)","v":""},{"$f":"IF(Indata!AA104=\"\",\"\",Indata!AA104)","v":""}]
[60,"59 Klingstorpabäcken, Färingstofta","","","","","","","","","","","","","","",{"$f":"IF(Indata!Q105=\"\",\"\",Indata!Q105)","v":""},{"$f":"IF(Indata!R105=\"\",\"\",Indata!R105)","v":""},{"$f":"IF(Indata!S105=\"\",\"\",Indata!S105)","v":""},{"$f":"IF(Indata!T105=\"\",\"\",Indata!T105)","v":""},{"$f":"IF(Indata!U105=\"\",\"\",Indata!U105)","v":""},{"$f":"IF(Indata!V105=\"\",\"\",Indata!V105)","v":""},{"$f":"IF(Indata!W105=\"\",\"\",Indata!W105)","v":""},{"$f":"IF(Indata!X105=\"\",\"\",Indata!X105)","v":""},{"$f":"IF(Indata!Y105=\"\",\"\",Indata!Y105)","v":""},{"$f":"IF(Indata!Z105=\"\",\"\",Indata!Z105)","v":""},{"$f":"IF(Indata!AA105=\"\",\"\",Indata!AA105)","v":""}]
[65,"72 Storedamm, utlopp mot Svenstorp","","","","","","","","","","","","","","",{"$f":"IF(Indata!Q106=\"\",\"\",Indata!Q106)","v":""},{"$f":"IF(Indata!R106=\"\",\"\",Indata!R106)","v":""},{"$f":"IF(Indata!S106=\"\",\"\",Indata!S106)","v":""},{"$f":"IF(Indata!T106=\"\",\"\",Indata!T106)","v":""},{"$f":"IF(Indata!U106=\"\",\"\",Indata!U106)","v":""},{"$f":"IF(Indata!V106=\"\",\"\",Indata!V106)","v":""},{"$f":"IF(Indata!W106=\"\",\"\",Indata!W106)","v":""},{"$f":"IF(Indata!X106=\"\",\"\",Indata!X106)","v":""},{"$f":"IF(Indata!Y106=\"\",\"\",Indata!Y106)","v":""},{"$f":"IF(Indata!Z106=\"\",\"\",Indata!Z106)","v":""},{"$f":"IF(Indata!AA106=\"\",\"\",Indata!AA106)","v":""}]
[70,"15 Ybbarpsån, utfl ur Ybbarpssjön","","","","","","","","","","","","","","",{"$f":"IF(Indata!Q107=\"\",\"\",Indata!Q107)","v":""},{"$f":"IF(Indata!R107=\"\",\"\",Indata!R107)","v":""},{"$f":"IF(Indata!S107=\"\",\"\",Indata!S107)","v":""},{"$f":"IF(Indata!T107=\"\",\"\",Indata!T107)","v":""},{"$f":"IF(Indata!U107=\"\",\"\",Indata!U107)","v":""},{"$f":"IF(Indata!V107=\"\",\"\",Indata!V107)","v":""},{"$f":"IF(Indata!W107=\"\",\"\",Indata!W107)","v":""},{"$f":"IF(Indata!X107=\"\",\"\",Indata!X107)","v":""},{"$f":"IF(Indata!Y107=\"\",\"\",Indata!Y107)","v":""},{"$f":"IF(Indata!Z107=\"\",\"\",Indata!Z107)","v":""},{"$f":"IF(Indata!AA107=\"\",\"\",Indata!AA107)","v":""}]
[75,"16 Ybbarpsån, nedstr Perstorp AB","","","","","","","","","","","","","","",{"$f":"IF(Indata!Q108=\"\",\"\",Indata!Q108)","v":""},{"$f":"IF(Indata!R108=\"\",\"\",Indata!R108)","v":""},{"$f":"IF(Indata!S108=\"\",\"\",Indata!S108)","v":""},{"$f":"IF(Indata!T108=\"\",\"\",Indata!T108)","v":""},{"$f":"IF(Indata!U108=\"\",\"\",Indata!U108)","v":""},{"$f":"IF(Indata!V108=\"\",\"\",Indata!V108)","v":""},{"$f":"IF(Indata!W108=\"\",\"\",Indata!W108)","v":""},{"$f":"IF(Indata!X108=\"\",\"\",Indata!X108)","v":""},{"$f":"IF(Indata!Y108=\"\",\"\",Indata!Y108)","v":""},{"$f":"IF(Indata!Z108=\"\",\"\",Indata!Z108)","v":""},{"$f":"IF(Indata!AA108=\"\",\"\",Indata!AA108)","v":""}]
[80,"17 Ybbarpsån, Storarydsdammens utl","","","","","","","","","","","","","","",{"$f":"IF(Indata!Q109=\"\",\"\",Indata!Q109)","v":""},{"$f":"IF(Indata!R109=\"\",\"\",Indata!R109)","v":""},{"$f":"IF(Indata!S109=\"\",\"\",Indata!S109)","v":""},{"$f":"IF(Indata!T109=\"\",\"\",Indata!T109)","v":""},{"$f":"IF(Indata!U109=\"\",\"\",Indata!U109)","v":""},{"$f":"IF(Indata!V109=\"\",\"\",Indata!V109)","v":""},{"$f":"IF(Indata!W109=\"\",\"\",Indata!W109)","v":""},{"$f":"IF(Indata!X109=\"\",\"\",Indata!X109)","v":""},{"$f":"IF(Indata!Y109=\"\",\"\",Indata!Y109)","v":""},{"$f":"IF(Indata!Z109=\"\",\"\",Indata!Z109)","v":""},{"$f":"IF(Indata!AA109=\"\",\"\",Indata!AA109)","v":""}]
[85,"22 Ybbarpsån, vid Herrevadskloster","","","","","","","","","","","","","","",{"$f":"IF(Indata!Q110=\"\",\"\",Indata!Q110)","v":""},{"$f":"IF(Indata!R110=\"\",\"\",Indata!R110)","v":""},{"$f":"IF(Indata!S110=\"\",\"\",Indata!S110)","v":""},{"$f":"IF(Indata!T110=\"\",\"\",Indata!T110)","v":""},{"$f":"IF(Indata!U110=\"\",\"\",Indata!U110)","v":""},{"$f":"IF(Indata!V110=\"\",\"\",Indata!V110)","v":""},{"$f":"IF(Indata!W110=\"\",\"\",Indata!W110)","v":""},{"$f":"IF(Indata!X110=\"\",\"\",Indata!X110)","v":""},{"$f":"IF(Indata!Y110=\"\",\"\",Indata!Y110)","v":""},{"$f":"IF(Indata!Z110=\"\",\"\",Indata!Z110)","v":""},{"$f":"IF(Indata!AA110=\"\",\"\",Indata!AA110)","v":""}]
[90,"28 Perstorpsbäcken, uppstr Perstorp","","","","","","","","","","","","","","",{"$f":"IF(Indata!Q111=\"\",\"\",Indata!Q111)","v":""},{"$f":"IF(Indata!R111=\"\",\"\",Indata!R111)","v":""},{"$f":"IF(Indata!S111=\"\",\"\",Indata!S111)","v":""},{"$f":"IF(Indata!T111=\"\",\"\",Indata!T111)","v":""},{"$f":"IF(Indata!U111=\"\",\"\",Indata!U111)","v":""},{"$f":"IF(Indata!V111=\"\",\"\",Indata!V111)","v":""},{"$f":"IF(Indata!W111=\"\",\"\",Indata!W111)","v":""},{"$f":"IF(Indata!X111=\"\",\"\",Indata!X111)","v":""},{"$f":"IF(Indata!Y111=\"\",\"\",Indata!Y111)","v":""},{"$f":"IF(Indata!Z111=\"\",\"\",Indata!Z111)","v":""},{"$f":"IF(Indata!AA111=\"\",\"\",Indata!AA111)","v":""}]
[95,"29 Perstorpsbäcken, nedstr Perstorp","","","","","","","","","","","","","","",{"$f":"IF(Indata!Q112=\"\",\"\",Indata!Q112)","v":""},{"$f":"IF(Indata!R112=\"\",\"\",Indata!R112)","v":""},{"$f":"IF(Indata!S112=\"\",\"\",Indata!S112)","v":""},{"$f":"IF(Indata!T112=\"\",\"\",Indata!T112)","v":""},{"$f":"IF(Indata!U112=\"\",\"\",Indata!U112)","v":""},{"$f":"IF(Indata!V112=\"\",\"\",Indata!V112)","v":""},{"$f":"IF(Indata!W112=\"\",\"\",Indata!W112)","v":""},{"$f":"IF(Indata!X112=\"\",\"\",Indata!X112)","v":""},{"$f":"IF(Indata!Y112=\"\",\"\",Indata!Y112)","v":""},{"$f":"IF(Indata!Z112=\"\",\"\",Indata!Z112)","v":""},{"$f":"IF(Indata!AA112=\"\",\"\",Indata!AA112)","v":""}]
[100,"76 Oderbäcken, uppstr Oderljunga ARV","","","","","","","","","","","","","","",{"$f":"IF(Indata!Q113=\"\",\"\",Indata!Q113)","v":""},{"$f":"IF(Indata!R113=\"\",\"\",Indata!R113)","v":""},{"$f":"IF(Indata!S113=\"\",\"\",Indata!S113)","v":""},{"$f":"IF(Indata!T113=\"\",\"\",Indata!T113)","v":""},{"$f":"IF(Indata!U113=\"\",\"\",Indata!U113)","v":""},{"$f":"IF(Indata!V113=\"\",\"\",Indata!V113)","v":""},{"$f":"IF(Indata!W113=\"\",\"\",Indata!W113)","v":""},{"$f":"IF(Indata!X113=\"\",\"\",Indata!X113)","v":""},{"$f":"IF(Indata!Y113=\"\",\"\",Indata!Y113)","v":""},{"$f":"IF(Indata!Z113=\"\",\"\",Indata!Z113)","v":""},{"$f":"IF(Indata!AA113=\"\",\"\",Indata!AA113)","v":""}]
[105,"30 Bäljaneå, vid Hyllstofta","","","","","","","","","","","","","","",{"$f":"IF(Indata!Q114=\"\",\"\",Indata!Q114)","v":""},{"$f":"IF(Indata!R114=\"\",\"\",Indata!R114)","v":""},{"$f":"IF(Indata!S114=\"\",\"\",Indata!S114)","v":""},{"$f":"IF(Indata!T114=\"\",\"\",Indata!T114)","v":""},{"$f":"IF(Indata!U114=\"\",\"\",Indata!U114)","v":""},{"$f":"IF(Indata!V114=\"\",\"\",Indata!V114)","v":""},{"$f":"IF(Indata!W114=\"\",\"\",Indata!W114)","v":""},{"$f":"IF(Indata!X114=\"\",\"\",Indata!X114)","v":""},{"$f":"IF(Indata!Y114=\"\",\"\",Indata!Y114)","v":""},{"$f":"IF(Indata!Z114=\"\",\"\",Indata!Z114)","v":""},{"$f":"IF(Indata!AA114=\"\",\"\",Indata!AA114)","v":""}]
[110,"32 Bäljaneå, uppstr Klippan","","","","","","","","","","","","","","",{"$f":"IF(Indata!Q115=\"\",\"\",Indata!Q115)","v":""},{"$f":"IF(Indata!R115=\"\",\"\",Indata!R115)","v":""},{"$f":"IF(Indata!S115=\"\",\"\",Indata!S115)","v":""},{"$f":"IF(Indata!T115=\"\",\"\",Indata!T115)","v":""},{"$f":"IF(Indata!U115=\"\",\"\",Indata!U115)","v":""},{"$f":"IF(Indata!V115=\"\",\"\",Indata!V115)","v":""},{"$f":"IF(Indata!W115=\"\",\"\",Indata!W115)","v":""},{"$f":"IF(Indata!X115=\"\",\"\",Indata!X115)","v":""},{"$f":"IF(Indata!Y115=\"\",\"\",Indata!Y115)","v":""},{"$f":"IF(Indata!Z115=\"\",\"\",Indata!Z115)","v":""},{"$f":"IF(Indata!AA115=\"\",\"\",Indata!AA115)","v":""}]
[115,"78 Bäljaneå, nedstr Klippans ARV","","","","","","","","","","","","","","",{"$f":"IF(Indata!Q116=\"\",\"\",Indata!Q116)","v":""},{"$f":"IF(Indata!R116=\"\",\"\",Indata!R116)","v":""},{"$f":"IF(Indata!S116=\"\",\"\",Indata!S116)","v":""},{"$f":"IF(Indata!T116=\"\",\"\",Indata!T116)","v":""},{"$f":"IF(Indata!U116=\"\",\"\",Indata!U116)","v":""},{"$f":"IF(Indata!V116=\"\",\"\",Indata!V116)","v":""},{"$f":"IF(Indata!W116=\"\",\"\",Indata!W116)","v":""},{"$f":"IF(Indata!X116=\"\",\"\",Indata!X116)","v":""},{"$f":"IF(Indata!Y116=\"\",\"\",Indata!Y116)","v":""},{"$f":"IF(Indata!Z116=\"\",\"\",Indata!Z116)","v":""},{"$f":"IF(Indata!AA116=\"\",\"\",Indata!AA116)","v":""}]
[120,"33 Bäljaneå, nedstr Klippan","","","","","","","","","","","","","","",{"$f":"IF(Indata!Q117=\"\",\"\",Indata!Q117)","v":""},{"$f":"IF(Indata!R117=\"\",\"\",Indata!R117)","v":""},{"$f":"IF(Indata!S117=\"\",\"\",Indata!S117)","v":""},{"$f":"IF(Indata!T117=\"\",\"\",Indata!T117)","v":""},{"$f":"IF(Indata!U117=\"\",\"\",Indata!U117)","v":""},{"$f":"IF(Indata!V117=\"\",\"\",Indata!V117)","v":""},{"$f":"IF(Indata!W117=\"\",\"\",Indata!W117)","v":""},{"$f":"IF(Indata!X117=\"\",\"\",Indata!X117)","v":""},{"$f":"IF(Indata!Y117=\"\",\"\",Indata!Y117)","v":""},{"$f":"IF(Indata!Z117=\"\",\"\",Indata!Z117)","v":""},{"$f":"IF(Indata!AA117=\"\",\"\",Indata!AA117)","v":""}]
[125,"77 Biflöde till Rönneå, uppstr Kvidinge ARV","","","","","","","","","","","","","","",{"$f":"IF(Indata!Q118=\"\",\"\",Indata!Q118)","v":""},{"$f":"IF(Indata!R118=\"\",\"\",Indata!R118)","v":""},{"$f":"IF(Indata!S118=\"\",\"\",Indata!S118)","v":""},{"$f":"IF(Indata!T118=\"\",\"\",Indata!T118)","v":""},{"$f":"IF(Indata!U118=\"\",\"\",Indata!U118)","v":""},{"$f":"IF(Indata!V118=\"\",\"\",Indata!V118)","v":""},{"$f":"IF(Indata!W118=\"\",\"\",Indata!W118)","v":""},{"$f":"IF(Indata!X118=\"\",\"\",Indata!X118)","v":""},{"$f":"IF(Indata!Y118=\"\",\"\",Indata!Y118)","v":""},{"$f":"IF(Indata!Z118=\"\",\"\",Indata!Z118)","v":""},{"$f":"IF(Indata!AA118=\"\",\"\",Indata!AA118)","v":""}]
[130,"36 Pinnån, nedstr Åsljungasjön","","","","","","","","","","","","","","",{"$f":"IF(Indata!Q119=\"\",\"\",Indata!Q119)","v":""},{"$f":"IF(Indata!R119=\"\",\"\",Indata!R119)","v":""},{"$f":"IF(Indata!S119=\"\",\"\",Indata!S119)","v":""},{"$f":"IF(Indata!T119=\"\",\"\",Indata!T119)","v":""},{"$f":"IF(Indata!U119=\"\",\"\",Indata!U119)","v":""},{"$f":"IF(Indata!V119=\"\",\"\",Indata!V119)","v":""},{"$f":"IF(Indata!W119=\"\",\"\",Indata!W119)","v":""},{"$f":"IF(Indata!X119=\"\",\"\",Indata!X119)","v":""},{"$f":"IF(Indata!Y119=\"\",\"\",Indata!Y119)","v":""},{"$f":"IF(Indata!Z119=\"\",\"\",Indata!Z119)","v":""},{"$f":"IF(Indata!AA119=\"\",\"\",Indata!AA119)","v":""}]
[135,"40 Pinnån, nedstr Örkelljunga","","","","","","","","","","","","","","",{"$f":"IF(Indata!Q120=\"\",\"\",Indata!Q120)","v":""},{"$f":"IF(Indata!R120=\"\",\"\",Indata!R120)","v":""},{"$f":"IF(Indata!S120=\"\",\"\",Indata!S120)","v":""},{"$f":"IF(Indata!T120=\"\",\"\",Indata!T120)","v":""},{"$f":"IF(Indata!U120=\"\",\"\",Indata!U120)","v":""},{"$f":"IF(Indata!V120=\"\",\"\",Indata!V120)","v":""},{"$f":"IF(Indata!W120=\"\",\"\",Indata!W120)","v":""},{"$f":"IF(Indata!X120=\"\",\"\",Indata!X120)","v":""},{"$f":"IF(Indata!Y120=\"\",\"\",Indata!Y120)","v":""},{"$f":"IF(Indata!Z120=\"\",\"\",Indata!Z120)","v":""},{"$f":"IF(Indata!AA120=\"\",\"\",Indata!AA120)","v":""}]
[140,"42 Pinnån, uppstr Gelita","","","","","","","","","","","","","","",{"$f":"IF(Indata!Q121=\"\",\"\",Indata!Q121)","v":""},{"$f":"IF(Indata!R121=\"\",\"\",Indata!R121)","v":""},{"$f":"IF(Indata!S121=\"\",\"\",Indata!S121)","v":""},{"$f":"IF(Indata!T121=\"\",\"\",Indata!T121)","v":""},{"$f":"IF(Indata!U121=\"\",\"\",Indata!U121)","v":""},{"$f":"IF(Indata!V121=\"\",\"\",Indata!V121)","v":""},{"$f":"IF(Indata!W121=\"\",\"\",Indata!W121)","v":""},{"$f":"IF(Indata!X121=\"\",\"\",Indata!X121)","v":""},{"$f":"IF(Indata!Y121=\"\",\"\",Indata!Y121)","v":""},{"$f":"IF(Indata!Z121=\"\",\"\",Indata!Z121)","v":""},{"$f":"IF(Indata!AA121=\"\",\"\",Indata!AA121)","v":""}]
[145,"44 Pinnån, utfl ur Kopparmölledamm","","","","","","","","","","","","","","",{"$f":"IF(Indata!Q122=\"\",\"\",Indata!Q122)","v":""},{"$f":"IF(Indata!R122=\"\",\"\",Indata!R122)","v":""},{"$f":"IF(Indata!S122=\"\",\"\",Indata!S122)","v":""},{"$f":"IF(Indata!T122=\"\",\"\",Indata!T122)","v":""},{"$f":"IF(Indata!U122=\"\",\"\",Indata!U122)","v":""},{"$f":"IF(Indata!V122=\"\",\"\",Indata!V122)","v":""},{"$f":"IF(Indata!W122=\"\",\"\",Indata!W122)","v":""},{"$f":"IF(Indata!X122=\"\",\"\",Indata!X122)","v":""},{"$f":"IF(Indata!Y122=\"\",\"\",Indata!Y122)","v":""},{"$f":"IF(Indata!Z122=\"\",\"\",Indata!Z122)","v":""},{"$f":"IF(Indata!AA122=\"\",\"\",Indata!AA122)","v":""}]
[150,"58 Pinnån, vid utfl t Rönneå","","","","","","","","","","","","","","",{"$f":"IF(Indata!Q123=\"\",\"\",Indata!Q123)","v":""},{"$f":"IF(Indata!R123=\"\",\"\",Indata!R123)","v":""},{"$f":"IF(Indata!S123=\"\",\"\",Indata!S123)","v":""},{"$f":"IF(Indata!T123=\"\",\"\",Indata!T123)","v":""},{"$f":"IF(Indata!U123=\"\",\"\",Indata!U123)","v":""},{"$f":"IF(Indata!V123=\"\",\"\",Indata!V123)","v":""},{"$f":"IF(Indata!W123=\"\",\"\",Indata!W123)","v":""},{"$f":"IF(Indata!X123=\"\",\"\",Indata!X123)","v":""},{"$f":"IF(Indata!Y123=\"\",\"\",Indata!Y123)","v":""},{"$f":"IF(Indata!Z123=\"\",\"\",Indata!Z123)","v":""},{"$f":"IF(Indata!AA123=\"\",\"\",Indata!AA123)","v":""}]
[155,"70 Kägleån, vid Ängeltofta","","","","","","","","","","","","","","",{"$f":"IF(Indata!Q124=\"\",\"\",Indata!Q124)","v":""},{"$f":"IF(Indata!R124=\"\",\"\",Indata!R124)","v":""},{"$f":"IF(Indata!S124=\"\",\"\",Indata!S124)","v":""},{"$f":"IF(Indata!T124=\"\",\"\",Indata!T124)","v":""},{"$f":"IF(Indata!U124=\"\",\"\",Indata!U124)","v":""},{"$f":"IF(Indata!V124=\"\",\"\",Indata!V124)","v":""},{"$f":"IF(Indata!W124=\"\",\"\",Indata!W124)","v":""},{"$f":"IF(Indata!X124=\"\",\"\",Indata!X124)","v":""},{"$f":"IF(Indata!Y124=\"\",\"\",Indata!Y124)","v":""},{"$f":"IF(Indata!Z124=\"\",\"\",Indata!Z124)","v":""},{"$f":"IF(Indata!AA124=\"\",\"\",Indata!AA124)","v":""}]
[160,"55 Kägleån, vägbro Åkersholm","","","","","","","","","","","","","","",{"$f":"IF(Indata!Q125=\"\",\"\",Indata!Q125)","v":""},{"$f":"IF(Indata!R125=\"\",\"\",Indata!R125)","v":""},{"$f":"IF(Indata!S125=\"\",\"\",Indata!S125)","v":""},{"$f":"IF(Indata!T125=\"\",\"\",Indata!T125)","v":""},{"$f":"IF(Indata!U125=\"\",\"\",Indata!U125)","v":""},{"$f":"IF(Indata!V125=\"\",\"\",Indata!V125)","v":""},{"$f":"IF(Indata!W125=\"\",\"\",Indata!W125)","v":""},{"$f":"IF(Indata!X125=\"\",\"\",Indata!X125)","v":""},{"$f":"IF(Indata!Y125=\"\",\"\",Indata!Y125)","v":""},{"$f":"IF(Indata!Z125=\"\",\"\",Indata!Z125)","v":""},{"$f":"IF(Indata!AA125=\"\",\"\",Indata!AA125)","v":""}]
[165,"56 Rössjöholmsån, f utfl t Rönneå","","","","","","","","","","","","","","",{"$f":"IF(Indata!Q126=\"\",\"\",Indata!Q126)","v":""},{"$f":"IF(Indata!R126=\"\",\"\",Indata!R126)","v":""},{"$f":"IF(Indata!S126=\"\",\"\",Indata!S126)","v":""},{"$f":"IF(Indata!T126=\"\",\"\",Indata!T126)","v":""},{"$f":"IF(Indata!U126=\"\",\"\",Indata!U126)","v":""},{"$f":"IF(Indata!V126=\"\",\"\",Indata!V126)","v":""},{"$f":"IF(Indata!W126=\"\",\"\",Indata!W126)","v":""},{"$f":"IF(Indata!X126=\"\",\"\",Indata!X126)","v":""},{"$f":"IF(Indata!Y126=\"\",\"\",Indata!Y126)","v":""},{"$f":"IF(Indata!Z126=\"\",\"\",Indata!Z126)","v":""},{"$f":"IF(Indata!AA126=\"\",\"\",Indata!AA126)","v":""}]
[220,"Ri5 Sätoftasjön, ytan","","","","","","","","","","","","","","",{"$f":"IF(Indata!Q127=\"\",\"\",Indata!Q127)","v":""},{"$f":"IF(Indata!R127=\"\",\"\",Indata!R127)","v":""},{"$f":"IF(Indata!S127=\"\",\"\",Indata!S127)","v":""},{"$f":"IF(Indata!T127=\"\",\"\",Indata!T127)","v":""},{"$f":"IF(Indata!U127=\"\",\"\",Indata!U127)","v":""},{"$f":"IF(Indata!V127=\"\",\"\",Indata!V127)","v":""},{"$f":"IF(Indata!W127=\"\",\"\",Indata!W127)","v":""},{"$f":"IF(Indata!X127=\"\",\"\",Indata!X127)","v":""},{"$f":"IF(Indata!Y127=\"\",\"\",Indata!Y127)","v":""},{"$f":"IF(Indata!Z127=\"\",\"\",Indata!Z127)","v":""},{"$f":"IF(Indata!AA127=\"\",\"\",Indata!AA127)","v":""}]
[230,"Ri4 Östra Ringsjön, ytan","","","","","","","","","","","","","","",{"$f":"IF(Indata!Q128=\"\",\"\",Indata!Q128)","v":""},{"$f":"IF(Indata!R128=\"\",\"\",Indata!R128)","v":""},{"$f":"IF(Indata!S128=\"\",\"\",Indata!S128)","v":""},{"$f":"IF(Indata!T128=\"\",\"\",Indata!T128)","v":""},{"$f":"IF(Indata!U128=\"\",\"\",Indata!U128)","v":""},{"$f":"IF(Indata!V128=\"\",\"\",Indata!V128)","v":""},{"$f":"IF(Indata!W128=\"\",\"\",Indata!W128)","v":""},{"$f":"IF(Indata!X128=\"\",\"\",Indata!X128)","v":""},{"$f":"IF(Indata!Y128=\"\",\"\",Indata!Y128)","v":""},{"$f":"IF(Indata!Z128=\"\",\"\",Indata!Z128)","v":""},{"$f":"IF(Indata!AA128=\"\",\"\",Indata!AA128)","v":""}]
[240,"Ri2 Västra Ringsjön, ytan","","","","","","","","","","","","","","",{"$f":"IF(Indata!Q129=\"\",\"\",Indata!Q129)","v":""},{"$f":"IF(Indata!R129=\"\",\"\",Indata!R129)","v":""},{"$f":"IF(Indata!S129=\"\",\"\",Indata!S129)","v":""},{"$f":"IF(Indata!T129=\"\",\"\",Indata!T129)","v":""},{"$f":"IF(Indata!U129=\"\",\"\",Indata!U129)","v":""},{"$f":"IF(Indata!V129=\"\",\"\",Indata!V129)","v":""},{"$f":"IF(Indata!W129=\"\",\"\",Indata!W129)","v":""},{"$f":"IF(Indata!X129=\"\",\"\",Indata!X129)","v":""},{"$f":"IF(Indata!Y129=\"\",\"\",Indata!Y129)","v":""},{"$f":"IF(Indata!Z129=\"\",\"\",Indata!Z129)","v":""},{"$f":"IF(Indata!AA129=\"\",\"\",Indata!AA129)","v":""}]
[300]
[250,"maj"]
[3,"3  Rönneå, uppstr Bålamöllan","","","","","","","","","","","","","","",{"$f":"IF(Indata!Q132=\"\",\"\",Indata!Q132)","v":""},{"$f":"IF(Indata!R132=\"\",\"\",Indata!R132)","v":""},{"$f":"IF(Indata!S132=\"\",\"\",Indata!S132)","v":""},{"$f":"IF(Indata!T132=\"\",\"\",Indata!T132)","v":""},{"$f":"IF(Indata!U132=\"\",\"\",Indata!U132)","v":""},{"$f":"IF(Indata!V132=\"\",\"\",Indata!V132)","v":""},{"$f":"IF(Indata!W132=\"\",\"\",Indata!W132)","v":""},{"$f":"IF(Indata!X132=\"\",\"\",Indata!X132)","v":""},{"$f":"IF(Indata!Y132=\"\",\"\",Indata!Y132)","v":""},{"$f":"IF(Indata!Z132=\"\",\"\",Indata!Z132)","v":""},{"$f":"IF(Indata!AA132=\"\",\"\",Indata!AA132)","v":""}]
[10,"11 Rönneå, vid Djupadalsmölla","","","","","","","","","","","","","","",{"$f":"IF(Indata!Q133=\"\",\"\",Indata!Q133)","v":""},{"$f":"IF(Indata!R133=\"\",\"\",Indata!R133)","v":""},{"$f":"IF(Indata!S133=\"\",\"\",Indata!S133)","v":""},{"$f":"IF(Indata!T133=\"\",\"\",Indata!T133)","v":""},{"$f":"IF(Indata!U133=\"\",\"\",Indata!U133)","v":""},{"$f":"IF(Indata!V133=\"\",\"\",Indata!V133)","v":""},{"$f":"IF(Indata!W133=\"\",\"\",Indata!W133)","v":""},{"$f":"IF(Indata!X133=\"\",\"\",Indata!X133)","v":""},{"$f":"IF(Indata!Y133=\"\",\"\",Indata!Y133)","v":""},{"$f":"IF(Indata!Z133=\"\",\"\",Indata!Z133)","v":""},{"$f":"IF(Indata!AA133=\"\",\"\",Indata!AA133)","v":""}]
[25,"24 Rönneå, vid Forsmöllan","","","","","","","","","","","","","","",{"$f":"IF(Indata!Q134=\"\",\"\",Indata!Q134)","v":""},{"$f":"IF(Indata!R134=\"\",\"\",Indata!R134)","v":""},{"$f":"IF(Indata!S134=\"\",\"\",Indata!S134)","v":""},{"$f":"IF(Indata!T134=\"\",\"\",Indata!T134)","v":""},{"$f":"IF(Indata!U134=\"\",\"\",Indata!U134)","v":""},{"$f":"IF(Indata!V134=\"\",\"\",Indata!V134)","v":""},{"$f":"IF(Indata!W134=\"\",\"\",Indata!W134)","v":""},{"$f":"IF(Indata!X134=\"\",\"\",Indata!X134)","v":""},{"$f":"IF(Indata!Y134=\"\",\"\",Indata!Y134)","v":""},{"$f":"IF(Indata!Z134=\"\",\"\",Indata!Z134)","v":""},{"$f":"IF(Indata!AA134=\"\",\"\",Indata!AA134)","v":""}]
[30,"25 Rönneå, vid Stackarps bro","","","","","","","","","","","","","","",{"$f":"IF(Indata!Q135=\"\",\"\",Indata!Q135)","v":""},{"$f":"IF(Indata!R135=\"\",\"\",Indata!R135)","v":""},{"$f":"IF(Indata!S135=\"\",\"\",Indata!S135)","v":""},{"$f":"IF(Indata!T135=\"\",\"\",Indata!T135)","v":""},{"$f":"IF(Indata!U135=\"\",\"\",Indata!U135)","v":""},{"$f":"IF(Indata!V135=\"\",\"\",Indata!V135)","v":""},{"$f":"IF(Indata!W135=\"\",\"\",Indata!W135)","v":""},{"$f":"IF(Indata!X135=\"\",\"\",Indata!X135)","v":""},{"$f":"IF(Indata!Y135=\"\",\"\",Indata!Y135)","v":""},{"$f":"IF(Indata!Z135=\"\",\"\",Indata!Z135)","v":""},{"$f":"IF(Indata!AA135=\"\",\"\",Indata!AA135)","v":""}]
[40,"49 Rönneå, uppstr Ängelholm","","","","","","","","","","","","","","",{"$f":"IF(Indata!Q136=\"\",\"\",Indata!Q136)","v":""},{"$f":"IF(Indata!R136=\"\",\"\",Indata!R136)","v":""},{"$f":"IF(Indata!S136=\"\",\"\",Indata!S136)","v":""},{"$f":"IF(Indata!T136=\"\",\"\",Indata!T136)","v":""},{"$f":"IF(Indata!U136=\"\",\"\",Indata!U136)","v":""},{"$f":"IF(Indata!V136=\"\",\"\",Indata!V136)","v":""},{"$f":"IF(Indata!W136=\"\",\"\",Indata!W136)","v":""},{"$f":"IF(Indata!X136=\"\",\"\",Indata!X136)","v":""},{"$f":"IF(Indata!Y136=\"\",\"\",Indata!Y136)","v":""},{"$f":"IF(Indata!Z136=\"\",\"\",Indata!Z136)","v":""},{"$f":"IF(Indata!AA136=\"\",\"\",Indata!AA136)","v":""}]
[45,"57 Rönneå, vid utfl t Skälderviken","","","","","","","","","","","","","","",{"$f":"IF(Indata!Q137=\"\",\"\",Indata!Q137)","v":""},{"$f":"IF(Indata!R137=\"\",\"\",Indata!R137)","v":""},{"$f":"IF(Indata!S137=\"\",\"\",Indata!S137)","v":""},{"$f":"IF(Indata!T137=\"\",\"\",Indata!T137)","v":""},{"$f":"IF(Indata!U137=\"\",\"\",Indata!U137)","v":""},{"$f":"IF(Indata!V137=\"\",\"\",Indata!V137)","v":""},{"$f":"IF(Indata!W137=\"\",\"\",Indata!W137)","v":""},{"$f":"IF(Indata!X137=\"\",\"\",Indata!X137)","v":""},{"$f":"IF(Indata!Y137=\"\",\"\",Indata!Y137)","v":""},{"$f":"IF(Indata!Z137=\"\",\"\",Indata!Z137)","v":""},{"$f":"IF(Indata!AA137=\"\",\"\",Indata!AA137)","v":""}]
[75,"16 Ybbarpsån, nedstr Perstorp AB","","","","","","","","","","","","","","",{"$f":"IF(Indata!Q138=\"\",\"\",Indata!Q138)","v":""},{"$f":"IF(Indata!R138=\"\",\"\",Indata!R138)","v":""},{"$f":"IF(Indata!S138=\"\",\"\",Indata!S138)","v":""},{"$f":"IF(Indata!T138=\"\",\"\",Indata!T138)","v":""},{"$f":"IF(Indata!U138=\"\",\"\",Indata!U138)","v":""},{"$f":"IF(Indata!V138=\"\",\"\",Indata!V138)","v":""},{"$f":"IF(Indata!W138=\"\",\"\",Indata!W138)","v":""},{"$f":"IF(Indata!X138=\"\",\"\",Indata!X138)","v":""},{"$f":"IF(Indata!Y138=\"\",\"\",Indata!Y138)","v":""},{"$f":"IF(Indata!Z138=\"\",\"\",Indata!Z138)","v":""},{"$f":"IF(Indata!AA138=\"\",\"\",Indata!AA138)","v":""}]
[85,"22 Ybbarpsån, vid Herrevadskloster","","","","","","","","","","","","","","",{"$f":"IF(Indata!Q139=\"\",\"\",Indata!Q139)","v":""},{"$f":"IF(Indata!R139=\"\",\"\",Indata!R139)","v":""},{"$f":"IF(Indata!S139=\"\",\"\",Indata!S139)","v":""},{"$f":"IF(Indata!T139=\"\",\"\",Indata!T139)","v":""},{"$f":"IF(Indata!U139=\"\",\"\",Indata!U139)","v":""},{"$f":"IF(Indata!V139=\"\",\"\",Indata!V139)","v":""},{"$f":"IF(Indata!W139=\"\",\"\",Indata!W139)","v":""},{"$f":"IF(Indata!X139=\"\",\"\",Indata!X139)","v":""},{"$f":"IF(Indata!Y139=\"\",\"\",Indata!Y139)","v":""},{"$f":"IF(Indata!Z139=\"\",\"\",Indata!Z139)","v":""},{"$f":"IF(Indata!AA139=\"\",\"\",Indata!AA139)","v":""}]
[120,"33 Bäljaneå, nedstr Klippan","","","","","","","","","","","","","","",{"$f":"IF(Indata!Q140=\"\",\"\",Indata!Q140)","v":""},{"$f":"IF(Indata!R140=\"\",\"\",Indata!R140)","v":""},{"$f":"IF(Indata!S140=\"\",\"\",Indata!S140)","v":""},{"$f":"IF(Indata!T140=\"\",\"\",Indata!T140)","v":""},{"$f":"IF(Indata!U140=\"\",\"\",Indata!U140)","v":""},{"$f":"IF(Indata!V140=\"\",\"\",Indata!V140)","v":""},{"$f":"IF(Indata!W140=\"\",\"\",Indata!W140)","v":""},{"$f":"IF(Indata!X140=\"\",\"\",Indata!X140)","v":""},{"$f":"IF(Indata!Y140=\"\",\"\",Indata!Y140)","v":""},{"$f":"IF(Indata!Z140=\"\",\"\",Indata!Z140)","v":""},{"$f":"IF(Indata!AA140=\"\",\"\",Indata!AA140)","v":""}]
[145,"44 Pinnån, utfl ur Kopparmölledamm","","","","","","","","","","","","","","",{"$f":"IF(Indata!Q141=\"\",\"\",Indata!Q141)","v":""},{"$f":"IF(Indata!R141=\"\",\"\",Indata!R141)","v":""},{"$f":"IF(Indata!S141=\"\",\"\",Indata!S141)","v":""},{"$f":"IF(Indata!T141=\"\",\"\",Indata!T141)","v":""},{"$f":"IF(Indata!U141=\"\",\"\",Indata!U141)","v":""},{"$f":"IF(Indata!V141=\"\",\"\",Indata!V141)","v":""},{"$f":"IF(Indata!W141=\"\",\"\",Indata!W141)","v":""},{"$f":"IF(Indata!X141=\"\",\"\",Indata!X141)","v":""},{"$f":"IF(Indata!Y141=\"\",\"\",Indata!Y141)","v":""},{"$f":"IF(Indata!Z141=\"\",\"\",Indata!Z141)","v":""},{"$f":"IF(Indata!AA141=\"\",\"\",Indata!AA141)","v":""}]
[150,"58 Pinnån, vid utfl t Rönneå","","","","","","","","","","","","","","",{"$f":"IF(Indata!Q142=\"\",\"\",Indata!Q142)","v":""},{"$f":"IF(Indata!R142=\"\",\"\",Indata!R142)","v":""},{"$f":"IF(Indata!S142=\"\",\"\",Indata!S142)","v":""},{"$f":"IF(Indata!T142=\"\",\"\",Indata!T142)","v":""},{"$f":"IF(Indata!U142=\"\",\"\",Indata!U142)","v":""},{"$f":"IF(Indata!V142=\"\",\"\",Indata!V142)","v":""},{"$f":"IF(Indata!W142=\"\",\"\",Indata!W142)","v":""},{"$f":"IF(Indata!X142=\"\",\"\",Indata!X142)","v":""},{"$f":"IF(Indata!Y142=\"\",\"\",Indata!Y142)","v":""},{"$f":"IF(Indata!Z142=\"\",\"\",Indata!Z142)","v":""},{"$f":"IF(Indata!AA142=\"\",\"\",Indata!AA142)","v":""}]
[165,"56 Rössjöholmsån, f utfl t Rönneå","","","","","","","","","","","","","","",{"$f":"IF(Indata!Q143=\"\",\"\",Indata!Q143)","v":""},{"$f":"IF(Indata!R143=\"\",\"\",Indata!R143)","v":""},{"$f":"IF(Indata!S143=\"\",\"\",Indata!S143)","v":""},{"$f":"IF(Indata!T143=\"\",\"\",Indata!T143)","v":""},{"$f":"IF(Indata!U143=\"\",\"\",Indata!U143)","v":""},{"$f":"IF(Indata!V143=\"\",\"\",Indata!V143)","v":""},{"$f":"IF(Indata!W143=\"\",\"\",Indata!W143)","v":""},{"$f":"IF(Indata!X143=\"\",\"\",Indata!X143)","v":""},{"$f":"IF(Indata!Y143=\"\",\"\",Indata!Y143)","v":""},{"$f":"IF(Indata!Z143=\"\",\"\",Indata!Z143)","v":""},{"$f":"IF(Indata!AA143=\"\",\"\",Indata!AA143)","v":""}]
[220,"Ri5 Sätoftasjön, ytan","","","","","","","","","","","","","","",{"$f":"IF(Indata!Q144=\"\",\"\",Indata!Q144)","v":""},{"$f":"IF(Indata!R144=\"\",\"\",Indata!R144)","v":""},{"$f":"IF(Indata!S144=\"\",\"\",Indata!S144)","v":""},{"$f":"IF(Indata!T144=\"\",\"\",Indata!T144)","v":""},{"$f":"IF(Indata!U144=\"\",\"\",Indata!U144)","v":""},{"$f":"IF(Indata!V144=\"\",\"\",Indata!V144)","v":""},{"$f":"IF(Indata!W144=\"\",\"\",Indata!W144)","v":""},{"$f":"IF(Indata!X144=\"\",\"\",Indata!X144)","v":""},{"$f":"IF(Indata!Y144=\"\",\"\",Indata!Y144)","v":""},{"$f":"IF(Indata!Z144=\"\",\"\",Indata!Z144)","v":""},{"$f":"IF(Indata!AA144=\"\",\"\",Indata!AA144)","v":""}]
[230,"Ri4 Östra Ringsjön, ytan",{"$f":"IF(Indata!C145=\"\",\"\",Indata!C145)","v":""},{"$f":"IF(Indata!D145=\"\",\"\",Indata!D145)","v":""},{"$f":"IF(Indata!E145=\"\",\"\",Indata!E145)","v":""},{"$f":"IF(Indata!F145=\"\",\"\",Indata!F145)","v":""},{"$f":"IF(Indata!G145=\"\",\"\",Indata!G145)","v":""},{"$f":"IF(Indata!H145=\"\",\"\",Indata!H145)","v":""},{"$f":"IF(Indata!I145=\"\",\"\",Indata!I145)","v":""},{"$f":"IF(Indata!J145=\"\",\"\",Indata!J145)","v":""},{"$f":"IF(Indata!K145=\"\",\"\",Indata!K145)","v":""},{"$f":"IF(Indata!L145=\"\",\"\",Indata!L145)","v":""},{"$f":"IF(Indata!M145=\"\",\"\",Indata!M145)","v":""},{"$f":"IF(Indata!N145=\"\",\"\",Indata!N145)","v":""},{"$f":"IF(Indata!O145=\"\",\"\",Indata!O145)","v":""},{"$f":"IF(Indata!P145=\"\",\"\",Indata!P145)","v":""},{"$f":"IF(Indata!Q145=\"\",\"\",Indata!Q145)","v":""},{"$f":"IF(Indata!R145=\"\",\"\",Indata!R145)","v":""},{"$f":"IF(Indata!S145=\"\",\"\",Indata!S145)","v":""},{"$f":"IF(Indata!T145=\"\",\"\",Indata!T145)","v":""},{"$f":"IF(Indata!U145=\"\",\"\",Indata!U145)","v":""},{"$f":"IF(Indata!V145=\"\",\"\",Indata!V145)","v":""},{"$f":"IF(Indata!W145=\"\",\"\",Indata!W145)","v":""},{"$f":"IF(Indata!X145=\"\",\"\",Indata!X145)","v":""},{"$f":"IF(Indata!Y145=\"\",\"\",Indata!Y145)","v":""},{"$f":"IF(Indata!Z145=\"\",\"\",Indata!Z145)","v":""},{"$f":"IF(Indata!AA145=\"\",\"\",Indata!AA145)","v":""}]
[240,"Ri2 Västra Ringsjön, ytan",{"$f":"IF(Indata!C146=\"\",\"\",Indata!C146)","v":""},{"$f":"IF(Indata!D146=\"\",\"\",Indata!D146)","v":""},{"$f":"IF(Indata!E146=\"\",\"\",Indata!E146)","v":""},{"$f":"IF(Indata!F146=\"\",\"\",Indata!F146)","v":""},{"$f":"IF(Indata!G146=\"\",\"\",Indata!G146)","v":""},{"$f":"IF(Indata!H146=\"\",\"\",Indata!H146)","v":""},{"$f":"IF(Indata!I146=\"\",\"\",Indata!I146)","v":""},{"$f":"IF(Indata!J146=\"\",\"\",Indata!J146)","v":""},{"$f":"IF(Indata!K146=\"\",\"\",Indata!K146)","v":""},{"$f":"IF(Indata!L146=\"\",\"\",Indata!L146)","v":""},{"$f":"IF(Indata!M146=\"\",\"\",Indata!M146)","v":""},{"$f":"IF(Indata!N146=\"\",\"\",Indata!N146)","v":""},{"$f":"IF(Indata!O146=\"\",\"\",Indata!O146)","v":""},{"$f":"IF(Indata!P146=\"\",\"\",Indata!P146)","v":""},{"$f":"IF(Indata!Q146=\"\",\"\",Indata!Q146)","v":""},{"$f":"IF(Indata!R146=\"\",\"\",Indata!R146)","v":""},{"$f":"IF(Indata!S146=\"\",\"\",Indata!S146)","v":""},{"$f":"IF(Indata!T146=\"\",\"\",Indata!T146)","v":""},{"$f":"IF(Indata!U146=\"\",\"\",Indata!U146)","v":""},{"$f":"IF(Indata!V146=\"\",\"\",Indata!V146)","v":""},{"$f":"IF(Indata!W146=\"\",\"\",Indata!W146)","v":""},{"$f":"IF(Indata!X146=\"\",\"\",Indata!X146)","v":""},{"$f":"IF(Indata!Y146=\"\",\"\",Indata!Y146)","v":""},{"$f":"IF(Indata!Z146=\"\",\"\",Indata!Z146)","v":""},{"$f":"IF(Indata!AA146=\"\",\"\",Indata!AA146)","v":""}]
[300]
[250,"juni"]
[3,"3  Rönneå, uppstr Bålamöllan",{"$f":"IF(Indata!C149=\"\",\"\",Indata!C149)","v":""},{"$f":"IF(Indata!D149=\"\",\"\",Indata!D149)","v":""},{"$f":"IF(Indata!E149=\"\",\"\",Indata!E149)","v":""},{"$f":"IF(Indata!F149=\"\",\"\",Indata!F149)","v":""},{"$f":"IF(Indata!G149=\"\",\"\",Indata!G149)","v":""},{"$f":"IF(Indata!H149=\"\",\"\",Indata!H149)","v":""},{"$f":"IF(Indata!I149=\"\",\"\",Indata!I149)","v":""},{"$f":"IF(Indata!J149=\"\",\"\",Indata!J149)","v":""},{"$f":"IF(Indata!K149=\"\",\"\",Indata!K149)","v":""},{"$f":"IF(Indata!L149=\"\",\"\",Indata!L149)","v":""},{"$f":"IF(Indata!M149=\"\",\"\",Indata!M149)","v":""},{"$f":"IF(Indata!N149=\"\",\"\",Indata!N149)","v":""},{"$f":"IF(Indata!O149=\"\",\"\",Indata!O149)","v":""},{"$f":"IF(Indata!P149=\"\",\"\",Indata!P149)","v":""},{"$f":"IF(Indata!Q149=\"\",\"\",Indata!Q149)","v":""},{"$f":"IF(Indata!R149=\"\",\"\",Indata!R149)","v":""},{"$f":"IF(Indata!S149=\"\",\"\",Indata!S149)","v":""},{"$f":"IF(Indata!T149=\"\",\"\",Indata!T149)","v":""},{"$f":"IF(Indata!U149=\"\",\"\",Indata!U149)","v":""},{"$f":"IF(Indata!V149=\"\",\"\",Indata!V149)","v":""},{"$f":"IF(Indata!W149=\"\",\"\",Indata!W149)","v":""},{"$f":"IF(Indata!X149=\"\",\"\",Indata!X149)","v":""},{"$f":"IF(Indata!Y149=\"\",\"\",Indata!Y149)","v":""},{"$f":"IF(Indata!Z149=\"\",\"\",Indata!Z149)","v":""},{"$f":"IF(Indata!AA149=\"\",\"\",Indata!AA149)","v":""}]
[10,"11 Rönneå, vid Djupadalsmölla",{"$f":"IF(Indata!C150=\"\",\"\",Indata!C150)","v":""},{"$f":"IF(Indata!D150=\"\",\"\",Indata!D150)","v":""},{"$f":"IF(Indata!E150=\"\",\"\",Indata!E150)","v":""},{"$f":"IF(Indata!F150=\"\",\"\",Indata!F150)","v":""},{"$f":"IF(Indata!G150=\"\",\"\",Indata!G150)","v":""},{"$f":"IF(Indata!H150=\"\",\"\",Indata!H150)","v":""},{"$f":"IF(Indata!I150=\"\",\"\",Indata!I150)","v":""},{"$f":"IF(Indata!J150=\"\",\"\",Indata!J150)","v":""},{"$f":"IF(Indata!K150=\"\",\"\",Indata!K150)","v":""},{"$f":"IF(Indata!L150=\"\",\"\",Indata!L150)","v":""},{"$f":"IF(Indata!M150=\"\",\"\",Indata!M150)","v":""},{"$f":"IF(Indata!N150=\"\",\"\",Indata!N150)","v":""},{"$f":"IF(Indata!O150=\"\",\"\",Indata!O150)","v":""},{"$f":"IF(Indata!P150=\"\",\"\",Indata!P150)","v":""},{"$f":"IF(Indata!Q150=\"\",\"\",Indata!Q150)","v":""},{"$f":"IF(Indata!R150=\"\",\"\",Indata!R150)","v":""},{"$f":"IF(Indata!S150=\"\",\"\",Indata!S150)","v":""},{"$f":"IF(Indata!T150=\"\",\"\",Indata!T150)","v":""},{"$f":"IF(Indata!U150=\"\",\"\",Indata!U150)","v":""},{"$f":"IF(Indata!V150=\"\",\"\",Indata!V150)","v":""},{"$f":"IF(Indata!W150=\"\",\"\",Indata!W150)","v":""},{"$f":"IF(Indata!X150=\"\",\"\",Indata!X150)","v":""},{"$f":"IF(Indata!Y150=\"\",\"\",Indata!Y150)","v":""},{"$f":"IF(Indata!Z150=\"\",\"\",Indata!Z150)","v":""},{"$f":"IF(Indata!AA150=\"\",\"\",Indata!AA150)","v":""}]
[25,"24 Rönneå, vid Forsmöllan",{"$f":"IF(Indata!C151=\"\",\"\",Indata!C151)","v":""},{"$f":"IF(Indata!D151=\"\",\"\",Indata!D151)","v":""},{"$f":"IF(Indata!E151=\"\",\"\",Indata!E151)","v":""},{"$f":"IF(Indata!F151=\"\",\"\",Indata!F151)","v":""},{"$f":"IF(Indata!G151=\"\",\"\",Indata!G151)","v":""},{"$f":"IF(Indata!H151=\"\",\"\",Indata!H151)","v":""},{"$f":"IF(Indata!I151=\"\",\"\",Indata!I151)","v":""},{"$f":"IF(Indata!J151=\"\",\"\",Indata!J151)","v":""},{"$f":"IF(Indata!K151=\"\",\"\",Indata!K151)","v":""},{"$f":"IF(Indata!L151=\"\",\"\",Indata!L151)","v":""},{"$f":"IF(Indata!M151=\"\",\"\",Indata!M151)","v":""},{"$f":"IF(Indata!N151=\"\",\"\",Indata!N151)","v":""},{"$f":"IF(Indata!O151=\"\",\"\",Indata!O151)","v":""},{"$f":"IF(Indata!P151=\"\",\"\",Indata!P151)","v":""},{"$f":"IF(Indata!Q151=\"\",\"\",Indata!Q151)","v":""},{"$f":"IF(Indata!R151=\"\",\"\",Indata!R151)","v":""},{"$f":"IF(Indata!S151=\"\",\"\",Indata!S151)","v":""},{"$f":"IF(Indata!T151=\"\",\"\",Indata!T151)","v":""},{"$f":"IF(Indata!U151=\"\",\"\",Indata!U151)","v":""},{"$f":"IF(Indata!V151=\"\",\"\",Indata!V151)","v":""},{"$f":"IF(Indata!W151=\"\",\"\",Indata!W151)","v":""},{"$f":"IF(Indata!X151=\"\",\"\",Indata!X151)","v":""},{"$f":"IF(Indata!Y151=\"\",\"\",Indata!Y151)","v":""},{"$f":"IF(Indata!Z151=\"\",\"\",Indata!Z151)","v":""},{"$f":"IF(Indata!AA151=\"\",\"\",Indata!AA151)","v":""}]
[30,"25 Rönneå, vid Stackarps bro",{"$f":"IF(Indata!C152=\"\",\"\",Indata!C152)","v":""},{"$f":"IF(Indata!D152=\"\",\"\",Indata!D152)","v":""},{"$f":"IF(Indata!E152=\"\",\"\",Indata!E152)","v":""},{"$f":"IF(Indata!F152=\"\",\"\",Indata!F152)","v":""},{"$f":"IF(Indata!G152=\"\",\"\",Indata!G152)","v":""},{"$f":"IF(Indata!H152=\"\",\"\",Indata!H152)","v":""},{"$f":"IF(Indata!I152=\"\",\"\",Indata!I152)","v":""},{"$f":"IF(Indata!J152=\"\",\"\",Indata!J152)","v":""},{"$f":"IF(Indata!K152=\"\",\"\",Indata!K152)","v":""},{"$f":"IF(Indata!L152=\"\",\"\",Indata!L152)","v":""},{"$f":"IF(Indata!M152=\"\",\"\",Indata!M152)","v":""},{"$f":"IF(Indata!N152=\"\",\"\",Indata!N152)","v":""},{"$f":"IF(Indata!O152=\"\",\"\",Indata!O152)","v":""},{"$f":"IF(Indata!P152=\"\",\"\",Indata!P152)","v":""},{"$f":"IF(Indata!Q152=\"\",\"\",Indata!Q152)","v":""},{"$f":"IF(Indata!R152=\"\",\"\",Indata!R152)","v":""},{"$f":"IF(Indata!S152=\"\",\"\",Indata!S152)","v":""},{"$f":"IF(Indata!T152=\"\",\"\",Indata!T152)","v":""},{"$f":"IF(Indata!U152=\"\",\"\",Indata!U152)","v":""},{"$f":"IF(Indata!V152=\"\",\"\",Indata!V152)","v":""},{"$f":"IF(Indata!W152=\"\",\"\",Indata!W152)","v":""},{"$f":"IF(Indata!X152=\"\",\"\",Indata!X152)","v":""},{"$f":"IF(Indata!Y152=\"\",\"\",Indata!Y152)","v":""},{"$f":"IF(Indata!Z152=\"\",\"\",Indata!Z152)","v":""},{"$f":"IF(Indata!AA152=\"\",\"\",Indata!AA152)","v":""}]
[40,"49 Rönneå, uppstr Ängelholm",{"$f":"IF(Indata!C153=\"\",\"\",Indata!C153)","v":""},{"$f":"IF(Indata!D153=\"\",\"\",Indata!D153)","v":""},{"$f":"IF(Indata!E153=\"\",\"\",Indata!E153)","v":""},{"$f":"IF(Indata!F153=\"\",\"\",Indata!F153)","v":""},{"$f":"IF(Indata!G153=\"\",\"\",Indata!G153)","v":""},{"$f":"IF(Indata!H153=\"\",\"\",Indata!H153)","v":""},{"$f":"IF(Indata!I153=\"\",\"\",Indata!I153)","v":""},{"$f":"IF(Indata!J153=\"\",\"\",Indata!J153)","v":""},{"$f":"IF(Indata!K153=\"\",\"\",Indata!K153)","v":""},{"$f":"IF(Indata!L153=\"\",\"\",Indata!L153)","v":""},{"$f":"IF(Indata!M153=\"\",\"\",Indata!M153)","v":""},{"$f":"IF(Indata!N153=\"\",\"\",Indata!N153)","v":""},{"$f":"IF(Indata!O153=\"\",\"\",Indata!O153)","v":""},{"$f":"IF(Indata!P153=\"\",\"\",Indata!P153)","v":""},{"$f":"IF(Indata!Q153=\"\",\"\",Indata!Q153)","v":""},{"$f":"IF(Indata!R153=\"\",\"\",Indata!R153)","v":""},{"$f":"IF(Indata!S153=\"\",\"\",Indata!S153)","v":""},{"$f":"IF(Indata!T153=\"\",\"\",Indata!T153)","v":""},{"$f":"IF(Indata!U153=\"\",\"\",Indata!U153)","v":""},{"$f":"IF(Indata!V153=\"\",\"\",Indata!V153)","v":""},{"$f":"IF(Indata!W153=\"\",\"\",Indata!W153)","v":""},{"$f":"IF(Indata!X153=\"\",\"\",Indata!X153)","v":""},{"$f":"IF(Indata!Y153=\"\",\"\",Indata!Y153)","v":""},{"$f":"IF(Indata!Z153=\"\",\"\",Indata!Z153)","v":""},{"$f":"IF(Indata!AA153=\"\",\"\",Indata!AA153)","v":""}]
[45,"57 Rönneå, vid utfl t Skälderviken",{"$f":"IF(Indata!C154=\"\",\"\",Indata!C154)","v":""},{"$f":"IF(Indata!D154=\"\",\"\",Indata!D154)","v":""},{"$f":"IF(Indata!E154=\"\",\"\",Indata!E154)","v":""},{"$f":"IF(Indata!F154=\"\",\"\",Indata!F154)","v":""},{"$f":"IF(Indata!G154=\"\",\"\",Indata!G154)","v":""},{"$f":"IF(Indata!H154=\"\",\"\",Indata!H154)","v":""},{"$f":"IF(Indata!I154=\"\",\"\",Indata!I154)","v":""},{"$f":"IF(Indata!J154=\"\",\"\",Indata!J154)","v":""},{"$f":"IF(Indata!K154=\"\",\"\",Indata!K154)","v":""},{"$f":"IF(Indata!L154=\"\",\"\",Indata!L154)","v":""},{"$f":"IF(Indata!M154=\"\",\"\",Indata!M154)","v":""},{"$f":"IF(Indata!N154=\"\",\"\",Indata!N154)","v":""},{"$f":"IF(Indata!O154=\"\",\"\",Indata!O154)","v":""},{"$f":"IF(Indata!P154=\"\",\"\",Indata!P154)","v":""},{"$f":"IF(Indata!Q154=\"\",\"\",Indata!Q154)","v":""},{"$f":"IF(Indata!R154=\"\",\"\",Indata!R154)","v":""},{"$f":"IF(Indata!S154=\"\",\"\",Indata!S154)","v":""},{"$f":"IF(Indata!T154=\"\",\"\",Indata!T154)","v":""},{"$f":"IF(Indata!U154=\"\",\"\",Indata!U154)","v":""},{"$f":"IF(Indata!V154=\"\",\"\",Indata!V154)","v":""},{"$f":"IF(Indata!W154=\"\",\"\",Indata!W154)","v":""},{"$f":"IF(Indata!X154=\"\",\"\",Indata!X154)","v":""},{"$f":"IF(Indata!Y154=\"\",\"\",Indata!Y154)","v":""},{"$f":"IF(Indata!Z154=\"\",\"\",Indata!Z154)","v":""},{"$f":"IF(Indata!AA154=\"\",\"\",Indata!AA154)","v":""}]
[75,"16 Ybbarpsån, nedstr Perstorp AB",{"$f":"IF(Indata!C155=\"\",\"\",Indata!C155)","v":""},{"$f":"IF(Indata!D155=\"\",\"\",Indata!D155)","v":""},{"$f":"IF(Indata!E155=\"\",\"\",Indata!E155)","v":""},{"$f":"IF(Indata!F155=\"\",\"\",Indata!F155)","v":""},{"$f":"IF(Indata!G155=\"\",\"\",Indata!G155)","v":""},{"$f":"IF(Indata!H155=\"\",\"\",Indata!H155)","v":""},{"$f":"IF(Indata!I155=\"\",\"\",Indata!I155)","v":""},{"$f":"IF(Indata!J155=\"\",\"\",Indata!J155)","v":""},{"$f":"IF(Indata!K155=\"\",\"\",Indata!K155)","v":""},{"$f":"IF(Indata!L155=\"\",\"\",Indata!L155)","v":""},{"$f":"IF(Indata!M155=\"\",\"\",Indata!M155)","v":""},{"$f":"IF(Indata!N155=\"\",\"\",Indata!N155)","v":""},{"$f":"IF(Indata!O155=\"\",\"\",Indata!O155)","v":""},{"$f":"IF(Indata!P155=\"\",\"\",Indata!P155)","v":""},{"$f":"IF(Indata!Q155=\"\",\"\",Indata!Q155)","v":""},{"$f":"IF(Indata!R155=\"\",\"\",Indata!R155)","v":""},{"$f":"IF(Indata!S155=\"\",\"\",Indata!S155)","v":""},{"$f":"IF(Indata!T155=\"\",\"\",Indata!T155)","v":""},{"$f":"IF(Indata!U155=\"\",\"\",Indata!U155)","v":""},{"$f":"IF(Indata!V155=\"\",\"\",Indata!V155)","v":""},{"$f":"IF(Indata!W155=\"\",\"\",Indata!W155)","v":""},{"$f":"IF(Indata!X155=\"\",\"\",Indata!X155)","v":""},{"$f":"IF(Indata!Y155=\"\",\"\",Indata!Y155)","v":""},{"$f":"IF(Indata!Z155=\"\",\"\",Indata!Z155)","v":""},{"$f":"IF(Indata!AA155=\"\",\"\",Indata!AA155)","v":""}]
[85,"22 Ybbarpsån, vid Herrevadskloster",{"$f":"IF(Indata!C156=\"\",\"\",Indata!C156)","v":""},{"$f":"IF(Indata!D156=\"\",\"\",Indata!D156)","v":""},{"$f":"IF(Indata!E156=\"\",\"\",Indata!E156)","v":""},{"$f":"IF(Indata!F156=\"\",\"\",Indata!F156)","v":""},{"$f":"IF(Indata!G156=\"\",\"\",Indata!G156)","v":""},{"$f":"IF(Indata!H156=\"\",\"\",Indata!H156)","v":""},{"$f":"IF(Indata!I156=\"\",\"\",Indata!I156)","v":""},{"$f":"IF(Indata!J156=\"\",\"\",Indata!J156)","v":""},{"$f":"IF(Indata!K156=\"\",\"\",Indata!K156)","v":""},{"$f":"IF(Indata!L156=\"\",\"\",Indata!L156)","v":""},{"$f":"IF(Indata!M156=\"\",\"\",Indata!M156)","v":""},{"$f":"IF(Indata!N156=\"\",\"\",Indata!N156)","v":""},{"$f":"IF(Indata!O156=\"\",\"\",Indata!O156)","v":""},{"$f":"IF(Indata!P156=\"\",\"\",Indata!P156)","v":""},{"$f":"IF(Indata!Q156=\"\",\"\",Indata!Q156)","v":""},{"$f":"IF(Indata!R156=\"\",\"\",Indata!R156)","v":""},{"$f":"IF(Indata!S156=\"\",\"\",Indata!S156)","v":""},{"$f":"IF(Indata!T156=\"\",\"\",Indata!T156)","v":""},{"$f":"IF(Indata!U156=\"\",\"\",Indata!U156)","v":""},{"$f":"IF(Indata!V156=\"\",\"\",Indata!V156)","v":""},{"$f":"IF(Indata!W156=\"\",\"\",Indata!W156)","v":""},{"$f":"IF(Indata!X156=\"\",\"\",Indata!X156)","v":""},{"$f":"IF(Indata!Y156=\"\",\"\",Indata!Y156)","v":""},{"$f":"IF(Indata!Z156=\"\",\"\",Indata!Z156)","v":""},{"$f":"IF(Indata!AA156=\"\",\"\",Indata!AA156)","v":""}]
[120,"33 Bäljaneå, nedstr Klippan",{"$f":"IF(Indata!C157=\"\",\"\",Indata!C157)","v":""},{"$f":"IF(Indata!D157=\"\",\"\",Indata!D157)","v":""},{"$f":"IF(Indata!E157=\"\",\"\",Indata!E157)","v":""},{"$f":"IF(Indata!F157=\"\",\"\",Indata!F157)","v":""},{"$f":"IF(Indata!G157=\"\",\"\",Indata!G157)","v":""},{"$f":"IF(Indata!H157=\"\",\"\",Indata!H157)","v":""},{"$f":"IF(Indata!I157=\"\",\"\",Indata!I157)","v":""},{"$f":"IF(Indata!J157=\"\",\"\",Indata!J157)","v":""},{"$f":"IF(Indata!K157=\"\",\"\",Indata!K157)","v":""},{"$f":"IF(Indata!L157=\"\",\"\",Indata!L157)","v":""},{"$f":"IF(Indata!M157=\"\",\"\",Indata!M157)","v":""},{"$f":"IF(Indata!N157=\"\",\"\",Indata!N157)","v":""},{"$f":"IF(Indata!O157=\"\",\"\",Indata!O157)","v":""},{"$f":"IF(Indata!P157=\"\",\"\",Indata!P157)","v":""},{"$f":"IF(Indata!Q157=\"\",\"\",Indata!Q157)","v":""},{"$f":"IF(Indata!R157=\"\",\"\",Indata!R157)","v":""},{"$f":"IF(Indata!S157=\"\",\"\",Indata!S157)","v":""},{"$f":"IF(Indata!T157=\"\",\"\",Indata!T157)","v":""},{"$f":"IF(Indata!U157=\"\",\"\",Indata!U157)","v":""},{"$f":"IF(Indata!V157=\"\",\"\",Indata!V157)","v":""},{"$f":"IF(Indata!W157=\"\",\"\",Indata!W157)","v":""},{"$f":"IF(Indata!X157=\"\",\"\",Indata!X157)","v":""},{"$f":"IF(Indata!Y157=\"\",\"\",Indata!Y157)","v":""},{"$f":"IF(Indata!Z157=\"\",\"\",Indata!Z157)","v":""},{"$f":"IF(Indata!AA157=\"\",\"\",Indata!AA157)","v":""}]
[145,"44 Pinnån, utfl ur Kopparmölledamm",{"$f":"IF(Indata!C158=\"\",\"\",Indata!C158)","v":""},{"$f":"IF(Indata!D158=\"\",\"\",Indata!D158)","v":""},{"$f":"IF(Indata!E158=\"\",\"\",Indata!E158)","v":""},{"$f":"IF(Indata!F158=\"\",\"\",Indata!F158)","v":""},{"$f":"IF(Indata!G158=\"\",\"\",Indata!G158)","v":""},{"$f":"IF(Indata!H158=\"\",\"\",Indata!H158)","v":""},{"$f":"IF(Indata!I158=\"\",\"\",Indata!I158)","v":""},{"$f":"IF(Indata!J158=\"\",\"\",Indata!J158)","v":""},{"$f":"IF(Indata!K158=\"\",\"\",Indata!K158)","v":""},{"$f":"IF(Indata!L158=\"\",\"\",Indata!L158)","v":""},{"$f":"IF(Indata!M158=\"\",\"\",Indata!M158)","v":""},{"$f":"IF(Indata!N158=\"\",\"\",Indata!N158)","v":""},{"$f":"IF(Indata!O158=\"\",\"\",Indata!O158)","v":""},{"$f":"IF(Indata!P158=\"\",\"\",Indata!P158)","v":""},{"$f":"IF(Indata!Q158=\"\",\"\",Indata!Q158)","v":""},{"$f":"IF(Indata!R158=\"\",\"\",Indata!R158)","v":""},{"$f":"IF(Indata!S158=\"\",\"\",Indata!S158)","v":""},{"$f":"IF(Indata!T158=\"\",\"\",Indata!T158)","v":""},{"$f":"IF(Indata!U158=\"\",\"\",Indata!U158)","v":""},{"$f":"IF(Indata!V158=\"\",\"\",Indata!V158)","v":""},{"$f":"IF(Indata!W158=\"\",\"\",Indata!W158)","v":""},{"$f":"IF(Indata!X158=\"\",\"\",Indata!X158)","v":""},{"$f":"IF(Indata!Y158=\"\",\"\",Indata!Y158)","v":""},{"$f":"IF(Indata!Z158=\"\",\"\",Indata!Z158)","v":""},{"$f":"IF(Indata!AA158=\"\",\"\",Indata!AA158)","v":""}]
[150,"58 Pinnån, vid utfl t Rönneå",{"$f":"IF(Indata!C159=\"\",\"\",Indata!C159)","v":""},{"$f":"IF(Indata!D159=\"\",\"\",Indata!D159)","v":""},{"$f":"IF(Indata!E159=\"\",\"\",Indata!E159)","v":""},{"$f":"IF(Indata!F159=\"\",\"\",Indata!F159)","v":""},{"$f":"IF(Indata!G159=\"\",\"\",Indata!G159)","v":""},{"$f":"IF(Indata!H159=\"\",\"\",Indata!H159)","v":""},{"$f":"IF(Indata!I159=\"\",\"\",Indata!I159)","v":""},{"$f":"IF(Indata!J159=\"\",\"\",Indata!J159)","v":""},{"$f":"IF(Indata!K159=\"\",\"\",Indata!K159)","v":""},{"$f":"IF(Indata!L159=\"\",\"\",Indata!L159)","v":""},{"$f":"IF(Indata!M159=\"\",\"\",Indata!M159)","v":""},{"$f":"IF(Indata!N159=\"\",\"\",Indata!N159)","v":""},{"$f":"IF(Indata!O159=\"\",\"\",Indata!O159)","v":""},{"$f":"IF(Indata!P159=\"\",\"\",Indata!P159)","v":""},{"$f":"IF(Indata!Q159=\"\",\"\",Indata!Q159)","v":""},{"$f":"IF(Indata!R159=\"\",\"\",Indata!R159)","v":""},{"$f":"IF(Indata!S159=\"\",\"\",Indata!S159)","v":""},{"$f":"IF(Indata!T159=\"\",\"\",Indata!T159)","v":""},{"$f":"IF(Indata!U159=\"\",\"\",Indata!U159)","v":""},{"$f":"IF(Indata!V159=\"\",\"\",Indata!V159)","v":""},{"$f":"IF(Indata!W159=\"\",\"\",Indata!W159)","v":""},{"$f":"IF(Indata!X159=\"\",\"\",Indata!X159)","v":""},{"$f":"IF(Indata!Y159=\"\",\"\",Indata!Y159)","v":""},{"$f":"IF(Indata!Z159=\"\",\"\",Indata!Z159)","v":""},{"$f":"IF(Indata!AA159=\"\",\"\",Indata!AA159)","v":""}]
[165,"56 Rössjöholmsån, f utfl t Rönneå",{"$f":"IF(Indata!C160=\"\",\"\",Indata!C160)","v":""},{"$f":"IF(Indata!D160=\"\",\"\",Indata!D160)","v":""},{"$f":"IF(Indata!E160=\"\",\"\",Indata!E160)","v":""},{"$f":"IF(Indata!F160=\"\",\"\",Indata!F160)","v":""},{"$f":"IF(Indata!G160=\"\",\"\",Indata!G160)","v":""},{"$f":"IF(Indata!H160=\"\",\"\",Indata!H160)","v":""},{"$f":"IF(Indata!I160=\"\",\"\",Indata!I160)","v":""},{"$f":"IF(Indata!J160=\"\",\"\",Indata!J160)","v":""},{"$f":"IF(Indata!K160=\"\",\"\",Indata!K160)","v":""},{"$f":"IF(Indata!L160=\"\",\"\",Indata!L160)","v":""},{"$f":"IF(Indata!M160=\"\",\"\",Indata!M160)","v":""},{"$f":"IF(Indata!N160=\"\",\"\",Indata!N160)","v":""},{"$f":"IF(Indata!O160=\"\",\"\",Indata!O160)","v":""},{"$f":"IF(Indata!P160=\"\",\"\",Indata!P160)","v":""},{"$f":"IF(Indata!Q160=\"\",\"\",Indata!Q160)","v":""},{"$f":"IF(Indata!R160=\"\",\"\",Indata!R160)","v":""},{"$f":"IF(Indata!S160=\"\",\"\",Indata!S160)","v":""},{"$f":"IF(Indata!T160=\"\",\"\",Indata!T160)","v":""},{"$f":"IF(Indata!U160=\"\",\"\",Indata!U160)","v":""},{"$f":"IF(Indata!V160=\"\",\"\",Indata!V160)","v":""},{"$f":"IF(Indata!W160=\"\",\"\",Indata!W160)","v":""},{"$f":"IF(Indata!X160=\"\",\"\",Indata!X160)","v":""},{"$f":"IF(Indata!Y160=\"\",\"\",Indata!Y160)","v":""},{"$f":"IF(Indata!Z160=\"\",\"\",Indata!Z160)","v":""},{"$f":"IF(Indata!AA160=\"\",\"\",Indata!AA160)","v":""}]
[220,"Ri5 Sätoftasjön, ytan",{"$f":"IF(Indata!C161=\"\",\"\",Indata!C161)","v":""},{"$f":"IF(Indata!D161=\"\",\"\",Indata!D161)","v":""},{"$f":"IF(Indata!E161=\"\",\"\",Indata!E161)","v":""},{"$f":"IF(Indata!F161=\"\",\"\",Indata!F161)","v":""},{"$f":"IF(Indata!G161=\"\",\"\",Indata!G161)","v":""},{"$f":"IF(Indata!H161=\"\",\"\",Indata!H161)","v":""},{"$f":"IF(Indata!I161=\"\",\"\",Indata!I161)","v":""},{"$f":"IF(Indata!J161=\"\",\"\",Indata!J161)","v":""},{"$f":"IF(Indata!K161=\"\",\"\",Indata!K161)","v":""},{"$f":"IF(Indata!L161=\"\",\"\",Indata!L161)","v":""},{"$f":"IF(Indata!M161=\"\",\"\",Indata!M161)","v":""},{"$f":"IF(Indata!N161=\"\",\"\",Indata!N161)","v":""},{"$f":"IF(Indata!O161=\"\",\"\",Indata!O161)","v":""},{"$f":"IF(Indata!P161=\"\",\"\",Indata!P161)","v":""},{"$f":"IF(Indata!Q161=\"\",\"\",Indata!Q161)","v":""},{"$f":"IF(Indata!R161=\"\",\"\",Indata!R161)","v":""},{"$f":"IF(Indata!S161=\"\",\"\",Indata!S161)","v":""},{"$f":"IF(Indata!T161=\"\",\"\",Indata!T161)","v":""},{"$f":"IF(Indata!U161=\"\",\"\",Indata!U161)","v":""},{"$f":"IF(Indata!V161=\"\",\"\",Indata!V161)","v":""},{"$f":"IF(Indata!W161=\"\",\"\",Indata!W161)","v":""},{"$f":"IF(Indata!X161=\"\",\"\",Indata!X161)","v":""},{"$f":"IF(Indata!Y161=\"\",\"\",Indata!Y161)","v":""},{"$f":"IF(Indata!Z161=\"\",\"\",Indata!Z161)","v":""},{"$f":"IF(Indata!AA161=\"\",\"\",Indata!AA161)","v":""}]
[225,"Ri5 Sätoftasjön, 15 m",{"$f":"IF(Indata!C162=\"\",\"\",Indata!C162)","v":""},{"$f":"IF(Indata!D162=\"\",\"\",Indata!D162)","v":""},{"$f":"IF(Indata!E162=\"\",\"\",Indata!E162)","v":""},{"$f":"IF(Indata!F162=\"\",\"\",Indata!F162)","v":""},{"$f":"IF(Indata!G162=\"\",\"\",Indata!G162)","v":""},{"$f":"IF(Indata!H162=\"\",\"\",Indata!H162)","v":""},{"$f":"IF(Indata!I162=\"\",\"\",Indata!I162)","v":""},{"$f":"IF(Indata!J162=\"\",\"\",Indata!J162)","v":""},{"$f":"IF(Indata!K162=\"\",\"\",Indata!K162)","v":""},{"$f":"IF(Indata!L162=\"\",\"\",Indata!L162)","v":""},{"$f":"IF(Indata!M162=\"\",\"\",Indata!M162)","v":""},{"$f":"IF(Indata!N162=\"\",\"\",Indata!N162)","v":""},{"$f":"IF(Indata!O162=\"\",\"\",Indata!O162)","v":""},{"$f":"IF(Indata!P162=\"\",\"\",Indata!P162)","v":""},{"$f":"IF(Indata!Q162=\"\",\"\",Indata!Q162)","v":""},{"$f":"IF(Indata!R162=\"\",\"\",Indata!R162)","v":""},{"$f":"IF(Indata!S162=\"\",\"\",Indata!S162)","v":""},{"$f":"IF(Indata!T162=\"\",\"\",Indata!T162)","v":""},{"$f":"IF(Indata!U162=\"\",\"\",Indata!U162)","v":""},{"$f":"IF(Indata!V162=\"\",\"\",Indata!V162)","v":""},{"$f":"IF(Indata!W162=\"\",\"\",Indata!W162)","v":""},{"$f":"IF(Indata!X162=\"\",\"\",Indata!X162)","v":""},{"$f":"IF(Indata!Y162=\"\",\"\",Indata!Y162)","v":""},{"$f":"IF(Indata!Z162=\"\",\"\",Indata!Z162)","v":""},{"$f":"IF(Indata!AA162=\"\",\"\",Indata!AA162)","v":""}]
[230,"Ri4 Östra Ringsjön, ytan",{"$f":"IF(Indata!C163=\"\",\"\",Indata!C163)","v":""},{"$f":"IF(Indata!D163=\"\",\"\",Indata!D163)","v":""},{"$f":"IF(Indata!E163=\"\",\"\",Indata!E163)","v":""},{"$f":"IF(Indata!F163=\"\",\"\",Indata!F163)","v":""},{"$f":"IF(Indata!G163=\"\",\"\",Indata!G163)","v":""},{"$f":"IF(Indata!H163=\"\",\"\",Indata!H163)","v":""},{"$f":"IF(Indata!I163=\"\",\"\",Indata!I163)","v":""},{"$f":"IF(Indata!J163=\"\",\"\",Indata!J163)","v":""},{"$f":"IF(Indata!K163=\"\",\"\",Indata!K163)","v":""},{"$f":"IF(Indata!L163=\"\",\"\",Indata!L163)","v":""},{"$f":"IF(Indata!M163=\"\",\"\",Indata!M163)","v":""},{"$f":"IF(Indata!N163=\"\",\"\",Indata!N163)","v":""},{"$f":"IF(Indata!O163=\"\",\"\",Indata!O163)","v":""},{"$f":"IF(Indata!P163=\"\",\"\",Indata!P163)","v":""},{"$f":"IF(Indata!Q163=\"\",\"\",Indata!Q163)","v":""},{"$f":"IF(Indata!R163=\"\",\"\",Indata!R163)","v":""},{"$f":"IF(Indata!S163=\"\",\"\",Indata!S163)","v":""},{"$f":"IF(Indata!T163=\"\",\"\",Indata!T163)","v":""},{"$f":"IF(Indata!U163=\"\",\"\",Indata!U163)","v":""},{"$f":"IF(Indata!V163=\"\",\"\",Indata!V163)","v":""},{"$f":"IF(Indata!W163=\"\",\"\",Indata!W163)","v":""},{"$f":"IF(Indata!X163=\"\",\"\",Indata!X163)","v":""},{"$f":"IF(Indata!Y163=\"\",\"\",Indata!Y163)","v":""},{"$f":"IF(Indata!Z163=\"\",\"\",Indata!Z163)","v":""},{"$f":"IF(Indata!AA163=\"\",\"\",Indata!AA163)","v":""}]
[235,"Ri4 Östra Ringsjön, 15 m",{"$f":"IF(Indata!C164=\"\",\"\",Indata!C164)","v":""},{"$f":"IF(Indata!D164=\"\",\"\",Indata!D164)","v":""},{"$f":"IF(Indata!E164=\"\",\"\",Indata!E164)","v":""},{"$f":"IF(Indata!F164=\"\",\"\",Indata!F164)","v":""},{"$f":"IF(Indata!G164=\"\",\"\",Indata!G164)","v":""},{"$f":"IF(Indata!H164=\"\",\"\",Indata!H164)","v":""},{"$f":"IF(Indata!I164=\"\",\"\",Indata!I164)","v":""},{"$f":"IF(Indata!J164=\"\",\"\",Indata!J164)","v":""},{"$f":"IF(Indata!K164=\"\",\"\",Indata!K164)","v":""},{"$f":"IF(Indata!L164=\"\",\"\",Indata!L164)","v":""},{"$f":"IF(Indata!M164=\"\",\"\",Indata!M164)","v":""},{"$f":"IF(Indata!N164=\"\",\"\",Indata!N164)","v":""},{"$f":"IF(Indata!O164=\"\",\"\",Indata!O164)","v":""},{"$f":"IF(Indata!P164=\"\",\"\",Indata!P164)","v":""},{"$f":"IF(Indata!Q164=\"\",\"\",Indata!Q164)","v":""},{"$f":"IF(Indata!R164=\"\",\"\",Indata!R164)","v":""},{"$f":"IF(Indata!S164=\"\",\"\",Indata!S164)","v":""},{"$f":"IF(Indata!T164=\"\",\"\",Indata!T164)","v":""},{"$f":"IF(Indata!U164=\"\",\"\",Indata!U164)","v":""},{"$f":"IF(Indata!V164=\"\",\"\",Indata!V164)","v":""},{"$f":"IF(Indata!W164=\"\",\"\",Indata!W164)","v":""},{"$f":"IF(Indata!X164=\"\",\"\",Indata!X164)","v":""},{"$f":"IF(Indata!Y164=\"\",\"\",Indata!Y164)","v":""},{"$f":"IF(Indata!Z164=\"\",\"\",Indata!Z164)","v":""},{"$f":"IF(Indata!AA164=\"\",\"\",Indata!AA164)","v":""}]
[240,"Ri2 Västra Ringsjön, ytan",{"$f":"IF(Indata!C165=\"\",\"\",Indata!C165)","v":""},{"$f":"IF(Indata!D165=\"\",\"\",Indata!D165)","v":""},{"$f":"IF(Indata!E165=\"\",\"\",Indata!E165)","v":""},{"$f":"IF(Indata!F165=\"\",\"\",Indata!F165)","v":""},{"$f":"IF(Indata!G165=\"\",\"\",Indata!G165)","v":""},{"$f":"IF(Indata!H165=\"\",\"\",Indata!H165)","v":""},{"$f":"IF(Indata!I165=\"\",\"\",Indata!I165)","v":""},{"$f":"IF(Indata!J165=\"\",\"\",Indata!J165)","v":""},{"$f":"IF(Indata!K165=\"\",\"\",Indata!K165)","v":""},{"$f":"IF(Indata!L165=\"\",\"\",Indata!L165)","v":""},{"$f":"IF(Indata!M165=\"\",\"\",Indata!M165)","v":""},{"$f":"IF(Indata!N165=\"\",\"\",Indata!N165)","v":""},{"$f":"IF(Indata!O165=\"\",\"\",Indata!O165)","v":""},{"$f":"IF(Indata!P165=\"\",\"\",Indata!P165)","v":""},{"$f":"IF(Indata!Q165=\"\",\"\",Indata!Q165)","v":""},{"$f":"IF(Indata!R165=\"\",\"\",Indata!R165)","v":""},{"$f":"IF(Indata!S165=\"\",\"\",Indata!S165)","v":""},{"$f":"IF(Indata!T165=\"\",\"\",Indata!T165)","v":""},{"$f":"IF(Indata!U165=\"\",\"\",Indata!U165)","v":""},{"$f":"IF(Indata!V165=\"\",\"\",Indata!V165)","v":""},{"$f":"IF(Indata!W165=\"\",\"\",Indata!W165)","v":""},{"$f":"IF(Indata!X165=\"\",\"\",Indata!X165)","v":""},{"$f":"IF(Indata!Y165=\"\",\"\",Indata!Y165)","v":""},{"$f":"IF(Indata!Z165=\"\",\"\",Indata!Z165)","v":""},{"$f":"IF(Indata!AA165=\"\",\"\",Indata!AA165)","v":""}]
[245,"Ri2 Västra Ringsjön, 4 m",{"$f":"IF(Indata!C166=\"\",\"\",Indata!C166)","v":""},{"$f":"IF(Indata!D166=\"\",\"\",Indata!D166)","v":""},{"$f":"IF(Indata!E166=\"\",\"\",Indata!E166)","v":""},{"$f":"IF(Indata!F166=\"\",\"\",Indata!F166)","v":""},{"$f":"IF(Indata!G166=\"\",\"\",Indata!G166)","v":""},{"$f":"IF(Indata!H166=\"\",\"\",Indata!H166)","v":""},{"$f":"IF(Indata!I166=\"\",\"\",Indata!I166)","v":""},{"$f":"IF(Indata!J166=\"\",\"\",Indata!J166)","v":""},{"$f":"IF(Indata!K166=\"\",\"\",Indata!K166)","v":""},{"$f":"IF(Indata!L166=\"\",\"\",Indata!L166)","v":""},{"$f":"IF(Indata!M166=\"\",\"\",Indata!M166)","v":""},{"$f":"IF(Indata!N166=\"\",\"\",Indata!N166)","v":""},{"$f":"IF(Indata!O166=\"\",\"\",Indata!O166)","v":""},{"$f":"IF(Indata!P166=\"\",\"\",Indata!P166)","v":""},{"$f":"IF(Indata!Q166=\"\",\"\",Indata!Q166)","v":""},{"$f":"IF(Indata!R166=\"\",\"\",Indata!R166)","v":""},{"$f":"IF(Indata!S166=\"\",\"\",Indata!S166)","v":""},{"$f":"IF(Indata!T166=\"\",\"\",Indata!T166)","v":""},{"$f":"IF(Indata!U166=\"\",\"\",Indata!U166)","v":""},{"$f":"IF(Indata!V166=\"\",\"\",Indata!V166)","v":""},{"$f":"IF(Indata!W166=\"\",\"\",Indata!W166)","v":""},{"$f":"IF(Indata!X166=\"\",\"\",Indata!X166)","v":""},{"$f":"IF(Indata!Y166=\"\",\"\",Indata!Y166)","v":""},{"$f":"IF(Indata!Z166=\"\",\"\",Indata!Z166)","v":""},{"$f":"IF(Indata!AA166=\"\",\"\",Indata!AA166)","v":""}]
[300]
[250,"juli"]
[3,"3  Rönneå, uppstr Bålamöllan",{"$f":"IF(Indata!C169=\"\",\"\",Indata!C169)","v":""},{"$f":"IF(Indata!D169=\"\",\"\",Indata!D169)","v":""},{"$f":"IF(Indata!E169=\"\",\"\",Indata!E169)","v":""},{"$f":"IF(Indata!F169=\"\",\"\",Indata!F169)","v":""},{"$f":"IF(Indata!G169=\"\",\"\",Indata!G169)","v":""},{"$f":"IF(Indata!H169=\"\",\"\",Indata!H169)","v":""},{"$f":"IF(Indata!I169=\"\",\"\",Indata!I169)","v":""},{"$f":"IF(Indata!J169=\"\",\"\",Indata!J169)","v":""},{"$f":"IF(Indata!K169=\"\",\"\",Indata!K169)","v":""},{"$f":"IF(Indata!L169=\"\",\"\",Indata!L169)","v":""},{"$f":"IF(Indata!M169=\"\",\"\",Indata!M169)","v":""},{"$f":"IF(Indata!N169=\"\",\"\",Indata!N169)","v":""},{"$f":"IF(Indata!O169=\"\",\"\",Indata!O169)","v":""},{"$f":"IF(Indata!P169=\"\",\"\",Indata!P169)","v":""},{"$f":"IF(Indata!Q169=\"\",\"\",Indata!Q169)","v":""},{"$f":"IF(Indata!R169=\"\",\"\",Indata!R169)","v":""},{"$f":"IF(Indata!S169=\"\",\"\",Indata!S169)","v":""},{"$f":"IF(Indata!T169=\"\",\"\",Indata!T169)","v":""},{"$f":"IF(Indata!U169=\"\",\"\",Indata!U169)","v":""},{"$f":"IF(Indata!V169=\"\",\"\",Indata!V169)","v":""},{"$f":"IF(Indata!W169=\"\",\"\",Indata!W169)","v":""},{"$f":"IF(Indata!X169=\"\",\"\",Indata!X169)","v":""},{"$f":"IF(Indata!Y169=\"\",\"\",Indata!Y169)","v":""},{"$f":"IF(Indata!Z169=\"\",\"\",Indata!Z169)","v":""},{"$f":"IF(Indata!AA169=\"\",\"\",Indata!AA169)","v":""}]
[5,"75 Rönneå, Bögerup vid bron innan Bolebäcken",{"$f":"IF(Indata!C170=\"\",\"\",Indata!C170)","v":""},{"$f":"IF(Indata!D170=\"\",\"\",Indata!D170)","v":""},{"$f":"IF(Indata!E170=\"\",\"\",Indata!E170)","v":""},{"$f":"IF(Indata!F170=\"\",\"\",Indata!F170)","v":""},{"$f":"IF(Indata!G170=\"\",\"\",Indata!G170)","v":""},{"$f":"IF(Indata!H170=\"\",\"\",Indata!H170)","v":""},{"$f":"IF(Indata!I170=\"\",\"\",Indata!I170)","v":""},{"$f":"IF(Indata!J170=\"\",\"\",Indata!J170)","v":""},{"$f":"IF(Indata!K170=\"\",\"\",Indata!K170)","v":""},{"$f":"IF(Indata!L170=\"\",\"\",Indata!L170)","v":""},{"$f":"IF(Indata!M170=\"\",\"\",Indata!M170)","v":""},{"$f":"IF(Indata!N170=\"\",\"\",Indata!N170)","v":""},{"$f":"IF(Indata!O170=\"\",\"\",Indata!O170)","v":""},{"$f":"IF(Indata!P170=\"\",\"\",Indata!P170)","v":""},{"$f":"IF(Indata!Q170=\"\",\"\",Indata!Q170)","v":""},{"$f":"IF(Indata!R170=\"\",\"\",Indata!R170)","v":""},{"$f":"IF(Indata!S170=\"\",\"\",Indata!S170)","v":""},{"$f":"IF(Indata!T170=\"\",\"\",Indata!T170)","v":""},{"$f":"IF(Indata!U170=\"\",\"\",Indata!U170)","v":""},{"$f":"IF(Indata!V170=\"\",\"\",Indata!V170)","v":""},{"$f":"IF(Indata!W170=\"\",\"\",Indata!W170)","v":""},{"$f":"IF(Indata!X170=\"\",\"\",Indata!X170)","v":""},{"$f":"IF(Indata!Y170=\"\",\"\",Indata!Y170)","v":""},{"$f":"IF(Indata!Z170=\"\",\"\",Indata!Z170)","v":""},{"$f":"IF(Indata!AA170=\"\",\"\",Indata!AA170)","v":""}]
[10,"11 Rönneå, vid Djupadalsmölla",{"$f":"IF(Indata!C171=\"\",\"\",Indata!C171)","v":""},{"$f":"IF(Indata!D171=\"\",\"\",Indata!D171)","v":""},{"$f":"IF(Indata!E171=\"\",\"\",Indata!E171)","v":""},{"$f":"IF(Indata!F171=\"\",\"\",Indata!F171)","v":""},{"$f":"IF(Indata!G171=\"\",\"\",Indata!G171)","v":""},{"$f":"IF(Indata!H171=\"\",\"\",Indata!H171)","v":""},{"$f":"IF(Indata!I171=\"\",\"\",Indata!I171)","v":""},{"$f":"IF(Indata!J171=\"\",\"\",Indata!J171)","v":""},{"$f":"IF(Indata!K171=\"\",\"\",Indata!K171)","v":""},{"$f":"IF(Indata!L171=\"\",\"\",Indata!L171)","v":""},{"$f":"IF(Indata!M171=\"\",\"\",Indata!M171)","v":""},{"$f":"IF(Indata!N171=\"\",\"\",Indata!N171)","v":""},{"$f":"IF(Indata!O171=\"\",\"\",Indata!O171)","v":""},{"$f":"IF(Indata!P171=\"\",\"\",Indata!P171)","v":""},{"$f":"IF(Indata!Q171=\"\",\"\",Indata!Q171)","v":""},{"$f":"IF(Indata!R171=\"\",\"\",Indata!R171)","v":""},{"$f":"IF(Indata!S171=\"\",\"\",Indata!S171)","v":""},{"$f":"IF(Indata!T171=\"\",\"\",Indata!T171)","v":""},{"$f":"IF(Indata!U171=\"\",\"\",Indata!U171)","v":""},{"$f":"IF(Indata!V171=\"\",\"\",Indata!V171)","v":""},{"$f":"IF(Indata!W171=\"\",\"\",Indata!W171)","v":""},{"$f":"IF(Indata!X171=\"\",\"\",Indata!X171)","v":""},{"$f":"IF(Indata!Y171=\"\",\"\",Indata!Y171)","v":""},{"$f":"IF(Indata!Z171=\"\",\"\",Indata!Z171)","v":""},{"$f":"IF(Indata!AA171=\"\",\"\",Indata!AA171)","v":""}]
[15,"14 Rönneå, uppstr Ljungbyheds ARV",{"$f":"IF(Indata!C172=\"\",\"\",Indata!C172)","v":""},{"$f":"IF(Indata!D172=\"\",\"\",Indata!D172)","v":""},{"$f":"IF(Indata!E172=\"\",\"\",Indata!E172)","v":""},{"$f":"IF(Indata!F172=\"\",\"\",Indata!F172)","v":""},{"$f":"IF(Indata!G172=\"\",\"\",Indata!G172)","v":""},{"$f":"IF(Indata!H172=\"\",\"\",Indata!H172)","v":""},{"$f":"IF(Indata!I172=\"\",\"\",Indata!I172)","v":""},{"$f":"IF(Indata!J172=\"\",\"\",Indata!J172)","v":""},{"$f":"IF(Indata!K172=\"\",\"\",Indata!K172)","v":""},{"$f":"IF(Indata!L172=\"\",\"\",Indata!L172)","v":""},{"$f":"IF(Indata!M172=\"\",\"\",Indata!M172)","v":""},{"$f":"IF(Indata!N172=\"\",\"\",Indata!N172)","v":""},{"$f":"IF(Indata!O172=\"\",\"\",Indata!O172)","v":""},{"$f":"IF(Indata!P172=\"\",\"\",Indata!P172)","v":""},{"$f":"IF(Indata!Q172=\"\",\"\",Indata!Q172)","v":""},{"$f":"IF(Indata!R172=\"\",\"\",Indata!R172)","v":""},{"$f":"IF(Indata!S172=\"\",\"\",Indata!S172)","v":""},{"$f":"IF(Indata!T172=\"\",\"\",Indata!T172)","v":""},{"$f":"IF(Indata!U172=\"\",\"\",Indata!U172)","v":""},{"$f":"IF(Indata!V172=\"\",\"\",Indata!V172)","v":""},{"$f":"IF(Indata!W172=\"\",\"\",Indata!W172)","v":""},{"$f":"IF(Indata!X172=\"\",\"\",Indata!X172)","v":""},{"$f":"IF(Indata!Y172=\"\",\"\",Indata!Y172)","v":""},{"$f":"IF(Indata!Z172=\"\",\"\",Indata!Z172)","v":""},{"$f":"IF(Indata!AA172=\"\",\"\",Indata!AA172)","v":""}]
[20,"79 Rönneå, nedstr Ljungbyhed ARV",{"$f":"IF(Indata!C173=\"\",\"\",Indata!C173)","v":""},{"$f":"IF(Indata!D173=\"\",\"\",Indata!D173)","v":""},{"$f":"IF(Indata!E173=\"\",\"\",Indata!E173)","v":""},{"$f":"IF(Indata!F173=\"\",\"\",Indata!F173)","v":""},{"$f":"IF(Indata!G173=\"\",\"\",Indata!G173)","v":""},{"$f":"IF(Indata!H173=\"\",\"\",Indata!H173)","v":""},{"$f":"IF(Indata!I173=\"\",\"\",Indata!I173)","v":""},{"$f":"IF(Indata!J173=\"\",\"\",Indata!J173)","v":""},{"$f":"IF(Indata!K173=\"\",\"\",Indata!K173)","v":""},{"$f":"IF(Indata!L173=\"\",\"\",Indata!L173)","v":""},{"$f":"IF(Indata!M173=\"\",\"\",Indata!M173)","v":""},{"$f":"IF(Indata!N173=\"\",\"\",Indata!N173)","v":""},{"$f":"IF(Indata!O173=\"\",\"\",Indata!O173)","v":""},{"$f":"IF(Indata!P173=\"\",\"\",Indata!P173)","v":""},{"$f":"IF(Indata!Q173=\"\",\"\",Indata!Q173)","v":""},{"$f":"IF(Indata!R173=\"\",\"\",Indata!R173)","v":""},{"$f":"IF(Indata!S173=\"\",\"\",Indata!S173)","v":""},{"$f":"IF(Indata!T173=\"\",\"\",Indata!T173)","v":""},{"$f":"IF(Indata!U173=\"\",\"\",Indata!U173)","v":""},{"$f":"IF(Indata!V173=\"\",\"\",Indata!V173)","v":""},{"$f":"IF(Indata!W173=\"\",\"\",Indata!W173)","v":""},{"$f":"IF(Indata!X173=\"\",\"\",Indata!X173)","v":""},{"$f":"IF(Indata!Y173=\"\",\"\",Indata!Y173)","v":""},{"$f":"IF(Indata!Z173=\"\",\"\",Indata!Z173)","v":""},{"$f":"IF(Indata!AA173=\"\",\"\",Indata!AA173)","v":""}]
[25,"24 Rönneå, vid Forsmöllan",{"$f":"IF(Indata!C174=\"\",\"\",Indata!C174)","v":""},{"$f":"IF(Indata!D174=\"\",\"\",Indata!D174)","v":""},{"$f":"IF(Indata!E174=\"\",\"\",Indata!E174)","v":""},{"$f":"IF(Indata!F174=\"\",\"\",Indata!F174)","v":""},{"$f":"IF(Indata!G174=\"\",\"\",Indata!G174)","v":""},{"$f":"IF(Indata!H174=\"\",\"\",Indata!H174)","v":""},{"$f":"IF(Indata!I174=\"\",\"\",Indata!I174)","v":""},{"$f":"IF(Indata!J174=\"\",\"\",Indata!J174)","v":""},{"$f":"IF(Indata!K174=\"\",\"\",Indata!K174)","v":""},{"$f":"IF(Indata!L174=\"\",\"\",Indata!L174)","v":""},{"$f":"IF(Indata!M174=\"\",\"\",Indata!M174)","v":""},{"$f":"IF(Indata!N174=\"\",\"\",Indata!N174)","v":""},{"$f":"IF(Indata!O174=\"\",\"\",Indata!O174)","v":""},{"$f":"IF(Indata!P174=\"\",\"\",Indata!P174)","v":""},{"$f":"IF(Indata!Q174=\"\",\"\",Indata!Q174)","v":""},{"$f":"IF(Indata!R174=\"\",\"\",Indata!R174)","v":""},{"$f":"IF(Indata!S174=\"\",\"\",Indata!S174)","v":""},{"$f":"IF(Indata!T174=\"\",\"\",Indata!T174)","v":""},{"$f":"IF(Indata!U174=\"\",\"\",Indata!U174)","v":""},{"$f":"IF(Indata!V174=\"\",\"\",Indata!V174)","v":""},{"$f":"IF(Indata!W174=\"\",\"\",Indata!W174)","v":""},{"$f":"IF(Indata!X174=\"\",\"\",Indata!X174)","v":""},{"$f":"IF(Indata!Y174=\"\",\"\",Indata!Y174)","v":""},{"$f":"IF(Indata!Z174=\"\",\"\",Indata!Z174)","v":""},{"$f":"IF(Indata!AA174=\"\",\"\",Indata!AA174)","v":""}]
[30,"25 Rönneå, vid Stackarps bro",{"$f":"IF(Indata!C175=\"\",\"\",Indata!C175)","v":""},{"$f":"IF(Indata!D175=\"\",\"\",Indata!D175)","v":""},{"$f":"IF(Indata!E175=\"\",\"\",Indata!E175)","v":""},{"$f":"IF(Indata!F175=\"\",\"\",Indata!F175)","v":""},{"$f":"IF(Indata!G175=\"\",\"\",Indata!G175)","v":""},{"$f":"IF(Indata!H175=\"\",\"\",Indata!H175)","v":""},{"$f":"IF(Indata!I175=\"\",\"\",Indata!I175)","v":""},{"$f":"IF(Indata!J175=\"\",\"\",Indata!J175)","v":""},{"$f":"IF(Indata!K175=\"\",\"\",Indata!K175)","v":""},{"$f":"IF(Indata!L175=\"\",\"\",Indata!L175)","v":""},{"$f":"IF(Indata!M175=\"\",\"\",Indata!M175)","v":""},{"$f":"IF(Indata!N175=\"\",\"\",Indata!N175)","v":""},{"$f":"IF(Indata!O175=\"\",\"\",Indata!O175)","v":""},{"$f":"IF(Indata!P175=\"\",\"\",Indata!P175)","v":""},{"$f":"IF(Indata!Q175=\"\",\"\",Indata!Q175)","v":""},{"$f":"IF(Indata!R175=\"\",\"\",Indata!R175)","v":""},{"$f":"IF(Indata!S175=\"\",\"\",Indata!S175)","v":""},{"$f":"IF(Indata!T175=\"\",\"\",Indata!T175)","v":""},{"$f":"IF(Indata!U175=\"\",\"\",Indata!U175)","v":""},{"$f":"IF(Indata!V175=\"\",\"\",Indata!V175)","v":""},{"$f":"IF(Indata!W175=\"\",\"\",Indata!W175)","v":""},{"$f":"IF(Indata!X175=\"\",\"\",Indata!X175)","v":""},{"$f":"IF(Indata!Y175=\"\",\"\",Indata!Y175)","v":""},{"$f":"IF(Indata!Z175=\"\",\"\",Indata!Z175)","v":""},{"$f":"IF(Indata!AA175=\"\",\"\",Indata!AA175)","v":""}]
[35,"34 Rönneå, vid Tranarps bro",{"$f":"IF(Indata!C176=\"\",\"\",Indata!C176)","v":""},{"$f":"IF(Indata!D176=\"\",\"\",Indata!D176)","v":""},{"$f":"IF(Indata!E176=\"\",\"\",Indata!E176)","v":""},{"$f":"IF(Indata!F176=\"\",\"\",Indata!F176)","v":""},{"$f":"IF(Indata!G176=\"\",\"\",Indata!G176)","v":""},{"$f":"IF(Indata!H176=\"\",\"\",Indata!H176)","v":""},{"$f":"IF(Indata!I176=\"\",\"\",Indata!I176)","v":""},{"$f":"IF(Indata!J176=\"\",\"\",Indata!J176)","v":""},{"$f":"IF(Indata!K176=\"\",\"\",Indata!K176)","v":""},{"$f":"IF(Indata!L176=\"\",\"\",Indata!L176)","v":""},{"$f":"IF(Indata!M176=\"\",\"\",Indata!M176)","v":""},{"$f":"IF(Indata!N176=\"\",\"\",Indata!N176)","v":""},{"$f":"IF(Indata!O176=\"\",\"\",Indata!O176)","v":""},{"$f":"IF(Indata!P176=\"\",\"\",Indata!P176)","v":""},{"$f":"IF(Indata!Q176=\"\",\"\",Indata!Q176)","v":""},{"$f":"IF(Indata!R176=\"\",\"\",Indata!R176)","v":""},{"$f":"IF(Indata!S176=\"\",\"\",Indata!S176)","v":""},{"$f":"IF(Indata!T176=\"\",\"\",Indata!T176)","v":""},{"$f":"IF(Indata!U176=\"\",\"\",Indata!U176)","v":""},{"$f":"IF(Indata!V176=\"\",\"\",Indata!V176)","v":""},{"$f":"IF(Indata!W176=\"\",\"\",Indata!W176)","v":""},{"$f":"IF(Indata!X176=\"\",\"\",Indata!X176)","v":""},{"$f":"IF(Indata!Y176=\"\",\"\",Indata!Y176)","v":""},{"$f":"IF(Indata!Z176=\"\",\"\",Indata!Z176)","v":""},{"$f":"IF(Indata!AA176=\"\",\"\",Indata!AA176)","v":""}]
[40,"49 Rönneå, uppstr Ängelholm",{"$f":"IF(Indata!C177=\"\",\"\",Indata!C177)","v":""},{"$f":"IF(Indata!D177=\"\",\"\",Indata!D177)","v":""},{"$f":"IF(Indata!E177=\"\",\"\",Indata!E177)","v":""},{"$f":"IF(Indata!F177=\"\",\"\",Indata!F177)","v":""},{"$f":"IF(Indata!G177=\"\",\"\",Indata!G177)","v":""},{"$f":"IF(Indata!H177=\"\",\"\",Indata!H177)","v":""},{"$f":"IF(Indata!I177=\"\",\"\",Indata!I177)","v":""},{"$f":"IF(Indata!J177=\"\",\"\",Indata!J177)","v":""},{"$f":"IF(Indata!K177=\"\",\"\",Indata!K177)","v":""},{"$f":"IF(Indata!L177=\"\",\"\",Indata!L177)","v":""},{"$f":"IF(Indata!M177=\"\",\"\",Indata!M177)","v":""},{"$f":"IF(Indata!N177=\"\",\"\",Indata!N177)","v":""},{"$f":"IF(Indata!O177=\"\",\"\",Indata!O177)","v":""},{"$f":"IF(Indata!P177=\"\",\"\",Indata!P177)","v":""},{"$f":"IF(Indata!Q177=\"\",\"\",Indata!Q177)","v":""},{"$f":"IF(Indata!R177=\"\",\"\",Indata!R177)","v":""},{"$f":"IF(Indata!S177=\"\",\"\",Indata!S177)","v":""},{"$f":"IF(Indata!T177=\"\",\"\",Indata!T177)","v":""},{"$f":"IF(Indata!U177=\"\",\"\",Indata!U177)","v":""},{"$f":"IF(Indata!V177=\"\",\"\",Indata!V177)","v":""},{"$f":"IF(Indata!W177=\"\",\"\",Indata!W177)","v":""},{"$f":"IF(Indata!X177=\"\",\"\",Indata!X177)","v":""},{"$f":"IF(Indata!Y177=\"\",\"\",Indata!Y177)","v":""},{"$f":"IF(Indata!Z177=\"\",\"\",Indata!Z177)","v":""},{"$f":"IF(Indata!AA177=\"\",\"\",Indata!AA177)","v":""}]
[45,"57 Rönneå, vid utfl t Skälderviken",{"$f":"IF(Indata!C178=\"\",\"\",Indata!C178)","v":""},{"$f":"IF(Indata!D178=\"\",\"\",Indata!D178)","v":""},{"$f":"IF(Indata!E178=\"\",\"\",Indata!E178)","v":""},{"$f":"IF(Indata!F178=\"\",\"\",Indata!F178)","v":""},{"$f":"IF(Indata!G178=\"\",\"\",Indata!G178)","v":""},{"$f":"IF(Indata!H178=\"\",\"\",Indata!H178)","v":""},{"$f":"IF(Indata!I178=\"\",\"\",Indata!I178)","v":""},{"$f":"IF(Indata!J178=\"\",\"\",Indata!J178)","v":""},{"$f":"IF(Indata!K178=\"\",\"\",Indata!K178)","v":""},{"$f":"IF(Indata!L178=\"\",\"\",Indata!L178)","v":""},{"$f":"IF(Indata!M178=\"\",\"\",Indata!M178)","v":""},{"$f":"IF(Indata!N178=\"\",\"\",Indata!N178)","v":""},{"$f":"IF(Indata!O178=\"\",\"\",Indata!O178)","v":""},{"$f":"IF(Indata!P178=\"\",\"\",Indata!P178)","v":""},{"$f":"IF(Indata!Q178=\"\",\"\",Indata!Q178)","v":""},{"$f":"IF(Indata!R178=\"\",\"\",Indata!R178)","v":""},{"$f":"IF(Indata!S178=\"\",\"\",Indata!S178)","v":""},{"$f":"IF(Indata!T178=\"\",\"\",Indata!T178)","v":""},{"$f":"IF(Indata!U178=\"\",\"\",Indata!U178)","v":""},{"$f":"IF(Indata!V178=\"\",\"\",Indata!V178)","v":""},{"$f":"IF(Indata!W178=\"\",\"\",Indata!W178)","v":""},{"$f":"IF(Indata!X178=\"\",\"\",Indata!X178)","v":""},{"$f":"IF(Indata!Y178=\"\",\"\",Indata!Y178)","v":""},{"$f":"IF(Indata!Z178=\"\",\"\",Indata!Z178)","v":""},{"$f":"IF(Indata!AA178=\"\",\"\",Indata!AA178)","v":""}]
[50,"6  Bäljaneå, uppstr Röstånga",{"$f":"IF(Indata!C179=\"\",\"\",Indata!C179)","v":""},{"$f":"IF(Indata!D179=\"\",\"\",Indata!D179)","v":""},{"$f":"IF(Indata!E179=\"\",\"\",Indata!E179)","v":""},{"$f":"IF(Indata!F179=\"\",\"\",Indata!F179)","v":""},{"$f":"IF(Indata!G179=\"\",\"\",Indata!G179)","v":""},{"$f":"IF(Indata!H179=\"\",\"\",Indata!H179)","v":""},{"$f":"IF(Indata!I179=\"\",\"\",Indata!I179)","v":""},{"$f":"IF(Indata!J179=\"\",\"\",Indata!J179)","v":""},{"$f":"IF(Indata!K179=\"\",\"\",Indata!K179)","v":""},{"$f":"IF(Indata!L179=\"\",\"\",Indata!L179)","v":""},{"$f":"IF(Indata!M179=\"\",\"\",Indata!M179)","v":""},{"$f":"IF(Indata!N179=\"\",\"\",Indata!N179)","v":""},{"$f":"IF(Indata!O179=\"\",\"\",Indata!O179)","v":""},{"$f":"IF(Indata!P179=\"\",\"\",Indata!P179)","v":""},{"$f":"IF(Indata!Q179=\"\",\"\",Indata!Q179)","v":""},{"$f":"IF(Indata!R179=\"\",\"\",Indata!R179)","v":""},{"$f":"IF(Indata!S179=\"\",\"\",Indata!S179)","v":""},{"$f":"IF(Indata!T179=\"\",\"\",Indata!T179)","v":""},{"$f":"IF(Indata!U179=\"\",\"\",Indata!U179)","v":""},{"$f":"IF(Indata!V179=\"\",\"\",Indata!V179)","v":""},{"$f":"IF(Indata!W179=\"\",\"\",Indata!W179)","v":""},{"$f":"IF(Indata!X179=\"\",\"\",Indata!X179)","v":""},{"$f":"IF(Indata!Y179=\"\",\"\",Indata!Y179)","v":""},{"$f":"IF(Indata!Z179=\"\",\"\",Indata!Z179)","v":""},{"$f":"IF(Indata!AA179=\"\",\"\",Indata!AA179)","v":""}]
[55,"8  Bäljaneå, före utfl t Rönneå",{"$f":"IF(Indata!C180=\"\",\"\",Indata!C180)","v":""},{"$f":"IF(Indata!D180=\"\",\"\",Indata!D180)","v":""},{"$f":"IF(Indata!E180=\"\",\"\",Indata!E180)","v":""},{"$f":"IF(Indata!F180=\"\",\"\",Indata!F180)","v":""},{"$f":"IF(Indata!G180=\"\",\"\",Indata!G180)","v":""},{"$f":"IF(Indata!H180=\"\",\"\",Indata!H180)","v":""},{"$f":"IF(Indata!I180=\"\",\"\",Indata!I180)","v":""},{"$f":"IF(Indata!J180=\"\",\"\",Indata!J180)","v":""},{"$f":"IF(Indata!K180=\"\",\"\",Indata!K180)","v":""},{"$f":"IF(Indata!L180=\"\",\"\",Indata!L180)","v":""},{"$f":"IF(Indata!M180=\"\",\"\",Indata!M180)","v":""},{"$f":"IF(Indata!N180=\"\",\"\",Indata!N180)","v":""},{"$f":"IF(Indata!O180=\"\",\"\",Indata!O180)","v":""},{"$f":"IF(Indata!P180=\"\",\"\",Indata!P180)","v":""},{"$f":"IF(Indata!Q180=\"\",\"\",Indata!Q180)","v":""},{"$f":"IF(Indata!R180=\"\",\"\",Indata!R180)","v":""},{"$f":"IF(Indata!S180=\"\",\"\",Indata!S180)","v":""},{"$f":"IF(Indata!T180=\"\",\"\",Indata!T180)","v":""},{"$f":"IF(Indata!U180=\"\",\"\",Indata!U180)","v":""},{"$f":"IF(Indata!V180=\"\",\"\",Indata!V180)","v":""},{"$f":"IF(Indata!W180=\"\",\"\",Indata!W180)","v":""},{"$f":"IF(Indata!X180=\"\",\"\",Indata!X180)","v":""},{"$f":"IF(Indata!Y180=\"\",\"\",Indata!Y180)","v":""},{"$f":"IF(Indata!Z180=\"\",\"\",Indata!Z180)","v":""},{"$f":"IF(Indata!AA180=\"\",\"\",Indata!AA180)","v":""}]
[60,"59 Klingstorpabäcken, Färingstofta",{"$f":"IF(Indata!C181=\"\",\"\",Indata!C181)","v":""},{"$f":"IF(Indata!D181=\"\",\"\",Indata!D181)","v":""},{"$f":"IF(Indata!E181=\"\",\"\",Indata!E181)","v":""},{"$f":"IF(Indata!F181=\"\",\"\",Indata!F181)","v":""},{"$f":"IF(Indata!G181=\"\",\"\",Indata!G181)","v":""},{"$f":"IF(Indata!H181=\"\",\"\",Indata!H181)","v":""},{"$f":"IF(Indata!I181=\"\",\"\",Indata!I181)","v":""},{"$f":"IF(Indata!J181=\"\",\"\",Indata!J181)","v":""},{"$f":"IF(Indata!K181=\"\",\"\",Indata!K181)","v":""},{"$f":"IF(Indata!L181=\"\",\"\",Indata!L181)","v":""},{"$f":"IF(Indata!M181=\"\",\"\",Indata!M181)","v":""},{"$f":"IF(Indata!N181=\"\",\"\",Indata!N181)","v":""},{"$f":"IF(Indata!O181=\"\",\"\",Indata!O181)","v":""},{"$f":"IF(Indata!P181=\"\",\"\",Indata!P181)","v":""},{"$f":"IF(Indata!Q181=\"\",\"\",Indata!Q181)","v":""},{"$f":"IF(Indata!R181=\"\",\"\",Indata!R181)","v":""},{"$f":"IF(Indata!S181=\"\",\"\",Indata!S181)","v":""},{"$f":"IF(Indata!T181=\"\",\"\",Indata!T181)","v":""},{"$f":"IF(Indata!U181=\"\",\"\",Indata!U181)","v":""},{"$f":"IF(Indata!V181=\"\",\"\",Indata!V181)","v":""},{"$f":"IF(Indata!W181=\"\",\"\",Indata!W181)","v":""},{"$f":"IF(Indata!X181=\"\",\"\",Indata!X181)","v":""},{"$f":"IF(Indata!Y181=\"\",\"\",Indata!Y181)","v":""},{"$f":"IF(Indata!Z181=\"\",\"\",Indata!Z181)","v":""},{"$f":"IF(Indata!AA181=\"\",\"\",Indata!AA181)","v":""}]
[65,"72 Storedamm, utlopp mot Svenstorp",{"$f":"IF(Indata!C182=\"\",\"\",Indata!C182)","v":""},{"$f":"IF(Indata!D182=\"\",\"\",Indata!D182)","v":""},{"$f":"IF(Indata!E182=\"\",\"\",Indata!E182)","v":""},{"$f":"IF(Indata!F182=\"\",\"\",Indata!F182)","v":""},{"$f":"IF(Indata!G182=\"\",\"\",Indata!G182)","v":""},{"$f":"IF(Indata!H182=\"\",\"\",Indata!H182)","v":""},{"$f":"IF(Indata!I182=\"\",\"\",Indata!I182)","v":""},{"$f":"IF(Indata!J182=\"\",\"\",Indata!J182)","v":""},{"$f":"IF(Indata!K182=\"\",\"\",Indata!K182)","v":""},{"$f":"IF(Indata!L182=\"\",\"\",Indata!L182)","v":""},{"$f":"IF(Indata!M182=\"\",\"\",Indata!M182)","v":""},{"$f":"IF(Indata!N182=\"\",\"\",Indata!N182)","v":""},{"$f":"IF(Indata!O182=\"\",\"\",Indata!O182)","v":""},{"$f":"IF(Indata!P182=\"\",\"\",Indata!P182)","v":""},{"$f":"IF(Indata!Q182=\"\",\"\",Indata!Q182)","v":""},{"$f":"IF(Indata!R182=\"\",\"\",Indata!R182)","v":""},{"$f":"IF(Indata!S182=\"\",\"\",Indata!S182)","v":""},{"$f":"IF(Indata!T182=\"\",\"\",Indata!T182)","v":""},{"$f":"IF(Indata!U182=\"\",\"\",Indata!U182)","v":""},{"$f":"IF(Indata!V182=\"\",\"\",Indata!V182)","v":""},{"$f":"IF(Indata!W182=\"\",\"\",Indata!W182)","v":""},{"$f":"IF(Indata!X182=\"\",\"\",Indata!X182)","v":""},{"$f":"IF(Indata!Y182=\"\",\"\",Indata!Y182)","v":""},{"$f":"IF(Indata!Z182=\"\",\"\",Indata!Z182)","v":""},{"$f":"IF(Indata!AA182=\"\",\"\",Indata!AA182)","v":""}]
[70,"15 Ybbarpsån, utfl ur Ybbarpssjön",{"$f":"IF(Indata!C183=\"\",\"\",Indata!C183)","v":""},{"$f":"IF(Indata!D183=\"\",\"\",Indata!D183)","v":""},{"$f":"IF(Indata!E183=\"\",\"\",Indata!E183)","v":""},{"$f":"IF(Indata!F183=\"\",\"\",Indata!F183)","v":""},{"$f":"IF(Indata!G183=\"\",\"\",Indata!G183)","v":""},{"$f":"IF(Indata!H183=\"\",\"\",Indata!H183)","v":""},{"$f":"IF(Indata!I183=\"\",\"\",Indata!I183)","v":""},{"$f":"IF(Indata!J183=\"\",\"\",Indata!J183)","v":""},{"$f":"IF(Indata!K183=\"\",\"\",Indata!K183)","v":""},{"$f":"IF(Indata!L183=\"\",\"\",Indata!L183)","v":""},{"$f":"IF(Indata!M183=\"\",\"\",Indata!M183)","v":""},{"$f":"IF(Indata!N183=\"\",\"\",Indata!N183)","v":""},{"$f":"IF(Indata!O183=\"\",\"\",Indata!O183)","v":""},{"$f":"IF(Indata!P183=\"\",\"\",Indata!P183)","v":""},{"$f":"IF(Indata!Q183=\"\",\"\",Indata!Q183)","v":""},{"$f":"IF(Indata!R183=\"\",\"\",Indata!R183)","v":""},{"$f":"IF(Indata!S183=\"\",\"\",Indata!S183)","v":""},{"$f":"IF(Indata!T183=\"\",\"\",Indata!T183)","v":""},{"$f":"IF(Indata!U183=\"\",\"\",Indata!U183)","v":""},{"$f":"IF(Indata!V183=\"\",\"\",Indata!V183)","v":""},{"$f":"IF(Indata!W183=\"\",\"\",Indata!W183)","v":""},{"$f":"IF(Indata!X183=\"\",\"\",Indata!X183)","v":""},{"$f":"IF(Indata!Y183=\"\",\"\",Indata!Y183)","v":""},{"$f":"IF(Indata!Z183=\"\",\"\",Indata!Z183)","v":""},{"$f":"IF(Indata!AA183=\"\",\"\",Indata!AA183)","v":""}]
[75,"16 Ybbarpsån, nedstr Perstorp AB",{"$f":"IF(Indata!C184=\"\",\"\",Indata!C184)","v":""},{"$f":"IF(Indata!D184=\"\",\"\",Indata!D184)","v":""},{"$f":"IF(Indata!E184=\"\",\"\",Indata!E184)","v":""},{"$f":"IF(Indata!F184=\"\",\"\",Indata!F184)","v":""},{"$f":"IF(Indata!G184=\"\",\"\",Indata!G184)","v":""},{"$f":"IF(Indata!H184=\"\",\"\",Indata!H184)","v":""},{"$f":"IF(Indata!I184=\"\",\"\",Indata!I184)","v":""},{"$f":"IF(Indata!J184=\"\",\"\",Indata!J184)","v":""},{"$f":"IF(Indata!K184=\"\",\"\",Indata!K184)","v":""},{"$f":"IF(Indata!L184=\"\",\"\",Indata!L184)","v":""},{"$f":"IF(Indata!M184=\"\",\"\",Indata!M184)","v":""},{"$f":"IF(Indata!N184=\"\",\"\",Indata!N184)","v":""},{"$f":"IF(Indata!O184=\"\",\"\",Indata!O184)","v":""},{"$f":"IF(Indata!P184=\"\",\"\",Indata!P184)","v":""},{"$f":"IF(Indata!Q184=\"\",\"\",Indata!Q184)","v":""},{"$f":"IF(Indata!R184=\"\",\"\",Indata!R184)","v":""},{"$f":"IF(Indata!S184=\"\",\"\",Indata!S184)","v":""},{"$f":"IF(Indata!T184=\"\",\"\",Indata!T184)","v":""},{"$f":"IF(Indata!U184=\"\",\"\",Indata!U184)","v":""},{"$f":"IF(Indata!V184=\"\",\"\",Indata!V184)","v":""},{"$f":"IF(Indata!W184=\"\",\"\",Indata!W184)","v":""},{"$f":"IF(Indata!X184=\"\",\"\",Indata!X184)","v":""},{"$f":"IF(Indata!Y184=\"\",\"\",Indata!Y184)","v":""},{"$f":"IF(Indata!Z184=\"\",\"\",Indata!Z184)","v":""},{"$f":"IF(Indata!AA184=\"\",\"\",Indata!AA184)","v":""}]
[80,"17 Ybbarpsån, Storarydsdammens utl",{"$f":"IF(Indata!C185=\"\",\"\",Indata!C185)","v":""},{"$f":"IF(Indata!D185=\"\",\"\",Indata!D185)","v":""},{"$f":"IF(Indata!E185=\"\",\"\",Indata!E185)","v":""},{"$f":"IF(Indata!F185=\"\",\"\",Indata!F185)","v":""},{"$f":"IF(Indata!G185=\"\",\"\",Indata!G185)","v":""},{"$f":"IF(Indata!H185=\"\",\"\",Indata!H185)","v":""},{"$f":"IF(Indata!I185=\"\",\"\",Indata!I185)","v":""},{"$f":"IF(Indata!J185=\"\",\"\",Indata!J185)","v":""},{"$f":"IF(Indata!K185=\"\",\"\",Indata!K185)","v":""},{"$f":"IF(Indata!L185=\"\",\"\",Indata!L185)","v":""},{"$f":"IF(Indata!M185=\"\",\"\",Indata!M185)","v":""},{"$f":"IF(Indata!N185=\"\",\"\",Indata!N185)","v":""},{"$f":"IF(Indata!O185=\"\",\"\",Indata!O185)","v":""},{"$f":"IF(Indata!P185=\"\",\"\",Indata!P185)","v":""},{"$f":"IF(Indata!Q185=\"\",\"\",Indata!Q185)","v":""},{"$f":"IF(Indata!R185=\"\",\"\",Indata!R185)","v":""},{"$f":"IF(Indata!S185=\"\",\"\",Indata!S185)","v":""},{"$f":"IF(Indata!T185=\"\",\"\",Indata!T185)","v":""},{"$f":"IF(Indata!U185=\"\",\"\",Indata!U185)","v":""},{"$f":"IF(Indata!V185=\"\",\"\",Indata!V185)","v":""},{"$f":"IF(Indata!W185=\"\",\"\",Indata!W185)","v":""},{"$f":"IF(Indata!X185=\"\",\"\",Indata!X185)","v":""},{"$f":"IF(Indata!Y185=\"\",\"\",Indata!Y185)","v":""},{"$f":"IF(Indata!Z185=\"\",\"\",Indata!Z185)","v":""},{"$f":"IF(Indata!AA185=\"\",\"\",Indata!AA185)","v":""}]
[85,"22 Ybbarpsån, vid Herrevadskloster",{"$f":"IF(Indata!C186=\"\",\"\",Indata!C186)","v":""},{"$f":"IF(Indata!D186=\"\",\"\",Indata!D186)","v":""},{"$f":"IF(Indata!E186=\"\",\"\",Indata!E186)","v":""},{"$f":"IF(Indata!F186=\"\",\"\",Indata!F186)","v":""},{"$f":"IF(Indata!G186=\"\",\"\",Indata!G186)","v":""},{"$f":"IF(Indata!H186=\"\",\"\",Indata!H186)","v":""},{"$f":"IF(Indata!I186=\"\",\"\",Indata!I186)","v":""},{"$f":"IF(Indata!J186=\"\",\"\",Indata!J186)","v":""},{"$f":"IF(Indata!K186=\"\",\"\",Indata!K186)","v":""},{"$f":"IF(Indata!L186=\"\",\"\",Indata!L186)","v":""},{"$f":"IF(Indata!M186=\"\",\"\",Indata!M186)","v":""},{"$f":"IF(Indata!N186=\"\",\"\",Indata!N186)","v":""},{"$f":"IF(Indata!O186=\"\",\"\",Indata!O186)","v":""},{"$f":"IF(Indata!P186=\"\",\"\",Indata!P186)","v":""},{"$f":"IF(Indata!Q186=\"\",\"\",Indata!Q186)","v":""},{"$f":"IF(Indata!R186=\"\",\"\",Indata!R186)","v":""},{"$f":"IF(Indata!S186=\"\",\"\",Indata!S186)","v":""},{"$f":"IF(Indata!T186=\"\",\"\",Indata!T186)","v":""},{"$f":"IF(Indata!U186=\"\",\"\",Indata!U186)","v":""},{"$f":"IF(Indata!V186=\"\",\"\",Indata!V186)","v":""},{"$f":"IF(Indata!W186=\"\",\"\",Indata!W186)","v":""},{"$f":"IF(Indata!X186=\"\",\"\",Indata!X186)","v":""},{"$f":"IF(Indata!Y186=\"\",\"\",Indata!Y186)","v":""},{"$f":"IF(Indata!Z186=\"\",\"\",Indata!Z186)","v":""},{"$f":"IF(Indata!AA186=\"\",\"\",Indata!AA186)","v":""}]
[90,"28 Perstorpsbäcken, uppstr Perstorp",{"$f":"IF(Indata!C187=\"\",\"\",Indata!C187)","v":""},{"$f":"IF(Indata!D187=\"\",\"\",Indata!D187)","v":""},{"$f":"IF(Indata!E187=\"\",\"\",Indata!E187)","v":""},{"$f":"IF(Indata!F187=\"\",\"\",Indata!F187)","v":""},{"$f":"IF(Indata!G187=\"\",\"\",Indata!G187)","v":""},{"$f":"IF(Indata!H187=\"\",\"\",Indata!H187)","v":""},{"$f":"IF(Indata!I187=\"\",\"\",Indata!I187)","v":""},{"$f":"IF(Indata!J187=\"\",\"\",Indata!J187)","v":""},{"$f":"IF(Indata!K187=\"\",\"\",Indata!K187)","v":""},{"$f":"IF(Indata!L187=\"\",\"\",Indata!L187)","v":""},{"$f":"IF(Indata!M187=\"\",\"\",Indata!M187)","v":""},{"$f":"IF(Indata!N187=\"\",\"\",Indata!N187)","v":""},{"$f":"IF(Indata!O187=\"\",\"\",Indata!O187)","v":""},{"$f":"IF(Indata!P187=\"\",\"\",Indata!P187)","v":""},{"$f":"IF(Indata!Q187=\"\",\"\",Indata!Q187)","v":""},{"$f":"IF(Indata!R187=\"\",\"\",Indata!R187)","v":""},{"$f":"IF(Indata!S187=\"\",\"\",Indata!S187)","v":""},{"$f":"IF(Indata!T187=\"\",\"\",Indata!T187)","v":""},{"$f":"IF(Indata!U187=\"\",\"\",Indata!U187)","v":""},{"$f":"IF(Indata!V187=\"\",\"\",Indata!V187)","v":""},{"$f":"IF(Indata!W187=\"\",\"\",Indata!W187)","v":""},{"$f":"IF(Indata!X187=\"\",\"\",Indata!X187)","v":""},{"$f":"IF(Indata!Y187=\"\",\"\",Indata!Y187)","v":""},{"$f":"IF(Indata!Z187=\"\",\"\",Indata!Z187)","v":""},{"$f":"IF(Indata!AA187=\"\",\"\",Indata!AA187)","v":""}]
[95,"29 Perstorpsbäcken, nedstr Perstorp",{"$f":"IF(Indata!C188=\"\",\"\",Indata!C188)","v":""},{"$f":"IF(Indata!D188=\"\",\"\",Indata!D188)","v":""},{"$f":"IF(Indata!E188=\"\",\"\",Indata!E188)","v":""},{"$f":"IF(Indata!F188=\"\",\"\",Indata!F188)","v":""},{"$f":"IF(Indata!G188=\"\",\"\",Indata!G188)","v":""},{"$f":"IF(Indata!H188=\"\",\"\",Indata!H188)","v":""},{"$f":"IF(Indata!I188=\"\",\"\",Indata!I188)","v":""},{"$f":"IF(Indata!J188=\"\",\"\",Indata!J188)","v":""},{"$f":"IF(Indata!K188=\"\",\"\",Indata!K188)","v":""},{"$f":"IF(Indata!L188=\"\",\"\",Indata!L188)","v":""},{"$f":"IF(Indata!M188=\"\",\"\",Indata!M188)","v":""},{"$f":"IF(Indata!N188=\"\",\"\",Indata!N188)","v":""},{"$f":"IF(Indata!O188=\"\",\"\",Indata!O188)","v":""},{"$f":"IF(Indata!P188=\"\",\"\",Indata!P188)","v":""},{"$f":"IF(Indata!Q188=\"\",\"\",Indata!Q188)","v":""},{"$f":"IF(Indata!R188=\"\",\"\",Indata!R188)","v":""},{"$f":"IF(Indata!S188=\"\",\"\",Indata!S188)","v":""},{"$f":"IF(Indata!T188=\"\",\"\",Indata!T188)","v":""},{"$f":"IF(Indata!U188=\"\",\"\",Indata!U188)","v":""},{"$f":"IF(Indata!V188=\"\",\"\",Indata!V188)","v":""},{"$f":"IF(Indata!W188=\"\",\"\",Indata!W188)","v":""},{"$f":"IF(Indata!X188=\"\",\"\",Indata!X188)","v":""},{"$f":"IF(Indata!Y188=\"\",\"\",Indata!Y188)","v":""},{"$f":"IF(Indata!Z188=\"\",\"\",Indata!Z188)","v":""},{"$f":"IF(Indata!AA188=\"\",\"\",Indata!AA188)","v":""}]
[100,"76 Oderbäcken, uppstr Oderljunga ARV",{"$f":"IF(Indata!C189=\"\",\"\",Indata!C189)","v":""},{"$f":"IF(Indata!D189=\"\",\"\",Indata!D189)","v":""},{"$f":"IF(Indata!E189=\"\",\"\",Indata!E189)","v":""},{"$f":"IF(Indata!F189=\"\",\"\",Indata!F189)","v":""},{"$f":"IF(Indata!G189=\"\",\"\",Indata!G189)","v":""},{"$f":"IF(Indata!H189=\"\",\"\",Indata!H189)","v":""},{"$f":"IF(Indata!I189=\"\",\"\",Indata!I189)","v":""},{"$f":"IF(Indata!J189=\"\",\"\",Indata!J189)","v":""},{"$f":"IF(Indata!K189=\"\",\"\",Indata!K189)","v":""},{"$f":"IF(Indata!L189=\"\",\"\",Indata!L189)","v":""},{"$f":"IF(Indata!M189=\"\",\"\",Indata!M189)","v":""},{"$f":"IF(Indata!N189=\"\",\"\",Indata!N189)","v":""},{"$f":"IF(Indata!O189=\"\",\"\",Indata!O189)","v":""},{"$f":"IF(Indata!P189=\"\",\"\",Indata!P189)","v":""},{"$f":"IF(Indata!Q189=\"\",\"\",Indata!Q189)","v":""},{"$f":"IF(Indata!R189=\"\",\"\",Indata!R189)","v":""},{"$f":"IF(Indata!S189=\"\",\"\",Indata!S189)","v":""},{"$f":"IF(Indata!T189=\"\",\"\",Indata!T189)","v":""},{"$f":"IF(Indata!U189=\"\",\"\",Indata!U189)","v":""},{"$f":"IF(Indata!V189=\"\",\"\",Indata!V189)","v":""},{"$f":"IF(Indata!W189=\"\",\"\",Indata!W189)","v":""},{"$f":"IF(Indata!X189=\"\",\"\",Indata!X189)","v":""},{"$f":"IF(Indata!Y189=\"\",\"\",Indata!Y189)","v":""},{"$f":"IF(Indata!Z189=\"\",\"\",Indata!Z189)","v":""},{"$f":"IF(Indata!AA189=\"\",\"\",Indata!AA189)","v":""}]
[105,"30 Bäljaneå, vid Hyllstofta",{"$f":"IF(Indata!C190=\"\",\"\",Indata!C190)","v":""},{"$f":"IF(Indata!D190=\"\",\"\",Indata!D190)","v":""},{"$f":"IF(Indata!E190=\"\",\"\",Indata!E190)","v":""},{"$f":"IF(Indata!F190=\"\",\"\",Indata!F190)","v":""},{"$f":"IF(Indata!G190=\"\",\"\",Indata!G190)","v":""},{"$f":"IF(Indata!H190=\"\",\"\",Indata!H190)","v":""},{"$f":"IF(Indata!I190=\"\",\"\",Indata!I190)","v":""},{"$f":"IF(Indata!J190=\"\",\"\",Indata!J190)","v":""},{"$f":"IF(Indata!K190=\"\",\"\",Indata!K190)","v":""},{"$f":"IF(Indata!L190=\"\",\"\",Indata!L190)","v":""},{"$f":"IF(Indata!M190=\"\",\"\",Indata!M190)","v":""},{"$f":"IF(Indata!N190=\"\",\"\",Indata!N190)","v":""},{"$f":"IF(Indata!O190=\"\",\"\",Indata!O190)","v":""},{"$f":"IF(Indata!P190=\"\",\"\",Indata!P190)","v":""},{"$f":"IF(Indata!Q190=\"\",\"\",Indata!Q190)","v":""},{"$f":"IF(Indata!R190=\"\",\"\",Indata!R190)","v":""},{"$f":"IF(Indata!S190=\"\",\"\",Indata!S190)","v":""},{"$f":"IF(Indata!T190=\"\",\"\",Indata!T190)","v":""},{"$f":"IF(Indata!U190=\"\",\"\",Indata!U190)","v":""},{"$f":"IF(Indata!V190=\"\",\"\",Indata!V190)","v":""},{"$f":"IF(Indata!W190=\"\",\"\",Indata!W190)","v":""},{"$f":"IF(Indata!X190=\"\",\"\",Indata!X190)","v":""},{"$f":"IF(Indata!Y190=\"\",\"\",Indata!Y190)","v":""},{"$f":"IF(Indata!Z190=\"\",\"\",Indata!Z190)","v":""},{"$f":"IF(Indata!AA190=\"\",\"\",Indata!AA190)","v":""}]
[110,"32 Bäljaneå, uppstr Klippan",{"$f":"IF(Indata!C191=\"\",\"\",Indata!C191)","v":""},{"$f":"IF(Indata!D191=\"\",\"\",Indata!D191)","v":""},{"$f":"IF(Indata!E191=\"\",\"\",Indata!E191)","v":""},{"$f":"IF(Indata!F191=\"\",\"\",Indata!F191)","v":""},{"$f":"IF(Indata!G191=\"\",\"\",Indata!G191)","v":""},{"$f":"IF(Indata!H191=\"\",\"\",Indata!H191)","v":""},{"$f":"IF(Indata!I191=\"\",\"\",Indata!I191)","v":""},{"$f":"IF(Indata!J191=\"\",\"\",Indata!J191)","v":""},{"$f":"IF(Indata!K191=\"\",\"\",Indata!K191)","v":""},{"$f":"IF(Indata!L191=\"\",\"\",Indata!L191)","v":""},{"$f":"IF(Indata!M191=\"\",\"\",Indata!M191)","v":""},{"$f":"IF(Indata!N191=\"\",\"\",Indata!N191)","v":""},{"$f":"IF(Indata!O191=\"\",\"\",Indata!O191)","v":""},{"$f":"IF(Indata!P191=\"\",\"\",Indata!P191)","v":""},{"$f":"IF(Indata!Q191=\"\",\"\",Indata!Q191)","v":""},{"$f":"IF(Indata!R191=\"\",\"\",Indata!R191)","v":""},{"$f":"IF(Indata!S191=\"\",\"\",Indata!S191)","v":""},{"$f":"IF(Indata!T191=\"\",\"\",Indata!T191)","v":""},{"$f":"IF(Indata!U191=\"\",\"\",Indata!U191)","v":""},{"$f":"IF(Indata!V191=\"\",\"\",Indata!V191)","v":""},{"$f":"IF(Indata!W191=\"\",\"\",Indata!W191)","v":""},{"$f":"IF(Indata!X191=\"\",\"\",Indata!X191)","v":""},{"$f":"IF(Indata!Y191=\"\",\"\",Indata!Y191)","v":""},{"$f":"IF(Indata!Z191=\"\",\"\",Indata!Z191)","v":""},{"$f":"IF(Indata!AA191=\"\",\"\",Indata!AA191)","v":""}]
[115,"78 Bäljaneå, nedstr Klippans ARV",{"$f":"IF(Indata!C192=\"\",\"\",Indata!C192)","v":""},{"$f":"IF(Indata!D192=\"\",\"\",Indata!D192)","v":""},{"$f":"IF(Indata!E192=\"\",\"\",Indata!E192)","v":""},{"$f":"IF(Indata!F192=\"\",\"\",Indata!F192)","v":""},{"$f":"IF(Indata!G192=\"\",\"\",Indata!G192)","v":""},{"$f":"IF(Indata!H192=\"\",\"\",Indata!H192)","v":""},{"$f":"IF(Indata!I192=\"\",\"\",Indata!I192)","v":""},{"$f":"IF(Indata!J192=\"\",\"\",Indata!J192)","v":""},{"$f":"IF(Indata!K192=\"\",\"\",Indata!K192)","v":""},{"$f":"IF(Indata!L192=\"\",\"\",Indata!L192)","v":""},{"$f":"IF(Indata!M192=\"\",\"\",Indata!M192)","v":""},{"$f":"IF(Indata!N192=\"\",\"\",Indata!N192)","v":""},{"$f":"IF(Indata!O192=\"\",\"\",Indata!O192)","v":""},{"$f":"IF(Indata!P192=\"\",\"\",Indata!P192)","v":""},{"$f":"IF(Indata!Q192=\"\",\"\",Indata!Q192)","v":""},{"$f":"IF(Indata!R192=\"\",\"\",Indata!R192)","v":""},{"$f":"IF(Indata!S192=\"\",\"\",Indata!S192)","v":""},{"$f":"IF(Indata!T192=\"\",\"\",Indata!T192)","v":""},{"$f":"IF(Indata!U192=\"\",\"\",Indata!U192)","v":""},{"$f":"IF(Indata!V192=\"\",\"\",Indata!V192)","v":""},{"$f":"IF(Indata!W192=\"\",\"\",Indata!W192)","v":""},{"$f":"IF(Indata!X192=\"\",\"\",Indata!X192)","v":""},{"$f":"IF(Indata!Y192=\"\",\"\",Indata!Y192)","v":""},{"$f":"IF(Indata!Z192=\"\",\"\",Indata!Z192)","v":""},{"$f":"IF(Indata!AA192=\"\",\"\",Indata!AA192)","v":""}]
[120,"33 Bäljaneå, nedstr Klippan",{"$f":"IF(Indata!C193=\"\",\"\",Indata!C193)","v":""},{"$f":"IF(Indata!D193=\"\",\"\",Indata!D193)","v":""},{"$f":"IF(Indata!E193=\"\",\"\",Indata!E193)","v":""},{"$f":"IF(Indata!F193=\"\",\"\",Indata!F193)","v":""},{"$f":"IF(Indata!G193=\"\",\"\",Indata!G193)","v":""},{"$f":"IF(Indata!H193=\"\",\"\",Indata!H193)","v":""},{"$f":"IF(Indata!I193=\"\",\"\",Indata!I193)","v":""},{"$f":"IF(Indata!J193=\"\",\"\",Indata!J193)","v":""},{"$f":"IF(Indata!K193=\"\",\"\",Indata!K193)","v":""},{"$f":"IF(Indata!L193=\"\",\"\",Indata!L193)","v":""},{"$f":"IF(Indata!M193=\"\",\"\",Indata!M193)","v":""},{"$f":"IF(Indata!N193=\"\",\"\",Indata!N193)","v":""},{"$f":"IF(Indata!O193=\"\",\"\",Indata!O193)","v":""},{"$f":"IF(Indata!P193=\"\",\"\",Indata!P193)","v":""},{"$f":"IF(Indata!Q193=\"\",\"\",Indata!Q193)","v":""},{"$f":"IF(Indata!R193=\"\",\"\",Indata!R193)","v":""},{"$f":"IF(Indata!S193=\"\",\"\",Indata!S193)","v":""},{"$f":"IF(Indata!T193=\"\",\"\",Indata!T193)","v":""},{"$f":"IF(Indata!U193=\"\",\"\",Indata!U193)","v":""},{"$f":"IF(Indata!V193=\"\",\"\",Indata!V193)","v":""},{"$f":"IF(Indata!W193=\"\",\"\",Indata!W193)","v":""},{"$f":"IF(Indata!X193=\"\",\"\",Indata!X193)","v":""},{"$f":"IF(Indata!Y193=\"\",\"\",Indata!Y193)","v":""},{"$f":"IF(Indata!Z193=\"\",\"\",Indata!Z193)","v":""},{"$f":"IF(Indata!AA193=\"\",\"\",Indata!AA193)","v":""}]
[125,"77 Biflöde till Rönneå, uppstr Kvidinge ARV",{"$f":"IF(Indata!C194=\"\",\"\",Indata!C194)","v":""},{"$f":"IF(Indata!D194=\"\",\"\",Indata!D194)","v":""},{"$f":"IF(Indata!E194=\"\",\"\",Indata!E194)","v":""},{"$f":"IF(Indata!F194=\"\",\"\",Indata!F194)","v":""},{"$f":"IF(Indata!G194=\"\",\"\",Indata!G194)","v":""},{"$f":"IF(Indata!H194=\"\",\"\",Indata!H194)","v":""},{"$f":"IF(Indata!I194=\"\",\"\",Indata!I194)","v":""},{"$f":"IF(Indata!J194=\"\",\"\",Indata!J194)","v":""},{"$f":"IF(Indata!K194=\"\",\"\",Indata!K194)","v":""},{"$f":"IF(Indata!L194=\"\",\"\",Indata!L194)","v":""},{"$f":"IF(Indata!M194=\"\",\"\",Indata!M194)","v":""},{"$f":"IF(Indata!N194=\"\",\"\",Indata!N194)","v":""},{"$f":"IF(Indata!O194=\"\",\"\",Indata!O194)","v":""},{"$f":"IF(Indata!P194=\"\",\"\",Indata!P194)","v":""},{"$f":"IF(Indata!Q194=\"\",\"\",Indata!Q194)","v":""},{"$f":"IF(Indata!R194=\"\",\"\",Indata!R194)","v":""},{"$f":"IF(Indata!S194=\"\",\"\",Indata!S194)","v":""},{"$f":"IF(Indata!T194=\"\",\"\",Indata!T194)","v":""},{"$f":"IF(Indata!U194=\"\",\"\",Indata!U194)","v":""},{"$f":"IF(Indata!V194=\"\",\"\",Indata!V194)","v":""},{"$f":"IF(Indata!W194=\"\",\"\",Indata!W194)","v":""},{"$f":"IF(Indata!X194=\"\",\"\",Indata!X194)","v":""},{"$f":"IF(Indata!Y194=\"\",\"\",Indata!Y194)","v":""},{"$f":"IF(Indata!Z194=\"\",\"\",Indata!Z194)","v":""},{"$f":"IF(Indata!AA194=\"\",\"\",Indata!AA194)","v":""}]
[130,"36 Pinnån, nedstr Åsljungasjön",{"$f":"IF(Indata!C195=\"\",\"\",Indata!C195)","v":""},{"$f":"IF(Indata!D195=\"\",\"\",Indata!D195)","v":""},{"$f":"IF(Indata!E195=\"\",\"\",Indata!E195)","v":""},{"$f":"IF(Indata!F195=\"\",\"\",Indata!F195)","v":""},{"$f":"IF(Indata!G195=\"\",\"\",Indata!G195)","v":""},{"$f":"IF(Indata!H195=\"\",\"\",Indata!H195)","v":""},{"$f":"IF(Indata!I195=\"\",\"\",Indata!I195)","v":""},{"$f":"IF(Indata!J195=\"\",\"\",Indata!J195)","v":""},{"$f":"IF(Indata!K195=\"\",\"\",Indata!K195)","v":""},{"$f":"IF(Indata!L195=\"\",\"\",Indata!L195)","v":""},{"$f":"IF(Indata!M195=\"\",\"\",Indata!M195)","v":""},{"$f":"IF(Indata!N195=\"\",\"\",Indata!N195)","v":""},{"$f":"IF(Indata!O195=\"\",\"\",Indata!O195)","v":""},{"$f":"IF(Indata!P195=\"\",\"\",Indata!P195)","v":""},{"$f":"IF(Indata!Q195=\"\",\"\",Indata!Q195)","v":""},{"$f":"IF(Indata!R195=\"\",\"\",Indata!R195)","v":""},{"$f":"IF(Indata!S195=\"\",\"\",Indata!S195)","v":""},{"$f":"IF(Indata!T195=\"\",\"\",Indata!T195)","v":""},{"$f":"IF(Indata!U195=\"\",\"\",Indata!U195)","v":""},{"$f":"IF(Indata!V195=\"\",\"\",Indata!V195)","v":""},{"$f":"IF(Indata!W195=\"\",\"\",Indata!W195)","v":""},{"$f":"IF(Indata!X195=\"\",\"\",Indata!X195)","v":""},{"$f":"IF(Indata!Y195=\"\",\"\",Indata!Y195)","v":""},{"$f":"IF(Indata!Z195=\"\",\"\",Indata!Z195)","v":""},{"$f":"IF(Indata!AA195=\"\",\"\",Indata!AA195)","v":""}]
[135,"40 Pinnån, nedstr Örkelljunga",{"$f":"IF(Indata!C196=\"\",\"\",Indata!C196)","v":""},{"$f":"IF(Indata!D196=\"\",\"\",Indata!D196)","v":""},{"$f":"IF(Indata!E196=\"\",\"\",Indata!E196)","v":""},{"$f":"IF(Indata!F196=\"\",\"\",Indata!F196)","v":""},{"$f":"IF(Indata!G196=\"\",\"\",Indata!G196)","v":""},{"$f":"IF(Indata!H196=\"\",\"\",Indata!H196)","v":""},{"$f":"IF(Indata!I196=\"\",\"\",Indata!I196)","v":""},{"$f":"IF(Indata!J196=\"\",\"\",Indata!J196)","v":""},{"$f":"IF(Indata!K196=\"\",\"\",Indata!K196)","v":""},{"$f":"IF(Indata!L196=\"\",\"\",Indata!L196)","v":""},{"$f":"IF(Indata!M196=\"\",\"\",Indata!M196)","v":""},{"$f":"IF(Indata!N196=\"\",\"\",Indata!N196)","v":""},{"$f":"IF(Indata!O196=\"\",\"\",Indata!O196)","v":""},{"$f":"IF(Indata!P196=\"\",\"\",Indata!P196)","v":""},{"$f":"IF(Indata!Q196=\"\",\"\",Indata!Q196)","v":""},{"$f":"IF(Indata!R196=\"\",\"\",Indata!R196)","v":""},{"$f":"IF(Indata!S196=\"\",\"\",Indata!S196)","v":""},{"$f":"IF(Indata!T196=\"\",\"\",Indata!T196)","v":""},{"$f":"IF(Indata!U196=\"\",\"\",Indata!U196)","v":""},{"$f":"IF(Indata!V196=\"\",\"\",Indata!V196)","v":""},{"$f":"IF(Indata!W196=\"\",\"\",Indata!W196)","v":""},{"$f":"IF(Indata!X196=\"\",\"\",Indata!X196)","v":""},{"$f":"IF(Indata!Y196=\"\",\"\",Indata!Y196)","v":""},{"$f":"IF(Indata!Z196=\"\",\"\",Indata!Z196)","v":""},{"$f":"IF(Indata!AA196=\"\",\"\",Indata!AA196)","v":""}]
[140,"42 Pinnån, uppstr Gelita",{"$f":"IF(Indata!C197=\"\",\"\",Indata!C197)","v":""},{"$f":"IF(Indata!D197=\"\",\"\",Indata!D197)","v":""},{"$f":"IF(Indata!E197=\"\",\"\",Indata!E197)","v":""},{"$f":"IF(Indata!F197=\"\",\"\",Indata!F197)","v":""},{"$f":"IF(Indata!G197=\"\",\"\",Indata!G197)","v":""},{"$f":"IF(Indata!H197=\"\",\"\",Indata!H197)","v":""},{"$f":"IF(Indata!I197=\"\",\"\",Indata!I197)","v":""},{"$f":"IF(Indata!J197=\"\",\"\",Indata!J197)","v":""},{"$f":"IF(Indata!K197=\"\",\"\",Indata!K197)","v":""},{"$f":"IF(Indata!L197=\"\",\"\",Indata!L197)","v":""},{"$f":"IF(Indata!M197=\"\",\"\",Indata!M197)","v":""},{"$f":"IF(Indata!N197=\"\",\"\",Indata!N197)","v":""},{"$f":"IF(Indata!O197=\"\",\"\",Indata!O197)","v":""},{"$f":"IF(Indata!P197=\"\",\"\",Indata!P197)","v":""},{"$f":"IF(Indata!Q197=\"\",\"\",Indata!Q197)","v":""},{"$f":"IF(Indata!R197=\"\",\"\",Indata!R197)","v":""},{"$f":"IF(Indata!S197=\"\",\"\",Indata!S197)","v":""},{"$f":"IF(Indata!T197=\"\",\"\",Indata!T197)","v":""},{"$f":"IF(Indata!U197=\"\",\"\",Indata!U197)","v":""},{"$f":"IF(Indata!V197=\"\",\"\",Indata!V197)","v":""},{"$f":"IF(Indata!W197=\"\",\"\",Indata!W197)","v":""},{"$f":"IF(Indata!X197=\"\",\"\",Indata!X197)","v":""},{"$f":"IF(Indata!Y197=\"\",\"\",Indata!Y197)","v":""},{"$f":"IF(Indata!Z197=\"\",\"\",Indata!Z197)","v":""},{"$f":"IF(Indata!AA197=\"\",\"\",Indata!AA197)","v":""}]
[145,"44 Pinnån, utfl ur Kopparmölledamm",{"$f":"IF(Indata!C198=\"\",\"\",Indata!C198)","v":""},{"$f":"IF(Indata!D198=\"\",\"\",Indata!D198)","v":""},{"$f":"IF(Indata!E198=\"\",\"\",Indata!E198)","v":""},{"$f":"IF(Indata!F198=\"\",\"\",Indata!F198)","v":""},{"$f":"IF(Indata!G198=\"\",\"\",Indata!G198)","v":""},{"$f":"IF(Indata!H198=\"\",\"\",Indata!H198)","v":""},{"$f":"IF(Indata!I198=\"\",\"\",Indata!I198)","v":""},{"$f":"IF(Indata!J198=\"\",\"\",Indata!J198)","v":""},{"$f":"IF(Indata!K198=\"\",\"\",Indata!K198)","v":""},{"$f":"IF(Indata!L198=\"\",\"\",Indata!L198)","v":""},{"$f":"IF(Indata!M198=\"\",\"\",Indata!M198)","v":""},{"$f":"IF(Indata!N198=\"\",\"\",Indata!N198)","v":""},{"$f":"IF(Indata!O198=\"\",\"\",Indata!O198)","v":""},{"$f":"IF(Indata!P198=\"\",\"\",Indata!P198)","v":""},{"$f":"IF(Indata!Q198=\"\",\"\",Indata!Q198)","v":""},{"$f":"IF(Indata!R198=\"\",\"\",Indata!R198)","v":""},{"$f":"IF(Indata!S198=\"\",\"\",Indata!S198)","v":""},{"$f":"IF(Indata!T198=\"\",\"\",Indata!T198)","v":""},{"$f":"IF(Indata!U198=\"\",\"\",Indata!U198)","v":""},{"$f":"IF(Indata!V198=\"\",\"\",Indata!V198)","v":""},{"$f":"IF(Indata!W198=\"\",\"\",Indata!W198)","v":""},{"$f":"IF(Indata!X198=\"\",\"\",Indata!X198)","v":""},{"$f":"IF(Indata!Y198=\"\",\"\",Indata!Y198)","v":""},{"$f":"IF(Indata!Z198=\"\",\"\",Indata!Z198)","v":""},{"$f":"IF(Indata!AA198=\"\",\"\",Indata!AA198)","v":""}]
[150,"58 Pinnån, vid utfl t Rönneå",{"$f":"IF(Indata!C199=\"\",\"\",Indata!C199)","v":""},{"$f":"IF(Indata!D199=\"\",\"\",Indata!D199)","v":""},{"$f":"IF(Indata!E199=\"\",\"\",Indata!E199)","v":""},{"$f":"IF(Indata!F199=\"\",\"\",Indata!F199)","v":""},{"$f":"IF(Indata!G199=\"\",\"\",Indata!G199)","v":""},{"$f":"IF(Indata!H199=\"\",\"\",Indata!H199)","v":""},{"$f":"IF(Indata!I199=\"\",\"\",Indata!I199)","v":""},{"$f":"IF(Indata!J199=\"\",\"\",Indata!J199)","v":""},{"$f":"IF(Indata!K199=\"\",\"\",Indata!K199)","v":""},{"$f":"IF(Indata!L199=\"\",\"\",Indata!L199)","v":""},{"$f":"IF(Indata!M199=\"\",\"\",Indata!M199)","v":""},{"$f":"IF(Indata!N199=\"\",\"\",Indata!N199)","v":""},{"$f":"IF(Indata!O199=\"\",\"\",Indata!O199)","v":""},{"$f":"IF(Indata!P199=\"\",\"\",Indata!P199)","v":""},{"$f":"IF(Indata!Q199=\"\",\"\",Indata!Q199)","v":""},{"$f":"IF(Indata!R199=\"\",\"\",Indata!R199)","v":""},{"$f":"IF(Indata!S199=\"\",\"\",Indata!S199)","v":""},{"$f":"IF(Indata!T199=\"\",\"\",Indata!T199)","v":""},{"$f":"IF(Indata!U199=\"\",\"\",Indata!U199)","v":""},{"$f":"IF(Indata!V199=\"\",\"\",Indata!V199)","v":""},{"$f":"IF(Indata!W199=\"\",\"\",Indata!W199)","v":""},{"$f":"IF(Indata!X199=\"\",\"\",Indata!X199)","v":""},{"$f":"IF(Indata!Y199=\"\",\"\",Indata!Y199)","v":""},{"$f":"IF(Indata!Z199=\"\",\"\",Indata!Z199)","v":""},{"$f":"IF(Indata!AA199=\"\",\"\",Indata!AA199)","v":""}]
[155,"70 Kägleån, vid Ängeltofta",{"$f":"IF(Indata!C200=\"\",\"\",Indata!C200)","v":""},{"$f":"IF(Indata!D200=\"\",\"\",Indata!D200)","v":""},{"$f":"IF(Indata!E200=\"\",\"\",Indata!E200)","v":""},{"$f":"IF(Indata!F200=\"\",\"\",Indata!F200)","v":""},{"$f":"IF(Indata!G200=\"\",\"\",Indata!G200)","v":""},{"$f":"IF(Indata!H200=\"\",\"\",Indata!H200)","v":""},{"$f":"IF(Indata!I200=\"\",\"\",Indata!I200)","v":""},{"$f":"IF(Indata!J200=\"\",\"\",Indata!J200)","v":""},{"$f":"IF(Indata!K200=\"\",\"\",Indata!K200)","v":""},{"$f":"IF(Indata!L200=\"\",\"\",Indata!L200)","v":""},{"$f":"IF(Indata!M200=\"\",\"\",Indata!M200)","v":""},{"$f":"IF(Indata!N200=\"\",\"\",Indata!N200)","v":""},{"$f":"IF(Indata!O200=\"\",\"\",Indata!O200)","v":""},{"$f":"IF(Indata!P200=\"\",\"\",Indata!P200)","v":""},{"$f":"IF(Indata!Q200=\"\",\"\",Indata!Q200)","v":""},{"$f":"IF(Indata!R200=\"\",\"\",Indata!R200)","v":""},{"$f":"IF(Indata!S200=\"\",\"\",Indata!S200)","v":""},{"$f":"IF(Indata!T200=\"\",\"\",Indata!T200)","v":""},{"$f":"IF(Indata!U200=\"\",\"\",Indata!U200)","v":""},{"$f":"IF(Indata!V200=\"\",\"\",Indata!V200)","v":""},{"$f":"IF(Indata!W200=\"\",\"\",Indata!W200)","v":""},{"$f":"IF(Indata!X200=\"\",\"\",Indata!X200)","v":""},{"$f":"IF(Indata!Y200=\"\",\"\",Indata!Y200)","v":""},{"$f":"IF(Indata!Z200=\"\",\"\",Indata!Z200)","v":""},{"$f":"IF(Indata!AA200=\"\",\"\",Indata!AA200)","v":""}]
[160,"55 Kägleån, vägbro Åkersholm",{"$f":"IF(Indata!C201=\"\",\"\",Indata!C201)","v":""},{"$f":"IF(Indata!D201=\"\",\"\",Indata!D201)","v":""},{"$f":"IF(Indata!E201=\"\",\"\",Indata!E201)","v":""},{"$f":"IF(Indata!F201=\"\",\"\",Indata!F201)","v":""},{"$f":"IF(Indata!G201=\"\",\"\",Indata!G201)","v":""},{"$f":"IF(Indata!H201=\"\",\"\",Indata!H201)","v":""},{"$f":"IF(Indata!I201=\"\",\"\",Indata!I201)","v":""},{"$f":"IF(Indata!J201=\"\",\"\",Indata!J201)","v":""},{"$f":"IF(Indata!K201=\"\",\"\",Indata!K201)","v":""},{"$f":"IF(Indata!L201=\"\",\"\",Indata!L201)","v":""},{"$f":"IF(Indata!M201=\"\",\"\",Indata!M201)","v":""},{"$f":"IF(Indata!N201=\"\",\"\",Indata!N201)","v":""},{"$f":"IF(Indata!O201=\"\",\"\",Indata!O201)","v":""},{"$f":"IF(Indata!P201=\"\",\"\",Indata!P201)","v":""},{"$f":"IF(Indata!Q201=\"\",\"\",Indata!Q201)","v":""},{"$f":"IF(Indata!R201=\"\",\"\",Indata!R201)","v":""},{"$f":"IF(Indata!S201=\"\",\"\",Indata!S201)","v":""},{"$f":"IF(Indata!T201=\"\",\"\",Indata!T201)","v":""},{"$f":"IF(Indata!U201=\"\",\"\",Indata!U201)","v":""},{"$f":"IF(Indata!V201=\"\",\"\",Indata!V201)","v":""},{"$f":"IF(Indata!W201=\"\",\"\",Indata!W201)","v":""},{"$f":"IF(Indata!X201=\"\",\"\",Indata!X201)","v":""},{"$f":"IF(Indata!Y201=\"\",\"\",Indata!Y201)","v":""},{"$f":"IF(Indata!Z201=\"\",\"\",Indata!Z201)","v":""},{"$f":"IF(Indata!AA201=\"\",\"\",Indata!AA201)","v":""}]
[165,"56 Rössjöholmsån, f utfl t Rönneå",{"$f":"IF(Indata!C202=\"\",\"\",Indata!C202)","v":""},{"$f":"IF(Indata!D202=\"\",\"\",Indata!D202)","v":""},{"$f":"IF(Indata!E202=\"\",\"\",Indata!E202)","v":""},{"$f":"IF(Indata!F202=\"\",\"\",Indata!F202)","v":""},{"$f":"IF(Indata!G202=\"\",\"\",Indata!G202)","v":""},{"$f":"IF(Indata!H202=\"\",\"\",Indata!H202)","v":""},{"$f":"IF(Indata!I202=\"\",\"\",Indata!I202)","v":""},{"$f":"IF(Indata!J202=\"\",\"\",Indata!J202)","v":""},{"$f":"IF(Indata!K202=\"\",\"\",Indata!K202)","v":""},{"$f":"IF(Indata!L202=\"\",\"\",Indata!L202)","v":""},{"$f":"IF(Indata!M202=\"\",\"\",Indata!M202)","v":""},{"$f":"IF(Indata!N202=\"\",\"\",Indata!N202)","v":""},{"$f":"IF(Indata!O202=\"\",\"\",Indata!O202)","v":""},{"$f":"IF(Indata!P202=\"\",\"\",Indata!P202)","v":""},{"$f":"IF(Indata!Q202=\"\",\"\",Indata!Q202)","v":""},{"$f":"IF(Indata!R202=\"\",\"\",Indata!R202)","v":""},{"$f":"IF(Indata!S202=\"\",\"\",Indata!S202)","v":""},{"$f":"IF(Indata!T202=\"\",\"\",Indata!T202)","v":""},{"$f":"IF(Indata!U202=\"\",\"\",Indata!U202)","v":""},{"$f":"IF(Indata!V202=\"\",\"\",Indata!V202)","v":""},{"$f":"IF(Indata!W202=\"\",\"\",Indata!W202)","v":""},{"$f":"IF(Indata!X202=\"\",\"\",Indata!X202)","v":""},{"$f":"IF(Indata!Y202=\"\",\"\",Indata!Y202)","v":""},{"$f":"IF(Indata!Z202=\"\",\"\",Indata!Z202)","v":""},{"$f":"IF(Indata!AA202=\"\",\"\",Indata!AA202)","v":""}]
[220,"Ri5 Sätoftasjön, ytan",{"$f":"IF(Indata!C203=\"\",\"\",Indata!C203)","v":""},{"$f":"IF(Indata!D203=\"\",\"\",Indata!D203)","v":""},{"$f":"IF(Indata!E203=\"\",\"\",Indata!E203)","v":""},{"$f":"IF(Indata!F203=\"\",\"\",Indata!F203)","v":""},{"$f":"IF(Indata!G203=\"\",\"\",Indata!G203)","v":""},{"$f":"IF(Indata!H203=\"\",\"\",Indata!H203)","v":""},{"$f":"IF(Indata!I203=\"\",\"\",Indata!I203)","v":""},{"$f":"IF(Indata!J203=\"\",\"\",Indata!J203)","v":""},{"$f":"IF(Indata!K203=\"\",\"\",Indata!K203)","v":""},{"$f":"IF(Indata!L203=\"\",\"\",Indata!L203)","v":""},{"$f":"IF(Indata!M203=\"\",\"\",Indata!M203)","v":""},{"$f":"IF(Indata!N203=\"\",\"\",Indata!N203)","v":""},{"$f":"IF(Indata!O203=\"\",\"\",Indata!O203)","v":""},{"$f":"IF(Indata!P203=\"\",\"\",Indata!P203)","v":""},{"$f":"IF(Indata!Q203=\"\",\"\",Indata!Q203)","v":""},{"$f":"IF(Indata!R203=\"\",\"\",Indata!R203)","v":""},{"$f":"IF(Indata!S203=\"\",\"\",Indata!S203)","v":""},{"$f":"IF(Indata!T203=\"\",\"\",Indata!T203)","v":""},{"$f":"IF(Indata!U203=\"\",\"\",Indata!U203)","v":""},{"$f":"IF(Indata!V203=\"\",\"\",Indata!V203)","v":""},{"$f":"IF(Indata!W203=\"\",\"\",Indata!W203)","v":""},{"$f":"IF(Indata!X203=\"\",\"\",Indata!X203)","v":""},{"$f":"IF(Indata!Y203=\"\",\"\",Indata!Y203)","v":""},{"$f":"IF(Indata!Z203=\"\",\"\",Indata!Z203)","v":""},{"$f":"IF(Indata!AA203=\"\",\"\",Indata!AA203)","v":""}]
[225,"Ri5 Sätoftasjön, 15 m",{"$f":"IF(Indata!C204=\"\",\"\",Indata!C204)","v":""},{"$f":"IF(Indata!D204=\"\",\"\",Indata!D204)","v":""},{"$f":"IF(Indata!E204=\"\",\"\",Indata!E204)","v":""},{"$f":"IF(Indata!F204=\"\",\"\",Indata!F204)","v":""},{"$f":"IF(Indata!G204=\"\",\"\",Indata!G204)","v":""},{"$f":"IF(Indata!H204=\"\",\"\",Indata!H204)","v":""},{"$f":"IF(Indata!I204=\"\",\"\",Indata!I204)","v":""},{"$f":"IF(Indata!J204=\"\",\"\",Indata!J204)","v":""},{"$f":"IF(Indata!K204=\"\",\"\",Indata!K204)","v":""},{"$f":"IF(Indata!L204=\"\",\"\",Indata!L204)","v":""},{"$f":"IF(Indata!M204=\"\",\"\",Indata!M204)","v":""},{"$f":"IF(Indata!N204=\"\",\"\",Indata!N204)","v":""},{"$f":"IF(Indata!O204=\"\",\"\",Indata!O204)","v":""},{"$f":"IF(Indata!P204=\"\",\"\",Indata!P204)","v":""},{"$f":"IF(Indata!Q204=\"\",\"\",Indata!Q204)","v":""},{"$f":"IF(Indata!R204=\"\",\"\",Indata!R204)","v":""},{"$f":"IF(Indata!S204=\"\",\"\",Indata!S204)","v":""},{"$f":"IF(Indata!T204=\"\",\"\",Indata!T204)","v":""},{"$f":"IF(Indata!U204=\"\",\"\",Indata!U204)","v":""},{"$f":"IF(Indata!V204=\"\",\"\",Indata!V204)","v":""},{"$f":"IF(Indata!W204=\"\",\"\",Indata!W204)","v":""},{"$f":"IF(Indata!X204=\"\",\"\",Indata!X204)","v":""},{"$f":"IF(Indata!Y204=\"\",\"\",Indata!Y204)","v":""},{"$f":"IF(Indata!Z204=\"\",\"\",Indata!Z204)","v":""},{"$f":"IF(Indata!AA204=\"\",\"\",Indata!AA204)","v":""}]
[230,"Ri4 Östra Ringsjön, ytan",{"$f":"IF(Indata!C205=\"\",\"\",Indata!C205)","v":""},{"$f":"IF(Indata!D205=\"\",\"\",Indata!D205)","v":""},{"$f":"IF(Indata!E205=\"\",\"\",Indata!E205)","v":""},{"$f":"IF(Indata!F205=\"\",\"\",Indata!F205)","v":""},{"$f":"IF(Indata!G205=\"\",\"\",Indata!G205)","v":""},{"$f":"IF(Indata!H205=\"\",\"\",Indata!H205)","v":""},{"$f":"IF(Indata!I205=\"\",\"\",Indata!I205)","v":""},{"$f":"IF(Indata!J205=\"\",\"\",Indata!J205)","v":""},{"$f":"IF(Indata!K205=\"\",\"\",Indata!K205)","v":""},{"$f":"IF(Indata!L205=\"\",\"\",Indata!L205)","v":""},{"$f":"IF(Indata!M205=\"\",\"\",Indata!M205)","v":""},{"$f":"IF(Indata!N205=\"\",\"\",Indata!N205)","v":""},{"$f":"IF(Indata!O205=\"\",\"\",Indata!O205)","v":""},{"$f":"IF(Indata!P205=\"\",\"\",Indata!P205)","v":""},{"$f":"IF(Indata!Q205=\"\",\"\",Indata!Q205)","v":""},{"$f":"IF(Indata!R205=\"\",\"\",Indata!R205)","v":""},{"$f":"IF(Indata!S205=\"\",\"\",Indata!S205)","v":""},{"$f":"IF(Indata!T205=\"\",\"\",Indata!T205)","v":""},{"$f":"IF(Indata!U205=\"\",\"\",Indata!U205)","v":""},{"$f":"IF(Indata!V205=\"\",\"\",Indata!V205)","v":""},{"$f":"IF(Indata!W205=\"\",\"\",Indata!W205)","v":""},{"$f":"IF(Indata!X205=\"\",\"\",Indata!X205)","v":""},{"$f":"IF(Indata!Y205=\"\",\"\",Indata!Y205)","v":""},{"$f":"IF(Indata!Z205=\"\",\"\",Indata!Z205)","v":""},{"$f":"IF(Indata!AA205=\"\",\"\",Indata!AA205)","v":""}]
[235,"Ri4 Östra Ringsjön, 15 m",{"$f":"IF(Indata!C206=\"\",\"\",Indata!C206)","v":""},{"$f":"IF(Indata!D206=\"\",\"\",Indata!D206)","v":""},{"$f":"IF(Indata!E206=\"\",\"\",Indata!E206)","v":""},{"$f":"IF(Indata!F206=\"\",\"\",Indata!F206)","v":""},{"$f":"IF(Indata!G206=\"\",\"\",Indata!G206)","v":""},{"$f":"IF(Indata!H206=\"\",\"\",Indata!H206)","v":""},{"$f":"IF(Indata!I206=\"\",\"\",Indata!I206)","v":""},{"$f":"IF(Indata!J206=\"\",\"\",Indata!J206)","v":""},{"$f":"IF(Indata!K206=\"\",\"\",Indata!K206)","v":""},{"$f":"IF(Indata!L206=\"\",\"\",Indata!L206)","v":""},{"$f":"IF(Indata!M206=\"\",\"\",Indata!M206)","v":""},{"$f":"IF(Indata!N206=\"\",\"\",Indata!N206)","v":""},{"$f":"IF(Indata!O206=\"\",\"\",Indata!O206)","v":""},{"$f":"IF(Indata!P206=\"\",\"\",Indata!P206)","v":""},{"$f":"IF(Indata!Q206=\"\",\"\",Indata!Q206)","v":""},{"$f":"IF(Indata!R206=\"\",\"\",Indata!R206)","v":""},{"$f":"IF(Indata!S206=\"\",\"\",Indata!S206)","v":""},{"$f":"IF(Indata!T206=\"\",\"\",Indata!T206)","v":""},{"$f":"IF(Indata!U206=\"\",\"\",Indata!U206)","v":""},{"$f":"IF(Indata!V206=\"\",\"\",Indata!V206)","v":""},{"$f":"IF(Indata!W206=\"\",\"\",Indata!W206)","v":""},{"$f":"IF(Indata!X206=\"\",\"\",Indata!X206)","v":""},{"$f":"IF(Indata!Y206=\"\",\"\",Indata!Y206)","v":""},{"$f":"IF(Indata!Z206=\"\",\"\",Indata!Z206)","v":""},{"$f":"IF(Indata!AA206=\"\",\"\",Indata!AA206)","v":""}]
[240,"Ri2 Västra Ringsjön, ytan",{"$f":"IF(Indata!C207=\"\",\"\",Indata!C207)","v":""},{"$f":"IF(Indata!D207=\"\",\"\",Indata!D207)","v":""},{"$f":"IF(Indata!E207=\"\",\"\",Indata!E207)","v":""},{"$f":"IF(Indata!F207=\"\",\"\",Indata!F207)","v":""},{"$f":"IF(Indata!G207=\"\",\"\",Indata!G207)","v":""},{"$f":"IF(Indata!H207=\"\",\"\",Indata!H207)","v":""},{"$f":"IF(Indata!I207=\"\",\"\",Indata!I207)","v":""},{"$f":"IF(Indata!J207=\"\",\"\",Indata!J207)","v":""},{"$f":"IF(Indata!K207=\"\",\"\",Indata!K207)","v":""},{"$f":"IF(Indata!L207=\"\",\"\",Indata!L207)","v":""},{"$f":"IF(Indata!M207=\"\",\"\",Indata!M207)","v":""},{"$f":"IF(Indata!N207=\"\",\"\",Indata!N207)","v":""},{"$f":"IF(Indata!O207=\"\",\"\",Indata!O207)","v":""},{"$f":"IF(Indata!P207=\"\",\"\",Indata!P207)","v":""},{"$f":"IF(Indata!Q207=\"\",\"\",Indata!Q207)","v":""},{"$f":"IF(Indata!R207=\"\",\"\",Indata!R207)","v":""},{"$f":"IF(Indata!S207=\"\",\"\",Indata!S207)","v":""},{"$f":"IF(Indata!T207=\"\",\"\",Indata!T207)","v":""},{"$f":"IF(Indata!U207=\"\",\"\",Indata!U207)","v":""},{"$f":"IF(Indata!V207=\"\",\"\",Indata!V207)","v":""},{"$f":"IF(Indata!W207=\"\",\"\",Indata!W207)","v":""},{"$f":"IF(Indata!X207=\"\",\"\",Indata!X207)","v":""},{"$f":"IF(Indata!Y207=\"\",\"\",Indata!Y207)","v":""},{"$f":"IF(Indata!Z207=\"\",\"\",Indata!Z207)","v":""},{"$f":"IF(Indata!AA207=\"\",\"\",Indata!AA207)","v":""}]
[245,"Ri2 Västra Ringsjön, 4 m",{"$f":"IF(Indata!C208=\"\",\"\",Indata!C208)","v":""},{"$f":"IF(Indata!D208=\"\",\"\",Indata!D208)","v":""},{"$f":"IF(Indata!E208=\"\",\"\",Indata!E208)","v":""},{"$f":"IF(Indata!F208=\"\",\"\",Indata!F208)","v":""},{"$f":"IF(Indata!G208=\"\",\"\",Indata!G208)","v":""},{"$f":"IF(Indata!H208=\"\",\"\",Indata!H208)","v":""},{"$f":"IF(Indata!I208=\"\",\"\",Indata!I208)","v":""},{"$f":"IF(Indata!J208=\"\",\"\",Indata!J208)","v":""},{"$f":"IF(Indata!K208=\"\",\"\",Indata!K208)","v":""},{"$f":"IF(Indata!L208=\"\",\"\",Indata!L208)","v":""},{"$f":"IF(Indata!M208=\"\",\"\",Indata!M208)","v":""},{"$f":"IF(Indata!N208=\"\",\"\",Indata!N208)","v":""},{"$f":"IF(Indata!O208=\"\",\"\",Indata!O208)","v":""},{"$f":"IF(Indata!P208=\"\",\"\",Indata!P208)","v":""},{"$f":"IF(Indata!Q208=\"\",\"\",Indata!Q208)","v":""},{"$f":"IF(Indata!R208=\"\",\"\",Indata!R208)","v":""},{"$f":"IF(Indata!S208=\"\",\"\",Indata!S208)","v":""},{"$f":"IF(Indata!T208=\"\",\"\",Indata!T208)","v":""},{"$f":"IF(Indata!U208=\"\",\"\",Indata!U208)","v":""},{"$f":"IF(Indata!V208=\"\",\"\",Indata!V208)","v":""},{"$f":"IF(Indata!W208=\"\",\"\",Indata!W208)","v":""},{"$f":"IF(Indata!X208=\"\",\"\",Indata!X208)","v":""},{"$f":"IF(Indata!Y208=\"\",\"\",Indata!Y208)","v":""},{"$f":"IF(Indata!Z208=\"\",\"\",Indata!Z208)","v":""},{"$f":"IF(Indata!AA208=\"\",\"\",Indata!AA208)","v":""}]
[300]
[250,"augusti"]
[3,"3  Rönneå, uppstr Bålamöllan",{"$f":"IF(Indata!C211=\"\",\"\",Indata!C211)","v":""},{"$f":"IF(Indata!D211=\"\",\"\",Indata!D211)","v":""},{"$f":"IF(Indata!E211=\"\",\"\",Indata!E211)","v":""},{"$f":"IF(Indata!F211=\"\",\"\",Indata!F211)","v":""},{"$f":"IF(Indata!G211=\"\",\"\",Indata!G211)","v":""},{"$f":"IF(Indata!H211=\"\",\"\",Indata!H211)","v":""},{"$f":"IF(Indata!I211=\"\",\"\",Indata!I211)","v":""},{"$f":"IF(Indata!J211=\"\",\"\",Indata!J211)","v":""},{"$f":"IF(Indata!K211=\"\",\"\",Indata!K211)","v":""},{"$f":"IF(Indata!L211=\"\",\"\",Indata!L211)","v":""},{"$f":"IF(Indata!M211=\"\",\"\",Indata!M211)","v":""},{"$f":"IF(Indata!N211=\"\",\"\",Indata!N211)","v":""},{"$f":"IF(Indata!O211=\"\",\"\",Indata!O211)","v":""},{"$f":"IF(Indata!P211=\"\",\"\",Indata!P211)","v":""},{"$f":"IF(Indata!Q211=\"\",\"\",Indata!Q211)","v":""},{"$f":"IF(Indata!R211=\"\",\"\",Indata!R211)","v":""},{"$f":"IF(Indata!S211=\"\",\"\",Indata!S211)","v":""},{"$f":"IF(Indata!T211=\"\",\"\",Indata!T211)","v":""},{"$f":"IF(Indata!U211=\"\",\"\",Indata!U211)","v":""},{"$f":"IF(Indata!V211=\"\",\"\",Indata!V211)","v":""},{"$f":"IF(Indata!W211=\"\",\"\",Indata!W211)","v":""},{"$f":"IF(Indata!X211=\"\",\"\",Indata!X211)","v":""},{"$f":"IF(Indata!Y211=\"\",\"\",Indata!Y211)","v":""},{"$f":"IF(Indata!Z211=\"\",\"\",Indata!Z211)","v":""},{"$f":"IF(Indata!AA211=\"\",\"\",Indata!AA211)","v":""}]
[5,"75 Rönneå, Bögerup vid bron innan Bolebäcken",{"$f":"IF(Indata!C212=\"\",\"\",Indata!C212)","v":""},{"$f":"IF(Indata!D212=\"\",\"\",Indata!D212)","v":""},{"$f":"IF(Indata!E212=\"\",\"\",Indata!E212)","v":""},{"$f":"IF(Indata!F212=\"\",\"\",Indata!F212)","v":""},{"$f":"IF(Indata!G212=\"\",\"\",Indata!G212)","v":""},{"$f":"IF(Indata!H212=\"\",\"\",Indata!H212)","v":""},{"$f":"IF(Indata!I212=\"\",\"\",Indata!I212)","v":""},{"$f":"IF(Indata!J212=\"\",\"\",Indata!J212)","v":""},{"$f":"IF(Indata!K212=\"\",\"\",Indata!K212)","v":""},{"$f":"IF(Indata!L212=\"\",\"\",Indata!L212)","v":""},{"$f":"IF(Indata!M212=\"\",\"\",Indata!M212)","v":""},{"$f":"IF(Indata!N212=\"\",\"\",Indata!N212)","v":""},{"$f":"IF(Indata!O212=\"\",\"\",Indata!O212)","v":""},{"$f":"IF(Indata!P212=\"\",\"\",Indata!P212)","v":""},{"$f":"IF(Indata!Q212=\"\",\"\",Indata!Q212)","v":""},{"$f":"IF(Indata!R212=\"\",\"\",Indata!R212)","v":""},{"$f":"IF(Indata!S212=\"\",\"\",Indata!S212)","v":""},{"$f":"IF(Indata!T212=\"\",\"\",Indata!T212)","v":""},{"$f":"IF(Indata!U212=\"\",\"\",Indata!U212)","v":""},{"$f":"IF(Indata!V212=\"\",\"\",Indata!V212)","v":""},{"$f":"IF(Indata!W212=\"\",\"\",Indata!W212)","v":""},{"$f":"IF(Indata!X212=\"\",\"\",Indata!X212)","v":""},{"$f":"IF(Indata!Y212=\"\",\"\",Indata!Y212)","v":""},{"$f":"IF(Indata!Z212=\"\",\"\",Indata!Z212)","v":""},{"$f":"IF(Indata!AA212=\"\",\"\",Indata!AA212)","v":""}]
[10,"11 Rönneå, vid Djupadalsmölla",{"$f":"IF(Indata!C213=\"\",\"\",Indata!C213)","v":""},{"$f":"IF(Indata!D213=\"\",\"\",Indata!D213)","v":""},{"$f":"IF(Indata!E213=\"\",\"\",Indata!E213)","v":""},{"$f":"IF(Indata!F213=\"\",\"\",Indata!F213)","v":""},{"$f":"IF(Indata!G213=\"\",\"\",Indata!G213)","v":""},{"$f":"IF(Indata!H213=\"\",\"\",Indata!H213)","v":""},{"$f":"IF(Indata!I213=\"\",\"\",Indata!I213)","v":""},{"$f":"IF(Indata!J213=\"\",\"\",Indata!J213)","v":""},{"$f":"IF(Indata!K213=\"\",\"\",Indata!K213)","v":""},{"$f":"IF(Indata!L213=\"\",\"\",Indata!L213)","v":""},{"$f":"IF(Indata!M213=\"\",\"\",Indata!M213)","v":""},{"$f":"IF(Indata!N213=\"\",\"\",Indata!N213)","v":""},{"$f":"IF(Indata!O213=\"\",\"\",Indata!O213)","v":""},{"$f":"IF(Indata!P213=\"\",\"\",Indata!P213)","v":""},{"$f":"IF(Indata!Q213=\"\",\"\",Indata!Q213)","v":""},{"$f":"IF(Indata!R213=\"\",\"\",Indata!R213)","v":""},{"$f":"IF(Indata!S213=\"\",\"\",Indata!S213)","v":""},{"$f":"IF(Indata!T213=\"\",\"\",Indata!T213)","v":""},{"$f":"IF(Indata!U213=\"\",\"\",Indata!U213)","v":""},{"$f":"IF(Indata!V213=\"\",\"\",Indata!V213)","v":""},{"$f":"IF(Indata!W213=\"\",\"\",Indata!W213)","v":""},{"$f":"IF(Indata!X213=\"\",\"\",Indata!X213)","v":""},{"$f":"IF(Indata!Y213=\"\",\"\",Indata!Y213)","v":""},{"$f":"IF(Indata!Z213=\"\",\"\",Indata!Z213)","v":""},{"$f":"IF(Indata!AA213=\"\",\"\",Indata!AA213)","v":""}]
[15,"14 Rönneå, uppstr Ljungbyheds ARV",{"$f":"IF(Indata!C214=\"\",\"\",Indata!C214)","v":""},{"$f":"IF(Indata!D214=\"\",\"\",Indata!D214)","v":""},{"$f":"IF(Indata!E214=\"\",\"\",Indata!E214)","v":""},{"$f":"IF(Indata!F214=\"\",\"\",Indata!F214)","v":""},{"$f":"IF(Indata!G214=\"\",\"\",Indata!G214)","v":""},{"$f":"IF(Indata!H214=\"\",\"\",Indata!H214)","v":""},{"$f":"IF(Indata!I214=\"\",\"\",Indata!I214)","v":""},{"$f":"IF(Indata!J214=\"\",\"\",Indata!J214)","v":""},{"$f":"IF(Indata!K214=\"\",\"\",Indata!K214)","v":""},{"$f":"IF(Indata!L214=\"\",\"\",Indata!L214)","v":""},{"$f":"IF(Indata!M214=\"\",\"\",Indata!M214)","v":""},{"$f":"IF(Indata!N214=\"\",\"\",Indata!N214)","v":""},{"$f":"IF(Indata!O214=\"\",\"\",Indata!O214)","v":""},{"$f":"IF(Indata!P214=\"\",\"\",Indata!P214)","v":""},{"$f":"IF(Indata!Q214=\"\",\"\",Indata!Q214)","v":""},{"$f":"IF(Indata!R214=\"\",\"\",Indata!R214)","v":""},{"$f":"IF(Indata!S214=\"\",\"\",Indata!S214)","v":""},{"$f":"IF(Indata!T214=\"\",\"\",Indata!T214)","v":""},{"$f":"IF(Indata!U214=\"\",\"\",Indata!U214)","v":""},{"$f":"IF(Indata!V214=\"\",\"\",Indata!V214)","v":""},{"$f":"IF(Indata!W214=\"\",\"\",Indata!W214)","v":""},{"$f":"IF(Indata!X214=\"\",\"\",Indata!X214)","v":""},{"$f":"IF(Indata!Y214=\"\",\"\",Indata!Y214)","v":""},{"$f":"IF(Indata!Z214=\"\",\"\",Indata!Z214)","v":""},{"$f":"IF(Indata!AA214=\"\",\"\",Indata!AA214)","v":""}]
[20,"79 Rönneå, nedstr Ljungbyhed ARV",{"$f":"IF(Indata!C215=\"\",\"\",Indata!C215)","v":""},{"$f":"IF(Indata!D215=\"\",\"\",Indata!D215)","v":""},{"$f":"IF(Indata!E215=\"\",\"\",Indata!E215)","v":""},{"$f":"IF(Indata!F215=\"\",\"\",Indata!F215)","v":""},{"$f":"IF(Indata!G215=\"\",\"\",Indata!G215)","v":""},{"$f":"IF(Indata!H215=\"\",\"\",Indata!H215)","v":""},{"$f":"IF(Indata!I215=\"\",\"\",Indata!I215)","v":""},{"$f":"IF(Indata!J215=\"\",\"\",Indata!J215)","v":""},{"$f":"IF(Indata!K215=\"\",\"\",Indata!K215)","v":""},{"$f":"IF(Indata!L215=\"\",\"\",Indata!L215)","v":""},{"$f":"IF(Indata!M215=\"\",\"\",Indata!M215)","v":""},{"$f":"IF(Indata!N215=\"\",\"\",Indata!N215)","v":""},{"$f":"IF(Indata!O215=\"\",\"\",Indata!O215)","v":""},{"$f":"IF(Indata!P215=\"\",\"\",Indata!P215)","v":""},{"$f":"IF(Indata!Q215=\"\",\"\",Indata!Q215)","v":""},{"$f":"IF(Indata!R215=\"\",\"\",Indata!R215)","v":""},{"$f":"IF(Indata!S215=\"\",\"\",Indata!S215)","v":""},{"$f":"IF(Indata!T215=\"\",\"\",Indata!T215)","v":""},{"$f":"IF(Indata!U215=\"\",\"\",Indata!U215)","v":""},{"$f":"IF(Indata!V215=\"\",\"\",Indata!V215)","v":""},{"$f":"IF(Indata!W215=\"\",\"\",Indata!W215)","v":""},{"$f":"IF(Indata!X215=\"\",\"\",Indata!X215)","v":""},{"$f":"IF(Indata!Y215=\"\",\"\",Indata!Y215)","v":""},{"$f":"IF(Indata!Z215=\"\",\"\",Indata!Z215)","v":""},{"$f":"IF(Indata!AA215=\"\",\"\",Indata!AA215)","v":""}]
[25,"24 Rönneå, vid Forsmöllan",{"$f":"IF(Indata!C216=\"\",\"\",Indata!C216)","v":""},{"$f":"IF(Indata!D216=\"\",\"\",Indata!D216)","v":""},{"$f":"IF(Indata!E216=\"\",\"\",Indata!E216)","v":""},{"$f":"IF(Indata!F216=\"\",\"\",Indata!F216)","v":""},{"$f":"IF(Indata!G216=\"\",\"\",Indata!G216)","v":""},{"$f":"IF(Indata!H216=\"\",\"\",Indata!H216)","v":""},{"$f":"IF(Indata!I216=\"\",\"\",Indata!I216)","v":""},{"$f":"IF(Indata!J216=\"\",\"\",Indata!J216)","v":""},{"$f":"IF(Indata!K216=\"\",\"\",Indata!K216)","v":""},{"$f":"IF(Indata!L216=\"\",\"\",Indata!L216)","v":""},{"$f":"IF(Indata!M216=\"\",\"\",Indata!M216)","v":""},{"$f":"IF(Indata!N216=\"\",\"\",Indata!N216)","v":""},{"$f":"IF(Indata!O216=\"\",\"\",Indata!O216)","v":""},{"$f":"IF(Indata!P216=\"\",\"\",Indata!P216)","v":""},{"$f":"IF(Indata!Q216=\"\",\"\",Indata!Q216)","v":""},{"$f":"IF(Indata!R216=\"\",\"\",Indata!R216)","v":""},{"$f":"IF(Indata!S216=\"\",\"\",Indata!S216)","v":""},{"$f":"IF(Indata!T216=\"\",\"\",Indata!T216)","v":""},{"$f":"IF(Indata!U216=\"\",\"\",Indata!U216)","v":""},{"$f":"IF(Indata!V216=\"\",\"\",Indata!V216)","v":""},{"$f":"IF(Indata!W216=\"\",\"\",Indata!W216)","v":""},{"$f":"IF(Indata!X216=\"\",\"\",Indata!X216)","v":""},{"$f":"IF(Indata!Y216=\"\",\"\",Indata!Y216)","v":""},{"$f":"IF(Indata!Z216=\"\",\"\",Indata!Z216)","v":""},{"$f":"IF(Indata!AA216=\"\",\"\",Indata!AA216)","v":""}]
[30,"25 Rönneå, vid Stackarps bro",{"$f":"IF(Indata!C217=\"\",\"\",Indata!C217)","v":""},{"$f":"IF(Indata!D217=\"\",\"\",Indata!D217)","v":""},{"$f":"IF(Indata!E217=\"\",\"\",Indata!E217)","v":""},{"$f":"IF(Indata!F217=\"\",\"\",Indata!F217)","v":""},{"$f":"IF(Indata!G217=\"\",\"\",Indata!G217)","v":""},{"$f":"IF(Indata!H217=\"\",\"\",Indata!H217)","v":""},{"$f":"IF(Indata!I217=\"\",\"\",Indata!I217)","v":""},{"$f":"IF(Indata!J217=\"\",\"\",Indata!J217)","v":""},{"$f":"IF(Indata!K217=\"\",\"\",Indata!K217)","v":""},{"$f":"IF(Indata!L217=\"\",\"\",Indata!L217)","v":""},{"$f":"IF(Indata!M217=\"\",\"\",Indata!M217)","v":""},{"$f":"IF(Indata!N217=\"\",\"\",Indata!N217)","v":""},{"$f":"IF(Indata!O217=\"\",\"\",Indata!O217)","v":""},{"$f":"IF(Indata!P217=\"\",\"\",Indata!P217)","v":""},{"$f":"IF(Indata!Q217=\"\",\"\",Indata!Q217)","v":""},{"$f":"IF(Indata!R217=\"\",\"\",Indata!R217)","v":""},{"$f":"IF(Indata!S217=\"\",\"\",Indata!S217)","v":""},{"$f":"IF(Indata!T217=\"\",\"\",Indata!T217)","v":""},{"$f":"IF(Indata!U217=\"\",\"\",Indata!U217)","v":""},{"$f":"IF(Indata!V217=\"\",\"\",Indata!V217)","v":""},{"$f":"IF(Indata!W217=\"\",\"\",Indata!W217)","v":""},{"$f":"IF(Indata!X217=\"\",\"\",Indata!X217)","v":""},{"$f":"IF(Indata!Y217=\"\",\"\",Indata!Y217)","v":""},{"$f":"IF(Indata!Z217=\"\",\"\",Indata!Z217)","v":""},{"$f":"IF(Indata!AA217=\"\",\"\",Indata!AA217)","v":""}]
[35,"34 Rönneå, vid Tranarps bro",{"$f":"IF(Indata!C218=\"\",\"\",Indata!C218)","v":""},{"$f":"IF(Indata!D218=\"\",\"\",Indata!D218)","v":""},{"$f":"IF(Indata!E218=\"\",\"\",Indata!E218)","v":""},{"$f":"IF(Indata!F218=\"\",\"\",Indata!F218)","v":""},{"$f":"IF(Indata!G218=\"\",\"\",Indata!G218)","v":""},{"$f":"IF(Indata!H218=\"\",\"\",Indata!H218)","v":""},{"$f":"IF(Indata!I218=\"\",\"\",Indata!I218)","v":""},{"$f":"IF(Indata!J218=\"\",\"\",Indata!J218)","v":""},{"$f":"IF(Indata!K218=\"\",\"\",Indata!K218)","v":""},{"$f":"IF(Indata!L218=\"\",\"\",Indata!L218)","v":""},{"$f":"IF(Indata!M218=\"\",\"\",Indata!M218)","v":""},{"$f":"IF(Indata!N218=\"\",\"\",Indata!N218)","v":""},{"$f":"IF(Indata!O218=\"\",\"\",Indata!O218)","v":""},{"$f":"IF(Indata!P218=\"\",\"\",Indata!P218)","v":""},{"$f":"IF(Indata!Q218=\"\",\"\",Indata!Q218)","v":""},{"$f":"IF(Indata!R218=\"\",\"\",Indata!R218)","v":""},{"$f":"IF(Indata!S218=\"\",\"\",Indata!S218)","v":""},{"$f":"IF(Indata!T218=\"\",\"\",Indata!T218)","v":""},{"$f":"IF(Indata!U218=\"\",\"\",Indata!U218)","v":""},{"$f":"IF(Indata!V218=\"\",\"\",Indata!V218)","v":""},{"$f":"IF(Indata!W218=\"\",\"\",Indata!W218)","v":""},{"$f":"IF(Indata!X218=\"\",\"\",Indata!X218)","v":""},{"$f":"IF(Indata!Y218=\"\",\"\",Indata!Y218)","v":""},{"$f":"IF(Indata!Z218=\"\",\"\",Indata!Z218)","v":""},{"$f":"IF(Indata!AA218=\"\",\"\",Indata!AA218)","v":""}]
[40,"49 Rönneå, uppstr Ängelholm",{"$f":"IF(Indata!C219=\"\",\"\",Indata!C219)","v":""},{"$f":"IF(Indata!D219=\"\",\"\",Indata!D219)","v":""},{"$f":"IF(Indata!E219=\"\",\"\",Indata!E219)","v":""},{"$f":"IF(Indata!F219=\"\",\"\",Indata!F219)","v":""},{"$f":"IF(Indata!G219=\"\",\"\",Indata!G219)","v":""},{"$f":"IF(Indata!H219=\"\",\"\",Indata!H219)","v":""},{"$f":"IF(Indata!I219=\"\",\"\",Indata!I219)","v":""},{"$f":"IF(Indata!J219=\"\",\"\",Indata!J219)","v":""},{"$f":"IF(Indata!K219=\"\",\"\",Indata!K219)","v":""},{"$f":"IF(Indata!L219=\"\",\"\",Indata!L219)","v":""},{"$f":"IF(Indata!M219=\"\",\"\",Indata!M219)","v":""},{"$f":"IF(Indata!N219=\"\",\"\",Indata!N219)","v":""},{"$f":"IF(Indata!O219=\"\",\"\",Indata!O219)","v":""},{"$f":"IF(Indata!P219=\"\",\"\",Indata!P219)","v":""},{"$f":"IF(Indata!Q219=\"\",\"\",Indata!Q219)","v":""},{"$f":"IF(Indata!R219=\"\",\"\",Indata!R219)","v":""},{"$f":"IF(Indata!S219=\"\",\"\",Indata!S219)","v":""},{"$f":"IF(Indata!T219=\"\",\"\",Indata!T219)","v":""},{"$f":"IF(Indata!U219=\"\",\"\",Indata!U219)","v":""},{"$f":"IF(Indata!V219=\"\",\"\",Indata!V219)","v":""},{"$f":"IF(Indata!W219=\"\",\"\",Indata!W219)","v":""},{"$f":"IF(Indata!X219=\"\",\"\",Indata!X219)","v":""},{"$f":"IF(Indata!Y219=\"\",\"\",Indata!Y219)","v":""},{"$f":"IF(Indata!Z219=\"\",\"\",Indata!Z219)","v":""},{"$f":"IF(Indata!AA219=\"\",\"\",Indata!AA219)","v":""}]
[45,"57 Rönneå, vid utfl t Skälderviken",{"$f":"IF(Indata!C220=\"\",\"\",Indata!C220)","v":""},{"$f":"IF(Indata!D220=\"\",\"\",Indata!D220)","v":""},{"$f":"IF(Indata!E220=\"\",\"\",Indata!E220)","v":""},{"$f":"IF(Indata!F220=\"\",\"\",Indata!F220)","v":""},{"$f":"IF(Indata!G220=\"\",\"\",Indata!G220)","v":""},{"$f":"IF(Indata!H220=\"\",\"\",Indata!H220)","v":""},{"$f":"IF(Indata!I220=\"\",\"\",Indata!I220)","v":""},{"$f":"IF(Indata!J220=\"\",\"\",Indata!J220)","v":""},{"$f":"IF(Indata!K220=\"\",\"\",Indata!K220)","v":""},{"$f":"IF(Indata!L220=\"\",\"\",Indata!L220)","v":""},{"$f":"IF(Indata!M220=\"\",\"\",Indata!M220)","v":""},{"$f":"IF(Indata!N220=\"\",\"\",Indata!N220)","v":""},{"$f":"IF(Indata!O220=\"\",\"\",Indata!O220)","v":""},{"$f":"IF(Indata!P220=\"\",\"\",Indata!P220)","v":""},{"$f":"IF(Indata!Q220=\"\",\"\",Indata!Q220)","v":""},{"$f":"IF(Indata!R220=\"\",\"\",Indata!R220)","v":""},{"$f":"IF(Indata!S220=\"\",\"\",Indata!S220)","v":""},{"$f":"IF(Indata!T220=\"\",\"\",Indata!T220)","v":""},{"$f":"IF(Indata!U220=\"\",\"\",Indata!U220)","v":""},{"$f":"IF(Indata!V220=\"\",\"\",Indata!V220)","v":""},{"$f":"IF(Indata!W220=\"\",\"\",Indata!W220)","v":""},{"$f":"IF(Indata!X220=\"\",\"\",Indata!X220)","v":""},{"$f":"IF(Indata!Y220=\"\",\"\",Indata!Y220)","v":""},{"$f":"IF(Indata!Z220=\"\",\"\",Indata!Z220)","v":""},{"$f":"IF(Indata!AA220=\"\",\"\",Indata!AA220)","v":""}]
[50,"6  Bäljaneå, uppstr Röstånga",{"$f":"IF(Indata!C221=\"\",\"\",Indata!C221)","v":""},{"$f":"IF(Indata!D221=\"\",\"\",Indata!D221)","v":""},{"$f":"IF(Indata!E221=\"\",\"\",Indata!E221)","v":""},{"$f":"IF(Indata!F221=\"\",\"\",Indata!F221)","v":""},{"$f":"IF(Indata!G221=\"\",\"\",Indata!G221)","v":""},{"$f":"IF(Indata!H221=\"\",\"\",Indata!H221)","v":""},{"$f":"IF(Indata!I221=\"\",\"\",Indata!I221)","v":""},{"$f":"IF(Indata!J221=\"\",\"\",Indata!J221)","v":""},{"$f":"IF(Indata!K221=\"\",\"\",Indata!K221)","v":""},{"$f":"IF(Indata!L221=\"\",\"\",Indata!L221)","v":""},{"$f":"IF(Indata!M221=\"\",\"\",Indata!M221)","v":""},{"$f":"IF(Indata!N221=\"\",\"\",Indata!N221)","v":""},{"$f":"IF(Indata!O221=\"\",\"\",Indata!O221)","v":""},{"$f":"IF(Indata!P221=\"\",\"\",Indata!P221)","v":""},{"$f":"IF(Indata!Q221=\"\",\"\",Indata!Q221)","v":""},{"$f":"IF(Indata!R221=\"\",\"\",Indata!R221)","v":""},{"$f":"IF(Indata!S221=\"\",\"\",Indata!S221)","v":""},{"$f":"IF(Indata!T221=\"\",\"\",Indata!T221)","v":""},{"$f":"IF(Indata!U221=\"\",\"\",Indata!U221)","v":""},{"$f":"IF(Indata!V221=\"\",\"\",Indata!V221)","v":""},{"$f":"IF(Indata!W221=\"\",\"\",Indata!W221)","v":""},{"$f":"IF(Indata!X221=\"\",\"\",Indata!X221)","v":""},{"$f":"IF(Indata!Y221=\"\",\"\",Indata!Y221)","v":""},{"$f":"IF(Indata!Z221=\"\",\"\",Indata!Z221)","v":""},{"$f":"IF(Indata!AA221=\"\",\"\",Indata!AA221)","v":""}]
[55,"8  Bäljaneå, före utfl t Rönneå",{"$f":"IF(Indata!C222=\"\",\"\",Indata!C222)","v":""},{"$f":"IF(Indata!D222=\"\",\"\",Indata!D222)","v":""},{"$f":"IF(Indata!E222=\"\",\"\",Indata!E222)","v":""},{"$f":"IF(Indata!F222=\"\",\"\",Indata!F222)","v":""},{"$f":"IF(Indata!G222=\"\",\"\",Indata!G222)","v":""},{"$f":"IF(Indata!H222=\"\",\"\",Indata!H222)","v":""},{"$f":"IF(Indata!I222=\"\",\"\",Indata!I222)","v":""},{"$f":"IF(Indata!J222=\"\",\"\",Indata!J222)","v":""},{"$f":"IF(Indata!K222=\"\",\"\",Indata!K222)","v":""},{"$f":"IF(Indata!L222=\"\",\"\",Indata!L222)","v":""},{"$f":"IF(Indata!M222=\"\",\"\",Indata!M222)","v":""},{"$f":"IF(Indata!N222=\"\",\"\",Indata!N222)","v":""},{"$f":"IF(Indata!O222=\"\",\"\",Indata!O222)","v":""},{"$f":"IF(Indata!P222=\"\",\"\",Indata!P222)","v":""},{"$f":"IF(Indata!Q222=\"\",\"\",Indata!Q222)","v":""},{"$f":"IF(Indata!R222=\"\",\"\",Indata!R222)","v":""},{"$f":"IF(Indata!S222=\"\",\"\",Indata!S222)","v":""},{"$f":"IF(Indata!T222=\"\",\"\",Indata!T222)","v":""},{"$f":"IF(Indata!U222=\"\",\"\",Indata!U222)","v":""},{"$f":"IF(Indata!V222=\"\",\"\",Indata!V222)","v":""},{"$f":"IF(Indata!W222=\"\",\"\",Indata!W222)","v":""},{"$f":"IF(Indata!X222=\"\",\"\",Indata!X222)","v":""},{"$f":"IF(Indata!Y222=\"\",\"\",Indata!Y222)","v":""},{"$f":"IF(Indata!Z222=\"\",\"\",Indata!Z222)","v":""},{"$f":"IF(Indata!AA222=\"\",\"\",Indata!AA222)","v":""}]
[60,"59 Klingstorpabäcken, Färingstofta",{"$f":"IF(Indata!C223=\"\",\"\",Indata!C223)","v":""},{"$f":"IF(Indata!D223=\"\",\"\",Indata!D223)","v":""},{"$f":"IF(Indata!E223=\"\",\"\",Indata!E223)","v":""},{"$f":"IF(Indata!F223=\"\",\"\",Indata!F223)","v":""},{"$f":"IF(Indata!G223=\"\",\"\",Indata!G223)","v":""},{"$f":"IF(Indata!H223=\"\",\"\",Indata!H223)","v":""},{"$f":"IF(Indata!I223=\"\",\"\",Indata!I223)","v":""},{"$f":"IF(Indata!J223=\"\",\"\",Indata!J223)","v":""},{"$f":"IF(Indata!K223=\"\",\"\",Indata!K223)","v":""},{"$f":"IF(Indata!L223=\"\",\"\",Indata!L223)","v":""},{"$f":"IF(Indata!M223=\"\",\"\",Indata!M223)","v":""},{"$f":"IF(Indata!N223=\"\",\"\",Indata!N223)","v":""},{"$f":"IF(Indata!O223=\"\",\"\",Indata!O223)","v":""},{"$f":"IF(Indata!P223=\"\",\"\",Indata!P223)","v":""},{"$f":"IF(Indata!Q223=\"\",\"\",Indata!Q223)","v":""},{"$f":"IF(Indata!R223=\"\",\"\",Indata!R223)","v":""},{"$f":"IF(Indata!S223=\"\",\"\",Indata!S223)","v":""},{"$f":"IF(Indata!T223=\"\",\"\",Indata!T223)","v":""},{"$f":"IF(Indata!U223=\"\",\"\",Indata!U223)","v":""},{"$f":"IF(Indata!V223=\"\",\"\",Indata!V223)","v":""},{"$f":"IF(Indata!W223=\"\",\"\",Indata!W223)","v":""},{"$f":"IF(Indata!X223=\"\",\"\",Indata!X223)","v":""},{"$f":"IF(Indata!Y223=\"\",\"\",Indata!Y223)","v":""},{"$f":"IF(Indata!Z223=\"\",\"\",Indata!Z223)","v":""},{"$f":"IF(Indata!AA223=\"\",\"\",Indata!AA223)","v":""}]
[65,"72 Storedamm, utlopp mot Svenstorp",{"$f":"IF(Indata!C224=\"\",\"\",Indata!C224)","v":""},{"$f":"IF(Indata!D224=\"\",\"\",Indata!D224)","v":""},{"$f":"IF(Indata!E224=\"\",\"\",Indata!E224)","v":""},{"$f":"IF(Indata!F224=\"\",\"\",Indata!F224)","v":""},{"$f":"IF(Indata!G224=\"\",\"\",Indata!G224)","v":""},{"$f":"IF(Indata!H224=\"\",\"\",Indata!H224)","v":""},{"$f":"IF(Indata!I224=\"\",\"\",Indata!I224)","v":""},{"$f":"IF(Indata!J224=\"\",\"\",Indata!J224)","v":""},{"$f":"IF(Indata!K224=\"\",\"\",Indata!K224)","v":""},{"$f":"IF(Indata!L224=\"\",\"\",Indata!L224)","v":""},{"$f":"IF(Indata!M224=\"\",\"\",Indata!M224)","v":""},{"$f":"IF(Indata!N224=\"\",\"\",Indata!N224)","v":""},{"$f":"IF(Indata!O224=\"\",\"\",Indata!O224)","v":""},{"$f":"IF(Indata!P224=\"\",\"\",Indata!P224)","v":""},{"$f":"IF(Indata!Q224=\"\",\"\",Indata!Q224)","v":""},{"$f":"IF(Indata!R224=\"\",\"\",Indata!R224)","v":""},{"$f":"IF(Indata!S224=\"\",\"\",Indata!S224)","v":""},{"$f":"IF(Indata!T224=\"\",\"\",Indata!T224)","v":""},{"$f":"IF(Indata!U224=\"\",\"\",Indata!U224)","v":""},{"$f":"IF(Indata!V224=\"\",\"\",Indata!V224)","v":""},{"$f":"IF(Indata!W224=\"\",\"\",Indata!W224)","v":""},{"$f":"IF(Indata!X224=\"\",\"\",Indata!X224)","v":""},{"$f":"IF(Indata!Y224=\"\",\"\",Indata!Y224)","v":""},{"$f":"IF(Indata!Z224=\"\",\"\",Indata!Z224)","v":""},{"$f":"IF(Indata!AA224=\"\",\"\",Indata!AA224)","v":""}]
[70,"15 Ybbarpsån, utfl ur Ybbarpssjön",{"$f":"IF(Indata!C225=\"\",\"\",Indata!C225)","v":""},{"$f":"IF(Indata!D225=\"\",\"\",Indata!D225)","v":""},{"$f":"IF(Indata!E225=\"\",\"\",Indata!E225)","v":""},{"$f":"IF(Indata!F225=\"\",\"\",Indata!F225)","v":""},{"$f":"IF(Indata!G225=\"\",\"\",Indata!G225)","v":""},{"$f":"IF(Indata!H225=\"\",\"\",Indata!H225)","v":""},{"$f":"IF(Indata!I225=\"\",\"\",Indata!I225)","v":""},{"$f":"IF(Indata!J225=\"\",\"\",Indata!J225)","v":""},{"$f":"IF(Indata!K225=\"\",\"\",Indata!K225)","v":""},{"$f":"IF(Indata!L225=\"\",\"\",Indata!L225)","v":""},{"$f":"IF(Indata!M225=\"\",\"\",Indata!M225)","v":""},{"$f":"IF(Indata!N225=\"\",\"\",Indata!N225)","v":""},{"$f":"IF(Indata!O225=\"\",\"\",Indata!O225)","v":""},{"$f":"IF(Indata!P225=\"\",\"\",Indata!P225)","v":""},{"$f":"IF(Indata!Q225=\"\",\"\",Indata!Q225)","v":""},{"$f":"IF(Indata!R225=\"\",\"\",Indata!R225)","v":""},{"$f":"IF(Indata!S225=\"\",\"\",Indata!S225)","v":""},{"$f":"IF(Indata!T225=\"\",\"\",Indata!T225)","v":""},{"$f":"IF(Indata!U225=\"\",\"\",Indata!U225)","v":""},{"$f":"IF(Indata!V225=\"\",\"\",Indata!V225)","v":""},{"$f":"IF(Indata!W225=\"\",\"\",Indata!W225)","v":""},{"$f":"IF(Indata!X225=\"\",\"\",Indata!X225)","v":""},{"$f":"IF(Indata!Y225=\"\",\"\",Indata!Y225)","v":""},{"$f":"IF(Indata!Z225=\"\",\"\",Indata!Z225)","v":""},{"$f":"IF(Indata!AA225=\"\",\"\",Indata!AA225)","v":""}]
[75,"16 Ybbarpsån, nedstr Perstorp AB",{"$f":"IF(Indata!C226=\"\",\"\",Indata!C226)","v":""},{"$f":"IF(Indata!D226=\"\",\"\",Indata!D226)","v":""},{"$f":"IF(Indata!E226=\"\",\"\",Indata!E226)","v":""},{"$f":"IF(Indata!F226=\"\",\"\",Indata!F226)","v":""},{"$f":"IF(Indata!G226=\"\",\"\",Indata!G226)","v":""},{"$f":"IF(Indata!H226=\"\",\"\",Indata!H226)","v":""},{"$f":"IF(Indata!I226=\"\",\"\",Indata!I226)","v":""},{"$f":"IF(Indata!J226=\"\",\"\",Indata!J226)","v":""},{"$f":"IF(Indata!K226=\"\",\"\",Indata!K226)","v":""},{"$f":"IF(Indata!L226=\"\",\"\",Indata!L226)","v":""},{"$f":"IF(Indata!M226=\"\",\"\",Indata!M226)","v":""},{"$f":"IF(Indata!N226=\"\",\"\",Indata!N226)","v":""},{"$f":"IF(Indata!O226=\"\",\"\",Indata!O226)","v":""},{"$f":"IF(Indata!P226=\"\",\"\",Indata!P226)","v":""},{"$f":"IF(Indata!Q226=\"\",\"\",Indata!Q226)","v":""},{"$f":"IF(Indata!R226=\"\",\"\",Indata!R226)","v":""},{"$f":"IF(Indata!S226=\"\",\"\",Indata!S226)","v":""},{"$f":"IF(Indata!T226=\"\",\"\",Indata!T226)","v":""},{"$f":"IF(Indata!U226=\"\",\"\",Indata!U226)","v":""},{"$f":"IF(Indata!V226=\"\",\"\",Indata!V226)","v":""},{"$f":"IF(Indata!W226=\"\",\"\",Indata!W226)","v":""},{"$f":"IF(Indata!X226=\"\",\"\",Indata!X226)","v":""},{"$f":"IF(Indata!Y226=\"\",\"\",Indata!Y226)","v":""},{"$f":"IF(Indata!Z226=\"\",\"\",Indata!Z226)","v":""},{"$f":"IF(Indata!AA226=\"\",\"\",Indata!AA226)","v":""}]
[80,"17 Ybbarpsån, Storarydsdammens utl",{"$f":"IF(Indata!C227=\"\",\"\",Indata!C227)","v":""},{"$f":"IF(Indata!D227=\"\",\"\",Indata!D227)","v":""},{"$f":"IF(Indata!E227=\"\",\"\",Indata!E227)","v":""},{"$f":"IF(Indata!F227=\"\",\"\",Indata!F227)","v":""},{"$f":"IF(Indata!G227=\"\",\"\",Indata!G227)","v":""},{"$f":"IF(Indata!H227=\"\",\"\",Indata!H227)","v":""},{"$f":"IF(Indata!I227=\"\",\"\",Indata!I227)","v":""},{"$f":"IF(Indata!J227=\"\",\"\",Indata!J227)","v":""},{"$f":"IF(Indata!K227=\"\",\"\",Indata!K227)","v":""},{"$f":"IF(Indata!L227=\"\",\"\",Indata!L227)","v":""},{"$f":"IF(Indata!M227=\"\",\"\",Indata!M227)","v":""},{"$f":"IF(Indata!N227=\"\",\"\",Indata!N227)","v":""},{"$f":"IF(Indata!O227=\"\",\"\",Indata!O227)","v":""},{"$f":"IF(Indata!P227=\"\",\"\",Indata!P227)","v":""},{"$f":"IF(Indata!Q227=\"\",\"\",Indata!Q227)","v":""},{"$f":"IF(Indata!R227=\"\",\"\",Indata!R227)","v":""},{"$f":"IF(Indata!S227=\"\",\"\",Indata!S227)","v":""},{"$f":"IF(Indata!T227=\"\",\"\",Indata!T227)","v":""},{"$f":"IF(Indata!U227=\"\",\"\",Indata!U227)","v":""},{"$f":"IF(Indata!V227=\"\",\"\",Indata!V227)","v":""},{"$f":"IF(Indata!W227=\"\",\"\",Indata!W227)","v":""},{"$f":"IF(Indata!X227=\"\",\"\",Indata!X227)","v":""},{"$f":"IF(Indata!Y227=\"\",\"\",Indata!Y227)","v":""},{"$f":"IF(Indata!Z227=\"\",\"\",Indata!Z227)","v":""},{"$f":"IF(Indata!AA227=\"\",\"\",Indata!AA227)","v":""}]
[85,"22 Ybbarpsån, vid Herrevadskloster",{"$f":"IF(Indata!C228=\"\",\"\",Indata!C228)","v":""},{"$f":"IF(Indata!D228=\"\",\"\",Indata!D228)","v":""},{"$f":"IF(Indata!E228=\"\",\"\",Indata!E228)","v":""},{"$f":"IF(Indata!F228=\"\",\"\",Indata!F228)","v":""},{"$f":"IF(Indata!G228=\"\",\"\",Indata!G228)","v":""},{"$f":"IF(Indata!H228=\"\",\"\",Indata!H228)","v":""},{"$f":"IF(Indata!I228=\"\",\"\",Indata!I228)","v":""},{"$f":"IF(Indata!J228=\"\",\"\",Indata!J228)","v":""},{"$f":"IF(Indata!K228=\"\",\"\",Indata!K228)","v":""},{"$f":"IF(Indata!L228=\"\",\"\",Indata!L228)","v":""},{"$f":"IF(Indata!M228=\"\",\"\",Indata!M228)","v":""},{"$f":"IF(Indata!N228=\"\",\"\",Indata!N228)","v":""},{"$f":"IF(Indata!O228=\"\",\"\",Indata!O228)","v":""},{"$f":"IF(Indata!P228=\"\",\"\",Indata!P228)","v":""},{"$f":"IF(Indata!Q228=\"\",\"\",Indata!Q228)","v":""},{"$f":"IF(Indata!R228=\"\",\"\",Indata!R228)","v":""},{"$f":"IF(Indata!S228=\"\",\"\",Indata!S228)","v":""},{"$f":"IF(Indata!T228=\"\",\"\",Indata!T228)","v":""},{"$f":"IF(Indata!U228=\"\",\"\",Indata!U228)","v":""},{"$f":"IF(Indata!V228=\"\",\"\",Indata!V228)","v":""},{"$f":"IF(Indata!W228=\"\",\"\",Indata!W228)","v":""},{"$f":"IF(Indata!X228=\"\",\"\",Indata!X228)","v":""},{"$f":"IF(Indata!Y228=\"\",\"\",Indata!Y228)","v":""},{"$f":"IF(Indata!Z228=\"\",\"\",Indata!Z228)","v":""},{"$f":"IF(Indata!AA228=\"\",\"\",Indata!AA228)","v":""}]
[90,"28 Perstorpsbäcken, uppstr Perstorp",{"$f":"IF(Indata!C229=\"\",\"\",Indata!C229)","v":""},{"$f":"IF(Indata!D229=\"\",\"\",Indata!D229)","v":""},{"$f":"IF(Indata!E229=\"\",\"\",Indata!E229)","v":""},{"$f":"IF(Indata!F229=\"\",\"\",Indata!F229)","v":""},{"$f":"IF(Indata!G229=\"\",\"\",Indata!G229)","v":""},{"$f":"IF(Indata!H229=\"\",\"\",Indata!H229)","v":""},{"$f":"IF(Indata!I229=\"\",\"\",Indata!I229)","v":""},{"$f":"IF(Indata!J229=\"\",\"\",Indata!J229)","v":""},{"$f":"IF(Indata!K229=\"\",\"\",Indata!K229)","v":""},{"$f":"IF(Indata!L229=\"\",\"\",Indata!L229)","v":""},{"$f":"IF(Indata!M229=\"\",\"\",Indata!M229)","v":""},{"$f":"IF(Indata!N229=\"\",\"\",Indata!N229)","v":""},{"$f":"IF(Indata!O229=\"\",\"\",Indata!O229)","v":""},{"$f":"IF(Indata!P229=\"\",\"\",Indata!P229)","v":""},{"$f":"IF(Indata!Q229=\"\",\"\",Indata!Q229)","v":""},{"$f":"IF(Indata!R229=\"\",\"\",Indata!R229)","v":""},{"$f":"IF(Indata!S229=\"\",\"\",Indata!S229)","v":""},{"$f":"IF(Indata!T229=\"\",\"\",Indata!T229)","v":""},{"$f":"IF(Indata!U229=\"\",\"\",Indata!U229)","v":""},{"$f":"IF(Indata!V229=\"\",\"\",Indata!V229)","v":""},{"$f":"IF(Indata!W229=\"\",\"\",Indata!W229)","v":""},{"$f":"IF(Indata!X229=\"\",\"\",Indata!X229)","v":""},{"$f":"IF(Indata!Y229=\"\",\"\",Indata!Y229)","v":""},{"$f":"IF(Indata!Z229=\"\",\"\",Indata!Z229)","v":""},{"$f":"IF(Indata!AA229=\"\",\"\",Indata!AA229)","v":""}]
[95,"29 Perstorpsbäcken, nedstr Perstorp",{"$f":"IF(Indata!C230=\"\",\"\",Indata!C230)","v":""},{"$f":"IF(Indata!D230=\"\",\"\",Indata!D230)","v":""},{"$f":"IF(Indata!E230=\"\",\"\",Indata!E230)","v":""},{"$f":"IF(Indata!F230=\"\",\"\",Indata!F230)","v":""},{"$f":"IF(Indata!G230=\"\",\"\",Indata!G230)","v":""},{"$f":"IF(Indata!H230=\"\",\"\",Indata!H230)","v":""},{"$f":"IF(Indata!I230=\"\",\"\",Indata!I230)","v":""},{"$f":"IF(Indata!J230=\"\",\"\",Indata!J230)","v":""},{"$f":"IF(Indata!K230=\"\",\"\",Indata!K230)","v":""},{"$f":"IF(Indata!L230=\"\",\"\",Indata!L230)","v":""},{"$f":"IF(Indata!M230=\"\",\"\",Indata!M230)","v":""},{"$f":"IF(Indata!N230=\"\",\"\",Indata!N230)","v":""},{"$f":"IF(Indata!O230=\"\",\"\",Indata!O230)","v":""},{"$f":"IF(Indata!P230=\"\",\"\",Indata!P230)","v":""},{"$f":"IF(Indata!Q230=\"\",\"\",Indata!Q230)","v":""},{"$f":"IF(Indata!R230=\"\",\"\",Indata!R230)","v":""},{"$f":"IF(Indata!S230=\"\",\"\",Indata!S230)","v":""},{"$f":"IF(Indata!T230=\"\",\"\",Indata!T230)","v":""},{"$f":"IF(Indata!U230=\"\",\"\",Indata!U230)","v":""},{"$f":"IF(Indata!V230=\"\",\"\",Indata!V230)","v":""},{"$f":"IF(Indata!W230=\"\",\"\",Indata!W230)","v":""},{"$f":"IF(Indata!X230=\"\",\"\",Indata!X230)","v":""},{"$f":"IF(Indata!Y230=\"\",\"\",Indata!Y230)","v":""},{"$f":"IF(Indata!Z230=\"\",\"\",Indata!Z230)","v":""},{"$f":"IF(Indata!AA230=\"\",\"\",Indata!AA230)","v":""}]
[100,"76 Oderbäcken, uppstr Oderljunga ARV",{"$f":"IF(Indata!C231=\"\",\"\",Indata!C231)","v":""},{"$f":"IF(Indata!D231=\"\",\"\",Indata!D231)","v":""},{"$f":"IF(Indata!E231=\"\",\"\",Indata!E231)","v":""},{"$f":"IF(Indata!F231=\"\",\"\",Indata!F231)","v":""},{"$f":"IF(Indata!G231=\"\",\"\",Indata!G231)","v":""},{"$f":"IF(Indata!H231=\"\",\"\",Indata!H231)","v":""},{"$f":"IF(Indata!I231=\"\",\"\",Indata!I231)","v":""},{"$f":"IF(Indata!J231=\"\",\"\",Indata!J231)","v":""},{"$f":"IF(Indata!K231=\"\",\"\",Indata!K231)","v":""},{"$f":"IF(Indata!L231=\"\",\"\",Indata!L231)","v":""},{"$f":"IF(Indata!M231=\"\",\"\",Indata!M231)","v":""},{"$f":"IF(Indata!N231=\"\",\"\",Indata!N231)","v":""},{"$f":"IF(Indata!O231=\"\",\"\",Indata!O231)","v":""},{"$f":"IF(Indata!P231=\"\",\"\",Indata!P231)","v":""},{"$f":"IF(Indata!Q231=\"\",\"\",Indata!Q231)","v":""},{"$f":"IF(Indata!R231=\"\",\"\",Indata!R231)","v":""},{"$f":"IF(Indata!S231=\"\",\"\",Indata!S231)","v":""},{"$f":"IF(Indata!T231=\"\",\"\",Indata!T231)","v":""},{"$f":"IF(Indata!U231=\"\",\"\",Indata!U231)","v":""},{"$f":"IF(Indata!V231=\"\",\"\",Indata!V231)","v":""},{"$f":"IF(Indata!W231=\"\",\"\",Indata!W231)","v":""},{"$f":"IF(Indata!X231=\"\",\"\",Indata!X231)","v":""},{"$f":"IF(Indata!Y231=\"\",\"\",Indata!Y231)","v":""},{"$f":"IF(Indata!Z231=\"\",\"\",Indata!Z231)","v":""},{"$f":"IF(Indata!AA231=\"\",\"\",Indata!AA231)","v":""}]
[105,"30 Bäljaneå, vid Hyllstofta",{"$f":"IF(Indata!C232=\"\",\"\",Indata!C232)","v":""},{"$f":"IF(Indata!D232=\"\",\"\",Indata!D232)","v":""},{"$f":"IF(Indata!E232=\"\",\"\",Indata!E232)","v":""},{"$f":"IF(Indata!F232=\"\",\"\",Indata!F232)","v":""},{"$f":"IF(Indata!G232=\"\",\"\",Indata!G232)","v":""},{"$f":"IF(Indata!H232=\"\",\"\",Indata!H232)","v":""},{"$f":"IF(Indata!I232=\"\",\"\",Indata!I232)","v":""},{"$f":"IF(Indata!J232=\"\",\"\",Indata!J232)","v":""},{"$f":"IF(Indata!K232=\"\",\"\",Indata!K232)","v":""},{"$f":"IF(Indata!L232=\"\",\"\",Indata!L232)","v":""},{"$f":"IF(Indata!M232=\"\",\"\",Indata!M232)","v":""},{"$f":"IF(Indata!N232=\"\",\"\",Indata!N232)","v":""},{"$f":"IF(Indata!O232=\"\",\"\",Indata!O232)","v":""},{"$f":"IF(Indata!P232=\"\",\"\",Indata!P232)","v":""},{"$f":"IF(Indata!Q232=\"\",\"\",Indata!Q232)","v":""},{"$f":"IF(Indata!R232=\"\",\"\",Indata!R232)","v":""},{"$f":"IF(Indata!S232=\"\",\"\",Indata!S232)","v":""},{"$f":"IF(Indata!T232=\"\",\"\",Indata!T232)","v":""},{"$f":"IF(Indata!U232=\"\",\"\",Indata!U232)","v":""},{"$f":"IF(Indata!V232=\"\",\"\",Indata!V232)","v":""},{"$f":"IF(Indata!W232=\"\",\"\",Indata!W232)","v":""},{"$f":"IF(Indata!X232=\"\",\"\",Indata!X232)","v":""},{"$f":"IF(Indata!Y232=\"\",\"\",Indata!Y232)","v":""},{"$f":"IF(Indata!Z232=\"\",\"\",Indata!Z232)","v":""},{"$f":"IF(Indata!AA232=\"\",\"\",Indata!AA232)","v":""}]
[110,"32 Bäljaneå, uppstr Klippan",{"$f":"IF(Indata!C233=\"\",\"\",Indata!C233)","v":""},{"$f":"IF(Indata!D233=\"\",\"\",Indata!D233)","v":""},{"$f":"IF(Indata!E233=\"\",\"\",Indata!E233)","v":""},{"$f":"IF(Indata!F233=\"\",\"\",Indata!F233)","v":""},{"$f":"IF(Indata!G233=\"\",\"\",Indata!G233)","v":""},{"$f":"IF(Indata!H233=\"\",\"\",Indata!H233)","v":""},{"$f":"IF(Indata!I233=\"\",\"\",Indata!I233)","v":""},{"$f":"IF(Indata!J233=\"\",\"\",Indata!J233)","v":""},{"$f":"IF(Indata!K233=\"\",\"\",Indata!K233)","v":""},{"$f":"IF(Indata!L233=\"\",\"\",Indata!L233)","v":""},{"$f":"IF(Indata!M233=\"\",\"\",Indata!M233)","v":""},{"$f":"IF(Indata!N233=\"\",\"\",Indata!N233)","v":""},{"$f":"IF(Indata!O233=\"\",\"\",Indata!O233)","v":""},{"$f":"IF(Indata!P233=\"\",\"\",Indata!P233)","v":""},{"$f":"IF(Indata!Q233=\"\",\"\",Indata!Q233)","v":""},{"$f":"IF(Indata!R233=\"\",\"\",Indata!R233)","v":""},{"$f":"IF(Indata!S233=\"\",\"\",Indata!S233)","v":""},{"$f":"IF(Indata!T233=\"\",\"\",Indata!T233)","v":""},{"$f":"IF(Indata!U233=\"\",\"\",Indata!U233)","v":""},{"$f":"IF(Indata!V233=\"\",\"\",Indata!V233)","v":""},{"$f":"IF(Indata!W233=\"\",\"\",Indata!W233)","v":""},{"$f":"IF(Indata!X233=\"\",\"\",Indata!X233)","v":""},{"$f":"IF(Indata!Y233=\"\",\"\",Indata!Y233)","v":""},{"$f":"IF(Indata!Z233=\"\",\"\",Indata!Z233)","v":""},{"$f":"IF(Indata!AA233=\"\",\"\",Indata!AA233)","v":""}]
[115,"78 Bäljaneå, nedstr Klippans ARV",{"$f":"IF(Indata!C234=\"\",\"\",Indata!C234)","v":""},{"$f":"IF(Indata!D234=\"\",\"\",Indata!D234)","v":""},{"$f":"IF(Indata!E234=\"\",\"\",Indata!E234)","v":""},{"$f":"IF(Indata!F234=\"\",\"\",Indata!F234)","v":""},{"$f":"IF(Indata!G234=\"\",\"\",Indata!G234)","v":""},{"$f":"IF(Indata!H234=\"\",\"\",Indata!H234)","v":""},{"$f":"IF(Indata!I234=\"\",\"\",Indata!I234)","v":""},{"$f":"IF(Indata!J234=\"\",\"\",Indata!J234)","v":""},{"$f":"IF(Indata!K234=\"\",\"\",Indata!K234)","v":""},{"$f":"IF(Indata!L234=\"\",\"\",Indata!L234)","v":""},{"$f":"IF(Indata!M234=\"\",\"\",Indata!M234)","v":""},{"$f":"IF(Indata!N234=\"\",\"\",Indata!N234)","v":""},{"$f":"IF(Indata!O234=\"\",\"\",Indata!O234)","v":""},{"$f":"IF(Indata!P234=\"\",\"\",Indata!P234)","v":""},{"$f":"IF(Indata!Q234=\"\",\"\",Indata!Q234)","v":""},{"$f":"IF(Indata!R234=\"\",\"\",Indata!R234)","v":""},{"$f":"IF(Indata!S234=\"\",\"\",Indata!S234)","v":""},{"$f":"IF(Indata!T234=\"\",\"\",Indata!T234)","v":""},{"$f":"IF(Indata!U234=\"\",\"\",Indata!U234)","v":""},{"$f":"IF(Indata!V234=\"\",\"\",Indata!V234)","v":""},{"$f":"IF(Indata!W234=\"\",\"\",Indata!W234)","v":""},{"$f":"IF(Indata!X234=\"\",\"\",Indata!X234)","v":""},{"$f":"IF(Indata!Y234=\"\",\"\",Indata!Y234)","v":""},{"$f":"IF(Indata!Z234=\"\",\"\",Indata!Z234)","v":""},{"$f":"IF(Indata!AA234=\"\",\"\",Indata!AA234)","v":""}]
[120,"33 Bäljaneå, nedstr Klippan",{"$f":"IF(Indata!C235=\"\",\"\",Indata!C235)","v":""},{"$f":"IF(Indata!D235=\"\",\"\",Indata!D235)","v":""},{"$f":"IF(Indata!E235=\"\",\"\",Indata!E235)","v":""},{"$f":"IF(Indata!F235=\"\",\"\",Indata!F235)","v":""},{"$f":"IF(Indata!G235=\"\",\"\",Indata!G235)","v":""},{"$f":"IF(Indata!H235=\"\",\"\",Indata!H235)","v":""},{"$f":"IF(Indata!I235=\"\",\"\",Indata!I235)","v":""},{"$f":"IF(Indata!J235=\"\",\"\",Indata!J235)","v":""},{"$f":"IF(Indata!K235=\"\",\"\",Indata!K235)","v":""},{"$f":"IF(Indata!L235=\"\",\"\",Indata!L235)","v":""},{"$f":"IF(Indata!M235=\"\",\"\",Indata!M235)","v":""},{"$f":"IF(Indata!N235=\"\",\"\",Indata!N235)","v":""},{"$f":"IF(Indata!O235=\"\",\"\",Indata!O235)","v":""},{"$f":"IF(Indata!P235=\"\",\"\",Indata!P235)","v":""},{"$f":"IF(Indata!Q235=\"\",\"\",Indata!Q235)","v":""},{"$f":"IF(Indata!R235=\"\",\"\",Indata!R235)","v":""},{"$f":"IF(Indata!S235=\"\",\"\",Indata!S235)","v":""},{"$f":"IF(Indata!T235=\"\",\"\",Indata!T235)","v":""},{"$f":"IF(Indata!U235=\"\",\"\",Indata!U235)","v":""},{"$f":"IF(Indata!V235=\"\",\"\",Indata!V235)","v":""},{"$f":"IF(Indata!W235=\"\",\"\",Indata!W235)","v":""},{"$f":"IF(Indata!X235=\"\",\"\",Indata!X235)","v":""},{"$f":"IF(Indata!Y235=\"\",\"\",Indata!Y235)","v":""},{"$f":"IF(Indata!Z235=\"\",\"\",Indata!Z235)","v":""},{"$f":"IF(Indata!AA235=\"\",\"\",Indata!AA235)","v":""}]
[125,"77 Biflöde till Rönneå, uppstr Kvidinge ARV",{"$f":"IF(Indata!C236=\"\",\"\",Indata!C236)","v":""},{"$f":"IF(Indata!D236=\"\",\"\",Indata!D236)","v":""},{"$f":"IF(Indata!E236=\"\",\"\",Indata!E236)","v":""},{"$f":"IF(Indata!F236=\"\",\"\",Indata!F236)","v":""},{"$f":"IF(Indata!G236=\"\",\"\",Indata!G236)","v":""},{"$f":"IF(Indata!H236=\"\",\"\",Indata!H236)","v":""},{"$f":"IF(Indata!I236=\"\",\"\",Indata!I236)","v":""},{"$f":"IF(Indata!J236=\"\",\"\",Indata!J236)","v":""},{"$f":"IF(Indata!K236=\"\",\"\",Indata!K236)","v":""},{"$f":"IF(Indata!L236=\"\",\"\",Indata!L236)","v":""},{"$f":"IF(Indata!M236=\"\",\"\",Indata!M236)","v":""},{"$f":"IF(Indata!N236=\"\",\"\",Indata!N236)","v":""},{"$f":"IF(Indata!O236=\"\",\"\",Indata!O236)","v":""},{"$f":"IF(Indata!P236=\"\",\"\",Indata!P236)","v":""},{"$f":"IF(Indata!Q236=\"\",\"\",Indata!Q236)","v":""},{"$f":"IF(Indata!R236=\"\",\"\",Indata!R236)","v":""},{"$f":"IF(Indata!S236=\"\",\"\",Indata!S236)","v":""},{"$f":"IF(Indata!T236=\"\",\"\",Indata!T236)","v":""},{"$f":"IF(Indata!U236=\"\",\"\",Indata!U236)","v":""},{"$f":"IF(Indata!V236=\"\",\"\",Indata!V236)","v":""},{"$f":"IF(Indata!W236=\"\",\"\",Indata!W236)","v":""},{"$f":"IF(Indata!X236=\"\",\"\",Indata!X236)","v":""},{"$f":"IF(Indata!Y236=\"\",\"\",Indata!Y236)","v":""},{"$f":"IF(Indata!Z236=\"\",\"\",Indata!Z236)","v":""},{"$f":"IF(Indata!AA236=\"\",\"\",Indata!AA236)","v":""}]
[130,"36 Pinnån, nedstr Åsljungasjön",{"$f":"IF(Indata!C237=\"\",\"\",Indata!C237)","v":""},{"$f":"IF(Indata!D237=\"\",\"\",Indata!D237)","v":""},{"$f":"IF(Indata!E237=\"\",\"\",Indata!E237)","v":""},{"$f":"IF(Indata!F237=\"\",\"\",Indata!F237)","v":""},{"$f":"IF(Indata!G237=\"\",\"\",Indata!G237)","v":""},{"$f":"IF(Indata!H237=\"\",\"\",Indata!H237)","v":""},{"$f":"IF(Indata!I237=\"\",\"\",Indata!I237)","v":""},{"$f":"IF(Indata!J237=\"\",\"\",Indata!J237)","v":""},{"$f":"IF(Indata!K237=\"\",\"\",Indata!K237)","v":""},{"$f":"IF(Indata!L237=\"\",\"\",Indata!L237)","v":""},{"$f":"IF(Indata!M237=\"\",\"\",Indata!M237)","v":""},{"$f":"IF(Indata!N237=\"\",\"\",Indata!N237)","v":""},{"$f":"IF(Indata!O237=\"\",\"\",Indata!O237)","v":""},{"$f":"IF(Indata!P237=\"\",\"\",Indata!P237)","v":""},{"$f":"IF(Indata!Q237=\"\",\"\",Indata!Q237)","v":""},{"$f":"IF(Indata!R237=\"\",\"\",Indata!R237)","v":""},{"$f":"IF(Indata!S237=\"\",\"\",Indata!S237)","v":""},{"$f":"IF(Indata!T237=\"\",\"\",Indata!T237)","v":""},{"$f":"IF(Indata!U237=\"\",\"\",Indata!U237)","v":""},{"$f":"IF(Indata!V237=\"\",\"\",Indata!V237)","v":""},{"$f":"IF(Indata!W237=\"\",\"\",Indata!W237)","v":""},{"$f":"IF(Indata!X237=\"\",\"\",Indata!X237)","v":""},{"$f":"IF(Indata!Y237=\"\",\"\",Indata!Y237)","v":""},{"$f":"IF(Indata!Z237=\"\",\"\",Indata!Z237)","v":""},{"$f":"IF(Indata!AA237=\"\",\"\",Indata!AA237)","v":""}]
[135,"40 Pinnån, nedstr Örkelljunga",{"$f":"IF(Indata!C238=\"\",\"\",Indata!C238)","v":""},{"$f":"IF(Indata!D238=\"\",\"\",Indata!D238)","v":""},{"$f":"IF(Indata!E238=\"\",\"\",Indata!E238)","v":""},{"$f":"IF(Indata!F238=\"\",\"\",Indata!F238)","v":""},{"$f":"IF(Indata!G238=\"\",\"\",Indata!G238)","v":""},{"$f":"IF(Indata!H238=\"\",\"\",Indata!H238)","v":""},{"$f":"IF(Indata!I238=\"\",\"\",Indata!I238)","v":""},{"$f":"IF(Indata!J238=\"\",\"\",Indata!J238)","v":""},{"$f":"IF(Indata!K238=\"\",\"\",Indata!K238)","v":""},{"$f":"IF(Indata!L238=\"\",\"\",Indata!L238)","v":""},{"$f":"IF(Indata!M238=\"\",\"\",Indata!M238)","v":""},{"$f":"IF(Indata!N238=\"\",\"\",Indata!N238)","v":""},{"$f":"IF(Indata!O238=\"\",\"\",Indata!O238)","v":""},{"$f":"IF(Indata!P238=\"\",\"\",Indata!P238)","v":""},{"$f":"IF(Indata!Q238=\"\",\"\",Indata!Q238)","v":""},{"$f":"IF(Indata!R238=\"\",\"\",Indata!R238)","v":""},{"$f":"IF(Indata!S238=\"\",\"\",Indata!S238)","v":""},{"$f":"IF(Indata!T238=\"\",\"\",Indata!T238)","v":""},{"$f":"IF(Indata!U238=\"\",\"\",Indata!U238)","v":""},{"$f":"IF(Indata!V238=\"\",\"\",Indata!V238)","v":""},{"$f":"IF(Indata!W238=\"\",\"\",Indata!W238)","v":""},{"$f":"IF(Indata!X238=\"\",\"\",Indata!X238)","v":""},{"$f":"IF(Indata!Y238=\"\",\"\",Indata!Y238)","v":""},{"$f":"IF(Indata!Z238=\"\",\"\",Indata!Z238)","v":""},{"$f":"IF(Indata!AA238=\"\",\"\",Indata!AA238)","v":""}]
[140,"42 Pinnån, uppstr Gelita",{"$f":"IF(Indata!C239=\"\",\"\",Indata!C239)","v":""},{"$f":"IF(Indata!D239=\"\",\"\",Indata!D239)","v":""},{"$f":"IF(Indata!E239=\"\",\"\",Indata!E239)","v":""},{"$f":"IF(Indata!F239=\"\",\"\",Indata!F239)","v":""},{"$f":"IF(Indata!G239=\"\",\"\",Indata!G239)","v":""},{"$f":"IF(Indata!H239=\"\",\"\",Indata!H239)","v":""},{"$f":"IF(Indata!I239=\"\",\"\",Indata!I239)","v":""},{"$f":"IF(Indata!J239=\"\",\"\",Indata!J239)","v":""},{"$f":"IF(Indata!K239=\"\",\"\",Indata!K239)","v":""},{"$f":"IF(Indata!L239=\"\",\"\",Indata!L239)","v":""},{"$f":"IF(Indata!M239=\"\",\"\",Indata!M239)","v":""},{"$f":"IF(Indata!N239=\"\",\"\",Indata!N239)","v":""},{"$f":"IF(Indata!O239=\"\",\"\",Indata!O239)","v":""},{"$f":"IF(Indata!P239=\"\",\"\",Indata!P239)","v":""},{"$f":"IF(Indata!Q239=\"\",\"\",Indata!Q239)","v":""},{"$f":"IF(Indata!R239=\"\",\"\",Indata!R239)","v":""},{"$f":"IF(Indata!S239=\"\",\"\",Indata!S239)","v":""},{"$f":"IF(Indata!T239=\"\",\"\",Indata!T239)","v":""},{"$f":"IF(Indata!U239=\"\",\"\",Indata!U239)","v":""},{"$f":"IF(Indata!V239=\"\",\"\",Indata!V239)","v":""},{"$f":"IF(Indata!W239=\"\",\"\",Indata!W239)","v":""},{"$f":"IF(Indata!X239=\"\",\"\",Indata!X239)","v":""},{"$f":"IF(Indata!Y239=\"\",\"\",Indata!Y239)","v":""},{"$f":"IF(Indata!Z239=\"\",\"\",Indata!Z239)","v":""},{"$f":"IF(Indata!AA239=\"\",\"\",Indata!AA239)","v":""}]
[145,"44 Pinnån, utfl ur Kopparmölledamm",{"$f":"IF(Indata!C240=\"\",\"\",Indata!C240)","v":""},{"$f":"IF(Indata!D240=\"\",\"\",Indata!D240)","v":""},{"$f":"IF(Indata!E240=\"\",\"\",Indata!E240)","v":""},{"$f":"IF(Indata!F240=\"\",\"\",Indata!F240)","v":""},{"$f":"IF(Indata!G240=\"\",\"\",Indata!G240)","v":""},{"$f":"IF(Indata!H240=\"\",\"\",Indata!H240)","v":""},{"$f":"IF(Indata!I240=\"\",\"\",Indata!I240)","v":""},{"$f":"IF(Indata!J240=\"\",\"\",Indata!J240)","v":""},{"$f":"IF(Indata!K240=\"\",\"\",Indata!K240)","v":""},{"$f":"IF(Indata!L240=\"\",\"\",Indata!L240)","v":""},{"$f":"IF(Indata!M240=\"\",\"\",Indata!M240)","v":""},{"$f":"IF(Indata!N240=\"\",\"\",Indata!N240)","v":""},{"$f":"IF(Indata!O240=\"\",\"\",Indata!O240)","v":""},{"$f":"IF(Indata!P240=\"\",\"\",Indata!P240)","v":""},{"$f":"IF(Indata!Q240=\"\",\"\",Indata!Q240)","v":""},{"$f":"IF(Indata!R240=\"\",\"\",Indata!R240)","v":""},{"$f":"IF(Indata!S240=\"\",\"\",Indata!S240)","v":""},{"$f":"IF(Indata!T240=\"\",\"\",Indata!T240)","v":""},{"$f":"IF(Indata!U240=\"\",\"\",Indata!U240)","v":""},{"$f":"IF(Indata!V240=\"\",\"\",Indata!V240)","v":""},{"$f":"IF(Indata!W240=\"\",\"\",Indata!W240)","v":""},{"$f":"IF(Indata!X240=\"\",\"\",Indata!X240)","v":""},{"$f":"IF(Indata!Y240=\"\",\"\",Indata!Y240)","v":""},{"$f":"IF(Indata!Z240=\"\",\"\",Indata!Z240)","v":""},{"$f":"IF(Indata!AA240=\"\",\"\",Indata!AA240)","v":""}]
[150,"58 Pinnån, vid utfl t Rönneå",{"$f":"IF(Indata!C241=\"\",\"\",Indata!C241)","v":""},{"$f":"IF(Indata!D241=\"\",\"\",Indata!D241)","v":""},{"$f":"IF(Indata!E241=\"\",\"\",Indata!E241)","v":""},{"$f":"IF(Indata!F241=\"\",\"\",Indata!F241)","v":""},{"$f":"IF(Indata!G241=\"\",\"\",Indata!G241)","v":""},{"$f":"IF(Indata!H241=\"\",\"\",Indata!H241)","v":""},{"$f":"IF(Indata!I241=\"\",\"\",Indata!I241)","v":""},{"$f":"IF(Indata!J241=\"\",\"\",Indata!J241)","v":""},{"$f":"IF(Indata!K241=\"\",\"\",Indata!K241)","v":""},{"$f":"IF(Indata!L241=\"\",\"\",Indata!L241)","v":""},{"$f":"IF(Indata!M241=\"\",\"\",Indata!M241)","v":""},{"$f":"IF(Indata!N241=\"\",\"\",Indata!N241)","v":""},{"$f":"IF(Indata!O241=\"\",\"\",Indata!O241)","v":""},{"$f":"IF(Indata!P241=\"\",\"\",Indata!P241)","v":""},{"$f":"IF(Indata!Q241=\"\",\"\",Indata!Q241)","v":""},{"$f":"IF(Indata!R241=\"\",\"\",Indata!R241)","v":""},{"$f":"IF(Indata!S241=\"\",\"\",Indata!S241)","v":""},{"$f":"IF(Indata!T241=\"\",\"\",Indata!T241)","v":""},{"$f":"IF(Indata!U241=\"\",\"\",Indata!U241)","v":""},{"$f":"IF(Indata!V241=\"\",\"\",Indata!V241)","v":""},{"$f":"IF(Indata!W241=\"\",\"\",Indata!W241)","v":""},{"$f":"IF(Indata!X241=\"\",\"\",Indata!X241)","v":""},{"$f":"IF(Indata!Y241=\"\",\"\",Indata!Y241)","v":""},{"$f":"IF(Indata!Z241=\"\",\"\",Indata!Z241)","v":""},{"$f":"IF(Indata!AA241=\"\",\"\",Indata!AA241)","v":""}]
[155,"70 Kägleån, vid Ängeltofta",{"$f":"IF(Indata!C242=\"\",\"\",Indata!C242)","v":""},{"$f":"IF(Indata!D242=\"\",\"\",Indata!D242)","v":""},{"$f":"IF(Indata!E242=\"\",\"\",Indata!E242)","v":""},{"$f":"IF(Indata!F242=\"\",\"\",Indata!F242)","v":""},{"$f":"IF(Indata!G242=\"\",\"\",Indata!G242)","v":""},{"$f":"IF(Indata!H242=\"\",\"\",Indata!H242)","v":""},{"$f":"IF(Indata!I242=\"\",\"\",Indata!I242)","v":""},{"$f":"IF(Indata!J242=\"\",\"\",Indata!J242)","v":""},{"$f":"IF(Indata!K242=\"\",\"\",Indata!K242)","v":""},{"$f":"IF(Indata!L242=\"\",\"\",Indata!L242)","v":""},{"$f":"IF(Indata!M242=\"\",\"\",Indata!M242)","v":""},{"$f":"IF(Indata!N242=\"\",\"\",Indata!N242)","v":""},{"$f":"IF(Indata!O242=\"\",\"\",Indata!O242)","v":""},{"$f":"IF(Indata!P242=\"\",\"\",Indata!P242)","v":""},{"$f":"IF(Indata!Q242=\"\",\"\",Indata!Q242)","v":""},{"$f":"IF(Indata!R242=\"\",\"\",Indata!R242)","v":""},{"$f":"IF(Indata!S242=\"\",\"\",Indata!S242)","v":""},{"$f":"IF(Indata!T242=\"\",\"\",Indata!T242)","v":""},{"$f":"IF(Indata!U242=\"\",\"\",Indata!U242)","v":""},{"$f":"IF(Indata!V242=\"\",\"\",Indata!V242)","v":""},{"$f":"IF(Indata!W242=\"\",\"\",Indata!W242)","v":""},{"$f":"IF(Indata!X242=\"\",\"\",Indata!X242)","v":""},{"$f":"IF(Indata!Y242=\"\",\"\",Indata!Y242)","v":""},{"$f":"IF(Indata!Z242=\"\",\"\",Indata!Z242)","v":""},{"$f":"IF(Indata!AA242=\"\",\"\",Indata!AA242)","v":""}]
[160,"55 Kägleån, vägbro Åkersholm",{"$f":"IF(Indata!C243=\"\",\"\",Indata!C243)","v":""},{"$f":"IF(Indata!D243=\"\",\"\",Indata!D243)","v":""},{"$f":"IF(Indata!E243=\"\",\"\",Indata!E243)","v":""},{"$f":"IF(Indata!F243=\"\",\"\",Indata!F243)","v":""},{"$f":"IF(Indata!G243=\"\",\"\",Indata!G243)","v":""},{"$f":"IF(Indata!H243=\"\",\"\",Indata!H243)","v":""},{"$f":"IF(Indata!I243=\"\",\"\",Indata!I243)","v":""},{"$f":"IF(Indata!J243=\"\",\"\",Indata!J243)","v":""},{"$f":"IF(Indata!K243=\"\",\"\",Indata!K243)","v":""},{"$f":"IF(Indata!L243=\"\",\"\",Indata!L243)","v":""},{"$f":"IF(Indata!M243=\"\",\"\",Indata!M243)","v":""},{"$f":"IF(Indata!N243=\"\",\"\",Indata!N243)","v":""},{"$f":"IF(Indata!O243=\"\",\"\",Indata!O243)","v":""},{"$f":"IF(Indata!P243=\"\",\"\",Indata!P243)","v":""},{"$f":"IF(Indata!Q243=\"\",\"\",Indata!Q243)","v":""},{"$f":"IF(Indata!R243=\"\",\"\",Indata!R243)","v":""},{"$f":"IF(Indata!S243=\"\",\"\",Indata!S243)","v":""},{"$f":"IF(Indata!T243=\"\",\"\",Indata!T243)","v":""},{"$f":"IF(Indata!U243=\"\",\"\",Indata!U243)","v":""},{"$f":"IF(Indata!V243=\"\",\"\",Indata!V243)","v":""},{"$f":"IF(Indata!W243=\"\",\"\",Indata!W243)","v":""},{"$f":"IF(Indata!X243=\"\",\"\",Indata!X243)","v":""},{"$f":"IF(Indata!Y243=\"\",\"\",Indata!Y243)","v":""},{"$f":"IF(Indata!Z243=\"\",\"\",Indata!Z243)","v":""},{"$f":"IF(Indata!AA243=\"\",\"\",Indata!AA243)","v":""}]
[165,"56 Rössjöholmsån, f utfl t Rönneå",{"$f":"IF(Indata!C244=\"\",\"\",Indata!C244)","v":""},{"$f":"IF(Indata!D244=\"\",\"\",Indata!D244)","v":""},{"$f":"IF(Indata!E244=\"\",\"\",Indata!E244)","v":""},{"$f":"IF(Indata!F244=\"\",\"\",Indata!F244)","v":""},{"$f":"IF(Indata!G244=\"\",\"\",Indata!G244)","v":""},{"$f":"IF(Indata!H244=\"\",\"\",Indata!H244)","v":""},{"$f":"IF(Indata!I244=\"\",\"\",Indata!I244)","v":""},{"$f":"IF(Indata!J244=\"\",\"\",Indata!J244)","v":""},{"$f":"IF(Indata!K244=\"\",\"\",Indata!K244)","v":""},{"$f":"IF(Indata!L244=\"\",\"\",Indata!L244)","v":""},{"$f":"IF(Indata!M244=\"\",\"\",Indata!M244)","v":""},{"$f":"IF(Indata!N244=\"\",\"\",Indata!N244)","v":""},{"$f":"IF(Indata!O244=\"\",\"\",Indata!O244)","v":""},{"$f":"IF(Indata!P244=\"\",\"\",Indata!P244)","v":""},{"$f":"IF(Indata!Q244=\"\",\"\",Indata!Q244)","v":""},{"$f":"IF(Indata!R244=\"\",\"\",Indata!R244)","v":""},{"$f":"IF(Indata!S244=\"\",\"\",Indata!S244)","v":""},{"$f":"IF(Indata!T244=\"\",\"\",Indata!T244)","v":""},{"$f":"IF(Indata!U244=\"\",\"\",Indata!U244)","v":""},{"$f":"IF(Indata!V244=\"\",\"\",Indata!V244)","v":""},{"$f":"IF(Indata!W244=\"\",\"\",Indata!W244)","v":""},{"$f":"IF(Indata!X244=\"\",\"\",Indata!X244)","v":""},{"$f":"IF(Indata!Y244=\"\",\"\",Indata!Y244)","v":""},{"$f":"IF(Indata!Z244=\"\",\"\",Indata!Z244)","v":""},{"$f":"IF(Indata!AA244=\"\",\"\",Indata!AA244)","v":""}]
[170,"60 Storarydsdammen yta",{"$f":"IF(Indata!C245=\"\",\"\",Indata!C245)","v":""},{"$f":"IF(Indata!D245=\"\",\"\",Indata!D245)","v":""},{"$f":"IF(Indata!E245=\"\",\"\",Indata!E245)","v":""},{"$f":"IF(Indata!F245=\"\",\"\",Indata!F245)","v":""},{"$f":"IF(Indata!G245=\"\",\"\",Indata!G245)","v":""},{"$f":"IF(Indata!H245=\"\",\"\",Indata!H245)","v":""},{"$f":"IF(Indata!I245=\"\",\"\",Indata!I245)","v":""},{"$f":"IF(Indata!J245=\"\",\"\",Indata!J245)","v":""},{"$f":"IF(Indata!K245=\"\",\"\",Indata!K245)","v":""},{"$f":"IF(Indata!L245=\"\",\"\",Indata!L245)","v":""},{"$f":"IF(Indata!M245=\"\",\"\",Indata!M245)","v":""},{"$f":"IF(Indata!N245=\"\",\"\",Indata!N245)","v":""},{"$f":"IF(Indata!O245=\"\",\"\",Indata!O245)","v":""},{"$f":"IF(Indata!P245=\"\",\"\",Indata!P245)","v":""},{"$f":"IF(Indata!Q245=\"\",\"\",Indata!Q245)","v":""},{"$f":"IF(Indata!R245=\"\",\"\",Indata!R245)","v":""},{"$f":"IF(Indata!S245=\"\",\"\",Indata!S245)","v":""},{"$f":"IF(Indata!T245=\"\",\"\",Indata!T245)","v":""},{"$f":"IF(Indata!U245=\"\",\"\",Indata!U245)","v":""},{"$f":"IF(Indata!V245=\"\",\"\",Indata!V245)","v":""},{"$f":"IF(Indata!W245=\"\",\"\",Indata!W245)","v":""},{"$f":"IF(Indata!X245=\"\",\"\",Indata!X245)","v":""},{"$f":"IF(Indata!Y245=\"\",\"\",Indata!Y245)","v":""},{"$f":"IF(Indata!Z245=\"\",\"\",Indata!Z245)","v":""},{"$f":"IF(Indata!AA245=\"\",\"\",Indata!AA245)","v":""}]
[175,"60 Storarydsdammen 4 m",{"$f":"IF(Indata!C246=\"\",\"\",Indata!C246)","v":""},{"$f":"IF(Indata!D246=\"\",\"\",Indata!D246)","v":""},{"$f":"IF(Indata!E246=\"\",\"\",Indata!E246)","v":""},{"$f":"IF(Indata!F246=\"\",\"\",Indata!F246)","v":""},{"$f":"IF(Indata!G246=\"\",\"\",Indata!G246)","v":""},{"$f":"IF(Indata!H246=\"\",\"\",Indata!H246)","v":""},{"$f":"IF(Indata!I246=\"\",\"\",Indata!I246)","v":""},{"$f":"IF(Indata!J246=\"\",\"\",Indata!J246)","v":""},{"$f":"IF(Indata!K246=\"\",\"\",Indata!K246)","v":""},{"$f":"IF(Indata!L246=\"\",\"\",Indata!L246)","v":""},{"$f":"IF(Indata!M246=\"\",\"\",Indata!M246)","v":""},{"$f":"IF(Indata!N246=\"\",\"\",Indata!N246)","v":""},{"$f":"IF(Indata!O246=\"\",\"\",Indata!O246)","v":""},{"$f":"IF(Indata!P246=\"\",\"\",Indata!P246)","v":""},{"$f":"IF(Indata!Q246=\"\",\"\",Indata!Q246)","v":""},{"$f":"IF(Indata!R246=\"\",\"\",Indata!R246)","v":""},{"$f":"IF(Indata!S246=\"\",\"\",Indata!S246)","v":""},{"$f":"IF(Indata!T246=\"\",\"\",Indata!T246)","v":""},{"$f":"IF(Indata!U246=\"\",\"\",Indata!U246)","v":""},{"$f":"IF(Indata!V246=\"\",\"\",Indata!V246)","v":""},{"$f":"IF(Indata!W246=\"\",\"\",Indata!W246)","v":""},{"$f":"IF(Indata!X246=\"\",\"\",Indata!X246)","v":""},{"$f":"IF(Indata!Y246=\"\",\"\",Indata!Y246)","v":""},{"$f":"IF(Indata!Z246=\"\",\"\",Indata!Z246)","v":""},{"$f":"IF(Indata!AA246=\"\",\"\",Indata!AA246)","v":""}]
[180,"19 Ö Sorrödssjön, ytan",{"$f":"IF(Indata!C247=\"\",\"\",Indata!C247)","v":""},{"$f":"IF(Indata!D247=\"\",\"\",Indata!D247)","v":""},{"$f":"IF(Indata!E247=\"\",\"\",Indata!E247)","v":""},{"$f":"IF(Indata!F247=\"\",\"\",Indata!F247)","v":""},{"$f":"IF(Indata!G247=\"\",\"\",Indata!G247)","v":""},{"$f":"IF(Indata!H247=\"\",\"\",Indata!H247)","v":""},{"$f":"IF(Indata!I247=\"\",\"\",Indata!I247)","v":""},{"$f":"IF(Indata!J247=\"\",\"\",Indata!J247)","v":""},{"$f":"IF(Indata!K247=\"\",\"\",Indata!K247)","v":""},{"$f":"IF(Indata!L247=\"\",\"\",Indata!L247)","v":""},{"$f":"IF(Indata!M247=\"\",\"\",Indata!M247)","v":""},{"$f":"IF(Indata!N247=\"\",\"\",Indata!N247)","v":""},{"$f":"IF(Indata!O247=\"\",\"\",Indata!O247)","v":""},{"$f":"IF(Indata!P247=\"\",\"\",Indata!P247)","v":""},{"$f":"IF(Indata!Q247=\"\",\"\",Indata!Q247)","v":""},{"$f":"IF(Indata!R247=\"\",\"\",Indata!R247)","v":""},{"$f":"IF(Indata!S247=\"\",\"\",Indata!S247)","v":""},{"$f":"IF(Indata!T247=\"\",\"\",Indata!T247)","v":""},{"$f":"IF(Indata!U247=\"\",\"\",Indata!U247)","v":""},{"$f":"IF(Indata!V247=\"\",\"\",Indata!V247)","v":""},{"$f":"IF(Indata!W247=\"\",\"\",Indata!W247)","v":""},{"$f":"IF(Indata!X247=\"\",\"\",Indata!X247)","v":""},{"$f":"IF(Indata!Y247=\"\",\"\",Indata!Y247)","v":""},{"$f":"IF(Indata!Z247=\"\",\"\",Indata!Z247)","v":""},{"$f":"IF(Indata!AA247=\"\",\"\",Indata!AA247)","v":""}]
[185,"19 Ö Sorrödssjön,  4 m",{"$f":"IF(Indata!C248=\"\",\"\",Indata!C248)","v":""},{"$f":"IF(Indata!D248=\"\",\"\",Indata!D248)","v":""},{"$f":"IF(Indata!E248=\"\",\"\",Indata!E248)","v":""},{"$f":"IF(Indata!F248=\"\",\"\",Indata!F248)","v":""},{"$f":"IF(Indata!G248=\"\",\"\",Indata!G248)","v":""},{"$f":"IF(Indata!H248=\"\",\"\",Indata!H248)","v":""},{"$f":"IF(Indata!I248=\"\",\"\",Indata!I248)","v":""},{"$f":"IF(Indata!J248=\"\",\"\",Indata!J248)","v":""},{"$f":"IF(Indata!K248=\"\",\"\",Indata!K248)","v":""},{"$f":"IF(Indata!L248=\"\",\"\",Indata!L248)","v":""},{"$f":"IF(Indata!M248=\"\",\"\",Indata!M248)","v":""},{"$f":"IF(Indata!N248=\"\",\"\",Indata!N248)","v":""},{"$f":"IF(Indata!O248=\"\",\"\",Indata!O248)","v":""},{"$f":"IF(Indata!P248=\"\",\"\",Indata!P248)","v":""},{"$f":"IF(Indata!Q248=\"\",\"\",Indata!Q248)","v":""},{"$f":"IF(Indata!R248=\"\",\"\",Indata!R248)","v":""},{"$f":"IF(Indata!S248=\"\",\"\",Indata!S248)","v":""},{"$f":"IF(Indata!T248=\"\",\"\",Indata!T248)","v":""},{"$f":"IF(Indata!U248=\"\",\"\",Indata!U248)","v":""},{"$f":"IF(Indata!V248=\"\",\"\",Indata!V248)","v":""},{"$f":"IF(Indata!W248=\"\",\"\",Indata!W248)","v":""},{"$f":"IF(Indata!X248=\"\",\"\",Indata!X248)","v":""},{"$f":"IF(Indata!Y248=\"\",\"\",Indata!Y248)","v":""},{"$f":"IF(Indata!Z248=\"\",\"\",Indata!Z248)","v":""},{"$f":"IF(Indata!AA248=\"\",\"\",Indata!AA248)","v":""}]
[190,"37 Hjälmsjön, ytan",{"$f":"IF(Indata!C249=\"\",\"\",Indata!C249)","v":""},{"$f":"IF(Indata!D249=\"\",\"\",Indata!D249)","v":""},{"$f":"IF(Indata!E249=\"\",\"\",Indata!E249)","v":""},{"$f":"IF(Indata!F249=\"\",\"\",Indata!F249)","v":""},{"$f":"IF(Indata!G249=\"\",\"\",Indata!G249)","v":""},{"$f":"IF(Indata!H249=\"\",\"\",Indata!H249)","v":""},{"$f":"IF(Indata!I249=\"\",\"\",Indata!I249)","v":""},{"$f":"IF(Indata!J249=\"\",\"\",Indata!J249)","v":""},{"$f":"IF(Indata!K249=\"\",\"\",Indata!K249)","v":""},{"$f":"IF(Indata!L249=\"\",\"\",Indata!L249)","v":""},{"$f":"IF(Indata!M249=\"\",\"\",Indata!M249)","v":""},{"$f":"IF(Indata!N249=\"\",\"\",Indata!N249)","v":""},{"$f":"IF(Indata!O249=\"\",\"\",Indata!O249)","v":""},{"$f":"IF(Indata!P249=\"\",\"\",Indata!P249)","v":""},{"$f":"IF(Indata!Q249=\"\",\"\",Indata!Q249)","v":""},{"$f":"IF(Indata!R249=\"\",\"\",Indata!R249)","v":""},{"$f":"IF(Indata!S249=\"\",\"\",Indata!S249)","v":""},{"$f":"IF(Indata!T249=\"\",\"\",Indata!T249)","v":""},{"$f":"IF(Indata!U249=\"\",\"\",Indata!U249)","v":""},{"$f":"IF(Indata!V249=\"\",\"\",Indata!V249)","v":""},{"$f":"IF(Indata!W249=\"\",\"\",Indata!W249)","v":""},{"$f":"IF(Indata!X249=\"\",\"\",Indata!X249)","v":""},{"$f":"IF(Indata!Y249=\"\",\"\",Indata!Y249)","v":""},{"$f":"IF(Indata!Z249=\"\",\"\",Indata!Z249)","v":""},{"$f":"IF(Indata!AA249=\"\",\"\",Indata!AA249)","v":""}]
[195,"37 Hjälmsjön, 6,5 m",{"$f":"IF(Indata!C250=\"\",\"\",Indata!C250)","v":""},{"$f":"IF(Indata!D250=\"\",\"\",Indata!D250)","v":""},{"$f":"IF(Indata!E250=\"\",\"\",Indata!E250)","v":""},{"$f":"IF(Indata!F250=\"\",\"\",Indata!F250)","v":""},{"$f":"IF(Indata!G250=\"\",\"\",Indata!G250)","v":""},{"$f":"IF(Indata!H250=\"\",\"\",Indata!H250)","v":""},{"$f":"IF(Indata!I250=\"\",\"\",Indata!I250)","v":""},{"$f":"IF(Indata!J250=\"\",\"\",Indata!J250)","v":""},{"$f":"IF(Indata!K250=\"\",\"\",Indata!K250)","v":""},{"$f":"IF(Indata!L250=\"\",\"\",Indata!L250)","v":""},{"$f":"IF(Indata!M250=\"\",\"\",Indata!M250)","v":""},{"$f":"IF(Indata!N250=\"\",\"\",Indata!N250)","v":""},{"$f":"IF(Indata!O250=\"\",\"\",Indata!O250)","v":""},{"$f":"IF(Indata!P250=\"\",\"\",Indata!P250)","v":""},{"$f":"IF(Indata!Q250=\"\",\"\",Indata!Q250)","v":""},{"$f":"IF(Indata!R250=\"\",\"\",Indata!R250)","v":""},{"$f":"IF(Indata!S250=\"\",\"\",Indata!S250)","v":""},{"$f":"IF(Indata!T250=\"\",\"\",Indata!T250)","v":""},{"$f":"IF(Indata!U250=\"\",\"\",Indata!U250)","v":""},{"$f":"IF(Indata!V250=\"\",\"\",Indata!V250)","v":""},{"$f":"IF(Indata!W250=\"\",\"\",Indata!W250)","v":""},{"$f":"IF(Indata!X250=\"\",\"\",Indata!X250)","v":""},{"$f":"IF(Indata!Y250=\"\",\"\",Indata!Y250)","v":""},{"$f":"IF(Indata!Z250=\"\",\"\",Indata!Z250)","v":""},{"$f":"IF(Indata!AA250=\"\",\"\",Indata!AA250)","v":""}]
[200,"50 Västersjön, ytan",{"$f":"IF(Indata!C251=\"\",\"\",Indata!C251)","v":""},{"$f":"IF(Indata!D251=\"\",\"\",Indata!D251)","v":""},{"$f":"IF(Indata!E251=\"\",\"\",Indata!E251)","v":""},{"$f":"IF(Indata!F251=\"\",\"\",Indata!F251)","v":""},{"$f":"IF(Indata!G251=\"\",\"\",Indata!G251)","v":""},{"$f":"IF(Indata!H251=\"\",\"\",Indata!H251)","v":""},{"$f":"IF(Indata!I251=\"\",\"\",Indata!I251)","v":""},{"$f":"IF(Indata!J251=\"\",\"\",Indata!J251)","v":""},{"$f":"IF(Indata!K251=\"\",\"\",Indata!K251)","v":""},{"$f":"IF(Indata!L251=\"\",\"\",Indata!L251)","v":""},{"$f":"IF(Indata!M251=\"\",\"\",Indata!M251)","v":""},{"$f":"IF(Indata!N251=\"\",\"\",Indata!N251)","v":""},{"$f":"IF(Indata!O251=\"\",\"\",Indata!O251)","v":""},{"$f":"IF(Indata!P251=\"\",\"\",Indata!P251)","v":""},{"$f":"IF(Indata!Q251=\"\",\"\",Indata!Q251)","v":""},{"$f":"IF(Indata!R251=\"\",\"\",Indata!R251)","v":""},{"$f":"IF(Indata!S251=\"\",\"\",Indata!S251)","v":""},{"$f":"IF(Indata!T251=\"\",\"\",Indata!T251)","v":""},{"$f":"IF(Indata!U251=\"\",\"\",Indata!U251)","v":""},{"$f":"IF(Indata!V251=\"\",\"\",Indata!V251)","v":""},{"$f":"IF(Indata!W251=\"\",\"\",Indata!W251)","v":""},{"$f":"IF(Indata!X251=\"\",\"\",Indata!X251)","v":""},{"$f":"IF(Indata!Y251=\"\",\"\",Indata!Y251)","v":""},{"$f":"IF(Indata!Z251=\"\",\"\",Indata!Z251)","v":""},{"$f":"IF(Indata!AA251=\"\",\"\",Indata!AA251)","v":""}]
[205,"50 Västersjön, 10 m",{"$f":"IF(Indata!C252=\"\",\"\",Indata!C252)","v":""},{"$f":"IF(Indata!D252=\"\",\"\",Indata!D252)","v":""},{"$f":"IF(Indata!E252=\"\",\"\",Indata!E252)","v":""},{"$f":"IF(Indata!F252=\"\",\"\",Indata!F252)","v":""},{"$f":"IF(Indata!G252=\"\",\"\",Indata!G252)","v":""},{"$f":"IF(Indata!H252=\"\",\"\",Indata!H252)","v":""},{"$f":"IF(Indata!I252=\"\",\"\",Indata!I252)","v":""},{"$f":"IF(Indata!J252=\"\",\"\",Indata!J252)","v":""},{"$f":"IF(Indata!K252=\"\",\"\",Indata!K252)","v":""},{"$f":"IF(Indata!L252=\"\",\"\",Indata!L252)","v":""},{"$f":"IF(Indata!M252=\"\",\"\",Indata!M252)","v":""},{"$f":"IF(Indata!N252=\"\",\"\",Indata!N252)","v":""},{"$f":"IF(Indata!O252=\"\",\"\",Indata!O252)","v":""},{"$f":"IF(Indata!P252=\"\",\"\",Indata!P252)","v":""},{"$f":"IF(Indata!Q252=\"\",\"\",Indata!Q252)","v":""},{"$f":"IF(Indata!R252=\"\",\"\",Indata!R252)","v":""},{"$f":"IF(Indata!S252=\"\",\"\",Indata!S252)","v":""},{"$f":"IF(Indata!T252=\"\",\"\",Indata!T252)","v":""},{"$f":"IF(Indata!U252=\"\",\"\",Indata!U252)","v":""},{"$f":"IF(Indata!V252=\"\",\"\",Indata!V252)","v":""},{"$f":"IF(Indata!W252=\"\",\"\",Indata!W252)","v":""},{"$f":"IF(Indata!X252=\"\",\"\",Indata!X252)","v":""},{"$f":"IF(Indata!Y252=\"\",\"\",Indata!Y252)","v":""},{"$f":"IF(Indata!Z252=\"\",\"\",Indata!Z252)","v":""},{"$f":"IF(Indata!AA252=\"\",\"\",Indata!AA252)","v":""}]
[210,"51 Rössjön, ytan",{"$f":"IF(Indata!C253=\"\",\"\",Indata!C253)","v":""},{"$f":"IF(Indata!D253=\"\",\"\",Indata!D253)","v":""},{"$f":"IF(Indata!E253=\"\",\"\",Indata!E253)","v":""},{"$f":"IF(Indata!F253=\"\",\"\",Indata!F253)","v":""},{"$f":"IF(Indata!G253=\"\",\"\",Indata!G253)","v":""},{"$f":"IF(Indata!H253=\"\",\"\",Indata!H253)","v":""},{"$f":"IF(Indata!I253=\"\",\"\",Indata!I253)","v":""},{"$f":"IF(Indata!J253=\"\",\"\",Indata!J253)","v":""},{"$f":"IF(Indata!K253=\"\",\"\",Indata!K253)","v":""},{"$f":"IF(Indata!L253=\"\",\"\",Indata!L253)","v":""},{"$f":"IF(Indata!M253=\"\",\"\",Indata!M253)","v":""},{"$f":"IF(Indata!N253=\"\",\"\",Indata!N253)","v":""},{"$f":"IF(Indata!O253=\"\",\"\",Indata!O253)","v":""},{"$f":"IF(Indata!P253=\"\",\"\",Indata!P253)","v":""},{"$f":"IF(Indata!Q253=\"\",\"\",Indata!Q253)","v":""},{"$f":"IF(Indata!R253=\"\",\"\",Indata!R253)","v":""},{"$f":"IF(Indata!S253=\"\",\"\",Indata!S253)","v":""},{"$f":"IF(Indata!T253=\"\",\"\",Indata!T253)","v":""},{"$f":"IF(Indata!U253=\"\",\"\",Indata!U253)","v":""},{"$f":"IF(Indata!V253=\"\",\"\",Indata!V253)","v":""},{"$f":"IF(Indata!W253=\"\",\"\",Indata!W253)","v":""},{"$f":"IF(Indata!X253=\"\",\"\",Indata!X253)","v":""},{"$f":"IF(Indata!Y253=\"\",\"\",Indata!Y253)","v":""},{"$f":"IF(Indata!Z253=\"\",\"\",Indata!Z253)","v":""},{"$f":"IF(Indata!AA253=\"\",\"\",Indata!AA253)","v":""}]
[215,"51 Rössjön, 18 m",{"$f":"IF(Indata!C254=\"\",\"\",Indata!C254)","v":""},{"$f":"IF(Indata!D254=\"\",\"\",Indata!D254)","v":""},{"$f":"IF(Indata!E254=\"\",\"\",Indata!E254)","v":""},{"$f":"IF(Indata!F254=\"\",\"\",Indata!F254)","v":""},{"$f":"IF(Indata!G254=\"\",\"\",Indata!G254)","v":""},{"$f":"IF(Indata!H254=\"\",\"\",Indata!H254)","v":""},{"$f":"IF(Indata!I254=\"\",\"\",Indata!I254)","v":""},{"$f":"IF(Indata!J254=\"\",\"\",Indata!J254)","v":""},{"$f":"IF(Indata!K254=\"\",\"\",Indata!K254)","v":""},{"$f":"IF(Indata!L254=\"\",\"\",Indata!L254)","v":""},{"$f":"IF(Indata!M254=\"\",\"\",Indata!M254)","v":""},{"$f":"IF(Indata!N254=\"\",\"\",Indata!N254)","v":""},{"$f":"IF(Indata!O254=\"\",\"\",Indata!O254)","v":""},{"$f":"IF(Indata!P254=\"\",\"\",Indata!P254)","v":""},{"$f":"IF(Indata!Q254=\"\",\"\",Indata!Q254)","v":""},{"$f":"IF(Indata!R254=\"\",\"\",Indata!R254)","v":""},{"$f":"IF(Indata!S254=\"\",\"\",Indata!S254)","v":""},{"$f":"IF(Indata!T254=\"\",\"\",Indata!T254)","v":""},{"$f":"IF(Indata!U254=\"\",\"\",Indata!U254)","v":""},{"$f":"IF(Indata!V254=\"\",\"\",Indata!V254)","v":""},{"$f":"IF(Indata!W254=\"\",\"\",Indata!W254)","v":""},{"$f":"IF(Indata!X254=\"\",\"\",Indata!X254)","v":""},{"$f":"IF(Indata!Y254=\"\",\"\",Indata!Y254)","v":""},{"$f":"IF(Indata!Z254=\"\",\"\",Indata!Z254)","v":""},{"$f":"IF(Indata!AA254=\"\",\"\",Indata!AA254)","v":""}]
[220,"Ri5 Sätoftasjön, ytan",{"$f":"IF(Indata!C255=\"\",\"\",Indata!C255)","v":""},{"$f":"IF(Indata!D255=\"\",\"\",Indata!D255)","v":""},{"$f":"IF(Indata!E255=\"\",\"\",Indata!E255)","v":""},{"$f":"IF(Indata!F255=\"\",\"\",Indata!F255)","v":""},{"$f":"IF(Indata!G255=\"\",\"\",Indata!G255)","v":""},{"$f":"IF(Indata!H255=\"\",\"\",Indata!H255)","v":""},{"$f":"IF(Indata!I255=\"\",\"\",Indata!I255)","v":""},{"$f":"IF(Indata!J255=\"\",\"\",Indata!J255)","v":""},{"$f":"IF(Indata!K255=\"\",\"\",Indata!K255)","v":""},{"$f":"IF(Indata!L255=\"\",\"\",Indata!L255)","v":""},{"$f":"IF(Indata!M255=\"\",\"\",Indata!M255)","v":""},{"$f":"IF(Indata!N255=\"\",\"\",Indata!N255)","v":""},{"$f":"IF(Indata!O255=\"\",\"\",Indata!O255)","v":""},{"$f":"IF(Indata!P255=\"\",\"\",Indata!P255)","v":""},{"$f":"IF(Indata!Q255=\"\",\"\",Indata!Q255)","v":""},{"$f":"IF(Indata!R255=\"\",\"\",Indata!R255)","v":""},{"$f":"IF(Indata!S255=\"\",\"\",Indata!S255)","v":""},{"$f":"IF(Indata!T255=\"\",\"\",Indata!T255)","v":""},{"$f":"IF(Indata!U255=\"\",\"\",Indata!U255)","v":""},{"$f":"IF(Indata!V255=\"\",\"\",Indata!V255)","v":""},{"$f":"IF(Indata!W255=\"\",\"\",Indata!W255)","v":""},{"$f":"IF(Indata!X255=\"\",\"\",Indata!X255)","v":""},{"$f":"IF(Indata!Y255=\"\",\"\",Indata!Y255)","v":""},{"$f":"IF(Indata!Z255=\"\",\"\",Indata!Z255)","v":""},{"$f":"IF(Indata!AA255=\"\",\"\",Indata!AA255)","v":""}]
[225,"Ri5 Sätoftasjön, 15 m",{"$f":"IF(Indata!C256=\"\",\"\",Indata!C256)","v":""},{"$f":"IF(Indata!D256=\"\",\"\",Indata!D256)","v":""},{"$f":"IF(Indata!E256=\"\",\"\",Indata!E256)","v":""},{"$f":"IF(Indata!F256=\"\",\"\",Indata!F256)","v":""},{"$f":"IF(Indata!G256=\"\",\"\",Indata!G256)","v":""},{"$f":"IF(Indata!H256=\"\",\"\",Indata!H256)","v":""},{"$f":"IF(Indata!I256=\"\",\"\",Indata!I256)","v":""},{"$f":"IF(Indata!J256=\"\",\"\",Indata!J256)","v":""},{"$f":"IF(Indata!K256=\"\",\"\",Indata!K256)","v":""},{"$f":"IF(Indata!L256=\"\",\"\",Indata!L256)","v":""},{"$f":"IF(Indata!M256=\"\",\"\",Indata!M256)","v":""},{"$f":"IF(Indata!N256=\"\",\"\",Indata!N256)","v":""},{"$f":"IF(Indata!O256=\"\",\"\",Indata!O256)","v":""},{"$f":"IF(Indata!P256=\"\",\"\",Indata!P256)","v":""},{"$f":"IF(Indata!Q256=\"\",\"\",Indata!Q256)","v":""},{"$f":"IF(Indata!R256=\"\",\"\",Indata!R256)","v":""},{"$f":"IF(Indata!S256=\"\",\"\",Indata!S256)","v":""},{"$f":"IF(Indata!T256=\"\",\"\",Indata!T256)","v":""},{"$f":"IF(Indata!U256=\"\",\"\",Indata!U256)","v":""},{"$f":"IF(Indata!V256=\"\",\"\",Indata!V256)","v":""},{"$f":"IF(Indata!W256=\"\",\"\",Indata!W256)","v":""},{"$f":"IF(Indata!X256=\"\",\"\",Indata!X256)","v":""},{"$f":"IF(Indata!Y256=\"\",\"\",Indata!Y256)","v":""},{"$f":"IF(Indata!Z256=\"\",\"\",Indata!Z256)","v":""},{"$f":"IF(Indata!AA256=\"\",\"\",Indata!AA256)","v":""}]
[230,"Ri4 Östra Ringsjön, ytan",{"$f":"IF(Indata!C257=\"\",\"\",Indata!C257)","v":""},{"$f":"IF(Indata!D257=\"\",\"\",Indata!D257)","v":""},{"$f":"IF(Indata!E257=\"\",\"\",Indata!E257)","v":""},{"$f":"IF(Indata!F257=\"\",\"\",Indata!F257)","v":""},{"$f":"IF(Indata!G257=\"\",\"\",Indata!G257)","v":""},{"$f":"IF(Indata!H257=\"\",\"\",Indata!H257)","v":""},{"$f":"IF(Indata!I257=\"\",\"\",Indata!I257)","v":""},{"$f":"IF(Indata!J257=\"\",\"\",Indata!J257)","v":""},{"$f":"IF(Indata!K257=\"\",\"\",Indata!K257)","v":""},{"$f":"IF(Indata!L257=\"\",\"\",Indata!L257)","v":""},{"$f":"IF(Indata!M257=\"\",\"\",Indata!M257)","v":""},{"$f":"IF(Indata!N257=\"\",\"\",Indata!N257)","v":""},{"$f":"IF(Indata!O257=\"\",\"\",Indata!O257)","v":""},{"$f":"IF(Indata!P257=\"\",\"\",Indata!P257)","v":""},{"$f":"IF(Indata!Q257=\"\",\"\",Indata!Q257)","v":""},{"$f":"IF(Indata!R257=\"\",\"\",Indata!R257)","v":""},{"$f":"IF(Indata!S257=\"\",\"\",Indata!S257)","v":""},{"$f":"IF(Indata!T257=\"\",\"\",Indata!T257)","v":""},{"$f":"IF(Indata!U257=\"\",\"\",Indata!U257)","v":""},{"$f":"IF(Indata!V257=\"\",\"\",Indata!V257)","v":""},{"$f":"IF(Indata!W257=\"\",\"\",Indata!W257)","v":""},{"$f":"IF(Indata!X257=\"\",\"\",Indata!X257)","v":""},{"$f":"IF(Indata!Y257=\"\",\"\",Indata!Y257)","v":""},{"$f":"IF(Indata!Z257=\"\",\"\",Indata!Z257)","v":""},{"$f":"IF(Indata!AA257=\"\",\"\",Indata!AA257)","v":""}]
[235,"Ri4 Östra Ringsjön, 15 m",{"$f":"IF(Indata!C258=\"\",\"\",Indata!C258)","v":""},{"$f":"IF(Indata!D258=\"\",\"\",Indata!D258)","v":""},{"$f":"IF(Indata!E258=\"\",\"\",Indata!E258)","v":""},{"$f":"IF(Indata!F258=\"\",\"\",Indata!F258)","v":""},{"$f":"IF(Indata!G258=\"\",\"\",Indata!G258)","v":""},{"$f":"IF(Indata!H258=\"\",\"\",Indata!H258)","v":""},{"$f":"IF(Indata!I258=\"\",\"\",Indata!I258)","v":""},{"$f":"IF(Indata!J258=\"\",\"\",Indata!J258)","v":""},{"$f":"IF(Indata!K258=\"\",\"\",Indata!K258)","v":""},{"$f":"IF(Indata!L258=\"\",\"\",Indata!L258)","v":""},{"$f":"IF(Indata!M258=\"\",\"\",Indata!M258)","v":""},{"$f":"IF(Indata!N258=\"\",\"\",Indata!N258)","v":""},{"$f":"IF(Indata!O258=\"\",\"\",Indata!O258)","v":""},{"$f":"IF(Indata!P258=\"\",\"\",Indata!P258)","v":""},{"$f":"IF(Indata!Q258=\"\",\"\",Indata!Q258)","v":""},{"$f":"IF(Indata!R258=\"\",\"\",Indata!R258)","v":""},{"$f":"IF(Indata!S258=\"\",\"\",Indata!S258)","v":""},{"$f":"IF(Indata!T258=\"\",\"\",Indata!T258)","v":""},{"$f":"IF(Indata!U258=\"\",\"\",Indata!U258)","v":""},{"$f":"IF(Indata!V258=\"\",\"\",Indata!V258)","v":""},{"$f":"IF(Indata!W258=\"\",\"\",Indata!W258)","v":""},{"$f":"IF(Indata!X258=\"\",\"\",Indata!X258)","v":""},{"$f":"IF(Indata!Y258=\"\",\"\",Indata!Y258)","v":""},{"$f":"IF(Indata!Z258=\"\",\"\",Indata!Z258)","v":""},{"$f":"IF(Indata!AA258=\"\",\"\",Indata!AA258)","v":""}]
[240,"Ri2 Västra Ringsjön, ytan",{"$f":"IF(Indata!C259=\"\",\"\",Indata!C259)","v":""},{"$f":"IF(Indata!D259=\"\",\"\",Indata!D259)","v":""},{"$f":"IF(Indata!E259=\"\",\"\",Indata!E259)","v":""},{"$f":"IF(Indata!F259=\"\",\"\",Indata!F259)","v":""},{"$f":"IF(Indata!G259=\"\",\"\",Indata!G259)","v":""},{"$f":"IF(Indata!H259=\"\",\"\",Indata!H259)","v":""},{"$f":"IF(Indata!I259=\"\",\"\",Indata!I259)","v":""},{"$f":"IF(Indata!J259=\"\",\"\",Indata!J259)","v":""},{"$f":"IF(Indata!K259=\"\",\"\",Indata!K259)","v":""},{"$f":"IF(Indata!L259=\"\",\"\",Indata!L259)","v":""},{"$f":"IF(Indata!M259=\"\",\"\",Indata!M259)","v":""},{"$f":"IF(Indata!N259=\"\",\"\",Indata!N259)","v":""},{"$f":"IF(Indata!O259=\"\",\"\",Indata!O259)","v":""},{"$f":"IF(Indata!P259=\"\",\"\",Indata!P259)","v":""},{"$f":"IF(Indata!Q259=\"\",\"\",Indata!Q259)","v":""},{"$f":"IF(Indata!R259=\"\",\"\",Indata!R259)","v":""},{"$f":"IF(Indata!S259=\"\",\"\",Indata!S259)","v":""},{"$f":"IF(Indata!T259=\"\",\"\",Indata!T259)","v":""},{"$f":"IF(Indata!U259=\"\",\"\",Indata!U259)","v":""},{"$f":"IF(Indata!V259=\"\",\"\",Indata!V259)","v":""},{"$f":"IF(Indata!W259=\"\",\"\",Indata!W259)","v":""},{"$f":"IF(Indata!X259=\"\",\"\",Indata!X259)","v":""},{"$f":"IF(Indata!Y259=\"\",\"\",Indata!Y259)","v":""},{"$f":"IF(Indata!Z259=\"\",\"\",Indata!Z259)","v":""},{"$f":"IF(Indata!AA259=\"\",\"\",Indata!AA259)","v":""}]
[245,"Ri2 Västra Ringsjön, 4 m",{"$f":"IF(Indata!C260=\"\",\"\",Indata!C260)","v":""},{"$f":"IF(Indata!D260=\"\",\"\",Indata!D260)","v":""},{"$f":"IF(Indata!E260=\"\",\"\",Indata!E260)","v":""},{"$f":"IF(Indata!F260=\"\",\"\",Indata!F260)","v":""},{"$f":"IF(Indata!G260=\"\",\"\",Indata!G260)","v":""},{"$f":"IF(Indata!H260=\"\",\"\",Indata!H260)","v":""},{"$f":"IF(Indata!I260=\"\",\"\",Indata!I260)","v":""},{"$f":"IF(Indata!J260=\"\",\"\",Indata!J260)","v":""},{"$f":"IF(Indata!K260=\"\",\"\",Indata!K260)","v":""},{"$f":"IF(Indata!L260=\"\",\"\",Indata!L260)","v":""},{"$f":"IF(Indata!M260=\"\",\"\",Indata!M260)","v":""},{"$f":"IF(Indata!N260=\"\",\"\",Indata!N260)","v":""},{"$f":"IF(Indata!O260=\"\",\"\",Indata!O260)","v":""},{"$f":"IF(Indata!P260=\"\",\"\",Indata!P260)","v":""},{"$f":"IF(Indata!Q260=\"\",\"\",Indata!Q260)","v":""},{"$f":"IF(Indata!R260=\"\",\"\",Indata!R260)","v":""},{"$f":"IF(Indata!S260=\"\",\"\",Indata!S260)","v":""},{"$f":"IF(Indata!T260=\"\",\"\",Indata!T260)","v":""},{"$f":"IF(Indata!U260=\"\",\"\",Indata!U260)","v":""},{"$f":"IF(Indata!V260=\"\",\"\",Indata!V260)","v":""},{"$f":"IF(Indata!W260=\"\",\"\",Indata!W260)","v":""},{"$f":"IF(Indata!X260=\"\",\"\",Indata!X260)","v":""},{"$f":"IF(Indata!Y260=\"\",\"\",Indata!Y260)","v":""},{"$f":"IF(Indata!Z260=\"\",\"\",Indata!Z260)","v":""},{"$f":"IF(Indata!AA260=\"\",\"\",Indata!AA260)","v":""}]
[300]
[250,"september"]
[3,"3  Rönneå, uppstr Bålamöllan",{"$f":"IF(Indata!C263=\"\",\"\",Indata!C263)","v":""},{"$f":"IF(Indata!D263=\"\",\"\",Indata!D263)","v":""},{"$f":"IF(Indata!E263=\"\",\"\",Indata!E263)","v":""},{"$f":"IF(Indata!F263=\"\",\"\",Indata!F263)","v":""},{"$f":"IF(Indata!G263=\"\",\"\",Indata!G263)","v":""},{"$f":"IF(Indata!H263=\"\",\"\",Indata!H263)","v":""},{"$f":"IF(Indata!I263=\"\",\"\",Indata!I263)","v":""},{"$f":"IF(Indata!J263=\"\",\"\",Indata!J263)","v":""},{"$f":"IF(Indata!K263=\"\",\"\",Indata!K263)","v":""},{"$f":"IF(Indata!L263=\"\",\"\",Indata!L263)","v":""},{"$f":"IF(Indata!M263=\"\",\"\",Indata!M263)","v":""},{"$f":"IF(Indata!N263=\"\",\"\",Indata!N263)","v":""},{"$f":"IF(Indata!O263=\"\",\"\",Indata!O263)","v":""},{"$f":"IF(Indata!P263=\"\",\"\",Indata!P263)","v":""},{"$f":"IF(Indata!Q263=\"\",\"\",Indata!Q263)","v":""},{"$f":"IF(Indata!R263=\"\",\"\",Indata!R263)","v":""},{"$f":"IF(Indata!S263=\"\",\"\",Indata!S263)","v":""},{"$f":"IF(Indata!T263=\"\",\"\",Indata!T263)","v":""},{"$f":"IF(Indata!U263=\"\",\"\",Indata!U263)","v":""},{"$f":"IF(Indata!V263=\"\",\"\",Indata!V263)","v":""},{"$f":"IF(Indata!W263=\"\",\"\",Indata!W263)","v":""},{"$f":"IF(Indata!X263=\"\",\"\",Indata!X263)","v":""},{"$f":"IF(Indata!Y263=\"\",\"\",Indata!Y263)","v":""},{"$f":"IF(Indata!Z263=\"\",\"\",Indata!Z263)","v":""},{"$f":"IF(Indata!AA263=\"\",\"\",Indata!AA263)","v":""}]
[5,"75 Rönneå, Bögerup vid bron innan Bolebäcken",{"$f":"IF(Indata!C264=\"\",\"\",Indata!C264)","v":""},{"$f":"IF(Indata!D264=\"\",\"\",Indata!D264)","v":""},{"$f":"IF(Indata!E264=\"\",\"\",Indata!E264)","v":""},{"$f":"IF(Indata!F264=\"\",\"\",Indata!F264)","v":""},{"$f":"IF(Indata!G264=\"\",\"\",Indata!G264)","v":""},{"$f":"IF(Indata!H264=\"\",\"\",Indata!H264)","v":""},{"$f":"IF(Indata!I264=\"\",\"\",Indata!I264)","v":""},{"$f":"IF(Indata!J264=\"\",\"\",Indata!J264)","v":""},{"$f":"IF(Indata!K264=\"\",\"\",Indata!K264)","v":""},{"$f":"IF(Indata!L264=\"\",\"\",Indata!L264)","v":""},{"$f":"IF(Indata!M264=\"\",\"\",Indata!M264)","v":""},{"$f":"IF(Indata!N264=\"\",\"\",Indata!N264)","v":""},{"$f":"IF(Indata!O264=\"\",\"\",Indata!O264)","v":""},{"$f":"IF(Indata!P264=\"\",\"\",Indata!P264)","v":""},{"$f":"IF(Indata!Q264=\"\",\"\",Indata!Q264)","v":""},{"$f":"IF(Indata!R264=\"\",\"\",Indata!R264)","v":""},{"$f":"IF(Indata!S264=\"\",\"\",Indata!S264)","v":""},{"$f":"IF(Indata!T264=\"\",\"\",Indata!T264)","v":""},{"$f":"IF(Indata!U264=\"\",\"\",Indata!U264)","v":""},{"$f":"IF(Indata!V264=\"\",\"\",Indata!V264)","v":""},{"$f":"IF(Indata!W264=\"\",\"\",Indata!W264)","v":""},{"$f":"IF(Indata!X264=\"\",\"\",Indata!X264)","v":""},{"$f":"IF(Indata!Y264=\"\",\"\",Indata!Y264)","v":""},{"$f":"IF(Indata!Z264=\"\",\"\",Indata!Z264)","v":""},{"$f":"IF(Indata!AA264=\"\",\"\",Indata!AA264)","v":""}]
[10,"11 Rönneå, vid Djupadalsmölla",{"$f":"IF(Indata!C265=\"\",\"\",Indata!C265)","v":""},{"$f":"IF(Indata!D265=\"\",\"\",Indata!D265)","v":""},{"$f":"IF(Indata!E265=\"\",\"\",Indata!E265)","v":""},{"$f":"IF(Indata!F265=\"\",\"\",Indata!F265)","v":""},{"$f":"IF(Indata!G265=\"\",\"\",Indata!G265)","v":""},{"$f":"IF(Indata!H265=\"\",\"\",Indata!H265)","v":""},{"$f":"IF(Indata!I265=\"\",\"\",Indata!I265)","v":""},{"$f":"IF(Indata!J265=\"\",\"\",Indata!J265)","v":""},{"$f":"IF(Indata!K265=\"\",\"\",Indata!K265)","v":""},{"$f":"IF(Indata!L265=\"\",\"\",Indata!L265)","v":""},{"$f":"IF(Indata!M265=\"\",\"\",Indata!M265)","v":""},{"$f":"IF(Indata!N265=\"\",\"\",Indata!N265)","v":""},{"$f":"IF(Indata!O265=\"\",\"\",Indata!O265)","v":""},{"$f":"IF(Indata!P265=\"\",\"\",Indata!P265)","v":""},{"$f":"IF(Indata!Q265=\"\",\"\",Indata!Q265)","v":""},{"$f":"IF(Indata!R265=\"\",\"\",Indata!R265)","v":""},{"$f":"IF(Indata!S265=\"\",\"\",Indata!S265)","v":""},{"$f":"IF(Indata!T265=\"\",\"\",Indata!T265)","v":""},{"$f":"IF(Indata!U265=\"\",\"\",Indata!U265)","v":""},{"$f":"IF(Indata!V265=\"\",\"\",Indata!V265)","v":""},{"$f":"IF(Indata!W265=\"\",\"\",Indata!W265)","v":""},{"$f":"IF(Indata!X265=\"\",\"\",Indata!X265)","v":""},{"$f":"IF(Indata!Y265=\"\",\"\",Indata!Y265)","v":""},{"$f":"IF(Indata!Z265=\"\",\"\",Indata!Z265)","v":""},{"$f":"IF(Indata!AA265=\"\",\"\",Indata!AA265)","v":""}]
[15,"14 Rönneå, uppstr Ljungbyheds ARV",{"$f":"IF(Indata!C266=\"\",\"\",Indata!C266)","v":""},{"$f":"IF(Indata!D266=\"\",\"\",Indata!D266)","v":""},{"$f":"IF(Indata!E266=\"\",\"\",Indata!E266)","v":""},{"$f":"IF(Indata!F266=\"\",\"\",Indata!F266)","v":""},{"$f":"IF(Indata!G266=\"\",\"\",Indata!G266)","v":""},{"$f":"IF(Indata!H266=\"\",\"\",Indata!H266)","v":""},{"$f":"IF(Indata!I266=\"\",\"\",Indata!I266)","v":""},{"$f":"IF(Indata!J266=\"\",\"\",Indata!J266)","v":""},{"$f":"IF(Indata!K266=\"\",\"\",Indata!K266)","v":""},{"$f":"IF(Indata!L266=\"\",\"\",Indata!L266)","v":""},{"$f":"IF(Indata!M266=\"\",\"\",Indata!M266)","v":""},{"$f":"IF(Indata!N266=\"\",\"\",Indata!N266)","v":""},{"$f":"IF(Indata!O266=\"\",\"\",Indata!O266)","v":""},{"$f":"IF(Indata!P266=\"\",\"\",Indata!P266)","v":""},{"$f":"IF(Indata!Q266=\"\",\"\",Indata!Q266)","v":""},{"$f":"IF(Indata!R266=\"\",\"\",Indata!R266)","v":""},{"$f":"IF(Indata!S266=\"\",\"\",Indata!S266)","v":""},{"$f":"IF(Indata!T266=\"\",\"\",Indata!T266)","v":""},{"$f":"IF(Indata!U266=\"\",\"\",Indata!U266)","v":""},{"$f":"IF(Indata!V266=\"\",\"\",Indata!V266)","v":""},{"$f":"IF(Indata!W266=\"\",\"\",Indata!W266)","v":""},{"$f":"IF(Indata!X266=\"\",\"\",Indata!X266)","v":""},{"$f":"IF(Indata!Y266=\"\",\"\",Indata!Y266)","v":""},{"$f":"IF(Indata!Z266=\"\",\"\",Indata!Z266)","v":""},{"$f":"IF(Indata!AA266=\"\",\"\",Indata!AA266)","v":""}]
[20,"79 Rönneå, nedstr Ljungbyhed ARV",{"$f":"IF(Indata!C267=\"\",\"\",Indata!C267)","v":""},{"$f":"IF(Indata!D267=\"\",\"\",Indata!D267)","v":""},{"$f":"IF(Indata!E267=\"\",\"\",Indata!E267)","v":""},{"$f":"IF(Indata!F267=\"\",\"\",Indata!F267)","v":""},{"$f":"IF(Indata!G267=\"\",\"\",Indata!G267)","v":""},{"$f":"IF(Indata!H267=\"\",\"\",Indata!H267)","v":""},{"$f":"IF(Indata!I267=\"\",\"\",Indata!I267)","v":""},{"$f":"IF(Indata!J267=\"\",\"\",Indata!J267)","v":""},{"$f":"IF(Indata!K267=\"\",\"\",Indata!K267)","v":""},{"$f":"IF(Indata!L267=\"\",\"\",Indata!L267)","v":""},{"$f":"IF(Indata!M267=\"\",\"\",Indata!M267)","v":""},{"$f":"IF(Indata!N267=\"\",\"\",Indata!N267)","v":""},{"$f":"IF(Indata!O267=\"\",\"\",Indata!O267)","v":""},{"$f":"IF(Indata!P267=\"\",\"\",Indata!P267)","v":""},{"$f":"IF(Indata!Q267=\"\",\"\",Indata!Q267)","v":""},{"$f":"IF(Indata!R267=\"\",\"\",Indata!R267)","v":""},{"$f":"IF(Indata!S267=\"\",\"\",Indata!S267)","v":""},{"$f":"IF(Indata!T267=\"\",\"\",Indata!T267)","v":""},{"$f":"IF(Indata!U267=\"\",\"\",Indata!U267)","v":""},{"$f":"IF(Indata!V267=\"\",\"\",Indata!V267)","v":""},{"$f":"IF(Indata!W267=\"\",\"\",Indata!W267)","v":""},{"$f":"IF(Indata!X267=\"\",\"\",Indata!X267)","v":""},{"$f":"IF(Indata!Y267=\"\",\"\",Indata!Y267)","v":""},{"$f":"IF(Indata!Z267=\"\",\"\",Indata!Z267)","v":""},{"$f":"IF(Indata!AA267=\"\",\"\",Indata!AA267)","v":""}]
[25,"24 Rönneå, vid Forsmöllan",{"$f":"IF(Indata!C268=\"\",\"\",Indata!C268)","v":""},{"$f":"IF(Indata!D268=\"\",\"\",Indata!D268)","v":""},{"$f":"IF(Indata!E268=\"\",\"\",Indata!E268)","v":""},{"$f":"IF(Indata!F268=\"\",\"\",Indata!F268)","v":""},{"$f":"IF(Indata!G268=\"\",\"\",Indata!G268)","v":""},{"$f":"IF(Indata!H268=\"\",\"\",Indata!H268)","v":""},{"$f":"IF(Indata!I268=\"\",\"\",Indata!I268)","v":""},{"$f":"IF(Indata!J268=\"\",\"\",Indata!J268)","v":""},{"$f":"IF(Indata!K268=\"\",\"\",Indata!K268)","v":""},{"$f":"IF(Indata!L268=\"\",\"\",Indata!L268)","v":""},{"$f":"IF(Indata!M268=\"\",\"\",Indata!M268)","v":""},{"$f":"IF(Indata!N268=\"\",\"\",Indata!N268)","v":""},{"$f":"IF(Indata!O268=\"\",\"\",Indata!O268)","v":""},{"$f":"IF(Indata!P268=\"\",\"\",Indata!P268)","v":""},{"$f":"IF(Indata!Q268=\"\",\"\",Indata!Q268)","v":""},{"$f":"IF(Indata!R268=\"\",\"\",Indata!R268)","v":""},{"$f":"IF(Indata!S268=\"\",\"\",Indata!S268)","v":""},{"$f":"IF(Indata!T268=\"\",\"\",Indata!T268)","v":""},{"$f":"IF(Indata!U268=\"\",\"\",Indata!U268)","v":""},{"$f":"IF(Indata!V268=\"\",\"\",Indata!V268)","v":""},{"$f":"IF(Indata!W268=\"\",\"\",Indata!W268)","v":""},{"$f":"IF(Indata!X268=\"\",\"\",Indata!X268)","v":""},{"$f":"IF(Indata!Y268=\"\",\"\",Indata!Y268)","v":""},{"$f":"IF(Indata!Z268=\"\",\"\",Indata!Z268)","v":""},{"$f":"IF(Indata!AA268=\"\",\"\",Indata!AA268)","v":""}]
[30,"25 Rönneå, vid Stackarps bro",{"$f":"IF(Indata!C269=\"\",\"\",Indata!C269)","v":""},{"$f":"IF(Indata!D269=\"\",\"\",Indata!D269)","v":""},{"$f":"IF(Indata!E269=\"\",\"\",Indata!E269)","v":""},{"$f":"IF(Indata!F269=\"\",\"\",Indata!F269)","v":""},{"$f":"IF(Indata!G269=\"\",\"\",Indata!G269)","v":""},{"$f":"IF(Indata!H269=\"\",\"\",Indata!H269)","v":""},{"$f":"IF(Indata!I269=\"\",\"\",Indata!I269)","v":""},{"$f":"IF(Indata!J269=\"\",\"\",Indata!J269)","v":""},{"$f":"IF(Indata!K269=\"\",\"\",Indata!K269)","v":""},{"$f":"IF(Indata!L269=\"\",\"\",Indata!L269)","v":""},{"$f":"IF(Indata!M269=\"\",\"\",Indata!M269)","v":""},{"$f":"IF(Indata!N269=\"\",\"\",Indata!N269)","v":""},{"$f":"IF(Indata!O269=\"\",\"\",Indata!O269)","v":""},{"$f":"IF(Indata!P269=\"\",\"\",Indata!P269)","v":""},{"$f":"IF(Indata!Q269=\"\",\"\",Indata!Q269)","v":""},{"$f":"IF(Indata!R269=\"\",\"\",Indata!R269)","v":""},{"$f":"IF(Indata!S269=\"\",\"\",Indata!S269)","v":""},{"$f":"IF(Indata!T269=\"\",\"\",Indata!T269)","v":""},{"$f":"IF(Indata!U269=\"\",\"\",Indata!U269)","v":""},{"$f":"IF(Indata!V269=\"\",\"\",Indata!V269)","v":""},{"$f":"IF(Indata!W269=\"\",\"\",Indata!W269)","v":""},{"$f":"IF(Indata!X269=\"\",\"\",Indata!X269)","v":""},{"$f":"IF(Indata!Y269=\"\",\"\",Indata!Y269)","v":""},{"$f":"IF(Indata!Z269=\"\",\"\",Indata!Z269)","v":""},{"$f":"IF(Indata!AA269=\"\",\"\",Indata!AA269)","v":""}]
[35,"34 Rönneå, vid Tranarps bro",{"$f":"IF(Indata!C270=\"\",\"\",Indata!C270)","v":""},{"$f":"IF(Indata!D270=\"\",\"\",Indata!D270)","v":""},{"$f":"IF(Indata!E270=\"\",\"\",Indata!E270)","v":""},{"$f":"IF(Indata!F270=\"\",\"\",Indata!F270)","v":""},{"$f":"IF(Indata!G270=\"\",\"\",Indata!G270)","v":""},{"$f":"IF(Indata!H270=\"\",\"\",Indata!H270)","v":""},{"$f":"IF(Indata!I270=\"\",\"\",Indata!I270)","v":""},{"$f":"IF(Indata!J270=\"\",\"\",Indata!J270)","v":""},{"$f":"IF(Indata!K270=\"\",\"\",Indata!K270)","v":""},{"$f":"IF(Indata!L270=\"\",\"\",Indata!L270)","v":""},{"$f":"IF(Indata!M270=\"\",\"\",Indata!M270)","v":""},{"$f":"IF(Indata!N270=\"\",\"\",Indata!N270)","v":""},{"$f":"IF(Indata!O270=\"\",\"\",Indata!O270)","v":""},{"$f":"IF(Indata!P270=\"\",\"\",Indata!P270)","v":""},{"$f":"IF(Indata!Q270=\"\",\"\",Indata!Q270)","v":""},{"$f":"IF(Indata!R270=\"\",\"\",Indata!R270)","v":""},{"$f":"IF(Indata!S270=\"\",\"\",Indata!S270)","v":""},{"$f":"IF(Indata!T270=\"\",\"\",Indata!T270)","v":""},{"$f":"IF(Indata!U270=\"\",\"\",Indata!U270)","v":""},{"$f":"IF(Indata!V270=\"\",\"\",Indata!V270)","v":""},{"$f":"IF(Indata!W270=\"\",\"\",Indata!W270)","v":""},{"$f":"IF(Indata!X270=\"\",\"\",Indata!X270)","v":""},{"$f":"IF(Indata!Y270=\"\",\"\",Indata!Y270)","v":""},{"$f":"IF(Indata!Z270=\"\",\"\",Indata!Z270)","v":""},{"$f":"IF(Indata!AA270=\"\",\"\",Indata!AA270)","v":""}]
[40,"49 Rönneå, uppstr Ängelholm",{"$f":"IF(Indata!C271=\"\",\"\",Indata!C271)","v":""},{"$f":"IF(Indata!D271=\"\",\"\",Indata!D271)","v":""},{"$f":"IF(Indata!E271=\"\",\"\",Indata!E271)","v":""},{"$f":"IF(Indata!F271=\"\",\"\",Indata!F271)","v":""},{"$f":"IF(Indata!G271=\"\",\"\",Indata!G271)","v":""},{"$f":"IF(Indata!H271=\"\",\"\",Indata!H271)","v":""},{"$f":"IF(Indata!I271=\"\",\"\",Indata!I271)","v":""},{"$f":"IF(Indata!J271=\"\",\"\",Indata!J271)","v":""},{"$f":"IF(Indata!K271=\"\",\"\",Indata!K271)","v":""},{"$f":"IF(Indata!L271=\"\",\"\",Indata!L271)","v":""},{"$f":"IF(Indata!M271=\"\",\"\",Indata!M271)","v":""},{"$f":"IF(Indata!N271=\"\",\"\",Indata!N271)","v":""},{"$f":"IF(Indata!O271=\"\",\"\",Indata!O271)","v":""},{"$f":"IF(Indata!P271=\"\",\"\",Indata!P271)","v":""},{"$f":"IF(Indata!Q271=\"\",\"\",Indata!Q271)","v":""},{"$f":"IF(Indata!R271=\"\",\"\",Indata!R271)","v":""},{"$f":"IF(Indata!S271=\"\",\"\",Indata!S271)","v":""},{"$f":"IF(Indata!T271=\"\",\"\",Indata!T271)","v":""},{"$f":"IF(Indata!U271=\"\",\"\",Indata!U271)","v":""},{"$f":"IF(Indata!V271=\"\",\"\",Indata!V271)","v":""},{"$f":"IF(Indata!W271=\"\",\"\",Indata!W271)","v":""},{"$f":"IF(Indata!X271=\"\",\"\",Indata!X271)","v":""},{"$f":"IF(Indata!Y271=\"\",\"\",Indata!Y271)","v":""},{"$f":"IF(Indata!Z271=\"\",\"\",Indata!Z271)","v":""},{"$f":"IF(Indata!AA271=\"\",\"\",Indata!AA271)","v":""}]
[45,"57 Rönneå, vid utfl t Skälderviken",{"$f":"IF(Indata!C272=\"\",\"\",Indata!C272)","v":""},{"$f":"IF(Indata!D272=\"\",\"\",Indata!D272)","v":""},{"$f":"IF(Indata!E272=\"\",\"\",Indata!E272)","v":""},{"$f":"IF(Indata!F272=\"\",\"\",Indata!F272)","v":""},{"$f":"IF(Indata!G272=\"\",\"\",Indata!G272)","v":""},{"$f":"IF(Indata!H272=\"\",\"\",Indata!H272)","v":""},{"$f":"IF(Indata!I272=\"\",\"\",Indata!I272)","v":""},{"$f":"IF(Indata!J272=\"\",\"\",Indata!J272)","v":""},{"$f":"IF(Indata!K272=\"\",\"\",Indata!K272)","v":""},{"$f":"IF(Indata!L272=\"\",\"\",Indata!L272)","v":""},{"$f":"IF(Indata!M272=\"\",\"\",Indata!M272)","v":""},{"$f":"IF(Indata!N272=\"\",\"\",Indata!N272)","v":""},{"$f":"IF(Indata!O272=\"\",\"\",Indata!O272)","v":""},{"$f":"IF(Indata!P272=\"\",\"\",Indata!P272)","v":""},{"$f":"IF(Indata!Q272=\"\",\"\",Indata!Q272)","v":""},{"$f":"IF(Indata!R272=\"\",\"\",Indata!R272)","v":""},{"$f":"IF(Indata!S272=\"\",\"\",Indata!S272)","v":""},{"$f":"IF(Indata!T272=\"\",\"\",Indata!T272)","v":""},{"$f":"IF(Indata!U272=\"\",\"\",Indata!U272)","v":""},{"$f":"IF(Indata!V272=\"\",\"\",Indata!V272)","v":""},{"$f":"IF(Indata!W272=\"\",\"\",Indata!W272)","v":""},{"$f":"IF(Indata!X272=\"\",\"\",Indata!X272)","v":""},{"$f":"IF(Indata!Y272=\"\",\"\",Indata!Y272)","v":""},{"$f":"IF(Indata!Z272=\"\",\"\",Indata!Z272)","v":""},{"$f":"IF(Indata!AA272=\"\",\"\",Indata!AA272)","v":""}]
[50,"6  Bäljaneå, uppstr Röstånga",{"$f":"IF(Indata!C273=\"\",\"\",Indata!C273)","v":""},{"$f":"IF(Indata!D273=\"\",\"\",Indata!D273)","v":""},{"$f":"IF(Indata!E273=\"\",\"\",Indata!E273)","v":""},{"$f":"IF(Indata!F273=\"\",\"\",Indata!F273)","v":""},{"$f":"IF(Indata!G273=\"\",\"\",Indata!G273)","v":""},{"$f":"IF(Indata!H273=\"\",\"\",Indata!H273)","v":""},{"$f":"IF(Indata!I273=\"\",\"\",Indata!I273)","v":""},{"$f":"IF(Indata!J273=\"\",\"\",Indata!J273)","v":""},{"$f":"IF(Indata!K273=\"\",\"\",Indata!K273)","v":""},{"$f":"IF(Indata!L273=\"\",\"\",Indata!L273)","v":""},{"$f":"IF(Indata!M273=\"\",\"\",Indata!M273)","v":""},{"$f":"IF(Indata!N273=\"\",\"\",Indata!N273)","v":""},{"$f":"IF(Indata!O273=\"\",\"\",Indata!O273)","v":""},{"$f":"IF(Indata!P273=\"\",\"\",Indata!P273)","v":""},{"$f":"IF(Indata!Q273=\"\",\"\",Indata!Q273)","v":""},{"$f":"IF(Indata!R273=\"\",\"\",Indata!R273)","v":""},{"$f":"IF(Indata!S273=\"\",\"\",Indata!S273)","v":""},{"$f":"IF(Indata!T273=\"\",\"\",Indata!T273)","v":""},{"$f":"IF(Indata!U273=\"\",\"\",Indata!U273)","v":""},{"$f":"IF(Indata!V273=\"\",\"\",Indata!V273)","v":""},{"$f":"IF(Indata!W273=\"\",\"\",Indata!W273)","v":""},{"$f":"IF(Indata!X273=\"\",\"\",Indata!X273)","v":""},{"$f":"IF(Indata!Y273=\"\",\"\",Indata!Y273)","v":""},{"$f":"IF(Indata!Z273=\"\",\"\",Indata!Z273)","v":""},{"$f":"IF(Indata!AA273=\"\",\"\",Indata!AA273)","v":""}]
[55,"8  Bäljaneå, före utfl t Rönneå",{"$f":"IF(Indata!C274=\"\",\"\",Indata!C274)","v":""},{"$f":"IF(Indata!D274=\"\",\"\",Indata!D274)","v":""},{"$f":"IF(Indata!E274=\"\",\"\",Indata!E274)","v":""},{"$f":"IF(Indata!F274=\"\",\"\",Indata!F274)","v":""},{"$f":"IF(Indata!G274=\"\",\"\",Indata!G274)","v":""},{"$f":"IF(Indata!H274=\"\",\"\",Indata!H274)","v":""},{"$f":"IF(Indata!I274=\"\",\"\",Indata!I274)","v":""},{"$f":"IF(Indata!J274=\"\",\"\",Indata!J274)","v":""},{"$f":"IF(Indata!K274=\"\",\"\",Indata!K274)","v":""},{"$f":"IF(Indata!L274=\"\",\"\",Indata!L274)","v":""},{"$f":"IF(Indata!M274=\"\",\"\",Indata!M274)","v":""},{"$f":"IF(Indata!N274=\"\",\"\",Indata!N274)","v":""},{"$f":"IF(Indata!O274=\"\",\"\",Indata!O274)","v":""},{"$f":"IF(Indata!P274=\"\",\"\",Indata!P274)","v":""},{"$f":"IF(Indata!Q274=\"\",\"\",Indata!Q274)","v":""},{"$f":"IF(Indata!R274=\"\",\"\",Indata!R274)","v":""},{"$f":"IF(Indata!S274=\"\",\"\",Indata!S274)","v":""},{"$f":"IF(Indata!T274=\"\",\"\",Indata!T274)","v":""},{"$f":"IF(Indata!U274=\"\",\"\",Indata!U274)","v":""},{"$f":"IF(Indata!V274=\"\",\"\",Indata!V274)","v":""},{"$f":"IF(Indata!W274=\"\",\"\",Indata!W274)","v":""},{"$f":"IF(Indata!X274=\"\",\"\",Indata!X274)","v":""},{"$f":"IF(Indata!Y274=\"\",\"\",Indata!Y274)","v":""},{"$f":"IF(Indata!Z274=\"\",\"\",Indata!Z274)","v":""},{"$f":"IF(Indata!AA274=\"\",\"\",Indata!AA274)","v":""}]
[60,"59 Klingstorpabäcken, Färingstofta",{"$f":"IF(Indata!C275=\"\",\"\",Indata!C275)","v":""},{"$f":"IF(Indata!D275=\"\",\"\",Indata!D275)","v":""},{"$f":"IF(Indata!E275=\"\",\"\",Indata!E275)","v":""},{"$f":"IF(Indata!F275=\"\",\"\",Indata!F275)","v":""},{"$f":"IF(Indata!G275=\"\",\"\",Indata!G275)","v":""},{"$f":"IF(Indata!H275=\"\",\"\",Indata!H275)","v":""},{"$f":"IF(Indata!I275=\"\",\"\",Indata!I275)","v":""},{"$f":"IF(Indata!J275=\"\",\"\",Indata!J275)","v":""},{"$f":"IF(Indata!K275=\"\",\"\",Indata!K275)","v":""},{"$f":"IF(Indata!L275=\"\",\"\",Indata!L275)","v":""},{"$f":"IF(Indata!M275=\"\",\"\",Indata!M275)","v":""},{"$f":"IF(Indata!N275=\"\",\"\",Indata!N275)","v":""},{"$f":"IF(Indata!O275=\"\",\"\",Indata!O275)","v":""},{"$f":"IF(Indata!P275=\"\",\"\",Indata!P275)","v":""},{"$f":"IF(Indata!Q275=\"\",\"\",Indata!Q275)","v":""},{"$f":"IF(Indata!R275=\"\",\"\",Indata!R275)","v":""},{"$f":"IF(Indata!S275=\"\",\"\",Indata!S275)","v":""},{"$f":"IF(Indata!T275=\"\",\"\",Indata!T275)","v":""},{"$f":"IF(Indata!U275=\"\",\"\",Indata!U275)","v":""},{"$f":"IF(Indata!V275=\"\",\"\",Indata!V275)","v":""},{"$f":"IF(Indata!W275=\"\",\"\",Indata!W275)","v":""},{"$f":"IF(Indata!X275=\"\",\"\",Indata!X275)","v":""},{"$f":"IF(Indata!Y275=\"\",\"\",Indata!Y275)","v":""},{"$f":"IF(Indata!Z275=\"\",\"\",Indata!Z275)","v":""},{"$f":"IF(Indata!AA275=\"\",\"\",Indata!AA275)","v":""}]
[65,"72 Storedamm, utlopp mot Svenstorp",{"$f":"IF(Indata!C276=\"\",\"\",Indata!C276)","v":""},{"$f":"IF(Indata!D276=\"\",\"\",Indata!D276)","v":""},{"$f":"IF(Indata!E276=\"\",\"\",Indata!E276)","v":""},{"$f":"IF(Indata!F276=\"\",\"\",Indata!F276)","v":""},{"$f":"IF(Indata!G276=\"\",\"\",Indata!G276)","v":""},{"$f":"IF(Indata!H276=\"\",\"\",Indata!H276)","v":""},{"$f":"IF(Indata!I276=\"\",\"\",Indata!I276)","v":""},{"$f":"IF(Indata!J276=\"\",\"\",Indata!J276)","v":""},{"$f":"IF(Indata!K276=\"\",\"\",Indata!K276)","v":""},{"$f":"IF(Indata!L276=\"\",\"\",Indata!L276)","v":""},{"$f":"IF(Indata!M276=\"\",\"\",Indata!M276)","v":""},{"$f":"IF(Indata!N276=\"\",\"\",Indata!N276)","v":""},{"$f":"IF(Indata!O276=\"\",\"\",Indata!O276)","v":""},{"$f":"IF(Indata!P276=\"\",\"\",Indata!P276)","v":""},{"$f":"IF(Indata!Q276=\"\",\"\",Indata!Q276)","v":""},{"$f":"IF(Indata!R276=\"\",\"\",Indata!R276)","v":""},{"$f":"IF(Indata!S276=\"\",\"\",Indata!S276)","v":""},{"$f":"IF(Indata!T276=\"\",\"\",Indata!T276)","v":""},{"$f":"IF(Indata!U276=\"\",\"\",Indata!U276)","v":""},{"$f":"IF(Indata!V276=\"\",\"\",Indata!V276)","v":""},{"$f":"IF(Indata!W276=\"\",\"\",Indata!W276)","v":""},{"$f":"IF(Indata!X276=\"\",\"\",Indata!X276)","v":""},{"$f":"IF(Indata!Y276=\"\",\"\",Indata!Y276)","v":""},{"$f":"IF(Indata!Z276=\"\",\"\",Indata!Z276)","v":""},{"$f":"IF(Indata!AA276=\"\",\"\",Indata!AA276)","v":""}]
[70,"15 Ybbarpsån, utfl ur Ybbarpssjön",{"$f":"IF(Indata!C277=\"\",\"\",Indata!C277)","v":""},{"$f":"IF(Indata!D277=\"\",\"\",Indata!D277)","v":""},{"$f":"IF(Indata!E277=\"\",\"\",Indata!E277)","v":""},{"$f":"IF(Indata!F277=\"\",\"\",Indata!F277)","v":""},{"$f":"IF(Indata!G277=\"\",\"\",Indata!G277)","v":""},{"$f":"IF(Indata!H277=\"\",\"\",Indata!H277)","v":""},{"$f":"IF(Indata!I277=\"\",\"\",Indata!I277)","v":""},{"$f":"IF(Indata!J277=\"\",\"\",Indata!J277)","v":""},{"$f":"IF(Indata!K277=\"\",\"\",Indata!K277)","v":""},{"$f":"IF(Indata!L277=\"\",\"\",Indata!L277)","v":""},{"$f":"IF(Indata!M277=\"\",\"\",Indata!M277)","v":""},{"$f":"IF(Indata!N277=\"\",\"\",Indata!N277)","v":""},{"$f":"IF(Indata!O277=\"\",\"\",Indata!O277)","v":""},{"$f":"IF(Indata!P277=\"\",\"\",Indata!P277)","v":""},{"$f":"IF(Indata!Q277=\"\",\"\",Indata!Q277)","v":""},{"$f":"IF(Indata!R277=\"\",\"\",Indata!R277)","v":""},{"$f":"IF(Indata!S277=\"\",\"\",Indata!S277)","v":""},{"$f":"IF(Indata!T277=\"\",\"\",Indata!T277)","v":""},{"$f":"IF(Indata!U277=\"\",\"\",Indata!U277)","v":""},{"$f":"IF(Indata!V277=\"\",\"\",Indata!V277)","v":""},{"$f":"IF(Indata!W277=\"\",\"\",Indata!W277)","v":""},{"$f":"IF(Indata!X277=\"\",\"\",Indata!X277)","v":""},{"$f":"IF(Indata!Y277=\"\",\"\",Indata!Y277)","v":""},{"$f":"IF(Indata!Z277=\"\",\"\",Indata!Z277)","v":""},{"$f":"IF(Indata!AA277=\"\",\"\",Indata!AA277)","v":""}]
[75,"16 Ybbarpsån, nedstr Perstorp AB",{"$f":"IF(Indata!C278=\"\",\"\",Indata!C278)","v":""},{"$f":"IF(Indata!D278=\"\",\"\",Indata!D278)","v":""},{"$f":"IF(Indata!E278=\"\",\"\",Indata!E278)","v":""},{"$f":"IF(Indata!F278=\"\",\"\",Indata!F278)","v":""},{"$f":"IF(Indata!G278=\"\",\"\",Indata!G278)","v":""},{"$f":"IF(Indata!H278=\"\",\"\",Indata!H278)","v":""},{"$f":"IF(Indata!I278=\"\",\"\",Indata!I278)","v":""},{"$f":"IF(Indata!J278=\"\",\"\",Indata!J278)","v":""},{"$f":"IF(Indata!K278=\"\",\"\",Indata!K278)","v":""},{"$f":"IF(Indata!L278=\"\",\"\",Indata!L278)","v":""},{"$f":"IF(Indata!M278=\"\",\"\",Indata!M278)","v":""},{"$f":"IF(Indata!N278=\"\",\"\",Indata!N278)","v":""},{"$f":"IF(Indata!O278=\"\",\"\",Indata!O278)","v":""},{"$f":"IF(Indata!P278=\"\",\"\",Indata!P278)","v":""},{"$f":"IF(Indata!Q278=\"\",\"\",Indata!Q278)","v":""},{"$f":"IF(Indata!R278=\"\",\"\",Indata!R278)","v":""},{"$f":"IF(Indata!S278=\"\",\"\",Indata!S278)","v":""},{"$f":"IF(Indata!T278=\"\",\"\",Indata!T278)","v":""},{"$f":"IF(Indata!U278=\"\",\"\",Indata!U278)","v":""},{"$f":"IF(Indata!V278=\"\",\"\",Indata!V278)","v":""},{"$f":"IF(Indata!W278=\"\",\"\",Indata!W278)","v":""},{"$f":"IF(Indata!X278=\"\",\"\",Indata!X278)","v":""},{"$f":"IF(Indata!Y278=\"\",\"\",Indata!Y278)","v":""},{"$f":"IF(Indata!Z278=\"\",\"\",Indata!Z278)","v":""},{"$f":"IF(Indata!AA278=\"\",\"\",Indata!AA278)","v":""}]
[80,"17 Ybbarpsån, Storarydsdammens utl",{"$f":"IF(Indata!C279=\"\",\"\",Indata!C279)","v":""},{"$f":"IF(Indata!D279=\"\",\"\",Indata!D279)","v":""},{"$f":"IF(Indata!E279=\"\",\"\",Indata!E279)","v":""},{"$f":"IF(Indata!F279=\"\",\"\",Indata!F279)","v":""},{"$f":"IF(Indata!G279=\"\",\"\",Indata!G279)","v":""},{"$f":"IF(Indata!H279=\"\",\"\",Indata!H279)","v":""},{"$f":"IF(Indata!I279=\"\",\"\",Indata!I279)","v":""},{"$f":"IF(Indata!J279=\"\",\"\",Indata!J279)","v":""},{"$f":"IF(Indata!K279=\"\",\"\",Indata!K279)","v":""},{"$f":"IF(Indata!L279=\"\",\"\",Indata!L279)","v":""},{"$f":"IF(Indata!M279=\"\",\"\",Indata!M279)","v":""},{"$f":"IF(Indata!N279=\"\",\"\",Indata!N279)","v":""},{"$f":"IF(Indata!O279=\"\",\"\",Indata!O279)","v":""},{"$f":"IF(Indata!P279=\"\",\"\",Indata!P279)","v":""},{"$f":"IF(Indata!Q279=\"\",\"\",Indata!Q279)","v":""},{"$f":"IF(Indata!R279=\"\",\"\",Indata!R279)","v":""},{"$f":"IF(Indata!S279=\"\",\"\",Indata!S279)","v":""},{"$f":"IF(Indata!T279=\"\",\"\",Indata!T279)","v":""},{"$f":"IF(Indata!U279=\"\",\"\",Indata!U279)","v":""},{"$f":"IF(Indata!V279=\"\",\"\",Indata!V279)","v":""},{"$f":"IF(Indata!W279=\"\",\"\",Indata!W279)","v":""},{"$f":"IF(Indata!X279=\"\",\"\",Indata!X279)","v":""},{"$f":"IF(Indata!Y279=\"\",\"\",Indata!Y279)","v":""},{"$f":"IF(Indata!Z279=\"\",\"\",Indata!Z279)","v":""},{"$f":"IF(Indata!AA279=\"\",\"\",Indata!AA279)","v":""}]
[85,"22 Ybbarpsån, vid Herrevadskloster",{"$f":"IF(Indata!C280=\"\",\"\",Indata!C280)","v":""},{"$f":"IF(Indata!D280=\"\",\"\",Indata!D280)","v":""},{"$f":"IF(Indata!E280=\"\",\"\",Indata!E280)","v":""},{"$f":"IF(Indata!F280=\"\",\"\",Indata!F280)","v":""},{"$f":"IF(Indata!G280=\"\",\"\",Indata!G280)","v":""},{"$f":"IF(Indata!H280=\"\",\"\",Indata!H280)","v":""},{"$f":"IF(Indata!I280=\"\",\"\",Indata!I280)","v":""},{"$f":"IF(Indata!J280=\"\",\"\",Indata!J280)","v":""},{"$f":"IF(Indata!K280=\"\",\"\",Indata!K280)","v":""},{"$f":"IF(Indata!L280=\"\",\"\",Indata!L280)","v":""},{"$f":"IF(Indata!M280=\"\",\"\",Indata!M280)","v":""},{"$f":"IF(Indata!N280=\"\",\"\",Indata!N280)","v":""},{"$f":"IF(Indata!O280=\"\",\"\",Indata!O280)","v":""},{"$f":"IF(Indata!P280=\"\",\"\",Indata!P280)","v":""},{"$f":"IF(Indata!Q280=\"\",\"\",Indata!Q280)","v":""},{"$f":"IF(Indata!R280=\"\",\"\",Indata!R280)","v":""},{"$f":"IF(Indata!S280=\"\",\"\",Indata!S280)","v":""},{"$f":"IF(Indata!T280=\"\",\"\",Indata!T280)","v":""},{"$f":"IF(Indata!U280=\"\",\"\",Indata!U280)","v":""},{"$f":"IF(Indata!V280=\"\",\"\",Indata!V280)","v":""},{"$f":"IF(Indata!W280=\"\",\"\",Indata!W280)","v":""},{"$f":"IF(Indata!X280=\"\",\"\",Indata!X280)","v":""},{"$f":"IF(Indata!Y280=\"\",\"\",Indata!Y280)","v":""},{"$f":"IF(Indata!Z280=\"\",\"\",Indata!Z280)","v":""},{"$f":"IF(Indata!AA280=\"\",\"\",Indata!AA280)","v":""}]
[90,"28 Perstorpsbäcken, uppstr Perstorp",{"$f":"IF(Indata!C281=\"\",\"\",Indata!C281)","v":""},{"$f":"IF(Indata!D281=\"\",\"\",Indata!D281)","v":""},{"$f":"IF(Indata!E281=\"\",\"\",Indata!E281)","v":""},{"$f":"IF(Indata!F281=\"\",\"\",Indata!F281)","v":""},{"$f":"IF(Indata!G281=\"\",\"\",Indata!G281)","v":""},{"$f":"IF(Indata!H281=\"\",\"\",Indata!H281)","v":""},{"$f":"IF(Indata!I281=\"\",\"\",Indata!I281)","v":""},{"$f":"IF(Indata!J281=\"\",\"\",Indata!J281)","v":""},{"$f":"IF(Indata!K281=\"\",\"\",Indata!K281)","v":""},{"$f":"IF(Indata!L281=\"\",\"\",Indata!L281)","v":""},{"$f":"IF(Indata!M281=\"\",\"\",Indata!M281)","v":""},{"$f":"IF(Indata!N281=\"\",\"\",Indata!N281)","v":""},{"$f":"IF(Indata!O281=\"\",\"\",Indata!O281)","v":""},{"$f":"IF(Indata!P281=\"\",\"\",Indata!P281)","v":""},{"$f":"IF(Indata!Q281=\"\",\"\",Indata!Q281)","v":""},{"$f":"IF(Indata!R281=\"\",\"\",Indata!R281)","v":""},{"$f":"IF(Indata!S281=\"\",\"\",Indata!S281)","v":""},{"$f":"IF(Indata!T281=\"\",\"\",Indata!T281)","v":""},{"$f":"IF(Indata!U281=\"\",\"\",Indata!U281)","v":""},{"$f":"IF(Indata!V281=\"\",\"\",Indata!V281)","v":""},{"$f":"IF(Indata!W281=\"\",\"\",Indata!W281)","v":""},{"$f":"IF(Indata!X281=\"\",\"\",Indata!X281)","v":""},{"$f":"IF(Indata!Y281=\"\",\"\",Indata!Y281)","v":""},{"$f":"IF(Indata!Z281=\"\",\"\",Indata!Z281)","v":""},{"$f":"IF(Indata!AA281=\"\",\"\",Indata!AA281)","v":""}]
[95,"29 Perstorpsbäcken, nedstr Perstorp",{"$f":"IF(Indata!C282=\"\",\"\",Indata!C282)","v":""},{"$f":"IF(Indata!D282=\"\",\"\",Indata!D282)","v":""},{"$f":"IF(Indata!E282=\"\",\"\",Indata!E282)","v":""},{"$f":"IF(Indata!F282=\"\",\"\",Indata!F282)","v":""},{"$f":"IF(Indata!G282=\"\",\"\",Indata!G282)","v":""},{"$f":"IF(Indata!H282=\"\",\"\",Indata!H282)","v":""},{"$f":"IF(Indata!I282=\"\",\"\",Indata!I282)","v":""},{"$f":"IF(Indata!J282=\"\",\"\",Indata!J282)","v":""},{"$f":"IF(Indata!K282=\"\",\"\",Indata!K282)","v":""},{"$f":"IF(Indata!L282=\"\",\"\",Indata!L282)","v":""},{"$f":"IF(Indata!M282=\"\",\"\",Indata!M282)","v":""},{"$f":"IF(Indata!N282=\"\",\"\",Indata!N282)","v":""},{"$f":"IF(Indata!O282=\"\",\"\",Indata!O282)","v":""},{"$f":"IF(Indata!P282=\"\",\"\",Indata!P282)","v":""},{"$f":"IF(Indata!Q282=\"\",\"\",Indata!Q282)","v":""},{"$f":"IF(Indata!R282=\"\",\"\",Indata!R282)","v":""},{"$f":"IF(Indata!S282=\"\",\"\",Indata!S282)","v":""},{"$f":"IF(Indata!T282=\"\",\"\",Indata!T282)","v":""},{"$f":"IF(Indata!U282=\"\",\"\",Indata!U282)","v":""},{"$f":"IF(Indata!V282=\"\",\"\",Indata!V282)","v":""},{"$f":"IF(Indata!W282=\"\",\"\",Indata!W282)","v":""},{"$f":"IF(Indata!X282=\"\",\"\",Indata!X282)","v":""},{"$f":"IF(Indata!Y282=\"\",\"\",Indata!Y282)","v":""},{"$f":"IF(Indata!Z282=\"\",\"\",Indata!Z282)","v":""},{"$f":"IF(Indata!AA282=\"\",\"\",Indata!AA282)","v":""}]
[100,"76 Oderbäcken, uppstr Oderljunga ARV",{"$f":"IF(Indata!C283=\"\",\"\",Indata!C283)","v":""},{"$f":"IF(Indata!D283=\"\",\"\",Indata!D283)","v":""},{"$f":"IF(Indata!E283=\"\",\"\",Indata!E283)","v":""},{"$f":"IF(Indata!F283=\"\",\"\",Indata!F283)","v":""},{"$f":"IF(Indata!G283=\"\",\"\",Indata!G283)","v":""},{"$f":"IF(Indata!H283=\"\",\"\",Indata!H283)","v":""},{"$f":"IF(Indata!I283=\"\",\"\",Indata!I283)","v":""},{"$f":"IF(Indata!J283=\"\",\"\",Indata!J283)","v":""},{"$f":"IF(Indata!K283=\"\",\"\",Indata!K283)","v":""},{"$f":"IF(Indata!L283=\"\",\"\",Indata!L283)","v":""},{"$f":"IF(Indata!M283=\"\",\"\",Indata!M283)","v":""},{"$f":"IF(Indata!N283=\"\",\"\",Indata!N283)","v":""},{"$f":"IF(Indata!O283=\"\",\"\",Indata!O283)","v":""},{"$f":"IF(Indata!P283=\"\",\"\",Indata!P283)","v":""},{"$f":"IF(Indata!Q283=\"\",\"\",Indata!Q283)","v":""},{"$f":"IF(Indata!R283=\"\",\"\",Indata!R283)","v":""},{"$f":"IF(Indata!S283=\"\",\"\",Indata!S283)","v":""},{"$f":"IF(Indata!T283=\"\",\"\",Indata!T283)","v":""},{"$f":"IF(Indata!U283=\"\",\"\",Indata!U283)","v":""},{"$f":"IF(Indata!V283=\"\",\"\",Indata!V283)","v":""},{"$f":"IF(Indata!W283=\"\",\"\",Indata!W283)","v":""},{"$f":"IF(Indata!X283=\"\",\"\",Indata!X283)","v":""},{"$f":"IF(Indata!Y283=\"\",\"\",Indata!Y283)","v":""},{"$f":"IF(Indata!Z283=\"\",\"\",Indata!Z283)","v":""},{"$f":"IF(Indata!AA283=\"\",\"\",Indata!AA283)","v":""}]
[105,"30 Bäljaneå, vid Hyllstofta",{"$f":"IF(Indata!C284=\"\",\"\",Indata!C284)","v":""},{"$f":"IF(Indata!D284=\"\",\"\",Indata!D284)","v":""},{"$f":"IF(Indata!E284=\"\",\"\",Indata!E284)","v":""},{"$f":"IF(Indata!F284=\"\",\"\",Indata!F284)","v":""},{"$f":"IF(Indata!G284=\"\",\"\",Indata!G284)","v":""},{"$f":"IF(Indata!H284=\"\",\"\",Indata!H284)","v":""},{"$f":"IF(Indata!I284=\"\",\"\",Indata!I284)","v":""},{"$f":"IF(Indata!J284=\"\",\"\",Indata!J284)","v":""},{"$f":"IF(Indata!K284=\"\",\"\",Indata!K284)","v":""},{"$f":"IF(Indata!L284=\"\",\"\",Indata!L284)","v":""},{"$f":"IF(Indata!M284=\"\",\"\",Indata!M284)","v":""},{"$f":"IF(Indata!N284=\"\",\"\",Indata!N284)","v":""},{"$f":"IF(Indata!O284=\"\",\"\",Indata!O284)","v":""},{"$f":"IF(Indata!P284=\"\",\"\",Indata!P284)","v":""},{"$f":"IF(Indata!Q284=\"\",\"\",Indata!Q284)","v":""},{"$f":"IF(Indata!R284=\"\",\"\",Indata!R284)","v":""},{"$f":"IF(Indata!S284=\"\",\"\",Indata!S284)","v":""},{"$f":"IF(Indata!T284=\"\",\"\",Indata!T284)","v":""},{"$f":"IF(Indata!U284=\"\",\"\",Indata!U284)","v":""},{"$f":"IF(Indata!V284=\"\",\"\",Indata!V284)","v":""},{"$f":"IF(Indata!W284=\"\",\"\",Indata!W284)","v":""},{"$f":"IF(Indata!X284=\"\",\"\",Indata!X284)","v":""},{"$f":"IF(Indata!Y284=\"\",\"\",Indata!Y284)","v":""},{"$f":"IF(Indata!Z284=\"\",\"\",Indata!Z284)","v":""},{"$f":"IF(Indata!AA284=\"\",\"\",Indata!AA284)","v":""}]
[110,"32 Bäljaneå, uppstr Klippan",{"$f":"IF(Indata!C285=\"\",\"\",Indata!C285)","v":""},{"$f":"IF(Indata!D285=\"\",\"\",Indata!D285)","v":""},{"$f":"IF(Indata!E285=\"\",\"\",Indata!E285)","v":""},{"$f":"IF(Indata!F285=\"\",\"\",Indata!F285)","v":""},{"$f":"IF(Indata!G285=\"\",\"\",Indata!G285)","v":""},{"$f":"IF(Indata!H285=\"\",\"\",Indata!H285)","v":""},{"$f":"IF(Indata!I285=\"\",\"\",Indata!I285)","v":""},{"$f":"IF(Indata!J285=\"\",\"\",Indata!J285)","v":""},{"$f":"IF(Indata!K285=\"\",\"\",Indata!K285)","v":""},{"$f":"IF(Indata!L285=\"\",\"\",Indata!L285)","v":""},{"$f":"IF(Indata!M285=\"\",\"\",Indata!M285)","v":""},{"$f":"IF(Indata!N285=\"\",\"\",Indata!N285)","v":""},{"$f":"IF(Indata!O285=\"\",\"\",Indata!O285)","v":""},{"$f":"IF(Indata!P285=\"\",\"\",Indata!P285)","v":""},{"$f":"IF(Indata!Q285=\"\",\"\",Indata!Q285)","v":""},{"$f":"IF(Indata!R285=\"\",\"\",Indata!R285)","v":""},{"$f":"IF(Indata!S285=\"\",\"\",Indata!S285)","v":""},{"$f":"IF(Indata!T285=\"\",\"\",Indata!T285)","v":""},{"$f":"IF(Indata!U285=\"\",\"\",Indata!U285)","v":""},{"$f":"IF(Indata!V285=\"\",\"\",Indata!V285)","v":""},{"$f":"IF(Indata!W285=\"\",\"\",Indata!W285)","v":""},{"$f":"IF(Indata!X285=\"\",\"\",Indata!X285)","v":""},{"$f":"IF(Indata!Y285=\"\",\"\",Indata!Y285)","v":""},{"$f":"IF(Indata!Z285=\"\",\"\",Indata!Z285)","v":""},{"$f":"IF(Indata!AA285=\"\",\"\",Indata!AA285)","v":""}]
[115,"78 Bäljaneå, nedstr Klippans ARV",{"$f":"IF(Indata!C286=\"\",\"\",Indata!C286)","v":""},{"$f":"IF(Indata!D286=\"\",\"\",Indata!D286)","v":""},{"$f":"IF(Indata!E286=\"\",\"\",Indata!E286)","v":""},{"$f":"IF(Indata!F286=\"\",\"\",Indata!F286)","v":""},{"$f":"IF(Indata!G286=\"\",\"\",Indata!G286)","v":""},{"$f":"IF(Indata!H286=\"\",\"\",Indata!H286)","v":""},{"$f":"IF(Indata!I286=\"\",\"\",Indata!I286)","v":""},{"$f":"IF(Indata!J286=\"\",\"\",Indata!J286)","v":""},{"$f":"IF(Indata!K286=\"\",\"\",Indata!K286)","v":""},{"$f":"IF(Indata!L286=\"\",\"\",Indata!L286)","v":""},{"$f":"IF(Indata!M286=\"\",\"\",Indata!M286)","v":""},{"$f":"IF(Indata!N286=\"\",\"\",Indata!N286)","v":""},{"$f":"IF(Indata!O286=\"\",\"\",Indata!O286)","v":""},{"$f":"IF(Indata!P286=\"\",\"\",Indata!P286)","v":""},{"$f":"IF(Indata!Q286=\"\",\"\",Indata!Q286)","v":""},{"$f":"IF(Indata!R286=\"\",\"\",Indata!R286)","v":""},{"$f":"IF(Indata!S286=\"\",\"\",Indata!S286)","v":""},{"$f":"IF(Indata!T286=\"\",\"\",Indata!T286)","v":""},{"$f":"IF(Indata!U286=\"\",\"\",Indata!U286)","v":""},{"$f":"IF(Indata!V286=\"\",\"\",Indata!V286)","v":""},{"$f":"IF(Indata!W286=\"\",\"\",Indata!W286)","v":""},{"$f":"IF(Indata!X286=\"\",\"\",Indata!X286)","v":""},{"$f":"IF(Indata!Y286=\"\",\"\",Indata!Y286)","v":""},{"$f":"IF(Indata!Z286=\"\",\"\",Indata!Z286)","v":""},{"$f":"IF(Indata!AA286=\"\",\"\",Indata!AA286)","v":""}]
[120,"33 Bäljaneå, nedstr Klippan",{"$f":"IF(Indata!C287=\"\",\"\",Indata!C287)","v":""},{"$f":"IF(Indata!D287=\"\",\"\",Indata!D287)","v":""},{"$f":"IF(Indata!E287=\"\",\"\",Indata!E287)","v":""},{"$f":"IF(Indata!F287=\"\",\"\",Indata!F287)","v":""},{"$f":"IF(Indata!G287=\"\",\"\",Indata!G287)","v":""},{"$f":"IF(Indata!H287=\"\",\"\",Indata!H287)","v":""},{"$f":"IF(Indata!I287=\"\",\"\",Indata!I287)","v":""},{"$f":"IF(Indata!J287=\"\",\"\",Indata!J287)","v":""},{"$f":"IF(Indata!K287=\"\",\"\",Indata!K287)","v":""},{"$f":"IF(Indata!L287=\"\",\"\",Indata!L287)","v":""},{"$f":"IF(Indata!M287=\"\",\"\",Indata!M287)","v":""},{"$f":"IF(Indata!N287=\"\",\"\",Indata!N287)","v":""},{"$f":"IF(Indata!O287=\"\",\"\",Indata!O287)","v":""},{"$f":"IF(Indata!P287=\"\",\"\",Indata!P287)","v":""},{"$f":"IF(Indata!Q287=\"\",\"\",Indata!Q287)","v":""},{"$f":"IF(Indata!R287=\"\",\"\",Indata!R287)","v":""},{"$f":"IF(Indata!S287=\"\",\"\",Indata!S287)","v":""},{"$f":"IF(Indata!T287=\"\",\"\",Indata!T287)","v":""},{"$f":"IF(Indata!U287=\"\",\"\",Indata!U287)","v":""},{"$f":"IF(Indata!V287=\"\",\"\",Indata!V287)","v":""},{"$f":"IF(Indata!W287=\"\",\"\",Indata!W287)","v":""},{"$f":"IF(Indata!X287=\"\",\"\",Indata!X287)","v":""},{"$f":"IF(Indata!Y287=\"\",\"\",Indata!Y287)","v":""},{"$f":"IF(Indata!Z287=\"\",\"\",Indata!Z287)","v":""},{"$f":"IF(Indata!AA287=\"\",\"\",Indata!AA287)","v":""}]
[125,"77 Biflöde till Rönneå, uppstr Kvidinge ARV",{"$f":"IF(Indata!C288=\"\",\"\",Indata!C288)","v":""},{"$f":"IF(Indata!D288=\"\",\"\",Indata!D288)","v":""},{"$f":"IF(Indata!E288=\"\",\"\",Indata!E288)","v":""},{"$f":"IF(Indata!F288=\"\",\"\",Indata!F288)","v":""},{"$f":"IF(Indata!G288=\"\",\"\",Indata!G288)","v":""},{"$f":"IF(Indata!H288=\"\",\"\",Indata!H288)","v":""},{"$f":"IF(Indata!I288=\"\",\"\",Indata!I288)","v":""},{"$f":"IF(Indata!J288=\"\",\"\",Indata!J288)","v":""},{"$f":"IF(Indata!K288=\"\",\"\",Indata!K288)","v":""},{"$f":"IF(Indata!L288=\"\",\"\",Indata!L288)","v":""},{"$f":"IF(Indata!M288=\"\",\"\",Indata!M288)","v":""},{"$f":"IF(Indata!N288=\"\",\"\",Indata!N288)","v":""},{"$f":"IF(Indata!O288=\"\",\"\",Indata!O288)","v":""},{"$f":"IF(Indata!P288=\"\",\"\",Indata!P288)","v":""},{"$f":"IF(Indata!Q288=\"\",\"\",Indata!Q288)","v":""},{"$f":"IF(Indata!R288=\"\",\"\",Indata!R288)","v":""},{"$f":"IF(Indata!S288=\"\",\"\",Indata!S288)","v":""},{"$f":"IF(Indata!T288=\"\",\"\",Indata!T288)","v":""},{"$f":"IF(Indata!U288=\"\",\"\",Indata!U288)","v":""},{"$f":"IF(Indata!V288=\"\",\"\",Indata!V288)","v":""},{"$f":"IF(Indata!W288=\"\",\"\",Indata!W288)","v":""},{"$f":"IF(Indata!X288=\"\",\"\",Indata!X288)","v":""},{"$f":"IF(Indata!Y288=\"\",\"\",Indata!Y288)","v":""},{"$f":"IF(Indata!Z288=\"\",\"\",Indata!Z288)","v":""},{"$f":"IF(Indata!AA288=\"\",\"\",Indata!AA288)","v":""}]
[130,"36 Pinnån, nedstr Åsljungasjön",{"$f":"IF(Indata!C289=\"\",\"\",Indata!C289)","v":""},{"$f":"IF(Indata!D289=\"\",\"\",Indata!D289)","v":""},{"$f":"IF(Indata!E289=\"\",\"\",Indata!E289)","v":""},{"$f":"IF(Indata!F289=\"\",\"\",Indata!F289)","v":""},{"$f":"IF(Indata!G289=\"\",\"\",Indata!G289)","v":""},{"$f":"IF(Indata!H289=\"\",\"\",Indata!H289)","v":""},{"$f":"IF(Indata!I289=\"\",\"\",Indata!I289)","v":""},{"$f":"IF(Indata!J289=\"\",\"\",Indata!J289)","v":""},{"$f":"IF(Indata!K289=\"\",\"\",Indata!K289)","v":""},{"$f":"IF(Indata!L289=\"\",\"\",Indata!L289)","v":""},{"$f":"IF(Indata!M289=\"\",\"\",Indata!M289)","v":""},{"$f":"IF(Indata!N289=\"\",\"\",Indata!N289)","v":""},{"$f":"IF(Indata!O289=\"\",\"\",Indata!O289)","v":""},{"$f":"IF(Indata!P289=\"\",\"\",Indata!P289)","v":""},{"$f":"IF(Indata!Q289=\"\",\"\",Indata!Q289)","v":""},{"$f":"IF(Indata!R289=\"\",\"\",Indata!R289)","v":""},{"$f":"IF(Indata!S289=\"\",\"\",Indata!S289)","v":""},{"$f":"IF(Indata!T289=\"\",\"\",Indata!T289)","v":""},{"$f":"IF(Indata!U289=\"\",\"\",Indata!U289)","v":""},{"$f":"IF(Indata!V289=\"\",\"\",Indata!V289)","v":""},{"$f":"IF(Indata!W289=\"\",\"\",Indata!W289)","v":""},{"$f":"IF(Indata!X289=\"\",\"\",Indata!X289)","v":""},{"$f":"IF(Indata!Y289=\"\",\"\",Indata!Y289)","v":""},{"$f":"IF(Indata!Z289=\"\",\"\",Indata!Z289)","v":""},{"$f":"IF(Indata!AA289=\"\",\"\",Indata!AA289)","v":""}]
[135,"40 Pinnån, nedstr Örkelljunga",{"$f":"IF(Indata!C290=\"\",\"\",Indata!C290)","v":""},{"$f":"IF(Indata!D290=\"\",\"\",Indata!D290)","v":""},{"$f":"IF(Indata!E290=\"\",\"\",Indata!E290)","v":""},{"$f":"IF(Indata!F290=\"\",\"\",Indata!F290)","v":""},{"$f":"IF(Indata!G290=\"\",\"\",Indata!G290)","v":""},{"$f":"IF(Indata!H290=\"\",\"\",Indata!H290)","v":""},{"$f":"IF(Indata!I290=\"\",\"\",Indata!I290)","v":""},{"$f":"IF(Indata!J290=\"\",\"\",Indata!J290)","v":""},{"$f":"IF(Indata!K290=\"\",\"\",Indata!K290)","v":""},{"$f":"IF(Indata!L290=\"\",\"\",Indata!L290)","v":""},{"$f":"IF(Indata!M290=\"\",\"\",Indata!M290)","v":""},{"$f":"IF(Indata!N290=\"\",\"\",Indata!N290)","v":""},{"$f":"IF(Indata!O290=\"\",\"\",Indata!O290)","v":""},{"$f":"IF(Indata!P290=\"\",\"\",Indata!P290)","v":""},{"$f":"IF(Indata!Q290=\"\",\"\",Indata!Q290)","v":""},{"$f":"IF(Indata!R290=\"\",\"\",Indata!R290)","v":""},{"$f":"IF(Indata!S290=\"\",\"\",Indata!S290)","v":""},{"$f":"IF(Indata!T290=\"\",\"\",Indata!T290)","v":""},{"$f":"IF(Indata!U290=\"\",\"\",Indata!U290)","v":""},{"$f":"IF(Indata!V290=\"\",\"\",Indata!V290)","v":""},{"$f":"IF(Indata!W290=\"\",\"\",Indata!W290)","v":""},{"$f":"IF(Indata!X290=\"\",\"\",Indata!X290)","v":""},{"$f":"IF(Indata!Y290=\"\",\"\",Indata!Y290)","v":""},{"$f":"IF(Indata!Z290=\"\",\"\",Indata!Z290)","v":""},{"$f":"IF(Indata!AA290=\"\",\"\",Indata!AA290)","v":""}]
[140,"42 Pinnån, uppstr Gelita",{"$f":"IF(Indata!C291=\"\",\"\",Indata!C291)","v":""},{"$f":"IF(Indata!D291=\"\",\"\",Indata!D291)","v":""},{"$f":"IF(Indata!E291=\"\",\"\",Indata!E291)","v":""},{"$f":"IF(Indata!F291=\"\",\"\",Indata!F291)","v":""},{"$f":"IF(Indata!G291=\"\",\"\",Indata!G291)","v":""},{"$f":"IF(Indata!H291=\"\",\"\",Indata!H291)","v":""},{"$f":"IF(Indata!I291=\"\",\"\",Indata!I291)","v":""},{"$f":"IF(Indata!J291=\"\",\"\",Indata!J291)","v":""},{"$f":"IF(Indata!K291=\"\",\"\",Indata!K291)","v":""},{"$f":"IF(Indata!L291=\"\",\"\",Indata!L291)","v":""},{"$f":"IF(Indata!M291=\"\",\"\",Indata!M291)","v":""},{"$f":"IF(Indata!N291=\"\",\"\",Indata!N291)","v":""},{"$f":"IF(Indata!O291=\"\",\"\",Indata!O291)","v":""},{"$f":"IF(Indata!P291=\"\",\"\",Indata!P291)","v":""},{"$f":"IF(Indata!Q291=\"\",\"\",Indata!Q291)","v":""},{"$f":"IF(Indata!R291=\"\",\"\",Indata!R291)","v":""},{"$f":"IF(Indata!S291=\"\",\"\",Indata!S291)","v":""},{"$f":"IF(Indata!T291=\"\",\"\",Indata!T291)","v":""},{"$f":"IF(Indata!U291=\"\",\"\",Indata!U291)","v":""},{"$f":"IF(Indata!V291=\"\",\"\",Indata!V291)","v":""},{"$f":"IF(Indata!W291=\"\",\"\",Indata!W291)","v":""},{"$f":"IF(Indata!X291=\"\",\"\",Indata!X291)","v":""},{"$f":"IF(Indata!Y291=\"\",\"\",Indata!Y291)","v":""},{"$f":"IF(Indata!Z291=\"\",\"\",Indata!Z291)","v":""},{"$f":"IF(Indata!AA291=\"\",\"\",Indata!AA291)","v":""}]
[145,"44 Pinnån, utfl ur Kopparmölledamm",{"$f":"IF(Indata!C292=\"\",\"\",Indata!C292)","v":""},{"$f":"IF(Indata!D292=\"\",\"\",Indata!D292)","v":""},{"$f":"IF(Indata!E292=\"\",\"\",Indata!E292)","v":""},{"$f":"IF(Indata!F292=\"\",\"\",Indata!F292)","v":""},{"$f":"IF(Indata!G292=\"\",\"\",Indata!G292)","v":""},{"$f":"IF(Indata!H292=\"\",\"\",Indata!H292)","v":""},{"$f":"IF(Indata!I292=\"\",\"\",Indata!I292)","v":""},{"$f":"IF(Indata!J292=\"\",\"\",Indata!J292)","v":""},{"$f":"IF(Indata!K292=\"\",\"\",Indata!K292)","v":""},{"$f":"IF(Indata!L292=\"\",\"\",Indata!L292)","v":""},{"$f":"IF(Indata!M292=\"\",\"\",Indata!M292)","v":""},{"$f":"IF(Indata!N292=\"\",\"\",Indata!N292)","v":""},{"$f":"IF(Indata!O292=\"\",\"\",Indata!O292)","v":""},{"$f":"IF(Indata!P292=\"\",\"\",Indata!P292)","v":""},{"$f":"IF(Indata!Q292=\"\",\"\",Indata!Q292)","v":""},{"$f":"IF(Indata!R292=\"\",\"\",Indata!R292)","v":""},{"$f":"IF(Indata!S292=\"\",\"\",Indata!S292)","v":""},{"$f":"IF(Indata!T292=\"\",\"\",Indata!T292)","v":""},{"$f":"IF(Indata!U292=\"\",\"\",Indata!U292)","v":""},{"$f":"IF(Indata!V292=\"\",\"\",Indata!V292)","v":""},{"$f":"IF(Indata!W292=\"\",\"\",Indata!W292)","v":""},{"$f":"IF(Indata!X292=\"\",\"\",Indata!X292)","v":""},{"$f":"IF(Indata!Y292=\"\",\"\",Indata!Y292)","v":""},{"$f":"IF(Indata!Z292=\"\",\"\",Indata!Z292)","v":""},{"$f":"IF(Indata!AA292=\"\",\"\",Indata!AA292)","v":""}]
[150,"58 Pinnån, vid utfl t Rönneå",{"$f":"IF(Indata!C293=\"\",\"\",Indata!C293)","v":""},{"$f":"IF(Indata!D293=\"\",\"\",Indata!D293)","v":""},{"$f":"IF(Indata!E293=\"\",\"\",Indata!E293)","v":""},{"$f":"IF(Indata!F293=\"\",\"\",Indata!F293)","v":""},{"$f":"IF(Indata!G293=\"\",\"\",Indata!G293)","v":""},{"$f":"IF(Indata!H293=\"\",\"\",Indata!H293)","v":""},{"$f":"IF(Indata!I293=\"\",\"\",Indata!I293)","v":""},{"$f":"IF(Indata!J293=\"\",\"\",Indata!J293)","v":""},{"$f":"IF(Indata!K293=\"\",\"\",Indata!K293)","v":""},{"$f":"IF(Indata!L293=\"\",\"\",Indata!L293)","v":""},{"$f":"IF(Indata!M293=\"\",\"\",Indata!M293)","v":""},{"$f":"IF(Indata!N293=\"\",\"\",Indata!N293)","v":""},{"$f":"IF(Indata!O293=\"\",\"\",Indata!O293)","v":""},{"$f":"IF(Indata!P293=\"\",\"\",Indata!P293)","v":""},{"$f":"IF(Indata!Q293=\"\",\"\",Indata!Q293)","v":""},{"$f":"IF(Indata!R293=\"\",\"\",Indata!R293)","v":""},{"$f":"IF(Indata!S293=\"\",\"\",Indata!S293)","v":""},{"$f":"IF(Indata!T293=\"\",\"\",Indata!T293)","v":""},{"$f":"IF(Indata!U293=\"\",\"\",Indata!U293)","v":""},{"$f":"IF(Indata!V293=\"\",\"\",Indata!V293)","v":""},{"$f":"IF(Indata!W293=\"\",\"\",Indata!W293)","v":""},{"$f":"IF(Indata!X293=\"\",\"\",Indata!X293)","v":""},{"$f":"IF(Indata!Y293=\"\",\"\",Indata!Y293)","v":""},{"$f":"IF(Indata!Z293=\"\",\"\",Indata!Z293)","v":""},{"$f":"IF(Indata!AA293=\"\",\"\",Indata!AA293)","v":""}]
[155,"70 Kägleån, vid Ängeltofta",{"$f":"IF(Indata!C294=\"\",\"\",Indata!C294)","v":""},{"$f":"IF(Indata!D294=\"\",\"\",Indata!D294)","v":""},{"$f":"IF(Indata!E294=\"\",\"\",Indata!E294)","v":""},{"$f":"IF(Indata!F294=\"\",\"\",Indata!F294)","v":""},{"$f":"IF(Indata!G294=\"\",\"\",Indata!G294)","v":""},{"$f":"IF(Indata!H294=\"\",\"\",Indata!H294)","v":""},{"$f":"IF(Indata!I294=\"\",\"\",Indata!I294)","v":""},{"$f":"IF(Indata!J294=\"\",\"\",Indata!J294)","v":""},{"$f":"IF(Indata!K294=\"\",\"\",Indata!K294)","v":""},{"$f":"IF(Indata!L294=\"\",\"\",Indata!L294)","v":""},{"$f":"IF(Indata!M294=\"\",\"\",Indata!M294)","v":""},{"$f":"IF(Indata!N294=\"\",\"\",Indata!N294)","v":""},{"$f":"IF(Indata!O294=\"\",\"\",Indata!O294)","v":""},{"$f":"IF(Indata!P294=\"\",\"\",Indata!P294)","v":""},{"$f":"IF(Indata!Q294=\"\",\"\",Indata!Q294)","v":""},{"$f":"IF(Indata!R294=\"\",\"\",Indata!R294)","v":""},{"$f":"IF(Indata!S294=\"\",\"\",Indata!S294)","v":""},{"$f":"IF(Indata!T294=\"\",\"\",Indata!T294)","v":""},{"$f":"IF(Indata!U294=\"\",\"\",Indata!U294)","v":""},{"$f":"IF(Indata!V294=\"\",\"\",Indata!V294)","v":""},{"$f":"IF(Indata!W294=\"\",\"\",Indata!W294)","v":""},{"$f":"IF(Indata!X294=\"\",\"\",Indata!X294)","v":""},{"$f":"IF(Indata!Y294=\"\",\"\",Indata!Y294)","v":""},{"$f":"IF(Indata!Z294=\"\",\"\",Indata!Z294)","v":""},{"$f":"IF(Indata!AA294=\"\",\"\",Indata!AA294)","v":""}]
[160,"55 Kägleån, vägbro Åkersholm",{"$f":"IF(Indata!C295=\"\",\"\",Indata!C295)","v":""},{"$f":"IF(Indata!D295=\"\",\"\",Indata!D295)","v":""},{"$f":"IF(Indata!E295=\"\",\"\",Indata!E295)","v":""},{"$f":"IF(Indata!F295=\"\",\"\",Indata!F295)","v":""},{"$f":"IF(Indata!G295=\"\",\"\",Indata!G295)","v":""},{"$f":"IF(Indata!H295=\"\",\"\",Indata!H295)","v":""},{"$f":"IF(Indata!I295=\"\",\"\",Indata!I295)","v":""},{"$f":"IF(Indata!J295=\"\",\"\",Indata!J295)","v":""},{"$f":"IF(Indata!K295=\"\",\"\",Indata!K295)","v":""},{"$f":"IF(Indata!L295=\"\",\"\",Indata!L295)","v":""},{"$f":"IF(Indata!M295=\"\",\"\",Indata!M295)","v":""},{"$f":"IF(Indata!N295=\"\",\"\",Indata!N295)","v":""},{"$f":"IF(Indata!O295=\"\",\"\",Indata!O295)","v":""},{"$f":"IF(Indata!P295=\"\",\"\",Indata!P295)","v":""},{"$f":"IF(Indata!Q295=\"\",\"\",Indata!Q295)","v":""},{"$f":"IF(Indata!R295=\"\",\"\",Indata!R295)","v":""},{"$f":"IF(Indata!S295=\"\",\"\",Indata!S295)","v":""},{"$f":"IF(Indata!T295=\"\",\"\",Indata!T295)","v":""},{"$f":"IF(Indata!U295=\"\",\"\",Indata!U295)","v":""},{"$f":"IF(Indata!V295=\"\",\"\",Indata!V295)","v":""},{"$f":"IF(Indata!W295=\"\",\"\",Indata!W295)","v":""},{"$f":"IF(Indata!X295=\"\",\"\",Indata!X295)","v":""},{"$f":"IF(Indata!Y295=\"\",\"\",Indata!Y295)","v":""},{"$f":"IF(Indata!Z295=\"\",\"\",Indata!Z295)","v":""},{"$f":"IF(Indata!AA295=\"\",\"\",Indata!AA295)","v":""}]
[165,"56 Rössjöholmsån, f utfl t Rönneå",{"$f":"IF(Indata!C296=\"\",\"\",Indata!C296)","v":""},{"$f":"IF(Indata!D296=\"\",\"\",Indata!D296)","v":""},{"$f":"IF(Indata!E296=\"\",\"\",Indata!E296)","v":""},{"$f":"IF(Indata!F296=\"\",\"\",Indata!F296)","v":""},{"$f":"IF(Indata!G296=\"\",\"\",Indata!G296)","v":""},{"$f":"IF(Indata!H296=\"\",\"\",Indata!H296)","v":""},{"$f":"IF(Indata!I296=\"\",\"\",Indata!I296)","v":""},{"$f":"IF(Indata!J296=\"\",\"\",Indata!J296)","v":""},{"$f":"IF(Indata!K296=\"\",\"\",Indata!K296)","v":""},{"$f":"IF(Indata!L296=\"\",\"\",Indata!L296)","v":""},{"$f":"IF(Indata!M296=\"\",\"\",Indata!M296)","v":""},{"$f":"IF(Indata!N296=\"\",\"\",Indata!N296)","v":""},{"$f":"IF(Indata!O296=\"\",\"\",Indata!O296)","v":""},{"$f":"IF(Indata!P296=\"\",\"\",Indata!P296)","v":""},{"$f":"IF(Indata!Q296=\"\",\"\",Indata!Q296)","v":""},{"$f":"IF(Indata!R296=\"\",\"\",Indata!R296)","v":""},{"$f":"IF(Indata!S296=\"\",\"\",Indata!S296)","v":""},{"$f":"IF(Indata!T296=\"\",\"\",Indata!T296)","v":""},{"$f":"IF(Indata!U296=\"\",\"\",Indata!U296)","v":""},{"$f":"IF(Indata!V296=\"\",\"\",Indata!V296)","v":""},{"$f":"IF(Indata!W296=\"\",\"\",Indata!W296)","v":""},{"$f":"IF(Indata!X296=\"\",\"\",Indata!X296)","v":""},{"$f":"IF(Indata!Y296=\"\",\"\",Indata!Y296)","v":""},{"$f":"IF(Indata!Z296=\"\",\"\",Indata!Z296)","v":""},{"$f":"IF(Indata!AA296=\"\",\"\",Indata!AA296)","v":""}]
[220,"Ri5 Sätoftasjön, ytan",{"$f":"IF(Indata!C297=\"\",\"\",Indata!C297)","v":""},{"$f":"IF(Indata!D297=\"\",\"\",Indata!D297)","v":""},{"$f":"IF(Indata!E297=\"\",\"\",Indata!E297)","v":""},{"$f":"IF(Indata!F297=\"\",\"\",Indata!F297)","v":""},{"$f":"IF(Indata!G297=\"\",\"\",Indata!G297)","v":""},{"$f":"IF(Indata!H297=\"\",\"\",Indata!H297)","v":""},{"$f":"IF(Indata!I297=\"\",\"\",Indata!I297)","v":""},{"$f":"IF(Indata!J297=\"\",\"\",Indata!J297)","v":""},{"$f":"IF(Indata!K297=\"\",\"\",Indata!K297)","v":""},{"$f":"IF(Indata!L297=\"\",\"\",Indata!L297)","v":""},{"$f":"IF(Indata!M297=\"\",\"\",Indata!M297)","v":""},{"$f":"IF(Indata!N297=\"\",\"\",Indata!N297)","v":""},{"$f":"IF(Indata!O297=\"\",\"\",Indata!O297)","v":""},{"$f":"IF(Indata!P297=\"\",\"\",Indata!P297)","v":""},{"$f":"IF(Indata!Q297=\"\",\"\",Indata!Q297)","v":""},{"$f":"IF(Indata!R297=\"\",\"\",Indata!R297)","v":""},{"$f":"IF(Indata!S297=\"\",\"\",Indata!S297)","v":""},{"$f":"IF(Indata!T297=\"\",\"\",Indata!T297)","v":""},{"$f":"IF(Indata!U297=\"\",\"\",Indata!U297)","v":""},{"$f":"IF(Indata!V297=\"\",\"\",Indata!V297)","v":""},{"$f":"IF(Indata!W297=\"\",\"\",Indata!W297)","v":""},{"$f":"IF(Indata!X297=\"\",\"\",Indata!X297)","v":""},{"$f":"IF(Indata!Y297=\"\",\"\",Indata!Y297)","v":""},{"$f":"IF(Indata!Z297=\"\",\"\",Indata!Z297)","v":""},{"$f":"IF(Indata!AA297=\"\",\"\",Indata!AA297)","v":""}]
[225,"Ri5 Sätoftasjön, 15 m",{"$f":"IF(Indata!C298=\"\",\"\",Indata!C298)","v":""},{"$f":"IF(Indata!D298=\"\",\"\",Indata!D298)","v":""},{"$f":"IF(Indata!E298=\"\",\"\",Indata!E298)","v":""},{"$f":"IF(Indata!F298=\"\",\"\",Indata!F298)","v":""},{"$f":"IF(Indata!G298=\"\",\"\",Indata!G298)","v":""},{"$f":"IF(Indata!H298=\"\",\"\",Indata!H298)","v":""},{"$f":"IF(Indata!I298=\"\",\"\",Indata!I298)","v":""},{"$f":"IF(Indata!J298=\"\",\"\",Indata!J298)","v":""},{"$f":"IF(Indata!K298=\"\",\"\",Indata!K298)","v":""},{"$f":"IF(Indata!L298=\"\",\"\",Indata!L298)","v":""},{"$f":"IF(Indata!M298=\"\",\"\",Indata!M298)","v":""},{"$f":"IF(Indata!N298=\"\",\"\",Indata!N298)","v":""},{"$f":"IF(Indata!O298=\"\",\"\",Indata!O298)","v":""},{"$f":"IF(Indata!P298=\"\",\"\",Indata!P298)","v":""},{"$f":"IF(Indata!Q298=\"\",\"\",Indata!Q298)","v":""},{"$f":"IF(Indata!R298=\"\",\"\",Indata!R298)","v":""},{"$f":"IF(Indata!S298=\"\",\"\",Indata!S298)","v":""},{"$f":"IF(Indata!T298=\"\",\"\",Indata!T298)","v":""},{"$f":"IF(Indata!U298=\"\",\"\",Indata!U298)","v":""},{"$f":"IF(Indata!V298=\"\",\"\",Indata!V298)","v":""},{"$f":"IF(Indata!W298=\"\",\"\",Indata!W298)","v":""},{"$f":"IF(Indata!X298=\"\",\"\",Indata!X298)","v":""},{"$f":"IF(Indata!Y298=\"\",\"\",Indata!Y298)","v":""},{"$f":"IF(Indata!Z298=\"\",\"\",Indata!Z298)","v":""},{"$f":"IF(Indata!AA298=\"\",\"\",Indata!AA298)","v":""}]
[230,"Ri4 Östra Ringsjön, ytan",{"$f":"IF(Indata!C299=\"\",\"\",Indata!C299)","v":""},{"$f":"IF(Indata!D299=\"\",\"\",Indata!D299)","v":""},{"$f":"IF(Indata!E299=\"\",\"\",Indata!E299)","v":""},{"$f":"IF(Indata!F299=\"\",\"\",Indata!F299)","v":""},{"$f":"IF(Indata!G299=\"\",\"\",Indata!G299)","v":""},{"$f":"IF(Indata!H299=\"\",\"\",Indata!H299)","v":""},{"$f":"IF(Indata!I299=\"\",\"\",Indata!I299)","v":""},{"$f":"IF(Indata!J299=\"\",\"\",Indata!J299)","v":""},{"$f":"IF(Indata!K299=\"\",\"\",Indata!K299)","v":""},{"$f":"IF(Indata!L299=\"\",\"\",Indata!L299)","v":""},{"$f":"IF(Indata!M299=\"\",\"\",Indata!M299)","v":""},{"$f":"IF(Indata!N299=\"\",\"\",Indata!N299)","v":""},{"$f":"IF(Indata!O299=\"\",\"\",Indata!O299)","v":""},{"$f":"IF(Indata!P299=\"\",\"\",Indata!P299)","v":""},{"$f":"IF(Indata!Q299=\"\",\"\",Indata!Q299)","v":""},{"$f":"IF(Indata!R299=\"\",\"\",Indata!R299)","v":""},{"$f":"IF(Indata!S299=\"\",\"\",Indata!S299)","v":""},{"$f":"IF(Indata!T299=\"\",\"\",Indata!T299)","v":""},{"$f":"IF(Indata!U299=\"\",\"\",Indata!U299)","v":""},{"$f":"IF(Indata!V299=\"\",\"\",Indata!V299)","v":""},{"$f":"IF(Indata!W299=\"\",\"\",Indata!W299)","v":""},{"$f":"IF(Indata!X299=\"\",\"\",Indata!X299)","v":""},{"$f":"IF(Indata!Y299=\"\",\"\",Indata!Y299)","v":""},{"$f":"IF(Indata!Z299=\"\",\"\",Indata!Z299)","v":""},{"$f":"IF(Indata!AA299=\"\",\"\",Indata!AA299)","v":""}]
[235,"Ri4 Östra Ringsjön, 15 m",{"$f":"IF(Indata!C300=\"\",\"\",Indata!C300)","v":""},{"$f":"IF(Indata!D300=\"\",\"\",Indata!D300)","v":""},{"$f":"IF(Indata!E300=\"\",\"\",Indata!E300)","v":""},{"$f":"IF(Indata!F300=\"\",\"\",Indata!F300)","v":""},{"$f":"IF(Indata!G300=\"\",\"\",Indata!G300)","v":""},{"$f":"IF(Indata!H300=\"\",\"\",Indata!H300)","v":""},{"$f":"IF(Indata!I300=\"\",\"\",Indata!I300)","v":""},{"$f":"IF(Indata!J300=\"\",\"\",Indata!J300)","v":""},{"$f":"IF(Indata!K300=\"\",\"\",Indata!K300)","v":""},{"$f":"IF(Indata!L300=\"\",\"\",Indata!L300)","v":""},{"$f":"IF(Indata!M300=\"\",\"\",Indata!M300)","v":""},{"$f":"IF(Indata!N300=\"\",\"\",Indata!N300)","v":""},{"$f":"IF(Indata!O300=\"\",\"\",Indata!O300)","v":""},{"$f":"IF(Indata!P300=\"\",\"\",Indata!P300)","v":""},{"$f":"IF(Indata!Q300=\"\",\"\",Indata!Q300)","v":""},{"$f":"IF(Indata!R300=\"\",\"\",Indata!R300)","v":""},{"$f":"IF(Indata!S300=\"\",\"\",Indata!S300)","v":""},{"$f":"IF(Indata!T300=\"\",\"\",Indata!T300)","v":""},{"$f":"IF(Indata!U300=\"\",\"\",Indata!U300)","v":""},{"$f":"IF(Indata!V300=\"\",\"\",Indata!V300)","v":""},{"$f":"IF(Indata!W300=\"\",\"\",Indata!W300)","v":""},{"$f":"IF(Indata!X300=\"\",\"\",Indata!X300)","v":""},{"$f":"IF(Indata!Y300=\"\",\"\",Indata!Y300)","v":""},{"$f":"IF(Indata!Z300=\"\",\"\",Indata!Z300)","v":""},{"$f":"IF(Indata!AA300=\"\",\"\",Indata!AA300)","v":""}]
[240,"Ri2 Västra Ringsjön, ytan",{"$f":"IF(Indata!C301=\"\",\"\",Indata!C301)","v":""},{"$f":"IF(Indata!D301=\"\",\"\",Indata!D301)","v":""},{"$f":"IF(Indata!E301=\"\",\"\",Indata!E301)","v":""},{"$f":"IF(Indata!F301=\"\",\"\",Indata!F301)","v":""},{"$f":"IF(Indata!G301=\"\",\"\",Indata!G301)","v":""},{"$f":"IF(Indata!H301=\"\",\"\",Indata!H301)","v":""},{"$f":"IF(Indata!I301=\"\",\"\",Indata!I301)","v":""},{"$f":"IF(Indata!J301=\"\",\"\",Indata!J301)","v":""},{"$f":"IF(Indata!K301=\"\",\"\",Indata!K301)","v":""},{"$f":"IF(Indata!L301=\"\",\"\",Indata!L301)","v":""},{"$f":"IF(Indata!M301=\"\",\"\",Indata!M301)","v":""},{"$f":"IF(Indata!N301=\"\",\"\",Indata!N301)","v":""},{"$f":"IF(Indata!O301=\"\",\"\",Indata!O301)","v":""},{"$f":"IF(Indata!P301=\"\",\"\",Indata!P301)","v":""},{"$f":"IF(Indata!Q301=\"\",\"\",Indata!Q301)","v":""},{"$f":"IF(Indata!R301=\"\",\"\",Indata!R301)","v":""},{"$f":"IF(Indata!S301=\"\",\"\",Indata!S301)","v":""},{"$f":"IF(Indata!T301=\"\",\"\",Indata!T301)","v":""},{"$f":"IF(Indata!U301=\"\",\"\",Indata!U301)","v":""},{"$f":"IF(Indata!V301=\"\",\"\",Indata!V301)","v":""},{"$f":"IF(Indata!W301=\"\",\"\",Indata!W301)","v":""},{"$f":"IF(Indata!X301=\"\",\"\",Indata!X301)","v":""},{"$f":"IF(Indata!Y301=\"\",\"\",Indata!Y301)","v":""},{"$f":"IF(Indata!Z301=\"\",\"\",Indata!Z301)","v":""},{"$f":"IF(Indata!AA301=\"\",\"\",Indata!AA301)","v":""}]
[245,"Ri2 Västra Ringsjön, 4 m",{"$f":"IF(Indata!C302=\"\",\"\",Indata!C302)","v":""},{"$f":"IF(Indata!D302=\"\",\"\",Indata!D302)","v":""},{"$f":"IF(Indata!E302=\"\",\"\",Indata!E302)","v":""},{"$f":"IF(Indata!F302=\"\",\"\",Indata!F302)","v":""},{"$f":"IF(Indata!G302=\"\",\"\",Indata!G302)","v":""},{"$f":"IF(Indata!H302=\"\",\"\",Indata!H302)","v":""},{"$f":"IF(Indata!I302=\"\",\"\",Indata!I302)","v":""},{"$f":"IF(Indata!J302=\"\",\"\",Indata!J302)","v":""},{"$f":"IF(Indata!K302=\"\",\"\",Indata!K302)","v":""},{"$f":"IF(Indata!L302=\"\",\"\",Indata!L302)","v":""},{"$f":"IF(Indata!M302=\"\",\"\",Indata!M302)","v":""},{"$f":"IF(Indata!N302=\"\",\"\",Indata!N302)","v":""},{"$f":"IF(Indata!O302=\"\",\"\",Indata!O302)","v":""},{"$f":"IF(Indata!P302=\"\",\"\",Indata!P302)","v":""},{"$f":"IF(Indata!Q302=\"\",\"\",Indata!Q302)","v":""},{"$f":"IF(Indata!R302=\"\",\"\",Indata!R302)","v":""},{"$f":"IF(Indata!S302=\"\",\"\",Indata!S302)","v":""},{"$f":"IF(Indata!T302=\"\",\"\",Indata!T302)","v":""},{"$f":"IF(Indata!U302=\"\",\"\",Indata!U302)","v":""},{"$f":"IF(Indata!V302=\"\",\"\",Indata!V302)","v":""},{"$f":"IF(Indata!W302=\"\",\"\",Indata!W302)","v":""},{"$f":"IF(Indata!X302=\"\",\"\",Indata!X302)","v":""},{"$f":"IF(Indata!Y302=\"\",\"\",Indata!Y302)","v":""},{"$f":"IF(Indata!Z302=\"\",\"\",Indata!Z302)","v":""},{"$f":"IF(Indata!AA302=\"\",\"\",Indata!AA302)","v":""}]
[300]
[250,"oktober"]
[3,"3  Rönneå, uppstr Bålamöllan",{"$f":"IF(Indata!C305=\"\",\"\",Indata!C305)","v":""},{"$f":"IF(Indata!D305=\"\",\"\",Indata!D305)","v":""},{"$f":"IF(Indata!E305=\"\",\"\",Indata!E305)","v":""},{"$f":"IF(Indata!F305=\"\",\"\",Indata!F305)","v":""},{"$f":"IF(Indata!G305=\"\",\"\",Indata!G305)","v":""},{"$f":"IF(Indata!H305=\"\",\"\",Indata!H305)","v":""},{"$f":"IF(Indata!I305=\"\",\"\",Indata!I305)","v":""},{"$f":"IF(Indata!J305=\"\",\"\",Indata!J305)","v":""},{"$f":"IF(Indata!K305=\"\",\"\",Indata!K305)","v":""},{"$f":"IF(Indata!L305=\"\",\"\",Indata!L305)","v":""},{"$f":"IF(Indata!M305=\"\",\"\",Indata!M305)","v":""},{"$f":"IF(Indata!N305=\"\",\"\",Indata!N305)","v":""},{"$f":"IF(Indata!O305=\"\",\"\",Indata!O305)","v":""},{"$f":"IF(Indata!P305=\"\",\"\",Indata!P305)","v":""},{"$f":"IF(Indata!Q305=\"\",\"\",Indata!Q305)","v":""},{"$f":"IF(Indata!R305=\"\",\"\",Indata!R305)","v":""},{"$f":"IF(Indata!S305=\"\",\"\",Indata!S305)","v":""},{"$f":"IF(Indata!T305=\"\",\"\",Indata!T305)","v":""},{"$f":"IF(Indata!U305=\"\",\"\",Indata!U305)","v":""},{"$f":"IF(Indata!V305=\"\",\"\",Indata!V305)","v":""},{"$f":"IF(Indata!W305=\"\",\"\",Indata!W305)","v":""},{"$f":"IF(Indata!X305=\"\",\"\",Indata!X305)","v":""},{"$f":"IF(Indata!Y305=\"\",\"\",Indata!Y305)","v":""},{"$f":"IF(Indata!Z305=\"\",\"\",Indata!Z305)","v":""},{"$f":"IF(Indata!AA305=\"\",\"\",Indata!AA305)","v":""}]
[10,"11 Rönneå, vid Djupadalsmölla",{"$f":"IF(Indata!C306=\"\",\"\",Indata!C306)","v":""},{"$f":"IF(Indata!D306=\"\",\"\",Indata!D306)","v":""},{"$f":"IF(Indata!E306=\"\",\"\",Indata!E306)","v":""},{"$f":"IF(Indata!F306=\"\",\"\",Indata!F306)","v":""},{"$f":"IF(Indata!G306=\"\",\"\",Indata!G306)","v":""},{"$f":"IF(Indata!H306=\"\",\"\",Indata!H306)","v":""},{"$f":"IF(Indata!I306=\"\",\"\",Indata!I306)","v":""},{"$f":"IF(Indata!J306=\"\",\"\",Indata!J306)","v":""},{"$f":"IF(Indata!K306=\"\",\"\",Indata!K306)","v":""},{"$f":"IF(Indata!L306=\"\",\"\",Indata!L306)","v":""},{"$f":"IF(Indata!M306=\"\",\"\",Indata!M306)","v":""},{"$f":"IF(Indata!N306=\"\",\"\",Indata!N306)","v":""},{"$f":"IF(Indata!O306=\"\",\"\",Indata!O306)","v":""},{"$f":"IF(Indata!P306=\"\",\"\",Indata!P306)","v":""},{"$f":"IF(Indata!Q306=\"\",\"\",Indata!Q306)","v":""},{"$f":"IF(Indata!R306=\"\",\"\",Indata!R306)","v":""},{"$f":"IF(Indata!S306=\"\",\"\",Indata!S306)","v":""},{"$f":"IF(Indata!T306=\"\",\"\",Indata!T306)","v":""},{"$f":"IF(Indata!U306=\"\",\"\",Indata!U306)","v":""},{"$f":"IF(Indata!V306=\"\",\"\",Indata!V306)","v":""},{"$f":"IF(Indata!W306=\"\",\"\",Indata!W306)","v":""},{"$f":"IF(Indata!X306=\"\",\"\",Indata!X306)","v":""},{"$f":"IF(Indata!Y306=\"\",\"\",Indata!Y306)","v":""},{"$f":"IF(Indata!Z306=\"\",\"\",Indata!Z306)","v":""},{"$f":"IF(Indata!AA306=\"\",\"\",Indata!AA306)","v":""}]
[25,"24 Rönneå, vid Forsmöllan",{"$f":"IF(Indata!C307=\"\",\"\",Indata!C307)","v":""},{"$f":"IF(Indata!D307=\"\",\"\",Indata!D307)","v":""},{"$f":"IF(Indata!E307=\"\",\"\",Indata!E307)","v":""},{"$f":"IF(Indata!F307=\"\",\"\",Indata!F307)","v":""},{"$f":"IF(Indata!G307=\"\",\"\",Indata!G307)","v":""},{"$f":"IF(Indata!H307=\"\",\"\",Indata!H307)","v":""},{"$f":"IF(Indata!I307=\"\",\"\",Indata!I307)","v":""},{"$f":"IF(Indata!J307=\"\",\"\",Indata!J307)","v":""},{"$f":"IF(Indata!K307=\"\",\"\",Indata!K307)","v":""},{"$f":"IF(Indata!L307=\"\",\"\",Indata!L307)","v":""},{"$f":"IF(Indata!M307=\"\",\"\",Indata!M307)","v":""},{"$f":"IF(Indata!N307=\"\",\"\",Indata!N307)","v":""},{"$f":"IF(Indata!O307=\"\",\"\",Indata!O307)","v":""},{"$f":"IF(Indata!P307=\"\",\"\",Indata!P307)","v":""},{"$f":"IF(Indata!Q307=\"\",\"\",Indata!Q307)","v":""},{"$f":"IF(Indata!R307=\"\",\"\",Indata!R307)","v":""},{"$f":"IF(Indata!S307=\"\",\"\",Indata!S307)","v":""},{"$f":"IF(Indata!T307=\"\",\"\",Indata!T307)","v":""},{"$f":"IF(Indata!U307=\"\",\"\",Indata!U307)","v":""},{"$f":"IF(Indata!V307=\"\",\"\",Indata!V307)","v":""},{"$f":"IF(Indata!W307=\"\",\"\",Indata!W307)","v":""},{"$f":"IF(Indata!X307=\"\",\"\",Indata!X307)","v":""},{"$f":"IF(Indata!Y307=\"\",\"\",Indata!Y307)","v":""},{"$f":"IF(Indata!Z307=\"\",\"\",Indata!Z307)","v":""},{"$f":"IF(Indata!AA307=\"\",\"\",Indata!AA307)","v":""}]
[30,"25 Rönneå, vid Stackarps bro",{"$f":"IF(Indata!C308=\"\",\"\",Indata!C308)","v":""},{"$f":"IF(Indata!D308=\"\",\"\",Indata!D308)","v":""},{"$f":"IF(Indata!E308=\"\",\"\",Indata!E308)","v":""},{"$f":"IF(Indata!F308=\"\",\"\",Indata!F308)","v":""},{"$f":"IF(Indata!G308=\"\",\"\",Indata!G308)","v":""},{"$f":"IF(Indata!H308=\"\",\"\",Indata!H308)","v":""},{"$f":"IF(Indata!I308=\"\",\"\",Indata!I308)","v":""},{"$f":"IF(Indata!J308=\"\",\"\",Indata!J308)","v":""},{"$f":"IF(Indata!K308=\"\",\"\",Indata!K308)","v":""},{"$f":"IF(Indata!L308=\"\",\"\",Indata!L308)","v":""},{"$f":"IF(Indata!M308=\"\",\"\",Indata!M308)","v":""},{"$f":"IF(Indata!N308=\"\",\"\",Indata!N308)","v":""},{"$f":"IF(Indata!O308=\"\",\"\",Indata!O308)","v":""},{"$f":"IF(Indata!P308=\"\",\"\",Indata!P308)","v":""},{"$f":"IF(Indata!Q308=\"\",\"\",Indata!Q308)","v":""},{"$f":"IF(Indata!R308=\"\",\"\",Indata!R308)","v":""},{"$f":"IF(Indata!S308=\"\",\"\",Indata!S308)","v":""},{"$f":"IF(Indata!T308=\"\",\"\",Indata!T308)","v":""},{"$f":"IF(Indata!U308=\"\",\"\",Indata!U308)","v":""},{"$f":"IF(Indata!V308=\"\",\"\",Indata!V308)","v":""},{"$f":"IF(Indata!W308=\"\",\"\",Indata!W308)","v":""},{"$f":"IF(Indata!X308=\"\",\"\",Indata!X308)","v":""},{"$f":"IF(Indata!Y308=\"\",\"\",Indata!Y308)","v":""},{"$f":"IF(Indata!Z308=\"\",\"\",Indata!Z308)","v":""},{"$f":"IF(Indata!AA308=\"\",\"\",Indata!AA308)","v":""}]
[40,"49 Rönneå, uppstr Ängelholm",{"$f":"IF(Indata!C309=\"\",\"\",Indata!C309)","v":""},{"$f":"IF(Indata!D309=\"\",\"\",Indata!D309)","v":""},{"$f":"IF(Indata!E309=\"\",\"\",Indata!E309)","v":""},{"$f":"IF(Indata!F309=\"\",\"\",Indata!F309)","v":""},{"$f":"IF(Indata!G309=\"\",\"\",Indata!G309)","v":""},{"$f":"IF(Indata!H309=\"\",\"\",Indata!H309)","v":""},{"$f":"IF(Indata!I309=\"\",\"\",Indata!I309)","v":""},{"$f":"IF(Indata!J309=\"\",\"\",Indata!J309)","v":""},{"$f":"IF(Indata!K309=\"\",\"\",Indata!K309)","v":""},{"$f":"IF(Indata!L309=\"\",\"\",Indata!L309)","v":""},{"$f":"IF(Indata!M309=\"\",\"\",Indata!M309)","v":""},{"$f":"IF(Indata!N309=\"\",\"\",Indata!N309)","v":""},{"$f":"IF(Indata!O309=\"\",\"\",Indata!O309)","v":""},{"$f":"IF(Indata!P309=\"\",\"\",Indata!P309)","v":""},{"$f":"IF(Indata!Q309=\"\",\"\",Indata!Q309)","v":""},{"$f":"IF(Indata!R309=\"\",\"\",Indata!R309)","v":""},{"$f":"IF(Indata!S309=\"\",\"\",Indata!S309)","v":""},{"$f":"IF(Indata!T309=\"\",\"\",Indata!T309)","v":""},{"$f":"IF(Indata!U309=\"\",\"\",Indata!U309)","v":""},{"$f":"IF(Indata!V309=\"\",\"\",Indata!V309)","v":""},{"$f":"IF(Indata!W309=\"\",\"\",Indata!W309)","v":""},{"$f":"IF(Indata!X309=\"\",\"\",Indata!X309)","v":""},{"$f":"IF(Indata!Y309=\"\",\"\",Indata!Y309)","v":""},{"$f":"IF(Indata!Z309=\"\",\"\",Indata!Z309)","v":""},{"$f":"IF(Indata!AA309=\"\",\"\",Indata!AA309)","v":""}]
[45,"57 Rönneå, vid utfl t Skälderviken",{"$f":"IF(Indata!C310=\"\",\"\",Indata!C310)","v":""},{"$f":"IF(Indata!D310=\"\",\"\",Indata!D310)","v":""},{"$f":"IF(Indata!E310=\"\",\"\",Indata!E310)","v":""},{"$f":"IF(Indata!F310=\"\",\"\",Indata!F310)","v":""},{"$f":"IF(Indata!G310=\"\",\"\",Indata!G310)","v":""},{"$f":"IF(Indata!H310=\"\",\"\",Indata!H310)","v":""},{"$f":"IF(Indata!I310=\"\",\"\",Indata!I310)","v":""},{"$f":"IF(Indata!J310=\"\",\"\",Indata!J310)","v":""},{"$f":"IF(Indata!K310=\"\",\"\",Indata!K310)","v":""},{"$f":"IF(Indata!L310=\"\",\"\",Indata!L310)","v":""},{"$f":"IF(Indata!M310=\"\",\"\",Indata!M310)","v":""},{"$f":"IF(Indata!N310=\"\",\"\",Indata!N310)","v":""},{"$f":"IF(Indata!O310=\"\",\"\",Indata!O310)","v":""},{"$f":"IF(Indata!P310=\"\",\"\",Indata!P310)","v":""},{"$f":"IF(Indata!Q310=\"\",\"\",Indata!Q310)","v":""},{"$f":"IF(Indata!R310=\"\",\"\",Indata!R310)","v":""},{"$f":"IF(Indata!S310=\"\",\"\",Indata!S310)","v":""},{"$f":"IF(Indata!T310=\"\",\"\",Indata!T310)","v":""},{"$f":"IF(Indata!U310=\"\",\"\",Indata!U310)","v":""},{"$f":"IF(Indata!V310=\"\",\"\",Indata!V310)","v":""},{"$f":"IF(Indata!W310=\"\",\"\",Indata!W310)","v":""},{"$f":"IF(Indata!X310=\"\",\"\",Indata!X310)","v":""},{"$f":"IF(Indata!Y310=\"\",\"\",Indata!Y310)","v":""},{"$f":"IF(Indata!Z310=\"\",\"\",Indata!Z310)","v":""},{"$f":"IF(Indata!AA310=\"\",\"\",Indata!AA310)","v":""}]
[75,"16 Ybbarpsån, nedstr Perstorp AB",{"$f":"IF(Indata!C311=\"\",\"\",Indata!C311)","v":""},{"$f":"IF(Indata!D311=\"\",\"\",Indata!D311)","v":""},{"$f":"IF(Indata!E311=\"\",\"\",Indata!E311)","v":""},{"$f":"IF(Indata!F311=\"\",\"\",Indata!F311)","v":""},{"$f":"IF(Indata!G311=\"\",\"\",Indata!G311)","v":""},{"$f":"IF(Indata!H311=\"\",\"\",Indata!H311)","v":""},{"$f":"IF(Indata!I311=\"\",\"\",Indata!I311)","v":""},{"$f":"IF(Indata!J311=\"\",\"\",Indata!J311)","v":""},{"$f":"IF(Indata!K311=\"\",\"\",Indata!K311)","v":""},{"$f":"IF(Indata!L311=\"\",\"\",Indata!L311)","v":""},{"$f":"IF(Indata!M311=\"\",\"\",Indata!M311)","v":""},{"$f":"IF(Indata!N311=\"\",\"\",Indata!N311)","v":""},{"$f":"IF(Indata!O311=\"\",\"\",Indata!O311)","v":""},{"$f":"IF(Indata!P311=\"\",\"\",Indata!P311)","v":""},{"$f":"IF(Indata!Q311=\"\",\"\",Indata!Q311)","v":""},{"$f":"IF(Indata!R311=\"\",\"\",Indata!R311)","v":""},{"$f":"IF(Indata!S311=\"\",\"\",Indata!S311)","v":""},{"$f":"IF(Indata!T311=\"\",\"\",Indata!T311)","v":""},{"$f":"IF(Indata!U311=\"\",\"\",Indata!U311)","v":""},{"$f":"IF(Indata!V311=\"\",\"\",Indata!V311)","v":""},{"$f":"IF(Indata!W311=\"\",\"\",Indata!W311)","v":""},{"$f":"IF(Indata!X311=\"\",\"\",Indata!X311)","v":""},{"$f":"IF(Indata!Y311=\"\",\"\",Indata!Y311)","v":""},{"$f":"IF(Indata!Z311=\"\",\"\",Indata!Z311)","v":""},{"$f":"IF(Indata!AA311=\"\",\"\",Indata!AA311)","v":""}]
[85,"22 Ybbarpsån, vid Herrevadskloster",{"$f":"IF(Indata!C312=\"\",\"\",Indata!C312)","v":""},{"$f":"IF(Indata!D312=\"\",\"\",Indata!D312)","v":""},{"$f":"IF(Indata!E312=\"\",\"\",Indata!E312)","v":""},{"$f":"IF(Indata!F312=\"\",\"\",Indata!F312)","v":""},{"$f":"IF(Indata!G312=\"\",\"\",Indata!G312)","v":""},{"$f":"IF(Indata!H312=\"\",\"\",Indata!H312)","v":""},{"$f":"IF(Indata!I312=\"\",\"\",Indata!I312)","v":""},{"$f":"IF(Indata!J312=\"\",\"\",Indata!J312)","v":""},{"$f":"IF(Indata!K312=\"\",\"\",Indata!K312)","v":""},{"$f":"IF(Indata!L312=\"\",\"\",Indata!L312)","v":""},{"$f":"IF(Indata!M312=\"\",\"\",Indata!M312)","v":""},{"$f":"IF(Indata!N312=\"\",\"\",Indata!N312)","v":""},{"$f":"IF(Indata!O312=\"\",\"\",Indata!O312)","v":""},{"$f":"IF(Indata!P312=\"\",\"\",Indata!P312)","v":""},{"$f":"IF(Indata!Q312=\"\",\"\",Indata!Q312)","v":""},{"$f":"IF(Indata!R312=\"\",\"\",Indata!R312)","v":""},{"$f":"IF(Indata!S312=\"\",\"\",Indata!S312)","v":""},{"$f":"IF(Indata!T312=\"\",\"\",Indata!T312)","v":""},{"$f":"IF(Indata!U312=\"\",\"\",Indata!U312)","v":""},{"$f":"IF(Indata!V312=\"\",\"\",Indata!V312)","v":""},{"$f":"IF(Indata!W312=\"\",\"\",Indata!W312)","v":""},{"$f":"IF(Indata!X312=\"\",\"\",Indata!X312)","v":""},{"$f":"IF(Indata!Y312=\"\",\"\",Indata!Y312)","v":""},{"$f":"IF(Indata!Z312=\"\",\"\",Indata!Z312)","v":""},{"$f":"IF(Indata!AA312=\"\",\"\",Indata!AA312)","v":""}]
[120,"33 Bäljaneå, nedstr Klippan",{"$f":"IF(Indata!C313=\"\",\"\",Indata!C313)","v":""},{"$f":"IF(Indata!D313=\"\",\"\",Indata!D313)","v":""},{"$f":"IF(Indata!E313=\"\",\"\",Indata!E313)","v":""},{"$f":"IF(Indata!F313=\"\",\"\",Indata!F313)","v":""},{"$f":"IF(Indata!G313=\"\",\"\",Indata!G313)","v":""},{"$f":"IF(Indata!H313=\"\",\"\",Indata!H313)","v":""},{"$f":"IF(Indata!I313=\"\",\"\",Indata!I313)","v":""},{"$f":"IF(Indata!J313=\"\",\"\",Indata!J313)","v":""},{"$f":"IF(Indata!K313=\"\",\"\",Indata!K313)","v":""},{"$f":"IF(Indata!L313=\"\",\"\",Indata!L313)","v":""},{"$f":"IF(Indata!M313=\"\",\"\",Indata!M313)","v":""},{"$f":"IF(Indata!N313=\"\",\"\",Indata!N313)","v":""},{"$f":"IF(Indata!O313=\"\",\"\",Indata!O313)","v":""},{"$f":"IF(Indata!P313=\"\",\"\",Indata!P313)","v":""},{"$f":"IF(Indata!Q313=\"\",\"\",Indata!Q313)","v":""},{"$f":"IF(Indata!R313=\"\",\"\",Indata!R313)","v":""},{"$f":"IF(Indata!S313=\"\",\"\",Indata!S313)","v":""},{"$f":"IF(Indata!T313=\"\",\"\",Indata!T313)","v":""},{"$f":"IF(Indata!U313=\"\",\"\",Indata!U313)","v":""},{"$f":"IF(Indata!V313=\"\",\"\",Indata!V313)","v":""},{"$f":"IF(Indata!W313=\"\",\"\",Indata!W313)","v":""},{"$f":"IF(Indata!X313=\"\",\"\",Indata!X313)","v":""},{"$f":"IF(Indata!Y313=\"\",\"\",Indata!Y313)","v":""},{"$f":"IF(Indata!Z313=\"\",\"\",Indata!Z313)","v":""},{"$f":"IF(Indata!AA313=\"\",\"\",Indata!AA313)","v":""}]
[145,"44 Pinnån, utfl ur Kopparmölledamm",{"$f":"IF(Indata!C314=\"\",\"\",Indata!C314)","v":""},{"$f":"IF(Indata!D314=\"\",\"\",Indata!D314)","v":""},{"$f":"IF(Indata!E314=\"\",\"\",Indata!E314)","v":""},{"$f":"IF(Indata!F314=\"\",\"\",Indata!F314)","v":""},{"$f":"IF(Indata!G314=\"\",\"\",Indata!G314)","v":""},{"$f":"IF(Indata!H314=\"\",\"\",Indata!H314)","v":""},{"$f":"IF(Indata!I314=\"\",\"\",Indata!I314)","v":""},{"$f":"IF(Indata!J314=\"\",\"\",Indata!J314)","v":""},{"$f":"IF(Indata!K314=\"\",\"\",Indata!K314)","v":""},{"$f":"IF(Indata!L314=\"\",\"\",Indata!L314)","v":""},{"$f":"IF(Indata!M314=\"\",\"\",Indata!M314)","v":""},{"$f":"IF(Indata!N314=\"\",\"\",Indata!N314)","v":""},{"$f":"IF(Indata!O314=\"\",\"\",Indata!O314)","v":""},{"$f":"IF(Indata!P314=\"\",\"\",Indata!P314)","v":""},{"$f":"IF(Indata!Q314=\"\",\"\",Indata!Q314)","v":""},{"$f":"IF(Indata!R314=\"\",\"\",Indata!R314)","v":""},{"$f":"IF(Indata!S314=\"\",\"\",Indata!S314)","v":""},{"$f":"IF(Indata!T314=\"\",\"\",Indata!T314)","v":""},{"$f":"IF(Indata!U314=\"\",\"\",Indata!U314)","v":""},{"$f":"IF(Indata!V314=\"\",\"\",Indata!V314)","v":""},{"$f":"IF(Indata!W314=\"\",\"\",Indata!W314)","v":""},{"$f":"IF(Indata!X314=\"\",\"\",Indata!X314)","v":""},{"$f":"IF(Indata!Y314=\"\",\"\",Indata!Y314)","v":""},{"$f":"IF(Indata!Z314=\"\",\"\",Indata!Z314)","v":""},{"$f":"IF(Indata!AA314=\"\",\"\",Indata!AA314)","v":""}]
[150,"58 Pinnån, vid utfl t Rönneå",{"$f":"IF(Indata!C315=\"\",\"\",Indata!C315)","v":""},{"$f":"IF(Indata!D315=\"\",\"\",Indata!D315)","v":""},{"$f":"IF(Indata!E315=\"\",\"\",Indata!E315)","v":""},{"$f":"IF(Indata!F315=\"\",\"\",Indata!F315)","v":""},{"$f":"IF(Indata!G315=\"\",\"\",Indata!G315)","v":""},{"$f":"IF(Indata!H315=\"\",\"\",Indata!H315)","v":""},{"$f":"IF(Indata!I315=\"\",\"\",Indata!I315)","v":""},{"$f":"IF(Indata!J315=\"\",\"\",Indata!J315)","v":""},{"$f":"IF(Indata!K315=\"\",\"\",Indata!K315)","v":""},{"$f":"IF(Indata!L315=\"\",\"\",Indata!L315)","v":""},{"$f":"IF(Indata!M315=\"\",\"\",Indata!M315)","v":""},{"$f":"IF(Indata!N315=\"\",\"\",Indata!N315)","v":""},{"$f":"IF(Indata!O315=\"\",\"\",Indata!O315)","v":""},{"$f":"IF(Indata!P315=\"\",\"\",Indata!P315)","v":""},{"$f":"IF(Indata!Q315=\"\",\"\",Indata!Q315)","v":""},{"$f":"IF(Indata!R315=\"\",\"\",Indata!R315)","v":""},{"$f":"IF(Indata!S315=\"\",\"\",Indata!S315)","v":""},{"$f":"IF(Indata!T315=\"\",\"\",Indata!T315)","v":""},{"$f":"IF(Indata!U315=\"\",\"\",Indata!U315)","v":""},{"$f":"IF(Indata!V315=\"\",\"\",Indata!V315)","v":""},{"$f":"IF(Indata!W315=\"\",\"\",Indata!W315)","v":""},{"$f":"IF(Indata!X315=\"\",\"\",Indata!X315)","v":""},{"$f":"IF(Indata!Y315=\"\",\"\",Indata!Y315)","v":""},{"$f":"IF(Indata!Z315=\"\",\"\",Indata!Z315)","v":""},{"$f":"IF(Indata!AA315=\"\",\"\",Indata!AA315)","v":""}]
[165,"56 Rössjöholmsån, f utfl t Rönneå",{"$f":"IF(Indata!C316=\"\",\"\",Indata!C316)","v":""},{"$f":"IF(Indata!D316=\"\",\"\",Indata!D316)","v":""},{"$f":"IF(Indata!E316=\"\",\"\",Indata!E316)","v":""},{"$f":"IF(Indata!F316=\"\",\"\",Indata!F316)","v":""},{"$f":"IF(Indata!G316=\"\",\"\",Indata!G316)","v":""},{"$f":"IF(Indata!H316=\"\",\"\",Indata!H316)","v":""},{"$f":"IF(Indata!I316=\"\",\"\",Indata!I316)","v":""},{"$f":"IF(Indata!J316=\"\",\"\",Indata!J316)","v":""},{"$f":"IF(Indata!K316=\"\",\"\",Indata!K316)","v":""},{"$f":"IF(Indata!L316=\"\",\"\",Indata!L316)","v":""},{"$f":"IF(Indata!M316=\"\",\"\",Indata!M316)","v":""},{"$f":"IF(Indata!N316=\"\",\"\",Indata!N316)","v":""},{"$f":"IF(Indata!O316=\"\",\"\",Indata!O316)","v":""},{"$f":"IF(Indata!P316=\"\",\"\",Indata!P316)","v":""},{"$f":"IF(Indata!Q316=\"\",\"\",Indata!Q316)","v":""},{"$f":"IF(Indata!R316=\"\",\"\",Indata!R316)","v":""},{"$f":"IF(Indata!S316=\"\",\"\",Indata!S316)","v":""},{"$f":"IF(Indata!T316=\"\",\"\",Indata!T316)","v":""},{"$f":"IF(Indata!U316=\"\",\"\",Indata!U316)","v":""},{"$f":"IF(Indata!V316=\"\",\"\",Indata!V316)","v":""},{"$f":"IF(Indata!W316=\"\",\"\",Indata!W316)","v":""},{"$f":"IF(Indata!X316=\"\",\"\",Indata!X316)","v":""},{"$f":"IF(Indata!Y316=\"\",\"\",Indata!Y316)","v":""},{"$f":"IF(Indata!Z316=\"\",\"\",Indata!Z316)","v":""},{"$f":"IF(Indata!AA316=\"\",\"\",Indata!AA316)","v":""}]
[220,"Ri5 Sätoftasjön, ytan",{"$f":"IF(Indata!C317=\"\",\"\",Indata!C317)","v":""},{"$f":"IF(Indata!D317=\"\",\"\",Indata!D317)","v":""},{"$f":"IF(Indata!E317=\"\",\"\",Indata!E317)","v":""},{"$f":"IF(Indata!F317=\"\",\"\",Indata!F317)","v":""},{"$f":"IF(Indata!G317=\"\",\"\",Indata!G317)","v":""},{"$f":"IF(Indata!H317=\"\",\"\",Indata!H317)","v":""},{"$f":"IF(Indata!I317=\"\",\"\",Indata!I317)","v":""},{"$f":"IF(Indata!J317=\"\",\"\",Indata!J317)","v":""},{"$f":"IF(Indata!K317=\"\",\"\",Indata!K317)","v":""},{"$f":"IF(Indata!L317=\"\",\"\",Indata!L317)","v":""},{"$f":"IF(Indata!M317=\"\",\"\",Indata!M317)","v":""},{"$f":"IF(Indata!N317=\"\",\"\",Indata!N317)","v":""},{"$f":"IF(Indata!O317=\"\",\"\",Indata!O317)","v":""},{"$f":"IF(Indata!P317=\"\",\"\",Indata!P317)","v":""},{"$f":"IF(Indata!Q317=\"\",\"\",Indata!Q317)","v":""},{"$f":"IF(Indata!R317=\"\",\"\",Indata!R317)","v":""},{"$f":"IF(Indata!S317=\"\",\"\",Indata!S317)","v":""},{"$f":"IF(Indata!T317=\"\",\"\",Indata!T317)","v":""},{"$f":"IF(Indata!U317=\"\",\"\",Indata!U317)","v":""},{"$f":"IF(Indata!V317=\"\",\"\",Indata!V317)","v":""},{"$f":"IF(Indata!W317=\"\",\"\",Indata!W317)","v":""},{"$f":"IF(Indata!X317=\"\",\"\",Indata!X317)","v":""},{"$f":"IF(Indata!Y317=\"\",\"\",Indata!Y317)","v":""},{"$f":"IF(Indata!Z317=\"\",\"\",Indata!Z317)","v":""},{"$f":"IF(Indata!AA317=\"\",\"\",Indata!AA317)","v":""}]
[230,"Ri4 Östra Ringsjön, ytan",{"$f":"IF(Indata!C318=\"\",\"\",Indata!C318)","v":""},{"$f":"IF(Indata!D318=\"\",\"\",Indata!D318)","v":""},{"$f":"IF(Indata!E318=\"\",\"\",Indata!E318)","v":""},{"$f":"IF(Indata!F318=\"\",\"\",Indata!F318)","v":""},{"$f":"IF(Indata!G318=\"\",\"\",Indata!G318)","v":""},{"$f":"IF(Indata!H318=\"\",\"\",Indata!H318)","v":""},{"$f":"IF(Indata!I318=\"\",\"\",Indata!I318)","v":""},{"$f":"IF(Indata!J318=\"\",\"\",Indata!J318)","v":""},{"$f":"IF(Indata!K318=\"\",\"\",Indata!K318)","v":""},{"$f":"IF(Indata!L318=\"\",\"\",Indata!L318)","v":""},{"$f":"IF(Indata!M318=\"\",\"\",Indata!M318)","v":""},{"$f":"IF(Indata!N318=\"\",\"\",Indata!N318)","v":""},{"$f":"IF(Indata!O318=\"\",\"\",Indata!O318)","v":""},{"$f":"IF(Indata!P318=\"\",\"\",Indata!P318)","v":""},{"$f":"IF(Indata!Q318=\"\",\"\",Indata!Q318)","v":""},{"$f":"IF(Indata!R318=\"\",\"\",Indata!R318)","v":""},{"$f":"IF(Indata!S318=\"\",\"\",Indata!S318)","v":""},{"$f":"IF(Indata!T318=\"\",\"\",Indata!T318)","v":""},{"$f":"IF(Indata!U318=\"\",\"\",Indata!U318)","v":""},{"$f":"IF(Indata!V318=\"\",\"\",Indata!V318)","v":""},{"$f":"IF(Indata!W318=\"\",\"\",Indata!W318)","v":""},{"$f":"IF(Indata!X318=\"\",\"\",Indata!X318)","v":""},{"$f":"IF(Indata!Y318=\"\",\"\",Indata!Y318)","v":""},{"$f":"IF(Indata!Z318=\"\",\"\",Indata!Z318)","v":""},{"$f":"IF(Indata!AA318=\"\",\"\",Indata!AA318)","v":""}]
[240,"Ri2 Västra Ringsjön, ytan",{"$f":"IF(Indata!C319=\"\",\"\",Indata!C319)","v":""},{"$f":"IF(Indata!D319=\"\",\"\",Indata!D319)","v":""},{"$f":"IF(Indata!E319=\"\",\"\",Indata!E319)","v":""},{"$f":"IF(Indata!F319=\"\",\"\",Indata!F319)","v":""},{"$f":"IF(Indata!G319=\"\",\"\",Indata!G319)","v":""},{"$f":"IF(Indata!H319=\"\",\"\",Indata!H319)","v":""},{"$f":"IF(Indata!I319=\"\",\"\",Indata!I319)","v":""},{"$f":"IF(Indata!J319=\"\",\"\",Indata!J319)","v":""},{"$f":"IF(Indata!K319=\"\",\"\",Indata!K319)","v":""},{"$f":"IF(Indata!L319=\"\",\"\",Indata!L319)","v":""},{"$f":"IF(Indata!M319=\"\",\"\",Indata!M319)","v":""},{"$f":"IF(Indata!N319=\"\",\"\",Indata!N319)","v":""},{"$f":"IF(Indata!O319=\"\",\"\",Indata!O319)","v":""},{"$f":"IF(Indata!P319=\"\",\"\",Indata!P319)","v":""},{"$f":"IF(Indata!Q319=\"\",\"\",Indata!Q319)","v":""},{"$f":"IF(Indata!R319=\"\",\"\",Indata!R319)","v":""},{"$f":"IF(Indata!S319=\"\",\"\",Indata!S319)","v":""},{"$f":"IF(Indata!T319=\"\",\"\",Indata!T319)","v":""},{"$f":"IF(Indata!U319=\"\",\"\",Indata!U319)","v":""},{"$f":"IF(Indata!V319=\"\",\"\",Indata!V319)","v":""},{"$f":"IF(Indata!W319=\"\",\"\",Indata!W319)","v":""},{"$f":"IF(Indata!X319=\"\",\"\",Indata!X319)","v":""},{"$f":"IF(Indata!Y319=\"\",\"\",Indata!Y319)","v":""},{"$f":"IF(Indata!Z319=\"\",\"\",Indata!Z319)","v":""},{"$f":"IF(Indata!AA319=\"\",\"\",Indata!AA319)","v":""}]
[300]
[250,"november"]
[3,"3  Rönneå, uppstr Bålamöllan",{"$f":"IF(Indata!C322=\"\",\"\",Indata!C322)","v":""},{"$f":"IF(Indata!D322=\"\",\"\",Indata!D322)","v":""},{"$f":"IF(Indata!E322=\"\",\"\",Indata!E322)","v":""},{"$f":"IF(Indata!F322=\"\",\"\",Indata!F322)","v":""},{"$f":"IF(Indata!G322=\"\",\"\",Indata!G322)","v":""},{"$f":"IF(Indata!H322=\"\",\"\",Indata!H322)","v":""},{"$f":"IF(Indata!I322=\"\",\"\",Indata!I322)","v":""},{"$f":"IF(Indata!J322=\"\",\"\",Indata!J322)","v":""},{"$f":"IF(Indata!K322=\"\",\"\",Indata!K322)","v":""},{"$f":"IF(Indata!L322=\"\",\"\",Indata!L322)","v":""},{"$f":"IF(Indata!M322=\"\",\"\",Indata!M322)","v":""},{"$f":"IF(Indata!N322=\"\",\"\",Indata!N322)","v":""},{"$f":"IF(Indata!O322=\"\",\"\",Indata!O322)","v":""},{"$f":"IF(Indata!P322=\"\",\"\",Indata!P322)","v":""},{"$f":"IF(Indata!Q322=\"\",\"\",Indata!Q322)","v":""},{"$f":"IF(Indata!R322=\"\",\"\",Indata!R322)","v":""},{"$f":"IF(Indata!S322=\"\",\"\",Indata!S322)","v":""},{"$f":"IF(Indata!T322=\"\",\"\",Indata!T322)","v":""},{"$f":"IF(Indata!U322=\"\",\"\",Indata!U322)","v":""},{"$f":"IF(Indata!V322=\"\",\"\",Indata!V322)","v":""},{"$f":"IF(Indata!W322=\"\",\"\",Indata!W322)","v":""},{"$f":"IF(Indata!X322=\"\",\"\",Indata!X322)","v":""},{"$f":"IF(Indata!Y322=\"\",\"\",Indata!Y322)","v":""},{"$f":"IF(Indata!Z322=\"\",\"\",Indata!Z322)","v":""},{"$f":"IF(Indata!AA322=\"\",\"\",Indata!AA322)","v":""}]
[5,"75 Rönneå, Bögerup vid bron innan Bolebäcken",{"$f":"IF(Indata!C323=\"\",\"\",Indata!C323)","v":""},{"$f":"IF(Indata!D323=\"\",\"\",Indata!D323)","v":""},{"$f":"IF(Indata!E323=\"\",\"\",Indata!E323)","v":""},{"$f":"IF(Indata!F323=\"\",\"\",Indata!F323)","v":""},{"$f":"IF(Indata!G323=\"\",\"\",Indata!G323)","v":""},{"$f":"IF(Indata!H323=\"\",\"\",Indata!H323)","v":""},{"$f":"IF(Indata!I323=\"\",\"\",Indata!I323)","v":""},{"$f":"IF(Indata!J323=\"\",\"\",Indata!J323)","v":""},{"$f":"IF(Indata!K323=\"\",\"\",Indata!K323)","v":""},{"$f":"IF(Indata!L323=\"\",\"\",Indata!L323)","v":""},{"$f":"IF(Indata!M323=\"\",\"\",Indata!M323)","v":""},{"$f":"IF(Indata!N323=\"\",\"\",Indata!N323)","v":""},{"$f":"IF(Indata!O323=\"\",\"\",Indata!O323)","v":""},{"$f":"IF(Indata!P323=\"\",\"\",Indata!P323)","v":""},{"$f":"IF(Indata!Q323=\"\",\"\",Indata!Q323)","v":""},{"$f":"IF(Indata!R323=\"\",\"\",Indata!R323)","v":""},{"$f":"IF(Indata!S323=\"\",\"\",Indata!S323)","v":""},{"$f":"IF(Indata!T323=\"\",\"\",Indata!T323)","v":""},{"$f":"IF(Indata!U323=\"\",\"\",Indata!U323)","v":""},{"$f":"IF(Indata!V323=\"\",\"\",Indata!V323)","v":""},{"$f":"IF(Indata!W323=\"\",\"\",Indata!W323)","v":""},{"$f":"IF(Indata!X323=\"\",\"\",Indata!X323)","v":""},{"$f":"IF(Indata!Y323=\"\",\"\",Indata!Y323)","v":""},{"$f":"IF(Indata!Z323=\"\",\"\",Indata!Z323)","v":""},{"$f":"IF(Indata!AA323=\"\",\"\",Indata!AA323)","v":""}]
[10,"11 Rönneå, vid Djupadalsmölla",{"$f":"IF(Indata!C324=\"\",\"\",Indata!C324)","v":""},{"$f":"IF(Indata!D324=\"\",\"\",Indata!D324)","v":""},{"$f":"IF(Indata!E324=\"\",\"\",Indata!E324)","v":""},{"$f":"IF(Indata!F324=\"\",\"\",Indata!F324)","v":""},{"$f":"IF(Indata!G324=\"\",\"\",Indata!G324)","v":""},{"$f":"IF(Indata!H324=\"\",\"\",Indata!H324)","v":""},{"$f":"IF(Indata!I324=\"\",\"\",Indata!I324)","v":""},{"$f":"IF(Indata!J324=\"\",\"\",Indata!J324)","v":""},{"$f":"IF(Indata!K324=\"\",\"\",Indata!K324)","v":""},{"$f":"IF(Indata!L324=\"\",\"\",Indata!L324)","v":""},{"$f":"IF(Indata!M324=\"\",\"\",Indata!M324)","v":""},{"$f":"IF(Indata!N324=\"\",\"\",Indata!N324)","v":""},{"$f":"IF(Indata!O324=\"\",\"\",Indata!O324)","v":""},{"$f":"IF(Indata!P324=\"\",\"\",Indata!P324)","v":""},{"$f":"IF(Indata!Q324=\"\",\"\",Indata!Q324)","v":""},{"$f":"IF(Indata!R324=\"\",\"\",Indata!R324)","v":""},{"$f":"IF(Indata!S324=\"\",\"\",Indata!S324)","v":""},{"$f":"IF(Indata!T324=\"\",\"\",Indata!T324)","v":""},{"$f":"IF(Indata!U324=\"\",\"\",Indata!U324)","v":""},{"$f":"IF(Indata!V324=\"\",\"\",Indata!V324)","v":""},{"$f":"IF(Indata!W324=\"\",\"\",Indata!W324)","v":""},{"$f":"IF(Indata!X324=\"\",\"\",Indata!X324)","v":""},{"$f":"IF(Indata!Y324=\"\",\"\",Indata!Y324)","v":""},{"$f":"IF(Indata!Z324=\"\",\"\",Indata!Z324)","v":""},{"$f":"IF(Indata!AA324=\"\",\"\",Indata!AA324)","v":""}]
[15,"14 Rönneå, uppstr Ljungbyheds ARV",{"$f":"IF(Indata!C325=\"\",\"\",Indata!C325)","v":""},{"$f":"IF(Indata!D325=\"\",\"\",Indata!D325)","v":""},{"$f":"IF(Indata!E325=\"\",\"\",Indata!E325)","v":""},{"$f":"IF(Indata!F325=\"\",\"\",Indata!F325)","v":""},{"$f":"IF(Indata!G325=\"\",\"\",Indata!G325)","v":""},{"$f":"IF(Indata!H325=\"\",\"\",Indata!H325)","v":""},{"$f":"IF(Indata!I325=\"\",\"\",Indata!I325)","v":""},{"$f":"IF(Indata!J325=\"\",\"\",Indata!J325)","v":""},{"$f":"IF(Indata!K325=\"\",\"\",Indata!K325)","v":""},{"$f":"IF(Indata!L325=\"\",\"\",Indata!L325)","v":""},{"$f":"IF(Indata!M325=\"\",\"\",Indata!M325)","v":""},{"$f":"IF(Indata!N325=\"\",\"\",Indata!N325)","v":""},{"$f":"IF(Indata!O325=\"\",\"\",Indata!O325)","v":""},{"$f":"IF(Indata!P325=\"\",\"\",Indata!P325)","v":""},{"$f":"IF(Indata!Q325=\"\",\"\",Indata!Q325)","v":""},{"$f":"IF(Indata!R325=\"\",\"\",Indata!R325)","v":""},{"$f":"IF(Indata!S325=\"\",\"\",Indata!S325)","v":""},{"$f":"IF(Indata!T325=\"\",\"\",Indata!T325)","v":""},{"$f":"IF(Indata!U325=\"\",\"\",Indata!U325)","v":""},{"$f":"IF(Indata!V325=\"\",\"\",Indata!V325)","v":""},{"$f":"IF(Indata!W325=\"\",\"\",Indata!W325)","v":""},{"$f":"IF(Indata!X325=\"\",\"\",Indata!X325)","v":""},{"$f":"IF(Indata!Y325=\"\",\"\",Indata!Y325)","v":""},{"$f":"IF(Indata!Z325=\"\",\"\",Indata!Z325)","v":""},{"$f":"IF(Indata!AA325=\"\",\"\",Indata!AA325)","v":""}]
[20,"79 Rönneå, nedstr Ljungbyhed ARV",{"$f":"IF(Indata!C326=\"\",\"\",Indata!C326)","v":""},{"$f":"IF(Indata!D326=\"\",\"\",Indata!D326)","v":""},{"$f":"IF(Indata!E326=\"\",\"\",Indata!E326)","v":""},{"$f":"IF(Indata!F326=\"\",\"\",Indata!F326)","v":""},{"$f":"IF(Indata!G326=\"\",\"\",Indata!G326)","v":""},{"$f":"IF(Indata!H326=\"\",\"\",Indata!H326)","v":""},{"$f":"IF(Indata!I326=\"\",\"\",Indata!I326)","v":""},{"$f":"IF(Indata!J326=\"\",\"\",Indata!J326)","v":""},{"$f":"IF(Indata!K326=\"\",\"\",Indata!K326)","v":""},{"$f":"IF(Indata!L326=\"\",\"\",Indata!L326)","v":""},{"$f":"IF(Indata!M326=\"\",\"\",Indata!M326)","v":""},{"$f":"IF(Indata!N326=\"\",\"\",Indata!N326)","v":""},{"$f":"IF(Indata!O326=\"\",\"\",Indata!O326)","v":""},{"$f":"IF(Indata!P326=\"\",\"\",Indata!P326)","v":""},{"$f":"IF(Indata!Q326=\"\",\"\",Indata!Q326)","v":""},{"$f":"IF(Indata!R326=\"\",\"\",Indata!R326)","v":""},{"$f":"IF(Indata!S326=\"\",\"\",Indata!S326)","v":""},{"$f":"IF(Indata!T326=\"\",\"\",Indata!T326)","v":""},{"$f":"IF(Indata!U326=\"\",\"\",Indata!U326)","v":""},{"$f":"IF(Indata!V326=\"\",\"\",Indata!V326)","v":""},{"$f":"IF(Indata!W326=\"\",\"\",Indata!W326)","v":""},{"$f":"IF(Indata!X326=\"\",\"\",Indata!X326)","v":""},{"$f":"IF(Indata!Y326=\"\",\"\",Indata!Y326)","v":""},{"$f":"IF(Indata!Z326=\"\",\"\",Indata!Z326)","v":""},{"$f":"IF(Indata!AA326=\"\",\"\",Indata!AA326)","v":""}]
[25,"24 Rönneå, vid Forsmöllan",{"$f":"IF(Indata!C327=\"\",\"\",Indata!C327)","v":""},{"$f":"IF(Indata!D327=\"\",\"\",Indata!D327)","v":""},{"$f":"IF(Indata!E327=\"\",\"\",Indata!E327)","v":""},{"$f":"IF(Indata!F327=\"\",\"\",Indata!F327)","v":""},{"$f":"IF(Indata!G327=\"\",\"\",Indata!G327)","v":""},{"$f":"IF(Indata!H327=\"\",\"\",Indata!H327)","v":""},{"$f":"IF(Indata!I327=\"\",\"\",Indata!I327)","v":""},{"$f":"IF(Indata!J327=\"\",\"\",Indata!J327)","v":""},{"$f":"IF(Indata!K327=\"\",\"\",Indata!K327)","v":""},{"$f":"IF(Indata!L327=\"\",\"\",Indata!L327)","v":""},{"$f":"IF(Indata!M327=\"\",\"\",Indata!M327)","v":""},{"$f":"IF(Indata!N327=\"\",\"\",Indata!N327)","v":""},{"$f":"IF(Indata!O327=\"\",\"\",Indata!O327)","v":""},{"$f":"IF(Indata!P327=\"\",\"\",Indata!P327)","v":""},{"$f":"IF(Indata!Q327=\"\",\"\",Indata!Q327)","v":""},{"$f":"IF(Indata!R327=\"\",\"\",Indata!R327)","v":""},{"$f":"IF(Indata!S327=\"\",\"\",Indata!S327)","v":""},{"$f":"IF(Indata!T327=\"\",\"\",Indata!T327)","v":""},{"$f":"IF(Indata!U327=\"\",\"\",Indata!U327)","v":""},{"$f":"IF(Indata!V327=\"\",\"\",Indata!V327)","v":""},{"$f":"IF(Indata!W327=\"\",\"\",Indata!W327)","v":""},{"$f":"IF(Indata!X327=\"\",\"\",Indata!X327)","v":""},{"$f":"IF(Indata!Y327=\"\",\"\",Indata!Y327)","v":""},{"$f":"IF(Indata!Z327=\"\",\"\",Indata!Z327)","v":""},{"$f":"IF(Indata!AA327=\"\",\"\",Indata!AA327)","v":""}]
[30,"25 Rönneå, vid Stackarps bro",{"$f":"IF(Indata!C328=\"\",\"\",Indata!C328)","v":""},{"$f":"IF(Indata!D328=\"\",\"\",Indata!D328)","v":""},{"$f":"IF(Indata!E328=\"\",\"\",Indata!E328)","v":""},{"$f":"IF(Indata!F328=\"\",\"\",Indata!F328)","v":""},{"$f":"IF(Indata!G328=\"\",\"\",Indata!G328)","v":""},{"$f":"IF(Indata!H328=\"\",\"\",Indata!H328)","v":""},{"$f":"IF(Indata!I328=\"\",\"\",Indata!I328)","v":""},{"$f":"IF(Indata!J328=\"\",\"\",Indata!J328)","v":""},{"$f":"IF(Indata!K328=\"\",\"\",Indata!K328)","v":""},{"$f":"IF(Indata!L328=\"\",\"\",Indata!L328)","v":""},{"$f":"IF(Indata!M328=\"\",\"\",Indata!M328)","v":""},{"$f":"IF(Indata!N328=\"\",\"\",Indata!N328)","v":""},{"$f":"IF(Indata!O328=\"\",\"\",Indata!O328)","v":""},{"$f":"IF(Indata!P328=\"\",\"\",Indata!P328)","v":""},{"$f":"IF(Indata!Q328=\"\",\"\",Indata!Q328)","v":""},{"$f":"IF(Indata!R328=\"\",\"\",Indata!R328)","v":""},{"$f":"IF(Indata!S328=\"\",\"\",Indata!S328)","v":""},{"$f":"IF(Indata!T328=\"\",\"\",Indata!T328)","v":""},{"$f":"IF(Indata!U328=\"\",\"\",Indata!U328)","v":""},{"$f":"IF(Indata!V328=\"\",\"\",Indata!V328)","v":""},{"$f":"IF(Indata!W328=\"\",\"\",Indata!W328)","v":""},{"$f":"IF(Indata!X328=\"\",\"\",Indata!X328)","v":""},{"$f":"IF(Indata!Y328=\"\",\"\",Indata!Y328)","v":""},{"$f":"IF(Indata!Z328=\"\",\"\",Indata!Z328)","v":""},{"$f":"IF(Indata!AA328=\"\",\"\",Indata!AA328)","v":""}]
[35,"34 Rönneå, vid Tranarps bro",{"$f":"IF(Indata!C329=\"\",\"\",Indata!C329)","v":""},{"$f":"IF(Indata!D329=\"\",\"\",Indata!D329)","v":""},{"$f":"IF(Indata!E329=\"\",\"\",Indata!E329)","v":""},{"$f":"IF(Indata!F329=\"\",\"\",Indata!F329)","v":""},{"$f":"IF(Indata!G329=\"\",\"\",Indata!G329)","v":""},{"$f":"IF(Indata!H329=\"\",\"\",Indata!H329)","v":""},{"$f":"IF(Indata!I329=\"\",\"\",Indata!I329)","v":""},{"$f":"IF(Indata!J329=\"\",\"\",Indata!J329)","v":""},{"$f":"IF(Indata!K329=\"\",\"\",Indata!K329)","v":""},{"$f":"IF(Indata!L329=\"\",\"\",Indata!L329)","v":""},{"$f":"IF(Indata!M329=\"\",\"\",Indata!M329)","v":""},{"$f":"IF(Indata!N329=\"\",\"\",Indata!N329)","v":""},{"$f":"IF(Indata!O329=\"\",\"\",Indata!O329)","v":""},{"$f":"IF(Indata!P329=\"\",\"\",Indata!P329)","v":""},{"$f":"IF(Indata!Q329=\"\",\"\",Indata!Q329)","v":""},{"$f":"IF(Indata!R329=\"\",\"\",Indata!R329)","v":""},{"$f":"IF(Indata!S329=\"\",\"\",Indata!S329)","v":""},{"$f":"IF(Indata!T329=\"\",\"\",Indata!T329)","v":""},{"$f":"IF(Indata!U329=\"\",\"\",Indata!U329)","v":""},{"$f":"IF(Indata!V329=\"\",\"\",Indata!V329)","v":""},{"$f":"IF(Indata!W329=\"\",\"\",Indata!W329)","v":""},{"$f":"IF(Indata!X329=\"\",\"\",Indata!X329)","v":""},{"$f":"IF(Indata!Y329=\"\",\"\",Indata!Y329)","v":""},{"$f":"IF(Indata!Z329=\"\",\"\",Indata!Z329)","v":""},{"$f":"IF(Indata!AA329=\"\",\"\",Indata!AA329)","v":""}]
[40,"49 Rönneå, uppstr Ängelholm",{"$f":"IF(Indata!C330=\"\",\"\",Indata!C330)","v":""},{"$f":"IF(Indata!D330=\"\",\"\",Indata!D330)","v":""},{"$f":"IF(Indata!E330=\"\",\"\",Indata!E330)","v":""},{"$f":"IF(Indata!F330=\"\",\"\",Indata!F330)","v":""},{"$f":"IF(Indata!G330=\"\",\"\",Indata!G330)","v":""},{"$f":"IF(Indata!H330=\"\",\"\",Indata!H330)","v":""},{"$f":"IF(Indata!I330=\"\",\"\",Indata!I330)","v":""},{"$f":"IF(Indata!J330=\"\",\"\",Indata!J330)","v":""},{"$f":"IF(Indata!K330=\"\",\"\",Indata!K330)","v":""},{"$f":"IF(Indata!L330=\"\",\"\",Indata!L330)","v":""},{"$f":"IF(Indata!M330=\"\",\"\",Indata!M330)","v":""},{"$f":"IF(Indata!N330=\"\",\"\",Indata!N330)","v":""},{"$f":"IF(Indata!O330=\"\",\"\",Indata!O330)","v":""},{"$f":"IF(Indata!P330=\"\",\"\",Indata!P330)","v":""},{"$f":"IF(Indata!Q330=\"\",\"\",Indata!Q330)","v":""},{"$f":"IF(Indata!R330=\"\",\"\",Indata!R330)","v":""},{"$f":"IF(Indata!S330=\"\",\"\",Indata!S330)","v":""},{"$f":"IF(Indata!T330=\"\",\"\",Indata!T330)","v":""},{"$f":"IF(Indata!U330=\"\",\"\",Indata!U330)","v":""},{"$f":"IF(Indata!V330=\"\",\"\",Indata!V330)","v":""},{"$f":"IF(Indata!W330=\"\",\"\",Indata!W330)","v":""},{"$f":"IF(Indata!X330=\"\",\"\",Indata!X330)","v":""},{"$f":"IF(Indata!Y330=\"\",\"\",Indata!Y330)","v":""},{"$f":"IF(Indata!Z330=\"\",\"\",Indata!Z330)","v":""},{"$f":"IF(Indata!AA330=\"\",\"\",Indata!AA330)","v":""}]
[45,"57 Rönneå, vid utfl t Skälderviken",{"$f":"IF(Indata!C331=\"\",\"\",Indata!C331)","v":""},{"$f":"IF(Indata!D331=\"\",\"\",Indata!D331)","v":""},{"$f":"IF(Indata!E331=\"\",\"\",Indata!E331)","v":""},{"$f":"IF(Indata!F331=\"\",\"\",Indata!F331)","v":""},{"$f":"IF(Indata!G331=\"\",\"\",Indata!G331)","v":""},{"$f":"IF(Indata!H331=\"\",\"\",Indata!H331)","v":""},{"$f":"IF(Indata!I331=\"\",\"\",Indata!I331)","v":""},{"$f":"IF(Indata!J331=\"\",\"\",Indata!J331)","v":""},{"$f":"IF(Indata!K331=\"\",\"\",Indata!K331)","v":""},{"$f":"IF(Indata!L331=\"\",\"\",Indata!L331)","v":""},{"$f":"IF(Indata!M331=\"\",\"\",Indata!M331)","v":""},{"$f":"IF(Indata!N331=\"\",\"\",Indata!N331)","v":""},{"$f":"IF(Indata!O331=\"\",\"\",Indata!O331)","v":""},{"$f":"IF(Indata!P331=\"\",\"\",Indata!P331)","v":""},{"$f":"IF(Indata!Q331=\"\",\"\",Indata!Q331)","v":""},{"$f":"IF(Indata!R331=\"\",\"\",Indata!R331)","v":""},{"$f":"IF(Indata!S331=\"\",\"\",Indata!S331)","v":""},{"$f":"IF(Indata!T331=\"\",\"\",Indata!T331)","v":""},{"$f":"IF(Indata!U331=\"\",\"\",Indata!U331)","v":""},{"$f":"IF(Indata!V331=\"\",\"\",Indata!V331)","v":""},{"$f":"IF(Indata!W331=\"\",\"\",Indata!W331)","v":""},{"$f":"IF(Indata!X331=\"\",\"\",Indata!X331)","v":""},{"$f":"IF(Indata!Y331=\"\",\"\",Indata!Y331)","v":""},{"$f":"IF(Indata!Z331=\"\",\"\",Indata!Z331)","v":""},{"$f":"IF(Indata!AA331=\"\",\"\",Indata!AA331)","v":""}]
[50,"6  Bäljaneå, uppstr Röstånga",{"$f":"IF(Indata!C332=\"\",\"\",Indata!C332)","v":""},{"$f":"IF(Indata!D332=\"\",\"\",Indata!D332)","v":""},{"$f":"IF(Indata!E332=\"\",\"\",Indata!E332)","v":""},{"$f":"IF(Indata!F332=\"\",\"\",Indata!F332)","v":""},{"$f":"IF(Indata!G332=\"\",\"\",Indata!G332)","v":""},{"$f":"IF(Indata!H332=\"\",\"\",Indata!H332)","v":""},{"$f":"IF(Indata!I332=\"\",\"\",Indata!I332)","v":""},{"$f":"IF(Indata!J332=\"\",\"\",Indata!J332)","v":""},{"$f":"IF(Indata!K332=\"\",\"\",Indata!K332)","v":""},{"$f":"IF(Indata!L332=\"\",\"\",Indata!L332)","v":""},{"$f":"IF(Indata!M332=\"\",\"\",Indata!M332)","v":""},{"$f":"IF(Indata!N332=\"\",\"\",Indata!N332)","v":""},{"$f":"IF(Indata!O332=\"\",\"\",Indata!O332)","v":""},{"$f":"IF(Indata!P332=\"\",\"\",Indata!P332)","v":""},{"$f":"IF(Indata!Q332=\"\",\"\",Indata!Q332)","v":""},{"$f":"IF(Indata!R332=\"\",\"\",Indata!R332)","v":""},{"$f":"IF(Indata!S332=\"\",\"\",Indata!S332)","v":""},{"$f":"IF(Indata!T332=\"\",\"\",Indata!T332)","v":""},{"$f":"IF(Indata!U332=\"\",\"\",Indata!U332)","v":""},{"$f":"IF(Indata!V332=\"\",\"\",Indata!V332)","v":""},{"$f":"IF(Indata!W332=\"\",\"\",Indata!W332)","v":""},{"$f":"IF(Indata!X332=\"\",\"\",Indata!X332)","v":""},{"$f":"IF(Indata!Y332=\"\",\"\",Indata!Y332)","v":""},{"$f":"IF(Indata!Z332=\"\",\"\",Indata!Z332)","v":""},{"$f":"IF(Indata!AA332=\"\",\"\",Indata!AA332)","v":""}]
[55,"8  Bäljaneå, före utfl t Rönneå",{"$f":"IF(Indata!C333=\"\",\"\",Indata!C333)","v":""},{"$f":"IF(Indata!D333=\"\",\"\",Indata!D333)","v":""},{"$f":"IF(Indata!E333=\"\",\"\",Indata!E333)","v":""},{"$f":"IF(Indata!F333=\"\",\"\",Indata!F333)","v":""},{"$f":"IF(Indata!G333=\"\",\"\",Indata!G333)","v":""},{"$f":"IF(Indata!H333=\"\",\"\",Indata!H333)","v":""},{"$f":"IF(Indata!I333=\"\",\"\",Indata!I333)","v":""},{"$f":"IF(Indata!J333=\"\",\"\",Indata!J333)","v":""},{"$f":"IF(Indata!K333=\"\",\"\",Indata!K333)","v":""},{"$f":"IF(Indata!L333=\"\",\"\",Indata!L333)","v":""},{"$f":"IF(Indata!M333=\"\",\"\",Indata!M333)","v":""},{"$f":"IF(Indata!N333=\"\",\"\",Indata!N333)","v":""},{"$f":"IF(Indata!O333=\"\",\"\",Indata!O333)","v":""},{"$f":"IF(Indata!P333=\"\",\"\",Indata!P333)","v":""},{"$f":"IF(Indata!Q333=\"\",\"\",Indata!Q333)","v":""},{"$f":"IF(Indata!R333=\"\",\"\",Indata!R333)","v":""},{"$f":"IF(Indata!S333=\"\",\"\",Indata!S333)","v":""},{"$f":"IF(Indata!T333=\"\",\"\",Indata!T333)","v":""},{"$f":"IF(Indata!U333=\"\",\"\",Indata!U333)","v":""},{"$f":"IF(Indata!V333=\"\",\"\",Indata!V333)","v":""},{"$f":"IF(Indata!W333=\"\",\"\",Indata!W333)","v":""},{"$f":"IF(Indata!X333=\"\",\"\",Indata!X333)","v":""},{"$f":"IF(Indata!Y333=\"\",\"\",Indata!Y333)","v":""},{"$f":"IF(Indata!Z333=\"\",\"\",Indata!Z333)","v":""},{"$f":"IF(Indata!AA333=\"\",\"\",Indata!AA333)","v":""}]
[60,"59 Klingstorpabäcken, Färingstofta",{"$f":"IF(Indata!C334=\"\",\"\",Indata!C334)","v":""},{"$f":"IF(Indata!D334=\"\",\"\",Indata!D334)","v":""},{"$f":"IF(Indata!E334=\"\",\"\",Indata!E334)","v":""},{"$f":"IF(Indata!F334=\"\",\"\",Indata!F334)","v":""},{"$f":"IF(Indata!G334=\"\",\"\",Indata!G334)","v":""},{"$f":"IF(Indata!H334=\"\",\"\",Indata!H334)","v":""},{"$f":"IF(Indata!I334=\"\",\"\",Indata!I334)","v":""},{"$f":"IF(Indata!J334=\"\",\"\",Indata!J334)","v":""},{"$f":"IF(Indata!K334=\"\",\"\",Indata!K334)","v":""},{"$f":"IF(Indata!L334=\"\",\"\",Indata!L334)","v":""},{"$f":"IF(Indata!M334=\"\",\"\",Indata!M334)","v":""},{"$f":"IF(Indata!N334=\"\",\"\",Indata!N334)","v":""},{"$f":"IF(Indata!O334=\"\",\"\",Indata!O334)","v":""},{"$f":"IF(Indata!P334=\"\",\"\",Indata!P334)","v":""},{"$f":"IF(Indata!Q334=\"\",\"\",Indata!Q334)","v":""},{"$f":"IF(Indata!R334=\"\",\"\",Indata!R334)","v":""},{"$f":"IF(Indata!S334=\"\",\"\",Indata!S334)","v":""},{"$f":"IF(Indata!T334=\"\",\"\",Indata!T334)","v":""},{"$f":"IF(Indata!U334=\"\",\"\",Indata!U334)","v":""},{"$f":"IF(Indata!V334=\"\",\"\",Indata!V334)","v":""},{"$f":"IF(Indata!W334=\"\",\"\",Indata!W334)","v":""},{"$f":"IF(Indata!X334=\"\",\"\",Indata!X334)","v":""},{"$f":"IF(Indata!Y334=\"\",\"\",Indata!Y334)","v":""},{"$f":"IF(Indata!Z334=\"\",\"\",Indata!Z334)","v":""},{"$f":"IF(Indata!AA334=\"\",\"\",Indata!AA334)","v":""}]
[65,"72 Storedamm, utlopp mot Svenstorp",{"$f":"IF(Indata!C335=\"\",\"\",Indata!C335)","v":""},{"$f":"IF(Indata!D335=\"\",\"\",Indata!D335)","v":""},{"$f":"IF(Indata!E335=\"\",\"\",Indata!E335)","v":""},{"$f":"IF(Indata!F335=\"\",\"\",Indata!F335)","v":""},{"$f":"IF(Indata!G335=\"\",\"\",Indata!G335)","v":""},{"$f":"IF(Indata!H335=\"\",\"\",Indata!H335)","v":""},{"$f":"IF(Indata!I335=\"\",\"\",Indata!I335)","v":""},{"$f":"IF(Indata!J335=\"\",\"\",Indata!J335)","v":""},{"$f":"IF(Indata!K335=\"\",\"\",Indata!K335)","v":""},{"$f":"IF(Indata!L335=\"\",\"\",Indata!L335)","v":""},{"$f":"IF(Indata!M335=\"\",\"\",Indata!M335)","v":""},{"$f":"IF(Indata!N335=\"\",\"\",Indata!N335)","v":""},{"$f":"IF(Indata!O335=\"\",\"\",Indata!O335)","v":""},{"$f":"IF(Indata!P335=\"\",\"\",Indata!P335)","v":""},{"$f":"IF(Indata!Q335=\"\",\"\",Indata!Q335)","v":""},{"$f":"IF(Indata!R335=\"\",\"\",Indata!R335)","v":""},{"$f":"IF(Indata!S335=\"\",\"\",Indata!S335)","v":""},{"$f":"IF(Indata!T335=\"\",\"\",Indata!T335)","v":""},{"$f":"IF(Indata!U335=\"\",\"\",Indata!U335)","v":""},{"$f":"IF(Indata!V335=\"\",\"\",Indata!V335)","v":""},{"$f":"IF(Indata!W335=\"\",\"\",Indata!W335)","v":""},{"$f":"IF(Indata!X335=\"\",\"\",Indata!X335)","v":""},{"$f":"IF(Indata!Y335=\"\",\"\",Indata!Y335)","v":""},{"$f":"IF(Indata!Z335=\"\",\"\",Indata!Z335)","v":""},{"$f":"IF(Indata!AA335=\"\",\"\",Indata!AA335)","v":""}]
[70,"15 Ybbarpsån, utfl ur Ybbarpssjön",{"$f":"IF(Indata!C336=\"\",\"\",Indata!C336)","v":""},{"$f":"IF(Indata!D336=\"\",\"\",Indata!D336)","v":""},{"$f":"IF(Indata!E336=\"\",\"\",Indata!E336)","v":""},{"$f":"IF(Indata!F336=\"\",\"\",Indata!F336)","v":""},{"$f":"IF(Indata!G336=\"\",\"\",Indata!G336)","v":""},{"$f":"IF(Indata!H336=\"\",\"\",Indata!H336)","v":""},{"$f":"IF(Indata!I336=\"\",\"\",Indata!I336)","v":""},{"$f":"IF(Indata!J336=\"\",\"\",Indata!J336)","v":""},{"$f":"IF(Indata!K336=\"\",\"\",Indata!K336)","v":""},{"$f":"IF(Indata!L336=\"\",\"\",Indata!L336)","v":""},{"$f":"IF(Indata!M336=\"\",\"\",Indata!M336)","v":""},{"$f":"IF(Indata!N336=\"\",\"\",Indata!N336)","v":""},{"$f":"IF(Indata!O336=\"\",\"\",Indata!O336)","v":""},{"$f":"IF(Indata!P336=\"\",\"\",Indata!P336)","v":""},{"$f":"IF(Indata!Q336=\"\",\"\",Indata!Q336)","v":""},{"$f":"IF(Indata!R336=\"\",\"\",Indata!R336)","v":""},{"$f":"IF(Indata!S336=\"\",\"\",Indata!S336)","v":""},{"$f":"IF(Indata!T336=\"\",\"\",Indata!T336)","v":""},{"$f":"IF(Indata!U336=\"\",\"\",Indata!U336)","v":""},{"$f":"IF(Indata!V336=\"\",\"\",Indata!V336)","v":""},{"$f":"IF(Indata!W336=\"\",\"\",Indata!W336)","v":""},{"$f":"IF(Indata!X336=\"\",\"\",Indata!X336)","v":""},{"$f":"IF(Indata!Y336=\"\",\"\",Indata!Y336)","v":""},{"$f":"IF(Indata!Z336=\"\",\"\",Indata!Z336)","v":""},{"$f":"IF(Indata!AA336=\"\",\"\",Indata!AA336)","v":""}]
[75,"16 Ybbarpsån, nedstr Perstorp AB",{"$f":"IF(Indata!C337=\"\",\"\",Indata!C337)","v":""},{"$f":"IF(Indata!D337=\"\",\"\",Indata!D337)","v":""},{"$f":"IF(Indata!E337=\"\",\"\",Indata!E337)","v":""},{"$f":"IF(Indata!F337=\"\",\"\",Indata!F337)","v":""},{"$f":"IF(Indata!G337=\"\",\"\",Indata!G337)","v":""},{"$f":"IF(Indata!H337=\"\",\"\",Indata!H337)","v":""},{"$f":"IF(Indata!I337=\"\",\"\",Indata!I337)","v":""},{"$f":"IF(Indata!J337=\"\",\"\",Indata!J337)","v":""},{"$f":"IF(Indata!K337=\"\",\"\",Indata!K337)","v":""},{"$f":"IF(Indata!L337=\"\",\"\",Indata!L337)","v":""},{"$f":"IF(Indata!M337=\"\",\"\",Indata!M337)","v":""},{"$f":"IF(Indata!N337=\"\",\"\",Indata!N337)","v":""},{"$f":"IF(Indata!O337=\"\",\"\",Indata!O337)","v":""},{"$f":"IF(Indata!P337=\"\",\"\",Indata!P337)","v":""},{"$f":"IF(Indata!Q337=\"\",\"\",Indata!Q337)","v":""},{"$f":"IF(Indata!R337=\"\",\"\",Indata!R337)","v":""},{"$f":"IF(Indata!S337=\"\",\"\",Indata!S337)","v":""},{"$f":"IF(Indata!T337=\"\",\"\",Indata!T337)","v":""},{"$f":"IF(Indata!U337=\"\",\"\",Indata!U337)","v":""},{"$f":"IF(Indata!V337=\"\",\"\",Indata!V337)","v":""},{"$f":"IF(Indata!W337=\"\",\"\",Indata!W337)","v":""},{"$f":"IF(Indata!X337=\"\",\"\",Indata!X337)","v":""},{"$f":"IF(Indata!Y337=\"\",\"\",Indata!Y337)","v":""},{"$f":"IF(Indata!Z337=\"\",\"\",Indata!Z337)","v":""},{"$f":"IF(Indata!AA337=\"\",\"\",Indata!AA337)","v":""}]
[80,"17 Ybbarpsån, Storarydsdammens utl",{"$f":"IF(Indata!C338=\"\",\"\",Indata!C338)","v":""},{"$f":"IF(Indata!D338=\"\",\"\",Indata!D338)","v":""},{"$f":"IF(Indata!E338=\"\",\"\",Indata!E338)","v":""},{"$f":"IF(Indata!F338=\"\",\"\",Indata!F338)","v":""},{"$f":"IF(Indata!G338=\"\",\"\",Indata!G338)","v":""},{"$f":"IF(Indata!H338=\"\",\"\",Indata!H338)","v":""},{"$f":"IF(Indata!I338=\"\",\"\",Indata!I338)","v":""},{"$f":"IF(Indata!J338=\"\",\"\",Indata!J338)","v":""},{"$f":"IF(Indata!K338=\"\",\"\",Indata!K338)","v":""},{"$f":"IF(Indata!L338=\"\",\"\",Indata!L338)","v":""},{"$f":"IF(Indata!M338=\"\",\"\",Indata!M338)","v":""},{"$f":"IF(Indata!N338=\"\",\"\",Indata!N338)","v":""},{"$f":"IF(Indata!O338=\"\",\"\",Indata!O338)","v":""},{"$f":"IF(Indata!P338=\"\",\"\",Indata!P338)","v":""},{"$f":"IF(Indata!Q338=\"\",\"\",Indata!Q338)","v":""},{"$f":"IF(Indata!R338=\"\",\"\",Indata!R338)","v":""},{"$f":"IF(Indata!S338=\"\",\"\",Indata!S338)","v":""},{"$f":"IF(Indata!T338=\"\",\"\",Indata!T338)","v":""},{"$f":"IF(Indata!U338=\"\",\"\",Indata!U338)","v":""},{"$f":"IF(Indata!V338=\"\",\"\",Indata!V338)","v":""},{"$f":"IF(Indata!W338=\"\",\"\",Indata!W338)","v":""},{"$f":"IF(Indata!X338=\"\",\"\",Indata!X338)","v":""},{"$f":"IF(Indata!Y338=\"\",\"\",Indata!Y338)","v":""},{"$f":"IF(Indata!Z338=\"\",\"\",Indata!Z338)","v":""},{"$f":"IF(Indata!AA338=\"\",\"\",Indata!AA338)","v":""}]
[85,"22 Ybbarpsån, vid Herrevadskloster",{"$f":"IF(Indata!C339=\"\",\"\",Indata!C339)","v":""},{"$f":"IF(Indata!D339=\"\",\"\",Indata!D339)","v":""},{"$f":"IF(Indata!E339=\"\",\"\",Indata!E339)","v":""},{"$f":"IF(Indata!F339=\"\",\"\",Indata!F339)","v":""},{"$f":"IF(Indata!G339=\"\",\"\",Indata!G339)","v":""},{"$f":"IF(Indata!H339=\"\",\"\",Indata!H339)","v":""},{"$f":"IF(Indata!I339=\"\",\"\",Indata!I339)","v":""},{"$f":"IF(Indata!J339=\"\",\"\",Indata!J339)","v":""},{"$f":"IF(Indata!K339=\"\",\"\",Indata!K339)","v":""},{"$f":"IF(Indata!L339=\"\",\"\",Indata!L339)","v":""},{"$f":"IF(Indata!M339=\"\",\"\",Indata!M339)","v":""},{"$f":"IF(Indata!N339=\"\",\"\",Indata!N339)","v":""},{"$f":"IF(Indata!O339=\"\",\"\",Indata!O339)","v":""},{"$f":"IF(Indata!P339=\"\",\"\",Indata!P339)","v":""},{"$f":"IF(Indata!Q339=\"\",\"\",Indata!Q339)","v":""},{"$f":"IF(Indata!R339=\"\",\"\",Indata!R339)","v":""},{"$f":"IF(Indata!S339=\"\",\"\",Indata!S339)","v":""},{"$f":"IF(Indata!T339=\"\",\"\",Indata!T339)","v":""},{"$f":"IF(Indata!U339=\"\",\"\",Indata!U339)","v":""},{"$f":"IF(Indata!V339=\"\",\"\",Indata!V339)","v":""},{"$f":"IF(Indata!W339=\"\",\"\",Indata!W339)","v":""},{"$f":"IF(Indata!X339=\"\",\"\",Indata!X339)","v":""},{"$f":"IF(Indata!Y339=\"\",\"\",Indata!Y339)","v":""},{"$f":"IF(Indata!Z339=\"\",\"\",Indata!Z339)","v":""},{"$f":"IF(Indata!AA339=\"\",\"\",Indata!AA339)","v":""}]
[90,"28 Perstorpsbäcken, uppstr Perstorp",{"$f":"IF(Indata!C340=\"\",\"\",Indata!C340)","v":""},{"$f":"IF(Indata!D340=\"\",\"\",Indata!D340)","v":""},{"$f":"IF(Indata!E340=\"\",\"\",Indata!E340)","v":""},{"$f":"IF(Indata!F340=\"\",\"\",Indata!F340)","v":""},{"$f":"IF(Indata!G340=\"\",\"\",Indata!G340)","v":""},{"$f":"IF(Indata!H340=\"\",\"\",Indata!H340)","v":""},{"$f":"IF(Indata!I340=\"\",\"\",Indata!I340)","v":""},{"$f":"IF(Indata!J340=\"\",\"\",Indata!J340)","v":""},{"$f":"IF(Indata!K340=\"\",\"\",Indata!K340)","v":""},{"$f":"IF(Indata!L340=\"\",\"\",Indata!L340)","v":""},{"$f":"IF(Indata!M340=\"\",\"\",Indata!M340)","v":""},{"$f":"IF(Indata!N340=\"\",\"\",Indata!N340)","v":""},{"$f":"IF(Indata!O340=\"\",\"\",Indata!O340)","v":""},{"$f":"IF(Indata!P340=\"\",\"\",Indata!P340)","v":""},{"$f":"IF(Indata!Q340=\"\",\"\",Indata!Q340)","v":""},{"$f":"IF(Indata!R340=\"\",\"\",Indata!R340)","v":""},{"$f":"IF(Indata!S340=\"\",\"\",Indata!S340)","v":""},{"$f":"IF(Indata!T340=\"\",\"\",Indata!T340)","v":""},{"$f":"IF(Indata!U340=\"\",\"\",Indata!U340)","v":""},{"$f":"IF(Indata!V340=\"\",\"\",Indata!V340)","v":""},{"$f":"IF(Indata!W340=\"\",\"\",Indata!W340)","v":""},{"$f":"IF(Indata!X340=\"\",\"\",Indata!X340)","v":""},{"$f":"IF(Indata!Y340=\"\",\"\",Indata!Y340)","v":""},{"$f":"IF(Indata!Z340=\"\",\"\",Indata!Z340)","v":""},{"$f":"IF(Indata!AA340=\"\",\"\",Indata!AA340)","v":""}]
[95,"29 Perstorpsbäcken, nedstr Perstorp",{"$f":"IF(Indata!C341=\"\",\"\",Indata!C341)","v":""},{"$f":"IF(Indata!D341=\"\",\"\",Indata!D341)","v":""},{"$f":"IF(Indata!E341=\"\",\"\",Indata!E341)","v":""},{"$f":"IF(Indata!F341=\"\",\"\",Indata!F341)","v":""},{"$f":"IF(Indata!G341=\"\",\"\",Indata!G341)","v":""},{"$f":"IF(Indata!H341=\"\",\"\",Indata!H341)","v":""},{"$f":"IF(Indata!I341=\"\",\"\",Indata!I341)","v":""},{"$f":"IF(Indata!J341=\"\",\"\",Indata!J341)","v":""},{"$f":"IF(Indata!K341=\"\",\"\",Indata!K341)","v":""},{"$f":"IF(Indata!L341=\"\",\"\",Indata!L341)","v":""},{"$f":"IF(Indata!M341=\"\",\"\",Indata!M341)","v":""},{"$f":"IF(Indata!N341=\"\",\"\",Indata!N341)","v":""},{"$f":"IF(Indata!O341=\"\",\"\",Indata!O341)","v":""},{"$f":"IF(Indata!P341=\"\",\"\",Indata!P341)","v":""},{"$f":"IF(Indata!Q341=\"\",\"\",Indata!Q341)","v":""},{"$f":"IF(Indata!R341=\"\",\"\",Indata!R341)","v":""},{"$f":"IF(Indata!S341=\"\",\"\",Indata!S341)","v":""},{"$f":"IF(Indata!T341=\"\",\"\",Indata!T341)","v":""},{"$f":"IF(Indata!U341=\"\",\"\",Indata!U341)","v":""},{"$f":"IF(Indata!V341=\"\",\"\",Indata!V341)","v":""},{"$f":"IF(Indata!W341=\"\",\"\",Indata!W341)","v":""},{"$f":"IF(Indata!X341=\"\",\"\",Indata!X341)","v":""},{"$f":"IF(Indata!Y341=\"\",\"\",Indata!Y341)","v":""},{"$f":"IF(Indata!Z341=\"\",\"\",Indata!Z341)","v":""},{"$f":"IF(Indata!AA341=\"\",\"\",Indata!AA341)","v":""}]
[100,"76 Oderbäcken, uppstr Oderljunga ARV",{"$f":"IF(Indata!C342=\"\",\"\",Indata!C342)","v":""},{"$f":"IF(Indata!D342=\"\",\"\",Indata!D342)","v":""},{"$f":"IF(Indata!E342=\"\",\"\",Indata!E342)","v":""},{"$f":"IF(Indata!F342=\"\",\"\",Indata!F342)","v":""},{"$f":"IF(Indata!G342=\"\",\"\",Indata!G342)","v":""},{"$f":"IF(Indata!H342=\"\",\"\",Indata!H342)","v":""},{"$f":"IF(Indata!I342=\"\",\"\",Indata!I342)","v":""},{"$f":"IF(Indata!J342=\"\",\"\",Indata!J342)","v":""},{"$f":"IF(Indata!K342=\"\",\"\",Indata!K342)","v":""},{"$f":"IF(Indata!L342=\"\",\"\",Indata!L342)","v":""},{"$f":"IF(Indata!M342=\"\",\"\",Indata!M342)","v":""},{"$f":"IF(Indata!N342=\"\",\"\",Indata!N342)","v":""},{"$f":"IF(Indata!O342=\"\",\"\",Indata!O342)","v":""},{"$f":"IF(Indata!P342=\"\",\"\",Indata!P342)","v":""},{"$f":"IF(Indata!Q342=\"\",\"\",Indata!Q342)","v":""},{"$f":"IF(Indata!R342=\"\",\"\",Indata!R342)","v":""},{"$f":"IF(Indata!S342=\"\",\"\",Indata!S342)","v":""},{"$f":"IF(Indata!T342=\"\",\"\",Indata!T342)","v":""},{"$f":"IF(Indata!U342=\"\",\"\",Indata!U342)","v":""},{"$f":"IF(Indata!V342=\"\",\"\",Indata!V342)","v":""},{"$f":"IF(Indata!W342=\"\",\"\",Indata!W342)","v":""},{"$f":"IF(Indata!X342=\"\",\"\",Indata!X342)","v":""},{"$f":"IF(Indata!Y342=\"\",\"\",Indata!Y342)","v":""},{"$f":"IF(Indata!Z342=\"\",\"\",Indata!Z342)","v":""},{"$f":"IF(Indata!AA342=\"\",\"\",Indata!AA342)","v":""}]
[105,"30 Bäljaneå, vid Hyllstofta",{"$f":"IF(Indata!C343=\"\",\"\",Indata!C343)","v":""},{"$f":"IF(Indata!D343=\"\",\"\",Indata!D343)","v":""},{"$f":"IF(Indata!E343=\"\",\"\",Indata!E343)","v":""},{"$f":"IF(Indata!F343=\"\",\"\",Indata!F343)","v":""},{"$f":"IF(Indata!G343=\"\",\"\",Indata!G343)","v":""},{"$f":"IF(Indata!H343=\"\",\"\",Indata!H343)","v":""},{"$f":"IF(Indata!I343=\"\",\"\",Indata!I343)","v":""},{"$f":"IF(Indata!J343=\"\",\"\",Indata!J343)","v":""},{"$f":"IF(Indata!K343=\"\",\"\",Indata!K343)","v":""},{"$f":"IF(Indata!L343=\"\",\"\",Indata!L343)","v":""},{"$f":"IF(Indata!M343=\"\",\"\",Indata!M343)","v":""},{"$f":"IF(Indata!N343=\"\",\"\",Indata!N343)","v":""},{"$f":"IF(Indata!O343=\"\",\"\",Indata!O343)","v":""},{"$f":"IF(Indata!P343=\"\",\"\",Indata!P343)","v":""},{"$f":"IF(Indata!Q343=\"\",\"\",Indata!Q343)","v":""},{"$f":"IF(Indata!R343=\"\",\"\",Indata!R343)","v":""},{"$f":"IF(Indata!S343=\"\",\"\",Indata!S343)","v":""},{"$f":"IF(Indata!T343=\"\",\"\",Indata!T343)","v":""},{"$f":"IF(Indata!U343=\"\",\"\",Indata!U343)","v":""},{"$f":"IF(Indata!V343=\"\",\"\",Indata!V343)","v":""},{"$f":"IF(Indata!W343=\"\",\"\",Indata!W343)","v":""},{"$f":"IF(Indata!X343=\"\",\"\",Indata!X343)","v":""},{"$f":"IF(Indata!Y343=\"\",\"\",Indata!Y343)","v":""},{"$f":"IF(Indata!Z343=\"\",\"\",Indata!Z343)","v":""},{"$f":"IF(Indata!AA343=\"\",\"\",Indata!AA343)","v":""}]
[110,"32 Bäljaneå, uppstr Klippan",{"$f":"IF(Indata!C344=\"\",\"\",Indata!C344)","v":""},{"$f":"IF(Indata!D344=\"\",\"\",Indata!D344)","v":""},{"$f":"IF(Indata!E344=\"\",\"\",Indata!E344)","v":""},{"$f":"IF(Indata!F344=\"\",\"\",Indata!F344)","v":""},{"$f":"IF(Indata!G344=\"\",\"\",Indata!G344)","v":""},{"$f":"IF(Indata!H344=\"\",\"\",Indata!H344)","v":""},{"$f":"IF(Indata!I344=\"\",\"\",Indata!I344)","v":""},{"$f":"IF(Indata!J344=\"\",\"\",Indata!J344)","v":""},{"$f":"IF(Indata!K344=\"\",\"\",Indata!K344)","v":""},{"$f":"IF(Indata!L344=\"\",\"\",Indata!L344)","v":""},{"$f":"IF(Indata!M344=\"\",\"\",Indata!M344)","v":""},{"$f":"IF(Indata!N344=\"\",\"\",Indata!N344)","v":""},{"$f":"IF(Indata!O344=\"\",\"\",Indata!O344)","v":""},{"$f":"IF(Indata!P344=\"\",\"\",Indata!P344)","v":""},{"$f":"IF(Indata!Q344=\"\",\"\",Indata!Q344)","v":""},{"$f":"IF(Indata!R344=\"\",\"\",Indata!R344)","v":""},{"$f":"IF(Indata!S344=\"\",\"\",Indata!S344)","v":""},{"$f":"IF(Indata!T344=\"\",\"\",Indata!T344)","v":""},{"$f":"IF(Indata!U344=\"\",\"\",Indata!U344)","v":""},{"$f":"IF(Indata!V344=\"\",\"\",Indata!V344)","v":""},{"$f":"IF(Indata!W344=\"\",\"\",Indata!W344)","v":""},{"$f":"IF(Indata!X344=\"\",\"\",Indata!X344)","v":""},{"$f":"IF(Indata!Y344=\"\",\"\",Indata!Y344)","v":""},{"$f":"IF(Indata!Z344=\"\",\"\",Indata!Z344)","v":""},{"$f":"IF(Indata!AA344=\"\",\"\",Indata!AA344)","v":""}]
[115,"78 Bäljaneå, nedstr Klippans ARV",{"$f":"IF(Indata!C345=\"\",\"\",Indata!C345)","v":""},{"$f":"IF(Indata!D345=\"\",\"\",Indata!D345)","v":""},{"$f":"IF(Indata!E345=\"\",\"\",Indata!E345)","v":""},{"$f":"IF(Indata!F345=\"\",\"\",Indata!F345)","v":""},{"$f":"IF(Indata!G345=\"\",\"\",Indata!G345)","v":""},{"$f":"IF(Indata!H345=\"\",\"\",Indata!H345)","v":""},{"$f":"IF(Indata!I345=\"\",\"\",Indata!I345)","v":""},{"$f":"IF(Indata!J345=\"\",\"\",Indata!J345)","v":""},{"$f":"IF(Indata!K345=\"\",\"\",Indata!K345)","v":""},{"$f":"IF(Indata!L345=\"\",\"\",Indata!L345)","v":""},{"$f":"IF(Indata!M345=\"\",\"\",Indata!M345)","v":""},{"$f":"IF(Indata!N345=\"\",\"\",Indata!N345)","v":""},{"$f":"IF(Indata!O345=\"\",\"\",Indata!O345)","v":""},{"$f":"IF(Indata!P345=\"\",\"\",Indata!P345)","v":""},{"$f":"IF(Indata!Q345=\"\",\"\",Indata!Q345)","v":""},{"$f":"IF(Indata!R345=\"\",\"\",Indata!R345)","v":""},{"$f":"IF(Indata!S345=\"\",\"\",Indata!S345)","v":""},{"$f":"IF(Indata!T345=\"\",\"\",Indata!T345)","v":""},{"$f":"IF(Indata!U345=\"\",\"\",Indata!U345)","v":""},{"$f":"IF(Indata!V345=\"\",\"\",Indata!V345)","v":""},{"$f":"IF(Indata!W345=\"\",\"\",Indata!W345)","v":""},{"$f":"IF(Indata!X345=\"\",\"\",Indata!X345)","v":""},{"$f":"IF(Indata!Y345=\"\",\"\",Indata!Y345)","v":""},{"$f":"IF(Indata!Z345=\"\",\"\",Indata!Z345)","v":""},{"$f":"IF(Indata!AA345=\"\",\"\",Indata!AA345)","v":""}]
[120,"33 Bäljaneå, nedstr Klippan",{"$f":"IF(Indata!C346=\"\",\"\",Indata!C346)","v":""},{"$f":"IF(Indata!D346=\"\",\"\",Indata!D346)","v":""},{"$f":"IF(Indata!E346=\"\",\"\",Indata!E346)","v":""},{"$f":"IF(Indata!F346=\"\",\"\",Indata!F346)","v":""},{"$f":"IF(Indata!G346=\"\",\"\",Indata!G346)","v":""},{"$f":"IF(Indata!H346=\"\",\"\",Indata!H346)","v":""},{"$f":"IF(Indata!I346=\"\",\"\",Indata!I346)","v":""},{"$f":"IF(Indata!J346=\"\",\"\",Indata!J346)","v":""},{"$f":"IF(Indata!K346=\"\",\"\",Indata!K346)","v":""},{"$f":"IF(Indata!L346=\"\",\"\",Indata!L346)","v":""},{"$f":"IF(Indata!M346=\"\",\"\",Indata!M346)","v":""},{"$f":"IF(Indata!N346=\"\",\"\",Indata!N346)","v":""},{"$f":"IF(Indata!O346=\"\",\"\",Indata!O346)","v":""},{"$f":"IF(Indata!P346=\"\",\"\",Indata!P346)","v":""},{"$f":"IF(Indata!Q346=\"\",\"\",Indata!Q346)","v":""},{"$f":"IF(Indata!R346=\"\",\"\",Indata!R346)","v":""},{"$f":"IF(Indata!S346=\"\",\"\",Indata!S346)","v":""},{"$f":"IF(Indata!T346=\"\",\"\",Indata!T346)","v":""},{"$f":"IF(Indata!U346=\"\",\"\",Indata!U346)","v":""},{"$f":"IF(Indata!V346=\"\",\"\",Indata!V346)","v":""},{"$f":"IF(Indata!W346=\"\",\"\",Indata!W346)","v":""},{"$f":"IF(Indata!X346=\"\",\"\",Indata!X346)","v":""},{"$f":"IF(Indata!Y346=\"\",\"\",Indata!Y346)","v":""},{"$f":"IF(Indata!Z346=\"\",\"\",Indata!Z346)","v":""},{"$f":"IF(Indata!AA346=\"\",\"\",Indata!AA346)","v":""}]
[125,"77 Biflöde till Rönneå, uppstr Kvidinge ARV",{"$f":"IF(Indata!C347=\"\",\"\",Indata!C347)","v":""},{"$f":"IF(Indata!D347=\"\",\"\",Indata!D347)","v":""},{"$f":"IF(Indata!E347=\"\",\"\",Indata!E347)","v":""},{"$f":"IF(Indata!F347=\"\",\"\",Indata!F347)","v":""},{"$f":"IF(Indata!G347=\"\",\"\",Indata!G347)","v":""},{"$f":"IF(Indata!H347=\"\",\"\",Indata!H347)","v":""},{"$f":"IF(Indata!I347=\"\",\"\",Indata!I347)","v":""},{"$f":"IF(Indata!J347=\"\",\"\",Indata!J347)","v":""},{"$f":"IF(Indata!K347=\"\",\"\",Indata!K347)","v":""},{"$f":"IF(Indata!L347=\"\",\"\",Indata!L347)","v":""},{"$f":"IF(Indata!M347=\"\",\"\",Indata!M347)","v":""},{"$f":"IF(Indata!N347=\"\",\"\",Indata!N347)","v":""},{"$f":"IF(Indata!O347=\"\",\"\",Indata!O347)","v":""},{"$f":"IF(Indata!P347=\"\",\"\",Indata!P347)","v":""},{"$f":"IF(Indata!Q347=\"\",\"\",Indata!Q347)","v":""},{"$f":"IF(Indata!R347=\"\",\"\",Indata!R347)","v":""},{"$f":"IF(Indata!S347=\"\",\"\",Indata!S347)","v":""},{"$f":"IF(Indata!T347=\"\",\"\",Indata!T347)","v":""},{"$f":"IF(Indata!U347=\"\",\"\",Indata!U347)","v":""},{"$f":"IF(Indata!V347=\"\",\"\",Indata!V347)","v":""},{"$f":"IF(Indata!W347=\"\",\"\",Indata!W347)","v":""},{"$f":"IF(Indata!X347=\"\",\"\",Indata!X347)","v":""},{"$f":"IF(Indata!Y347=\"\",\"\",Indata!Y347)","v":""},{"$f":"IF(Indata!Z347=\"\",\"\",Indata!Z347)","v":""},{"$f":"IF(Indata!AA347=\"\",\"\",Indata!AA347)","v":""}]
[130,"36 Pinnån, nedstr Åsljungasjön",{"$f":"IF(Indata!C348=\"\",\"\",Indata!C348)","v":""},{"$f":"IF(Indata!D348=\"\",\"\",Indata!D348)","v":""},{"$f":"IF(Indata!E348=\"\",\"\",Indata!E348)","v":""},{"$f":"IF(Indata!F348=\"\",\"\",Indata!F348)","v":""},{"$f":"IF(Indata!G348=\"\",\"\",Indata!G348)","v":""},{"$f":"IF(Indata!H348=\"\",\"\",Indata!H348)","v":""},{"$f":"IF(Indata!I348=\"\",\"\",Indata!I348)","v":""},{"$f":"IF(Indata!J348=\"\",\"\",Indata!J348)","v":""},{"$f":"IF(Indata!K348=\"\",\"\",Indata!K348)","v":""},{"$f":"IF(Indata!L348=\"\",\"\",Indata!L348)","v":""},{"$f":"IF(Indata!M348=\"\",\"\",Indata!M348)","v":""},{"$f":"IF(Indata!N348=\"\",\"\",Indata!N348)","v":""},{"$f":"IF(Indata!O348=\"\",\"\",Indata!O348)","v":""},{"$f":"IF(Indata!P348=\"\",\"\",Indata!P348)","v":""},{"$f":"IF(Indata!Q348=\"\",\"\",Indata!Q348)","v":""},{"$f":"IF(Indata!R348=\"\",\"\",Indata!R348)","v":""},{"$f":"IF(Indata!S348=\"\",\"\",Indata!S348)","v":""},{"$f":"IF(Indata!T348=\"\",\"\",Indata!T348)","v":""},{"$f":"IF(Indata!U348=\"\",\"\",Indata!U348)","v":""},{"$f":"IF(Indata!V348=\"\",\"\",Indata!V348)","v":""},{"$f":"IF(Indata!W348=\"\",\"\",Indata!W348)","v":""},{"$f":"IF(Indata!X348=\"\",\"\",Indata!X348)","v":""},{"$f":"IF(Indata!Y348=\"\",\"\",Indata!Y348)","v":""},{"$f":"IF(Indata!Z348=\"\",\"\",Indata!Z348)","v":""},{"$f":"IF(Indata!AA348=\"\",\"\",Indata!AA348)","v":""}]
[135,"40 Pinnån, nedstr Örkelljunga",{"$f":"IF(Indata!C349=\"\",\"\",Indata!C349)","v":""},{"$f":"IF(Indata!D349=\"\",\"\",Indata!D349)","v":""},{"$f":"IF(Indata!E349=\"\",\"\",Indata!E349)","v":""},{"$f":"IF(Indata!F349=\"\",\"\",Indata!F349)","v":""},{"$f":"IF(Indata!G349=\"\",\"\",Indata!G349)","v":""},{"$f":"IF(Indata!H349=\"\",\"\",Indata!H349)","v":""},{"$f":"IF(Indata!I349=\"\",\"\",Indata!I349)","v":""},{"$f":"IF(Indata!J349=\"\",\"\",Indata!J349)","v":""},{"$f":"IF(Indata!K349=\"\",\"\",Indata!K349)","v":""},{"$f":"IF(Indata!L349=\"\",\"\",Indata!L349)","v":""},{"$f":"IF(Indata!M349=\"\",\"\",Indata!M349)","v":""},{"$f":"IF(Indata!N349=\"\",\"\",Indata!N349)","v":""},{"$f":"IF(Indata!O349=\"\",\"\",Indata!O349)","v":""},{"$f":"IF(Indata!P349=\"\",\"\",Indata!P349)","v":""},{"$f":"IF(Indata!Q349=\"\",\"\",Indata!Q349)","v":""},{"$f":"IF(Indata!R349=\"\",\"\",Indata!R349)","v":""},{"$f":"IF(Indata!S349=\"\",\"\",Indata!S349)","v":""},{"$f":"IF(Indata!T349=\"\",\"\",Indata!T349)","v":""},{"$f":"IF(Indata!U349=\"\",\"\",Indata!U349)","v":""},{"$f":"IF(Indata!V349=\"\",\"\",Indata!V349)","v":""},{"$f":"IF(Indata!W349=\"\",\"\",Indata!W349)","v":""},{"$f":"IF(Indata!X349=\"\",\"\",Indata!X349)","v":""},{"$f":"IF(Indata!Y349=\"\",\"\",Indata!Y349)","v":""},{"$f":"IF(Indata!Z349=\"\",\"\",Indata!Z349)","v":""},{"$f":"IF(Indata!AA349=\"\",\"\",Indata!AA349)","v":""}]
[140,"42 Pinnån, uppstr Gelita",{"$f":"IF(Indata!C350=\"\",\"\",Indata!C350)","v":""},{"$f":"IF(Indata!D350=\"\",\"\",Indata!D350)","v":""},{"$f":"IF(Indata!E350=\"\",\"\",Indata!E350)","v":""},{"$f":"IF(Indata!F350=\"\",\"\",Indata!F350)","v":""},{"$f":"IF(Indata!G350=\"\",\"\",Indata!G350)","v":""},{"$f":"IF(Indata!H350=\"\",\"\",Indata!H350)","v":""},{"$f":"IF(Indata!I350=\"\",\"\",Indata!I350)","v":""},{"$f":"IF(Indata!J350=\"\",\"\",Indata!J350)","v":""},{"$f":"IF(Indata!K350=\"\",\"\",Indata!K350)","v":""},{"$f":"IF(Indata!L350=\"\",\"\",Indata!L350)","v":""},{"$f":"IF(Indata!M350=\"\",\"\",Indata!M350)","v":""},{"$f":"IF(Indata!N350=\"\",\"\",Indata!N350)","v":""},{"$f":"IF(Indata!O350=\"\",\"\",Indata!O350)","v":""},{"$f":"IF(Indata!P350=\"\",\"\",Indata!P350)","v":""},{"$f":"IF(Indata!Q350=\"\",\"\",Indata!Q350)","v":""},{"$f":"IF(Indata!R350=\"\",\"\",Indata!R350)","v":""},{"$f":"IF(Indata!S350=\"\",\"\",Indata!S350)","v":""},{"$f":"IF(Indata!T350=\"\",\"\",Indata!T350)","v":""},{"$f":"IF(Indata!U350=\"\",\"\",Indata!U350)","v":""},{"$f":"IF(Indata!V350=\"\",\"\",Indata!V350)","v":""},{"$f":"IF(Indata!W350=\"\",\"\",Indata!W350)","v":""},{"$f":"IF(Indata!X350=\"\",\"\",Indata!X350)","v":""},{"$f":"IF(Indata!Y350=\"\",\"\",Indata!Y350)","v":""},{"$f":"IF(Indata!Z350=\"\",\"\",Indata!Z350)","v":""},{"$f":"IF(Indata!AA350=\"\",\"\",Indata!AA350)","v":""}]
[145,"44 Pinnån, utfl ur Kopparmölledamm",{"$f":"IF(Indata!C351=\"\",\"\",Indata!C351)","v":""},{"$f":"IF(Indata!D351=\"\",\"\",Indata!D351)","v":""},{"$f":"IF(Indata!E351=\"\",\"\",Indata!E351)","v":""},{"$f":"IF(Indata!F351=\"\",\"\",Indata!F351)","v":""},{"$f":"IF(Indata!G351=\"\",\"\",Indata!G351)","v":""},{"$f":"IF(Indata!H351=\"\",\"\",Indata!H351)","v":""},{"$f":"IF(Indata!I351=\"\",\"\",Indata!I351)","v":""},{"$f":"IF(Indata!J351=\"\",\"\",Indata!J351)","v":""},{"$f":"IF(Indata!K351=\"\",\"\",Indata!K351)","v":""},{"$f":"IF(Indata!L351=\"\",\"\",Indata!L351)","v":""},{"$f":"IF(Indata!M351=\"\",\"\",Indata!M351)","v":""},{"$f":"IF(Indata!N351=\"\",\"\",Indata!N351)","v":""},{"$f":"IF(Indata!O351=\"\",\"\",Indata!O351)","v":""},{"$f":"IF(Indata!P351=\"\",\"\",Indata!P351)","v":""},{"$f":"IF(Indata!Q351=\"\",\"\",Indata!Q351)","v":""},{"$f":"IF(Indata!R351=\"\",\"\",Indata!R351)","v":""},{"$f":"IF(Indata!S351=\"\",\"\",Indata!S351)","v":""},{"$f":"IF(Indata!T351=\"\",\"\",Indata!T351)","v":""},{"$f":"IF(Indata!U351=\"\",\"\",Indata!U351)","v":""},{"$f":"IF(Indata!V351=\"\",\"\",Indata!V351)","v":""},{"$f":"IF(Indata!W351=\"\",\"\",Indata!W351)","v":""},{"$f":"IF(Indata!X351=\"\",\"\",Indata!X351)","v":""},{"$f":"IF(Indata!Y351=\"\",\"\",Indata!Y351)","v":""},{"$f":"IF(Indata!Z351=\"\",\"\",Indata!Z351)","v":""},{"$f":"IF(Indata!AA351=\"\",\"\",Indata!AA351)","v":""}]
[150,"58 Pinnån, vid utfl t Rönneå",{"$f":"IF(Indata!C352=\"\",\"\",Indata!C352)","v":""},{"$f":"IF(Indata!D352=\"\",\"\",Indata!D352)","v":""},{"$f":"IF(Indata!E352=\"\",\"\",Indata!E352)","v":""},{"$f":"IF(Indata!F352=\"\",\"\",Indata!F352)","v":""},{"$f":"IF(Indata!G352=\"\",\"\",Indata!G352)","v":""},{"$f":"IF(Indata!H352=\"\",\"\",Indata!H352)","v":""},{"$f":"IF(Indata!I352=\"\",\"\",Indata!I352)","v":""},{"$f":"IF(Indata!J352=\"\",\"\",Indata!J352)","v":""},{"$f":"IF(Indata!K352=\"\",\"\",Indata!K352)","v":""},{"$f":"IF(Indata!L352=\"\",\"\",Indata!L352)","v":""},{"$f":"IF(Indata!M352=\"\",\"\",Indata!M352)","v":""},{"$f":"IF(Indata!N352=\"\",\"\",Indata!N352)","v":""},{"$f":"IF(Indata!O352=\"\",\"\",Indata!O352)","v":""},{"$f":"IF(Indata!P352=\"\",\"\",Indata!P352)","v":""},{"$f":"IF(Indata!Q352=\"\",\"\",Indata!Q352)","v":""},{"$f":"IF(Indata!R352=\"\",\"\",Indata!R352)","v":""},{"$f":"IF(Indata!S352=\"\",\"\",Indata!S352)","v":""},{"$f":"IF(Indata!T352=\"\",\"\",Indata!T352)","v":""},{"$f":"IF(Indata!U352=\"\",\"\",Indata!U352)","v":""},{"$f":"IF(Indata!V352=\"\",\"\",Indata!V352)","v":""},{"$f":"IF(Indata!W352=\"\",\"\",Indata!W352)","v":""},{"$f":"IF(Indata!X352=\"\",\"\",Indata!X352)","v":""},{"$f":"IF(Indata!Y352=\"\",\"\",Indata!Y352)","v":""},{"$f":"IF(Indata!Z352=\"\",\"\",Indata!Z352)","v":""},{"$f":"IF(Indata!AA352=\"\",\"\",Indata!AA352)","v":""}]
[155,"70 Kägleån, vid Ängeltofta",{"$f":"IF(Indata!C353=\"\",\"\",Indata!C353)","v":""},{"$f":"IF(Indata!D353=\"\",\"\",Indata!D353)","v":""},{"$f":"IF(Indata!E353=\"\",\"\",Indata!E353)","v":""},{"$f":"IF(Indata!F353=\"\",\"\",Indata!F353)","v":""},{"$f":"IF(Indata!G353=\"\",\"\",Indata!G353)","v":""},{"$f":"IF(Indata!H353=\"\",\"\",Indata!H353)","v":""},{"$f":"IF(Indata!I353=\"\",\"\",Indata!I353)","v":""},{"$f":"IF(Indata!J353=\"\",\"\",Indata!J353)","v":""},{"$f":"IF(Indata!K353=\"\",\"\",Indata!K353)","v":""},{"$f":"IF(Indata!L353=\"\",\"\",Indata!L353)","v":""},{"$f":"IF(Indata!M353=\"\",\"\",Indata!M353)","v":""},{"$f":"IF(Indata!N353=\"\",\"\",Indata!N353)","v":""},{"$f":"IF(Indata!O353=\"\",\"\",Indata!O353)","v":""},{"$f":"IF(Indata!P353=\"\",\"\",Indata!P353)","v":""},{"$f":"IF(Indata!Q353=\"\",\"\",Indata!Q353)","v":""},{"$f":"IF(Indata!R353=\"\",\"\",Indata!R353)","v":""},{"$f":"IF(Indata!S353=\"\",\"\",Indata!S353)","v":""},{"$f":"IF(Indata!T353=\"\",\"\",Indata!T353)","v":""},{"$f":"IF(Indata!U353=\"\",\"\",Indata!U353)","v":""},{"$f":"IF(Indata!V353=\"\",\"\",Indata!V353)","v":""},{"$f":"IF(Indata!W353=\"\",\"\",Indata!W353)","v":""},{"$f":"IF(Indata!X353=\"\",\"\",Indata!X353)","v":""},{"$f":"IF(Indata!Y353=\"\",\"\",Indata!Y353)","v":""},{"$f":"IF(Indata!Z353=\"\",\"\",Indata!Z353)","v":""},{"$f":"IF(Indata!AA353=\"\",\"\",Indata!AA353)","v":""}]
[160,"55 Kägleån, vägbro Åkersholm",{"$f":"IF(Indata!C354=\"\",\"\",Indata!C354)","v":""},{"$f":"IF(Indata!D354=\"\",\"\",Indata!D354)","v":""},{"$f":"IF(Indata!E354=\"\",\"\",Indata!E354)","v":""},{"$f":"IF(Indata!F354=\"\",\"\",Indata!F354)","v":""},{"$f":"IF(Indata!G354=\"\",\"\",Indata!G354)","v":""},{"$f":"IF(Indata!H354=\"\",\"\",Indata!H354)","v":""},{"$f":"IF(Indata!I354=\"\",\"\",Indata!I354)","v":""},{"$f":"IF(Indata!J354=\"\",\"\",Indata!J354)","v":""},{"$f":"IF(Indata!K354=\"\",\"\",Indata!K354)","v":""},{"$f":"IF(Indata!L354=\"\",\"\",Indata!L354)","v":""},{"$f":"IF(Indata!M354=\"\",\"\",Indata!M354)","v":""},{"$f":"IF(Indata!N354=\"\",\"\",Indata!N354)","v":""},{"$f":"IF(Indata!O354=\"\",\"\",Indata!O354)","v":""},{"$f":"IF(Indata!P354=\"\",\"\",Indata!P354)","v":""},{"$f":"IF(Indata!Q354=\"\",\"\",Indata!Q354)","v":""},{"$f":"IF(Indata!R354=\"\",\"\",Indata!R354)","v":""},{"$f":"IF(Indata!S354=\"\",\"\",Indata!S354)","v":""},{"$f":"IF(Indata!T354=\"\",\"\",Indata!T354)","v":""},{"$f":"IF(Indata!U354=\"\",\"\",Indata!U354)","v":""},{"$f":"IF(Indata!V354=\"\",\"\",Indata!V354)","v":""},{"$f":"IF(Indata!W354=\"\",\"\",Indata!W354)","v":""},{"$f":"IF(Indata!X354=\"\",\"\",Indata!X354)","v":""},{"$f":"IF(Indata!Y354=\"\",\"\",Indata!Y354)","v":""},{"$f":"IF(Indata!Z354=\"\",\"\",Indata!Z354)","v":""},{"$f":"IF(Indata!AA354=\"\",\"\",Indata!AA354)","v":""}]
[165,"56 Rössjöholmsån, f utfl t Rönneå",{"$f":"IF(Indata!C355=\"\",\"\",Indata!C355)","v":""},{"$f":"IF(Indata!D355=\"\",\"\",Indata!D355)","v":""},{"$f":"IF(Indata!E355=\"\",\"\",Indata!E355)","v":""},{"$f":"IF(Indata!F355=\"\",\"\",Indata!F355)","v":""},{"$f":"IF(Indata!G355=\"\",\"\",Indata!G355)","v":""},{"$f":"IF(Indata!H355=\"\",\"\",Indata!H355)","v":""},{"$f":"IF(Indata!I355=\"\",\"\",Indata!I355)","v":""},{"$f":"IF(Indata!J355=\"\",\"\",Indata!J355)","v":""},{"$f":"IF(Indata!K355=\"\",\"\",Indata!K355)","v":""},{"$f":"IF(Indata!L355=\"\",\"\",Indata!L355)","v":""},{"$f":"IF(Indata!M355=\"\",\"\",Indata!M355)","v":""},{"$f":"IF(Indata!N355=\"\",\"\",Indata!N355)","v":""},{"$f":"IF(Indata!O355=\"\",\"\",Indata!O355)","v":""},{"$f":"IF(Indata!P355=\"\",\"\",Indata!P355)","v":""},{"$f":"IF(Indata!Q355=\"\",\"\",Indata!Q355)","v":""},{"$f":"IF(Indata!R355=\"\",\"\",Indata!R355)","v":""},{"$f":"IF(Indata!S355=\"\",\"\",Indata!S355)","v":""},{"$f":"IF(Indata!T355=\"\",\"\",Indata!T355)","v":""},{"$f":"IF(Indata!U355=\"\",\"\",Indata!U355)","v":""},{"$f":"IF(Indata!V355=\"\",\"\",Indata!V355)","v":""},{"$f":"IF(Indata!W355=\"\",\"\",Indata!W355)","v":""},{"$f":"IF(Indata!X355=\"\",\"\",Indata!X355)","v":""},{"$f":"IF(Indata!Y355=\"\",\"\",Indata!Y355)","v":""},{"$f":"IF(Indata!Z355=\"\",\"\",Indata!Z355)","v":""},{"$f":"IF(Indata!AA355=\"\",\"\",Indata!AA355)","v":""}]
[220,"Ri5 Sätoftasjön, ytan",{"$f":"IF(Indata!C356=\"\",\"\",Indata!C356)","v":""},{"$f":"IF(Indata!D356=\"\",\"\",Indata!D356)","v":""},{"$f":"IF(Indata!E356=\"\",\"\",Indata!E356)","v":""},{"$f":"IF(Indata!F356=\"\",\"\",Indata!F356)","v":""},{"$f":"IF(Indata!G356=\"\",\"\",Indata!G356)","v":""},{"$f":"IF(Indata!H356=\"\",\"\",Indata!H356)","v":""},{"$f":"IF(Indata!I356=\"\",\"\",Indata!I356)","v":""},{"$f":"IF(Indata!J356=\"\",\"\",Indata!J356)","v":""},{"$f":"IF(Indata!K356=\"\",\"\",Indata!K356)","v":""},{"$f":"IF(Indata!L356=\"\",\"\",Indata!L356)","v":""},{"$f":"IF(Indata!M356=\"\",\"\",Indata!M356)","v":""},{"$f":"IF(Indata!N356=\"\",\"\",Indata!N356)","v":""},{"$f":"IF(Indata!O356=\"\",\"\",Indata!O356)","v":""},{"$f":"IF(Indata!P356=\"\",\"\",Indata!P356)","v":""},{"$f":"IF(Indata!Q356=\"\",\"\",Indata!Q356)","v":""},{"$f":"IF(Indata!R356=\"\",\"\",Indata!R356)","v":""},{"$f":"IF(Indata!S356=\"\",\"\",Indata!S356)","v":""},{"$f":"IF(Indata!T356=\"\",\"\",Indata!T356)","v":""},{"$f":"IF(Indata!U356=\"\",\"\",Indata!U356)","v":""},{"$f":"IF(Indata!V356=\"\",\"\",Indata!V356)","v":""},{"$f":"IF(Indata!W356=\"\",\"\",Indata!W356)","v":""},{"$f":"IF(Indata!X356=\"\",\"\",Indata!X356)","v":""},{"$f":"IF(Indata!Y356=\"\",\"\",Indata!Y356)","v":""},{"$f":"IF(Indata!Z356=\"\",\"\",Indata!Z356)","v":""},{"$f":"IF(Indata!AA356=\"\",\"\",Indata!AA356)","v":""}]
[230,"Ri4 Östra Ringsjön, ytan",{"$f":"IF(Indata!C357=\"\",\"\",Indata!C357)","v":""},{"$f":"IF(Indata!D357=\"\",\"\",Indata!D357)","v":""},{"$f":"IF(Indata!E357=\"\",\"\",Indata!E357)","v":""},{"$f":"IF(Indata!F357=\"\",\"\",Indata!F357)","v":""},{"$f":"IF(Indata!G357=\"\",\"\",Indata!G357)","v":""},{"$f":"IF(Indata!H357=\"\",\"\",Indata!H357)","v":""},{"$f":"IF(Indata!I357=\"\",\"\",Indata!I357)","v":""},{"$f":"IF(Indata!J357=\"\",\"\",Indata!J357)","v":""},{"$f":"IF(Indata!K357=\"\",\"\",Indata!K357)","v":""},{"$f":"IF(Indata!L357=\"\",\"\",Indata!L357)","v":""},{"$f":"IF(Indata!M357=\"\",\"\",Indata!M357)","v":""},{"$f":"IF(Indata!N357=\"\",\"\",Indata!N357)","v":""},{"$f":"IF(Indata!O357=\"\",\"\",Indata!O357)","v":""},{"$f":"IF(Indata!P357=\"\",\"\",Indata!P357)","v":""},{"$f":"IF(Indata!Q357=\"\",\"\",Indata!Q357)","v":""},{"$f":"IF(Indata!R357=\"\",\"\",Indata!R357)","v":""},{"$f":"IF(Indata!S357=\"\",\"\",Indata!S357)","v":""},{"$f":"IF(Indata!T357=\"\",\"\",Indata!T357)","v":""},{"$f":"IF(Indata!U357=\"\",\"\",Indata!U357)","v":""},{"$f":"IF(Indata!V357=\"\",\"\",Indata!V357)","v":""},{"$f":"IF(Indata!W357=\"\",\"\",Indata!W357)","v":""},{"$f":"IF(Indata!X357=\"\",\"\",Indata!X357)","v":""},{"$f":"IF(Indata!Y357=\"\",\"\",Indata!Y357)","v":""},{"$f":"IF(Indata!Z357=\"\",\"\",Indata!Z357)","v":""},{"$f":"IF(Indata!AA357=\"\",\"\",Indata!AA357)","v":""}]
[240,"Ri2 Västra Ringsjön, ytan",{"$f":"IF(Indata!C358=\"\",\"\",Indata!C358)","v":""},{"$f":"IF(Indata!D358=\"\",\"\",Indata!D358)","v":""},{"$f":"IF(Indata!E358=\"\",\"\",Indata!E358)","v":""},{"$f":"IF(Indata!F358=\"\",\"\",Indata!F358)","v":""},{"$f":"IF(Indata!G358=\"\",\"\",Indata!G358)","v":""},{"$f":"IF(Indata!H358=\"\",\"\",Indata!H358)","v":""},{"$f":"IF(Indata!I358=\"\",\"\",Indata!I358)","v":""},{"$f":"IF(Indata!J358=\"\",\"\",Indata!J358)","v":""},{"$f":"IF(Indata!K358=\"\",\"\",Indata!K358)","v":""},{"$f":"IF(Indata!L358=\"\",\"\",Indata!L358)","v":""},{"$f":"IF(Indata!M358=\"\",\"\",Indata!M358)","v":""},{"$f":"IF(Indata!N358=\"\",\"\",Indata!N358)","v":""},{"$f":"IF(Indata!O358=\"\",\"\",Indata!O358)","v":""},{"$f":"IF(Indata!P358=\"\",\"\",Indata!P358)","v":""},{"$f":"IF(Indata!Q358=\"\",\"\",Indata!Q358)","v":""},{"$f":"IF(Indata!R358=\"\",\"\",Indata!R358)","v":""},{"$f":"IF(Indata!S358=\"\",\"\",Indata!S358)","v":""},{"$f":"IF(Indata!T358=\"\",\"\",Indata!T358)","v":""},{"$f":"IF(Indata!U358=\"\",\"\",Indata!U358)","v":""},{"$f":"IF(Indata!V358=\"\",\"\",Indata!V358)","v":""},{"$f":"IF(Indata!W358=\"\",\"\",Indata!W358)","v":""},{"$f":"IF(Indata!X358=\"\",\"\",Indata!X358)","v":""},{"$f":"IF(Indata!Y358=\"\",\"\",Indata!Y358)","v":""},{"$f":"IF(Indata!Z358=\"\",\"\",Indata!Z358)","v":""},{"$f":"IF(Indata!AA358=\"\",\"\",Indata!AA358)","v":""}]
[300]
[250,"december"]
[3,"3  Rönneå, uppstr Bålamöllan",{"$f":"IF(Indata!C361=\"\",\"\",Indata!C361)","v":""},{"$f":"IF(Indata!D361=\"\",\"\",Indata!D361)","v":""},{"$f":"IF(Indata!E361=\"\",\"\",Indata!E361)","v":""},{"$f":"IF(Indata!F361=\"\",\"\",Indata!F361)","v":""},{"$f":"IF(Indata!G361=\"\",\"\",Indata!G361)","v":""},{"$f":"IF(Indata!H361=\"\",\"\",Indata!H361)","v":""},{"$f":"IF(Indata!I361=\"\",\"\",Indata!I361)","v":""},{"$f":"IF(Indata!J361=\"\",\"\",Indata!J361)","v":""},{"$f":"IF(Indata!K361=\"\",\"\",Indata!K361)","v":""},{"$f":"IF(Indata!L361=\"\",\"\",Indata!L361)","v":""},{"$f":"IF(Indata!M361=\"\",\"\",Indata!M361)","v":""},{"$f":"IF(Indata!N361=\"\",\"\",Indata!N361)","v":""},{"$f":"IF(Indata!O361=\"\",\"\",Indata!O361)","v":""},{"$f":"IF(Indata!P361=\"\",\"\",Indata!P361)","v":""},{"$f":"IF(Indata!Q361=\"\",\"\",Indata!Q361)","v":""},{"$f":"IF(Indata!R361=\"\",\"\",Indata!R361)","v":""},{"$f":"IF(Indata!S361=\"\",\"\",Indata!S361)","v":""},{"$f":"IF(Indata!T361=\"\",\"\",Indata!T361)","v":""},{"$f":"IF(Indata!U361=\"\",\"\",Indata!U361)","v":""},{"$f":"IF(Indata!V361=\"\",\"\",Indata!V361)","v":""},{"$f":"IF(Indata!W361=\"\",\"\",Indata!W361)","v":""},{"$f":"IF(Indata!X361=\"\",\"\",Indata!X361)","v":""},{"$f":"IF(Indata!Y361=\"\",\"\",Indata!Y361)","v":""},{"$f":"IF(Indata!Z361=\"\",\"\",Indata!Z361)","v":""},{"$f":"IF(Indata!AA361=\"\",\"\",Indata!AA361)","v":""}]
[10,"11 Rönneå, vid Djupadalsmölla",{"$f":"IF(Indata!C362=\"\",\"\",Indata!C362)","v":""},{"$f":"IF(Indata!D362=\"\",\"\",Indata!D362)","v":""},{"$f":"IF(Indata!E362=\"\",\"\",Indata!E362)","v":""},{"$f":"IF(Indata!F362=\"\",\"\",Indata!F362)","v":""},{"$f":"IF(Indata!G362=\"\",\"\",Indata!G362)","v":""},{"$f":"IF(Indata!H362=\"\",\"\",Indata!H362)","v":""},{"$f":"IF(Indata!I362=\"\",\"\",Indata!I362)","v":""},{"$f":"IF(Indata!J362=\"\",\"\",Indata!J362)","v":""},{"$f":"IF(Indata!K362=\"\",\"\",Indata!K362)","v":""},{"$f":"IF(Indata!L362=\"\",\"\",Indata!L362)","v":""},{"$f":"IF(Indata!M362=\"\",\"\",Indata!M362)","v":""},{"$f":"IF(Indata!N362=\"\",\"\",Indata!N362)","v":""},{"$f":"IF(Indata!O362=\"\",\"\",Indata!O362)","v":""},{"$f":"IF(Indata!P362=\"\",\"\",Indata!P362)","v":""},{"$f":"IF(Indata!Q362=\"\",\"\",Indata!Q362)","v":""},{"$f":"IF(Indata!R362=\"\",\"\",Indata!R362)","v":""},{"$f":"IF(Indata!S362=\"\",\"\",Indata!S362)","v":""},{"$f":"IF(Indata!T362=\"\",\"\",Indata!T362)","v":""},{"$f":"IF(Indata!U362=\"\",\"\",Indata!U362)","v":""},{"$f":"IF(Indata!V362=\"\",\"\",Indata!V362)","v":""},{"$f":"IF(Indata!W362=\"\",\"\",Indata!W362)","v":""},{"$f":"IF(Indata!X362=\"\",\"\",Indata!X362)","v":""},{"$f":"IF(Indata!Y362=\"\",\"\",Indata!Y362)","v":""},{"$f":"IF(Indata!Z362=\"\",\"\",Indata!Z362)","v":""},{"$f":"IF(Indata!AA362=\"\",\"\",Indata!AA362)","v":""}]
[25,"24 Rönneå, vid Forsmöllan",{"$f":"IF(Indata!C363=\"\",\"\",Indata!C363)","v":""},{"$f":"IF(Indata!D363=\"\",\"\",Indata!D363)","v":""},{"$f":"IF(Indata!E363=\"\",\"\",Indata!E363)","v":""},{"$f":"IF(Indata!F363=\"\",\"\",Indata!F363)","v":""},{"$f":"IF(Indata!G363=\"\",\"\",Indata!G363)","v":""},{"$f":"IF(Indata!H363=\"\",\"\",Indata!H363)","v":""},{"$f":"IF(Indata!I363=\"\",\"\",Indata!I363)","v":""},{"$f":"IF(Indata!J363=\"\",\"\",Indata!J363)","v":""},{"$f":"IF(Indata!K363=\"\",\"\",Indata!K363)","v":""},{"$f":"IF(Indata!L363=\"\",\"\",Indata!L363)","v":""},{"$f":"IF(Indata!M363=\"\",\"\",Indata!M363)","v":""},{"$f":"IF(Indata!N363=\"\",\"\",Indata!N363)","v":""},{"$f":"IF(Indata!O363=\"\",\"\",Indata!O363)","v":""},{"$f":"IF(Indata!P363=\"\",\"\",Indata!P363)","v":""},{"$f":"IF(Indata!Q363=\"\",\"\",Indata!Q363)","v":""},{"$f":"IF(Indata!R363=\"\",\"\",Indata!R363)","v":""},{"$f":"IF(Indata!S363=\"\",\"\",Indata!S363)","v":""},{"$f":"IF(Indata!T363=\"\",\"\",Indata!T363)","v":""},{"$f":"IF(Indata!U363=\"\",\"\",Indata!U363)","v":""},{"$f":"IF(Indata!V363=\"\",\"\",Indata!V363)","v":""},{"$f":"IF(Indata!W363=\"\",\"\",Indata!W363)","v":""},{"$f":"IF(Indata!X363=\"\",\"\",Indata!X363)","v":""},{"$f":"IF(Indata!Y363=\"\",\"\",Indata!Y363)","v":""},{"$f":"IF(Indata!Z363=\"\",\"\",Indata!Z363)","v":""},{"$f":"IF(Indata!AA363=\"\",\"\",Indata!AA363)","v":""}]
[30,"25 Rönneå, vid Stackarps bro",{"$f":"IF(Indata!C364=\"\",\"\",Indata!C364)","v":""},{"$f":"IF(Indata!D364=\"\",\"\",Indata!D364)","v":""},{"$f":"IF(Indata!E364=\"\",\"\",Indata!E364)","v":""},{"$f":"IF(Indata!F364=\"\",\"\",Indata!F364)","v":""},{"$f":"IF(Indata!G364=\"\",\"\",Indata!G364)","v":""},{"$f":"IF(Indata!H364=\"\",\"\",Indata!H364)","v":""},{"$f":"IF(Indata!I364=\"\",\"\",Indata!I364)","v":""},{"$f":"IF(Indata!J364=\"\",\"\",Indata!J364)","v":""},{"$f":"IF(Indata!K364=\"\",\"\",Indata!K364)","v":""},{"$f":"IF(Indata!L364=\"\",\"\",Indata!L364)","v":""},{"$f":"IF(Indata!M364=\"\",\"\",Indata!M364)","v":""},{"$f":"IF(Indata!N364=\"\",\"\",Indata!N364)","v":""},{"$f":"IF(Indata!O364=\"\",\"\",Indata!O364)","v":""},{"$f":"IF(Indata!P364=\"\",\"\",Indata!P364)","v":""},{"$f":"IF(Indata!Q364=\"\",\"\",Indata!Q364)","v":""},{"$f":"IF(Indata!R364=\"\",\"\",Indata!R364)","v":""},{"$f":"IF(Indata!S364=\"\",\"\",Indata!S364)","v":""},{"$f":"IF(Indata!T364=\"\",\"\",Indata!T364)","v":""},{"$f":"IF(Indata!U364=\"\",\"\",Indata!U364)","v":""},{"$f":"IF(Indata!V364=\"\",\"\",Indata!V364)","v":""},{"$f":"IF(Indata!W364=\"\",\"\",Indata!W364)","v":""},{"$f":"IF(Indata!X364=\"\",\"\",Indata!X364)","v":""},{"$f":"IF(Indata!Y364=\"\",\"\",Indata!Y364)","v":""},{"$f":"IF(Indata!Z364=\"\",\"\",Indata!Z364)","v":""},{"$f":"IF(Indata!AA364=\"\",\"\",Indata!AA364)","v":""}]
[40,"49 Rönneå, uppstr Ängelholm",{"$f":"IF(Indata!C365=\"\",\"\",Indata!C365)","v":""},{"$f":"IF(Indata!D365=\"\",\"\",Indata!D365)","v":""},{"$f":"IF(Indata!E365=\"\",\"\",Indata!E365)","v":""},{"$f":"IF(Indata!F365=\"\",\"\",Indata!F365)","v":""},{"$f":"IF(Indata!G365=\"\",\"\",Indata!G365)","v":""},{"$f":"IF(Indata!H365=\"\",\"\",Indata!H365)","v":""},{"$f":"IF(Indata!I365=\"\",\"\",Indata!I365)","v":""},{"$f":"IF(Indata!J365=\"\",\"\",Indata!J365)","v":""},{"$f":"IF(Indata!K365=\"\",\"\",Indata!K365)","v":""},{"$f":"IF(Indata!L365=\"\",\"\",Indata!L365)","v":""},{"$f":"IF(Indata!M365=\"\",\"\",Indata!M365)","v":""},{"$f":"IF(Indata!N365=\"\",\"\",Indata!N365)","v":""},{"$f":"IF(Indata!O365=\"\",\"\",Indata!O365)","v":""},{"$f":"IF(Indata!P365=\"\",\"\",Indata!P365)","v":""},{"$f":"IF(Indata!Q365=\"\",\"\",Indata!Q365)","v":""},{"$f":"IF(Indata!R365=\"\",\"\",Indata!R365)","v":""},{"$f":"IF(Indata!S365=\"\",\"\",Indata!S365)","v":""},{"$f":"IF(Indata!T365=\"\",\"\",Indata!T365)","v":""},{"$f":"IF(Indata!U365=\"\",\"\",Indata!U365)","v":""},{"$f":"IF(Indata!V365=\"\",\"\",Indata!V365)","v":""},{"$f":"IF(Indata!W365=\"\",\"\",Indata!W365)","v":""},{"$f":"IF(Indata!X365=\"\",\"\",Indata!X365)","v":""},{"$f":"IF(Indata!Y365=\"\",\"\",Indata!Y365)","v":""},{"$f":"IF(Indata!Z365=\"\",\"\",Indata!Z365)","v":""},{"$f":"IF(Indata!AA365=\"\",\"\",Indata!AA365)","v":""}]
[45,"57 Rönneå, vid utfl t Skälderviken",{"$f":"IF(Indata!C366=\"\",\"\",Indata!C366)","v":""},{"$f":"IF(Indata!D366=\"\",\"\",Indata!D366)","v":""},{"$f":"IF(Indata!E366=\"\",\"\",Indata!E366)","v":""},{"$f":"IF(Indata!F366=\"\",\"\",Indata!F366)","v":""},{"$f":"IF(Indata!G366=\"\",\"\",Indata!G366)","v":""},{"$f":"IF(Indata!H366=\"\",\"\",Indata!H366)","v":""},{"$f":"IF(Indata!I366=\"\",\"\",Indata!I366)","v":""},{"$f":"IF(Indata!J366=\"\",\"\",Indata!J366)","v":""},{"$f":"IF(Indata!K366=\"\",\"\",Indata!K366)","v":""},{"$f":"IF(Indata!L366=\"\",\"\",Indata!L366)","v":""},{"$f":"IF(Indata!M366=\"\",\"\",Indata!M366)","v":""},{"$f":"IF(Indata!N366=\"\",\"\",Indata!N366)","v":""},{"$f":"IF(Indata!O366=\"\",\"\",Indata!O366)","v":""},{"$f":"IF(Indata!P366=\"\",\"\",Indata!P366)","v":""},{"$f":"IF(Indata!Q366=\"\",\"\",Indata!Q366)","v":""},{"$f":"IF(Indata!R366=\"\",\"\",Indata!R366)","v":""},{"$f":"IF(Indata!S366=\"\",\"\",Indata!S366)","v":""},{"$f":"IF(Indata!T366=\"\",\"\",Indata!T366)","v":""},{"$f":"IF(Indata!U366=\"\",\"\",Indata!U366)","v":""},{"$f":"IF(Indata!V366=\"\",\"\",Indata!V366)","v":""},{"$f":"IF(Indata!W366=\"\",\"\",Indata!W366)","v":""},{"$f":"IF(Indata!X366=\"\",\"\",Indata!X366)","v":""},{"$f":"IF(Indata!Y366=\"\",\"\",Indata!Y366)","v":""},{"$f":"IF(Indata!Z366=\"\",\"\",Indata!Z366)","v":""},{"$f":"IF(Indata!AA366=\"\",\"\",Indata!AA366)","v":""}]
[75,"16 Ybbarpsån, nedstr Perstorp AB",{"$f":"IF(Indata!C367=\"\",\"\",Indata!C367)","v":""},{"$f":"IF(Indata!D367=\"\",\"\",Indata!D367)","v":""},{"$f":"IF(Indata!E367=\"\",\"\",Indata!E367)","v":""},{"$f":"IF(Indata!F367=\"\",\"\",Indata!F367)","v":""},{"$f":"IF(Indata!G367=\"\",\"\",Indata!G367)","v":""},{"$f":"IF(Indata!H367=\"\",\"\",Indata!H367)","v":""},{"$f":"IF(Indata!I367=\"\",\"\",Indata!I367)","v":""},{"$f":"IF(Indata!J367=\"\",\"\",Indata!J367)","v":""},{"$f":"IF(Indata!K367=\"\",\"\",Indata!K367)","v":""},{"$f":"IF(Indata!L367=\"\",\"\",Indata!L367)","v":""},{"$f":"IF(Indata!M367=\"\",\"\",Indata!M367)","v":""},{"$f":"IF(Indata!N367=\"\",\"\",Indata!N367)","v":""},{"$f":"IF(Indata!O367=\"\",\"\",Indata!O367)","v":""},{"$f":"IF(Indata!P367=\"\",\"\",Indata!P367)","v":""},{"$f":"IF(Indata!Q367=\"\",\"\",Indata!Q367)","v":""},{"$f":"IF(Indata!R367=\"\",\"\",Indata!R367)","v":""},{"$f":"IF(Indata!S367=\"\",\"\",Indata!S367)","v":""},{"$f":"IF(Indata!T367=\"\",\"\",Indata!T367)","v":""},{"$f":"IF(Indata!U367=\"\",\"\",Indata!U367)","v":""},{"$f":"IF(Indata!V367=\"\",\"\",Indata!V367)","v":""},{"$f":"IF(Indata!W367=\"\",\"\",Indata!W367)","v":""},{"$f":"IF(Indata!X367=\"\",\"\",Indata!X367)","v":""},{"$f":"IF(Indata!Y367=\"\",\"\",Indata!Y367)","v":""},{"$f":"IF(Indata!Z367=\"\",\"\",Indata!Z367)","v":""},{"$f":"IF(Indata!AA367=\"\",\"\",Indata!AA367)","v":""}]
[85,"22 Ybbarpsån, vid Herrevadskloster",{"$f":"IF(Indata!C368=\"\",\"\",Indata!C368)","v":""},{"$f":"IF(Indata!D368=\"\",\"\",Indata!D368)","v":""},{"$f":"IF(Indata!E368=\"\",\"\",Indata!E368)","v":""},{"$f":"IF(Indata!F368=\"\",\"\",Indata!F368)","v":""},{"$f":"IF(Indata!G368=\"\",\"\",Indata!G368)","v":""},{"$f":"IF(Indata!H368=\"\",\"\",Indata!H368)","v":""},{"$f":"IF(Indata!I368=\"\",\"\",Indata!I368)","v":""},{"$f":"IF(Indata!J368=\"\",\"\",Indata!J368)","v":""},{"$f":"IF(Indata!K368=\"\",\"\",Indata!K368)","v":""},{"$f":"IF(Indata!L368=\"\",\"\",Indata!L368)","v":""},{"$f":"IF(Indata!M368=\"\",\"\",Indata!M368)","v":""},{"$f":"IF(Indata!N368=\"\",\"\",Indata!N368)","v":""},{"$f":"IF(Indata!O368=\"\",\"\",Indata!O368)","v":""},{"$f":"IF(Indata!P368=\"\",\"\",Indata!P368)","v":""},{"$f":"IF(Indata!Q368=\"\",\"\",Indata!Q368)","v":""},{"$f":"IF(Indata!R368=\"\",\"\",Indata!R368)","v":""},{"$f":"IF(Indata!S368=\"\",\"\",Indata!S368)","v":""},{"$f":"IF(Indata!T368=\"\",\"\",Indata!T368)","v":""},{"$f":"IF(Indata!U368=\"\",\"\",Indata!U368)","v":""},{"$f":"IF(Indata!V368=\"\",\"\",Indata!V368)","v":""},{"$f":"IF(Indata!W368=\"\",\"\",Indata!W368)","v":""},{"$f":"IF(Indata!X368=\"\",\"\",Indata!X368)","v":""},{"$f":"IF(Indata!Y368=\"\",\"\",Indata!Y368)","v":""},{"$f":"IF(Indata!Z368=\"\",\"\",Indata!Z368)","v":""},{"$f":"IF(Indata!AA368=\"\",\"\",Indata!AA368)","v":""}]
[120,"33 Bäljaneå, nedstr Klippan",{"$f":"IF(Indata!C369=\"\",\"\",Indata!C369)","v":""},{"$f":"IF(Indata!D369=\"\",\"\",Indata!D369)","v":""},{"$f":"IF(Indata!E369=\"\",\"\",Indata!E369)","v":""},{"$f":"IF(Indata!F369=\"\",\"\",Indata!F369)","v":""},{"$f":"IF(Indata!G369=\"\",\"\",Indata!G369)","v":""},{"$f":"IF(Indata!H369=\"\",\"\",Indata!H369)","v":""},{"$f":"IF(Indata!I369=\"\",\"\",Indata!I369)","v":""},{"$f":"IF(Indata!J369=\"\",\"\",Indata!J369)","v":""},{"$f":"IF(Indata!K369=\"\",\"\",Indata!K369)","v":""},{"$f":"IF(Indata!L369=\"\",\"\",Indata!L369)","v":""},{"$f":"IF(Indata!M369=\"\",\"\",Indata!M369)","v":""},{"$f":"IF(Indata!N369=\"\",\"\",Indata!N369)","v":""},{"$f":"IF(Indata!O369=\"\",\"\",Indata!O369)","v":""},{"$f":"IF(Indata!P369=\"\",\"\",Indata!P369)","v":""},{"$f":"IF(Indata!Q369=\"\",\"\",Indata!Q369)","v":""},{"$f":"IF(Indata!R369=\"\",\"\",Indata!R369)","v":""},{"$f":"IF(Indata!S369=\"\",\"\",Indata!S369)","v":""},{"$f":"IF(Indata!T369=\"\",\"\",Indata!T369)","v":""},{"$f":"IF(Indata!U369=\"\",\"\",Indata!U369)","v":""},{"$f":"IF(Indata!V369=\"\",\"\",Indata!V369)","v":""},{"$f":"IF(Indata!W369=\"\",\"\",Indata!W369)","v":""},{"$f":"IF(Indata!X369=\"\",\"\",Indata!X369)","v":""},{"$f":"IF(Indata!Y369=\"\",\"\",Indata!Y369)","v":""},{"$f":"IF(Indata!Z369=\"\",\"\",Indata!Z369)","v":""},{"$f":"IF(Indata!AA369=\"\",\"\",Indata!AA369)","v":""}]
[145,"44 Pinnån, utfl ur Kopparmölledamm",{"$f":"IF(Indata!C370=\"\",\"\",Indata!C370)","v":""},{"$f":"IF(Indata!D370=\"\",\"\",Indata!D370)","v":""},{"$f":"IF(Indata!E370=\"\",\"\",Indata!E370)","v":""},{"$f":"IF(Indata!F370=\"\",\"\",Indata!F370)","v":""},{"$f":"IF(Indata!G370=\"\",\"\",Indata!G370)","v":""},{"$f":"IF(Indata!H370=\"\",\"\",Indata!H370)","v":""},{"$f":"IF(Indata!I370=\"\",\"\",Indata!I370)","v":""},{"$f":"IF(Indata!J370=\"\",\"\",Indata!J370)","v":""},{"$f":"IF(Indata!K370=\"\",\"\",Indata!K370)","v":""},{"$f":"IF(Indata!L370=\"\",\"\",Indata!L370)","v":""},{"$f":"IF(Indata!M370=\"\",\"\",Indata!M370)","v":""},{"$f":"IF(Indata!N370=\"\",\"\",Indata!N370)","v":""},{"$f":"IF(Indata!O370=\"\",\"\",Indata!O370)","v":""},{"$f":"IF(Indata!P370=\"\",\"\",Indata!P370)","v":""},{"$f":"IF(Indata!Q370=\"\",\"\",Indata!Q370)","v":""},{"$f":"IF(Indata!R370=\"\",\"\",Indata!R370)","v":""},{"$f":"IF(Indata!S370=\"\",\"\",Indata!S370)","v":""},{"$f":"IF(Indata!T370=\"\",\"\",Indata!T370)","v":""},{"$f":"IF(Indata!U370=\"\",\"\",Indata!U370)","v":""},{"$f":"IF(Indata!V370=\"\",\"\",Indata!V370)","v":""},{"$f":"IF(Indata!W370=\"\",\"\",Indata!W370)","v":""},{"$f":"IF(Indata!X370=\"\",\"\",Indata!X370)","v":""},{"$f":"IF(Indata!Y370=\"\",\"\",Indata!Y370)","v":""},{"$f":"IF(Indata!Z370=\"\",\"\",Indata!Z370)","v":""},{"$f":"IF(Indata!AA370=\"\",\"\",Indata!AA370)","v":""}]
[150,"58 Pinnån, vid utfl t Rönneå",{"$f":"IF(Indata!C371=\"\",\"\",Indata!C371)","v":""},{"$f":"IF(Indata!D371=\"\",\"\",Indata!D371)","v":""},{"$f":"IF(Indata!E371=\"\",\"\",Indata!E371)","v":""},{"$f":"IF(Indata!F371=\"\",\"\",Indata!F371)","v":""},{"$f":"IF(Indata!G371=\"\",\"\",Indata!G371)","v":""},{"$f":"IF(Indata!H371=\"\",\"\",Indata!H371)","v":""},{"$f":"IF(Indata!I371=\"\",\"\",Indata!I371)","v":""},{"$f":"IF(Indata!J371=\"\",\"\",Indata!J371)","v":""},{"$f":"IF(Indata!K371=\"\",\"\",Indata!K371)","v":""},{"$f":"IF(Indata!L371=\"\",\"\",Indata!L371)","v":""},{"$f":"IF(Indata!M371=\"\",\"\",Indata!M371)","v":""},{"$f":"IF(Indata!N371=\"\",\"\",Indata!N371)","v":""},{"$f":"IF(Indata!O371=\"\",\"\",Indata!O371)","v":""},{"$f":"IF(Indata!P371=\"\",\"\",Indata!P371)","v":""},{"$f":"IF(Indata!Q371=\"\",\"\",Indata!Q371)","v":""},{"$f":"IF(Indata!R371=\"\",\"\",Indata!R371)","v":""},{"$f":"IF(Indata!S371=\"\",\"\",Indata!S371)","v":""},{"$f":"IF(Indata!T371=\"\",\"\",Indata!T371)","v":""},{"$f":"IF(Indata!U371=\"\",\"\",Indata!U371)","v":""},{"$f":"IF(Indata!V371=\"\",\"\",Indata!V371)","v":""},{"$f":"IF(Indata!W371=\"\",\"\",Indata!W371)","v":""},{"$f":"IF(Indata!X371=\"\",\"\",Indata!X371)","v":""},{"$f":"IF(Indata!Y371=\"\",\"\",Indata!Y371)","v":""},{"$f":"IF(Indata!Z371=\"\",\"\",Indata!Z371)","v":""},{"$f":"IF(Indata!AA371=\"\",\"\",Indata!AA371)","v":""}]
[165,"56 Rössjöholmsån, f utfl t Rönneå",{"$f":"IF(Indata!C372=\"\",\"\",Indata!C372)","v":""},{"$f":"IF(Indata!D372=\"\",\"\",Indata!D372)","v":""},{"$f":"IF(Indata!E372=\"\",\"\",Indata!E372)","v":""},{"$f":"IF(Indata!F372=\"\",\"\",Indata!F372)","v":""},{"$f":"IF(Indata!G372=\"\",\"\",Indata!G372)","v":""},{"$f":"IF(Indata!H372=\"\",\"\",Indata!H372)","v":""},{"$f":"IF(Indata!I372=\"\",\"\",Indata!I372)","v":""},{"$f":"IF(Indata!J372=\"\",\"\",Indata!J372)","v":""},{"$f":"IF(Indata!K372=\"\",\"\",Indata!K372)","v":""},{"$f":"IF(Indata!L372=\"\",\"\",Indata!L372)","v":""},{"$f":"IF(Indata!M372=\"\",\"\",Indata!M372)","v":""},{"$f":"IF(Indata!N372=\"\",\"\",Indata!N372)","v":""},{"$f":"IF(Indata!O372=\"\",\"\",Indata!O372)","v":""},{"$f":"IF(Indata!P372=\"\",\"\",Indata!P372)","v":""},{"$f":"IF(Indata!Q372=\"\",\"\",Indata!Q372)","v":""},{"$f":"IF(Indata!R372=\"\",\"\",Indata!R372)","v":""},{"$f":"IF(Indata!S372=\"\",\"\",Indata!S372)","v":""},{"$f":"IF(Indata!T372=\"\",\"\",Indata!T372)","v":""},{"$f":"IF(Indata!U372=\"\",\"\",Indata!U372)","v":""},{"$f":"IF(Indata!V372=\"\",\"\",Indata!V372)","v":""},{"$f":"IF(Indata!W372=\"\",\"\",Indata!W372)","v":""},{"$f":"IF(Indata!X372=\"\",\"\",Indata!X372)","v":""},{"$f":"IF(Indata!Y372=\"\",\"\",Indata!Y372)","v":""},{"$f":"IF(Indata!Z372=\"\",\"\",Indata!Z372)","v":""},{"$f":"IF(Indata!AA372=\"\",\"\",Indata!AA372)","v":""}]
[220,"Ri5 Sätoftasjön, ytan",{"$f":"IF(Indata!C373=\"\",\"\",Indata!C373)","v":""},{"$f":"IF(Indata!D373=\"\",\"\",Indata!D373)","v":""},{"$f":"IF(Indata!E373=\"\",\"\",Indata!E373)","v":""},{"$f":"IF(Indata!F373=\"\",\"\",Indata!F373)","v":""},{"$f":"IF(Indata!G373=\"\",\"\",Indata!G373)","v":""},{"$f":"IF(Indata!H373=\"\",\"\",Indata!H373)","v":""},{"$f":"IF(Indata!I373=\"\",\"\",Indata!I373)","v":""},{"$f":"IF(Indata!J373=\"\",\"\",Indata!J373)","v":""},{"$f":"IF(Indata!K373=\"\",\"\",Indata!K373)","v":""},{"$f":"IF(Indata!L373=\"\",\"\",Indata!L373)","v":""},{"$f":"IF(Indata!M373=\"\",\"\",Indata!M373)","v":""},{"$f":"IF(Indata!N373=\"\",\"\",Indata!N373)","v":""},{"$f":"IF(Indata!O373=\"\",\"\",Indata!O373)","v":""},{"$f":"IF(Indata!P373=\"\",\"\",Indata!P373)","v":""},{"$f":"IF(Indata!Q373=\"\",\"\",Indata!Q373)","v":""},{"$f":"IF(Indata!R373=\"\",\"\",Indata!R373)","v":""},{"$f":"IF(Indata!S373=\"\",\"\",Indata!S373)","v":""},{"$f":"IF(Indata!T373=\"\",\"\",Indata!T373)","v":""},{"$f":"IF(Indata!U373=\"\",\"\",Indata!U373)","v":""},{"$f":"IF(Indata!V373=\"\",\"\",Indata!V373)","v":""},{"$f":"IF(Indata!W373=\"\",\"\",Indata!W373)","v":""},{"$f":"IF(Indata!X373=\"\",\"\",Indata!X373)","v":""},{"$f":"IF(Indata!Y373=\"\",\"\",Indata!Y373)","v":""},{"$f":"IF(Indata!Z373=\"\",\"\",Indata!Z373)","v":""},{"$f":"IF(Indata!AA373=\"\",\"\",Indata!AA373)","v":""}]
[230,"Ri4 Östra Ringsjön, ytan",{"$f":"IF(Indata!C374=\"\",\"\",Indata!C374)","v":""},{"$f":"IF(Indata!D374=\"\",\"\",Indata!D374)","v":""},{"$f":"IF(Indata!E374=\"\",\"\",Indata!E374)","v":""},{"$f":"IF(Indata!F374=\"\",\"\",Indata!F374)","v":""},{"$f":"IF(Indata!G374=\"\",\"\",Indata!G374)","v":""},{"$f":"IF(Indata!H374=\"\",\"\",Indata!H374)","v":""},{"$f":"IF(Indata!I374=\"\",\"\",Indata!I374)","v":""},{"$f":"IF(Indata!J374=\"\",\"\",Indata!J374)","v":""},{"$f":"IF(Indata!K374=\"\",\"\",Indata!K374)","v":""},{"$f":"IF(Indata!L374=\"\",\"\",Indata!L374)","v":""},{"$f":"IF(Indata!M374=\"\",\"\",Indata!M374)","v":""},{"$f":"IF(Indata!N374=\"\",\"\",Indata!N374)","v":""},{"$f":"IF(Indata!O374=\"\",\"\",Indata!O374)","v":""},{"$f":"IF(Indata!P374=\"\",\"\",Indata!P374)","v":""},{"$f":"IF(Indata!Q374=\"\",\"\",Indata!Q374)","v":""},{"$f":"IF(Indata!R374=\"\",\"\",Indata!R374)","v":""},{"$f":"IF(Indata!S374=\"\",\"\",Indata!S374)","v":""},{"$f":"IF(Indata!T374=\"\",\"\",Indata!T374)","v":""},{"$f":"IF(Indata!U374=\"\",\"\",Indata!U374)","v":""},{"$f":"IF(Indata!V374=\"\",\"\",Indata!V374)","v":""},{"$f":"IF(Indata!W374=\"\",\"\",Indata!W374)","v":""},{"$f":"IF(Indata!X374=\"\",\"\",Indata!X374)","v":""},{"$f":"IF(Indata!Y374=\"\",\"\",Indata!Y374)","v":""},{"$f":"IF(Indata!Z374=\"\",\"\",Indata!Z374)","v":""},{"$f":"IF(Indata!AA374=\"\",\"\",Indata!AA374)","v":""}]
[240,"Ri2 Västra Ringsjön, ytan",{"$f":"IF(Indata!C375=\"\",\"\",Indata!C375)","v":""},{"$f":"IF(Indata!D375=\"\",\"\",Indata!D375)","v":""},{"$f":"IF(Indata!E375=\"\",\"\",Indata!E375)","v":""},{"$f":"IF(Indata!F375=\"\",\"\",Indata!F375)","v":""},{"$f":"IF(Indata!G375=\"\",\"\",Indata!G375)","v":""},{"$f":"IF(Indata!H375=\"\",\"\",Indata!H375)","v":""},{"$f":"IF(Indata!I375=\"\",\"\",Indata!I375)","v":""},{"$f":"IF(Indata!J375=\"\",\"\",Indata!J375)","v":""},{"$f":"IF(Indata!K375=\"\",\"\",Indata!K375)","v":""},{"$f":"IF(Indata!L375=\"\",\"\",Indata!L375)","v":""},{"$f":"IF(Indata!M375=\"\",\"\",Indata!M375)","v":""},{"$f":"IF(Indata!N375=\"\",\"\",Indata!N375)","v":""},{"$f":"IF(Indata!O375=\"\",\"\",Indata!O375)","v":""},{"$f":"IF(Indata!P375=\"\",\"\",Indata!P375)","v":""},{"$f":"IF(Indata!Q375=\"\",\"\",Indata!Q375)","v":""},{"$f":"IF(Indata!R375=\"\",\"\",Indata!R375)","v":""},{"$f":"IF(Indata!S375=\"\",\"\",Indata!S375)","v":""},{"$f":"IF(Indata!T375=\"\",\"\",Indata!T375)","v":""},{"$f":"IF(Indata!U375=\"\",\"\",Indata!U375)","v":""},{"$f":"IF(Indata!V375=\"\",\"\",Indata!V375)","v":""},{"$f":"IF(Indata!W375=\"\",\"\",Indata!W375)","v":""},{"$f":"IF(Indata!X375=\"\",\"\",Indata!X375)","v":""},{"$f":"IF(Indata!Y375=\"\",\"\",Indata!Y375)","v":""},{"$f":"IF(Indata!Z375=\"\",\"\",Indata!Z375)","v":""},{"$f":"IF(Indata!AA375=\"\",\"\",Indata!AA375)","v":""}]
[300]
[null,""]
[null,""]

{"sheet":"Syreprofiler","index":3,"n_rows":482,"n_cols":57,"rows_kept":482,"cut":false,"hidden":false,"merged":[]}
[]
[null,"Rönne å  och Ringsjöarna 2025",null,null,null,null,null,null,null,null,null,null,null,null,null,null,null,null,null,null,null,null,null,null,null,null,null,null,null,null,null,null,null,null,null,null,null,null,null,null,null,null,"Rönne å  och Ringsjöarna 2024"]
[null,"Syreprofiler",null,null,null,null,null,null,null,null,null,null,null,null,null,null,null,null,null,null,null,null,null,null,null,null,null,null,null,null,null,null,null,null,null,null,null,null,null,null,null,null,"Syreprofiler"]
[]
[]
[null,"Ri2 Västra Ringsjön",null,null,null,null,null,null,null,null,null,"Ri2 Västra Ringsjön",null,null,null,null,null,null,null,null,null,"Ri2 Västra Ringsjön",null,null,null,null,null,null,null,null,null,null,null,null,null,null,null,null,null,null,null,null,"19 Ö Sorrödssjön",null,null,null,null,null,null,null,null,null,"19 Ö Sorrödssjön"]
[null,"Januari",null,"Provdatum:",null,{"$f":"Resultat!$C20","v":"2025-01-15"},null,null,null,null,null,"Februari",null,"Provdatum:",null,{"$f":"Resultat!$C69","v":"2025-02-10"},null,null,null,null,null,"Mars",null,"Provdatum:",null,{"$f":"Resultat!$C86","v":""},null,null,null,null,null,null,null,null,null,null,null,null,null,null,null,null,"Februari",null,"Provdatum:",null,{"$f":"Resultat!$C59","v":"2025-02-12"},null,null,null,null,null,"Augusti",null,"Provdatum:",null,{"$f":"Resultat!$C247","v":""}]
[null,"Djup","Temp","Syrehalt",null,null,null,null,null,null,null,"Djup","Temp","Syrehalt",null,null,null,null,null,null,null,"Djup","Temp","Syrehalt",null,null,null,null,null,null,null,null,null,null,null,null,null,null,null,null,null,null,"Djup","Temp","Syrehalt",null,null,null,null,null,null,null,"Djup","Temp","Syrehalt"]
[null,"(m)","(°C)","(mg/l)",null,null,null,null,null,null,null,"(m)","(°C)","(mg/l)",null,null,null,null,null,null,null,"(m)","(°C)","(mg/l)",null,null,null,null,null,null,null,null,null,null,null,null,null,null,null,null,null,null,"(m)","(°C)","(mg/l)",null,null,null,null,null,null,null,"(m)","(°C)","(mg/l)"]
[null,0.5,{"$f":"IF(Resultat!$D20=\"\",0,Resultat!$D20)","v":0.8},{"$f":"IF(Resultat!$E20=\"\",0,Resultat!$E20)","v":14.9},null,null,null,null,null,null,null,0.5,{"$f":"IF(Resultat!$D69=\"\",0,Resultat!$D69)","v":1.7},{"$f":"IF(Resultat!$E69=\"\",0,Resultat!$E69)","v":14.3},null,null,null,null,null,null,null,0.5,{"$f":"IF(Resultat!$D86=\"\",0,Resultat!$D86)","v":0},{"$f":"IF(Resultat!$E86=\"\",0,Resultat!$E86)","v":0},null,null,null,null,null,null,null,null,null,null,null,null,null,null,null,null,null,null,0.5,{"$f":"IF(Resultat!$D59=\"\",0,Resultat!$D59)","v":1.5},{"$f":"IF(Resultat!$E59=\"\",0,Resultat!$E59)","v":13.2},null,null,null,null,null,null,null,0.5,{"$f":"IF(Resultat!$D243=\"\",0,Resultat!$D243)","v":0},{"$f":"IF(Resultat!$E243=\"\",0,Resultat!$E243)","v":0}]
[null,1,null,null,null,null,null,null,null,null,null,1,null,null,null,null,null,null,null,null,null,1,null,null,null,null,null,null,null,null,null,null,null,null,null,null,null,null,null,null,null,null,1,null,null,null,null,null,null,null,null,null,1]
[null,2,null,null,null,null,null,null,null,null,null,2,null,null,null,null,null,null,null,null,null,2,null,null,null,null,null,null,null,null,null,null,null,null,null,null,null,null,null,null,null,null,2,null,null,null,null,null,null,null,null,null,2]
[null,3,null,null,null,null,null,null,null,null,null,3,null,null,null,null,null,null,null,null,null,3,null,null,null,null,null,null,null,null,null,null,null,null,null,null,null,null,null,null,null,null,3,null,null,null,null,null,null,null,null,null,3]
[null,4,0.9,14.3,null,null,null,null,null,null,null,4,1.7,14.2,null,null,null,null,null,null,null,4,null,null,null,null,null,null,null,null,null,null,null,null,null,null,null,null,null,null,null,null,4,{"$f":"IF(Resultat!$D60=\"\",0,Resultat!$D60)","v":1.2},{"$f":"IF(Resultat!$E60=\"\",0,Resultat!$E60)","v":13.5},null,null,null,null,null,null,null,4,{"$f":"IF(Resultat!$D244=\"\",0,Resultat!$D244)","v":0},{"$f":"IF(Resultat!$E244=\"\",0,Resultat!$E244)","v":0}]
[null,5,null,null,null,null,null,null,null,null,null,5,null,null,null,null,null,null,null,null,null,5,null,null,null,null,null,null,null,null,null,null,null,null,null,null,null,null,null,null,null,null,5,null,null,null,null,null,null,null,null,null,5]
[null,6,null,null,null,null,null,null,null,null,null,6,null,null,null,null,null,null,null,null,null,6,null,null,null,null,null,null,null,null,null,null,null,null,null,null,null,null,null,null,null,null,6,null,null,null,null,null,null,null,null,null,6]
[]
[]
[]
[]
[]
[]
[]
[]
[]
[]
[]
[]
[]
[null,"Ri2 Västra Ringsjön",null,null,null,null,null,null,null,null,null,"Ri2 Västra Ringsjön",null,null,null,null,null,null,null,null,null,"Ri2 Västra Ringsjön",null,null,null,null,null,null,null,null,null,null,null,null,null,null,null,null,null,null,null,null,"37 Hjälmsjön",null,null,null,null,null,null,null,null,null,"37 Hjälmsjön"]
[null,"April",null,"Provdatum:",null,{"$f":"Resultat!$C125","v":""},null,null,null,null,null,"Maj",null,"Provdatum:",null,{"$f":"Resultat!$C142","v":""},null,null,null,null,null,"Juni",null,"Provdatum:",null,{"$f":"Resultat!$C162","v":""},null,null,null,null,null,null,null,null,null,null,null,null,null,null,null,null,"Februari",null,"Provdatum:",null,{"$f":"Resultat!$C61","v":"2025-02-12"},null,null,null,null,null,"Augusti",null,"Provdatum:",null,{"$f":"Resultat!$C249","v":""}]
[null,"Djup","Temp","Syrehalt",null,null,null,null,null,null,null,"Djup","Temp","Syrehalt",null,null,null,null,null,null,null,"Djup","Temp","Syrehalt",null,null,null,null,null,null,null,null,null,null,null,null,null,null,null,null,null,null,"Djup","Temp","Syrehalt",null,null,null,null,null,null,null,"Djup","Temp","Syrehalt"]
[null,"(m)","(°C)","(mg/l)",null,null,null,null,null,null,null,"(m)","(°C)","(mg/l)",null,null,null,null,null,null,null,"(m)","(°C)","(mg/l)",null,null,null,null,null,null,null,null,null,null,null,null,null,null,null,null,null,null,"(m)","(°C)","(mg/l)",null,null,null,null,null,null,null,"(m)","(°C)","(mg/l)"]
[null,0.5,{"$f":"IF(Resultat!$D125=\"\",0,Resultat!$D125)","v":0},{"$f":"IF(Resultat!$E125=\"\",0,Resultat!$E125)","v":0},null,null,null,null,null,null,null,0.5,{"$f":"IF(Resultat!$D142=\"\",0,Resultat!$D142)","v":0},{"$f":"IF(Resultat!$E142=\"\",0,Resultat!$E142)","v":0},null,null,null,null,null,null,null,0.5,{"$f":"IF(Resultat!$D161=\"\",0,Resultat!$D161)","v":0},{"$f":"IF(Resultat!$E161=\"\",0,Resultat!$E161)","v":0},null,null,null,null,null,null,null,null,null,null,null,null,null,null,null,null,null,null,0.5,{"$f":"IF(Resultat!$D61=\"\",0,Resultat!$D61)","v":1.4},{"$f":"IF(Resultat!$E61=\"\",0,Resultat!$E61)","v":13.3},null,null,null,null,null,null,null,0.5,{"$f":"IF(Resultat!$D245=\"\",0,Resultat!$D245)","v":0},{"$f":"IF(Resultat!$E245=\"\",0,Resultat!$E245)","v":0}]
[null,1,null,null,null,null,null,null,null,null,null,1,null,null,null,null,null,null,null,null,null,1,null,null,null,null,null,null,null,null,null,null,null,null,null,null,null,null,null,null,null,null,1,null,null,null,null,null,null,null,null,null,1]
[null,2,null,null,null,null,null,null,null,null,null,2,null,null,null,null,null,null,null,null,null,2,null,null,null,null,null,null,null,null,null,null,null,null,null,null,null,null,null,null,null,null,2,null,null,null,null,null,null,null,null,null,2]
[null,3,null,null,null,null,null,null,null,null,null,3,null,null,null,null,null,null,null,null,null,3,null,null,null,null,null,null,null,null,null,null,null,null,null,null,null,null,null,null,null,null,3,null,null,null,null,null,null,null,null,null,3]
[null,4,null,null,null,null,null,null,null,null,null,4,null,null,null,null,null,null,null,null,null,4,{"$f":"IF(Resultat!$D162=\"\",0,Resultat!$D162)","v":0},{"$f":"IF(Resultat!$E162=\"\",0,Resultat!$E162)","v":0},null,null,null,null,null,null,null,null,null,null,null,null,null,null,null,null,null,null,4,null,null,null,null,null,null,null,null,null,4]
[null,5,null,null,null,null,null,null,null,null,null,5,null,null,null,null,null,null,null,null,null,5,null,null,null,null,null,null,null,null,null,null,null,null,null,null,null,null,null,null,null,null,5,null,null,null,null,null,null,null,null,null,5]
[null,6,null,null,null,null,null,null,null,null,null,6,null,null,null,null,null,null,null,null,null,6,null,null,null,null,null,null,null,null,null,null,null,null,null,null,null,null,null,null,null,null,6,null,null,null,null,null,null,null,null,null,6]
[null,null,null,null,null,null,null,null,null,null,null,null,null,null,null,null,null,null,null,null,null,null,null,null,null,null,null,null,null,null,null,null,null,null,null,null,null,null,null,null,null,null,6.5,{"$f":"IF(Resultat!$D62=\"\",0,Resultat!$D62)","v":1.1000000000000001},{"$f":"IF(Resultat!$E62=\"\",0,Resultat!$E62)","v":13.4},null,null,null,null,null,null,null,6.5,{"$f":"IF(Resultat!$D246=\"\",0,Resultat!$D246)","v":0},{"$f":"IF(Resultat!$E246=\"\",0,Resultat!$E246)","v":0}]
[null,null,null,null,null,null,null,null,null,null,null,null,null,null,null,null,null,null,null,null,null,null,null,null,null,null,null,null,null,null,null,null,null,null,null,null,null,null,null,null,null,null,7,null,null,null,null,null,null,null,null,null,7]
[]
[]
[]
[]
[]
[]
[]
[]
[]
[]
[]
[null,"Ri2 Västra Ringsjön",null,null,null,null,null,null,null,null,null,"Ri2 Västra Ringsjön",null,null,null,null,null,null,null,null,null,"Ri2 Västra Ringsjön",null,null,null,null,null,null,null,null,null,null,null,null,null,null,null,null,null,null,null,null,"50 Västersjön",null,null,null,null,null,null,null,null,null,"50 Västersjön"]
[null,"Juli",null,"Provdatum:",null,{"$f":"Resultat!$C204","v":""},null,null,null,null,null,"Augusti",null,"Provdatum:",null,{"$f":"Resultat!$C256","v":""},null,null,null,null,null,"September",null,"Provdatum:",null,{"$f":"Resultat!$C298","v":""},null,null,null,null,null,null,null,null,null,null,null,null,null,null,null,null,"Februari",null,"Provdatum:",null,{"$f":"Resultat!$C63","v":"2025-02-12"},null,null,null,null,null,"Augusti",null,"Provdatum:",null,{"$f":"Resultat!$C251","v":""}]
[null,"Djup","Temp","Syrehalt",null,null,null,null,null,null,null,"Djup","Temp","Syrehalt",null,null,null,null,null,null,null,"Djup","Temp","Syrehalt",null,null,null,null,null,null,null,null,null,null,null,null,null,null,null,null,null,null,"Djup","Temp","Syrehalt",null,null,null,null,null,null,null,"Djup","Temp","Syrehalt"]
[null,"(m)","(°C)","(mg/l)",null,null,null,null,null,null,null,"(m)","(°C)","(mg/l)",null,null,null,null,null,null,null,"(m)","(°C)","(mg/l)",null,null,null,null,null,null,null,null,null,null,null,null,null,null,null,null,null,null,"(m)","(°C)","(mg/l)",null,null,null,null,null,null,null,"(m)","(°C)","(mg/l)"]
[null,0.5,{"$f":"IF(Resultat!$D203=\"\",0,Resultat!$D203)","v":0},{"$f":"IF(Resultat!$E203=\"\",0,Resultat!$E203)","v":0},null,null,null,null,null,null,null,0.5,{"$f":"IF(Resultat!$D255=\"\",0,Resultat!$D255)","v":0},{"$f":"IF(Resultat!$E255=\"\",0,Resultat!$E255)","v":0},null,null,null,null,null,null,null,0.5,{"$f":"IF(Resultat!$D298=\"\",0,Resultat!$D298)","v":0},{"$f":"IF(Resultat!$E298=\"\",0,Resultat!$E298)","v":0},null,null,null,null,null,null,null,null,null,null,null,null,null,null,null,null,null,null,0.5,{"$f":"IF(Resultat!$D63=\"\",0,Resultat!$D63)","v":1.1000000000000001},{"$f":"IF(Resultat!$E63=\"\",0,Resultat!$E63)","v":13.9},null,null,null,null,null,null,null,0.5,{"$f":"IF(Resultat!$D247=\"\",0,Resultat!$D247)","v":0},{"$f":"IF(Resultat!$E247=\"\",0,Resultat!$E247)","v":0}]
[null,1,null,null,null,null,null,null,null,null,null,1,null,null,null,null,null,null,null,null,null,1,null,null,null,null,null,null,null,null,null,null,null,null,null,null,null,null,null,null,null,null,1,null,null,null,null,null,null,null,null,null,1]
[null,2,null,null,null,null,null,null,null,null,null,2,null,null,null,null,null,null,null,null,null,2,null,null,null,null,null,null,null,null,null,null,null,null,null,null,null,null,null,null,null,null,2,null,null,null,null,null,null,null,null,null,2]
[null,3,null,null,null,null,null,null,null,null,null,3,null,null,null,null,null,null,null,null,null,3,null,null,null,null,null,null,null,null,null,null,null,null,null,null,null,null,null,null,null,null,3,null,null,null,null,null,null,null,null,null,3]
[null,4,{"$f":"IF(Resultat!$D204=\"\",0,Resultat!$D204)","v":0},{"$f":"IF(Resultat!$E204=\"\",0,Resultat!$E204)","v":0},null,null,null,null,null,null,null,4,{"$f":"IF(Resultat!$D256=\"\",0,Resultat!$D256)","v":0},{"$f":"IF(Resultat!$E256=\"\",0,Resultat!$E256)","v":0},null,null,null,null,null,null,null,4,{"$f":"IF(Resultat!$D298=\"\",0,Resultat!$D298)","v":0},{"$f":"IF(Resultat!$E298=\"\",0,Resultat!$E298)","v":0},null,null,null,null,null,null,null,null,null,null,null,null,null,null,null,null,null,null,4,null,null,null,null,null,null,null,null,null,4]
[null,5,null,null,null,null,null,null,null,null,null,5,null,null,null,null,null,null,null,null,null,5,null,null,null,null,null,null,null,null,null,null,null,null,null,null,null,null,null,null,null,null,5,null,null,null,null,null,null,null,null,null,5]
[null,6,null,null,null,null,null,null,null,null,null,6,null,null,null,null,null,null,null,null,null,6,null,null,null,null,null,null,null,null,null,null,null,null,null,null,null,null,null,null,null,null,6,null,null,null,null,null,null,null,null,null,6]
[null,null,null,null,null,null,null,null,null,null,null,null,null,null,null,null,null,null,null,null,null,null,null,null,null,null,null,null,null,null,null,null,null,null,null,null,null,null,null,null,null,null,7,null,null,null,null,null,null,null,null,null,7]
[null,null,null,null,null,null,null,null,null,null,null,null,null,null,null,null,null,null,null,null,null,null,null,null,null,null,null,null,null,null,null,null,null,null,null,null,null,null,null,null,null,null,8,null,null,null,null,null,null,null,null,null,8]
[null,null,null,null,null,null,null,null,null,null,null,null,null,null,null,null,null,null,null,null,null,null,null,null,null,null,null,null,null,null,null,null,null,null,null,null,null,null,null,null,null,null,9,null,null,null,null,null,null,null,null,null,9]
[null,null,null,null,null,null,null,null,null,null,null,null,null,null,null,null,null,null,null,null,null,null,null,null,null,null,null,null,null,null,null,null,null,null,null,null,null,null,null,null,null,null,10,{"$f":"IF(Resultat!$D64=\"\",0,Resultat!$D64)","v":0.6},{"$f":"IF(Resultat!$E64=\"\",0,Resultat!$E64)","v":14},null,null,null,null,null,null,null,10,{"$f":"IF(Resultat!$D248=\"\",0,Resultat!$D248)","v":0},{"$f":"IF(Resultat!$E248=\"\",0,Resultat!$E248)","v":0}]
[null,null,null,null,null,null,null,null,null,null,null,null,null,null,null,null,null,null,null,null,null,null,null,null,null,null,null,null,null,null,null,null,null,null,null,null,null,null,null,null,null,null,11,null,null,null,null,null,null,null,null,null,11]
[]
[]
[]
[]
[]
[]
[]
[]
[null,"Ri2 Västra Ringsjön",null,null,null,null,null,null,null,null,null,"Ri2 Västra Ringsjön",null,null,null,null,null,null,null,null,null,"Ri2 Västra Ringsjön",null,null,null,null,null,null,null,null,null,null,null,null,null,null,null,null,null,null,null,null,"51 Rössjön",null,null,null,null,null,null,null,null,null,"51 Rössjön"]
[null,"Oktober",null,"Provdatum:",null,{"$f":"Resultat!$C315","v":""},"Syrgasprofil missad",null,null,null,null,"November",null,"Provdatum:",null,{"$f":"Resultat!$C354","v":""},null,null,null,null,null,"December",null,"Provdatum:",null,{"$f":"Resultat!$C371","v":""},null,null,null,null,null,null,null,null,null,null,null,null,null,null,null,null,"Februari",null,"Provdatum:",null,{"$f":"Resultat!$C65","v":"2025-02-12"},"inget bottenprov pga stark vind",null,null,null,null,"Augusti",null,"Provdatum:",null,{"$f":"Resultat!$C253","v":""}]
[null,"Djup","Temp","Syrehalt",null,null,null,null,null,null,null,"Djup","Temp","Syrehalt",null,null,null,null,null,null,null,"Djup","Temp","Syrehalt",null,null,null,null,null,null,null,null,null,null,null,null,null,null,null,null,null,null,"Djup","Temp","Syrehalt",null,null,null,null,null,null,null,"Djup","Temp","Syrehalt"]
[null,"(m)","(°C)","(mg/l)",null,null,null,null,null,null,null,"(m)","(°C)","(mg/l)",null,null,null,null,null,null,null,"(m)","(°C)","(mg/l)",null,null,null,null,null,null,null,null,null,null,null,null,null,null,null,null,null,null,"(m)","(°C)","(mg/l)",null,null,null,null,null,null,null,"(m)","(°C)","(mg/l)"]
[null,0.5,{"$f":"IF(Resultat!$D315=\"\",0,Resultat!$D315)","v":0},{"$f":"IF(Resultat!$E315=\"\",0,Resultat!$E315)","v":0},null,null,null,null,null,null,null,0.5,{"$f":"IF(Resultat!$D354=\"\",0,Resultat!$D354)","v":0},{"$f":"IF(Resultat!$E354=\"\",0,Resultat!$E354)","v":0},null,null,null,null,null,null,null,0.5,{"$f":"IF(Resultat!$D371=\"\",0,Resultat!$D371)","v":0},{"$f":"IF(Resultat!$E371=\"\",0,Resultat!$E371)","v":0},null,null,null,null,null,null,null,null,null,null,null,null,null,null,null,null,null,null,0.5,{"$f":"IF(Resultat!$D65=\"\",0,Resultat!$D65)","v":1.5},{"$f":"IF(Resultat!$E65=\"\",0,Resultat!$E65)","v":13.6},null,null,null,null,null,null,null,0.5,{"$f":"IF(Resultat!$D249=\"\",0,Resultat!$D249)","v":0},{"$f":"IF(Resultat!$E249=\"\",0,Resultat!$E249)","v":0}]
[null,1,null,null,null,null,null,null,null,null,null,1,null,null,null,null,null,null,null,null,null,1,null,null,null,null,null,null,null,null,null,null,null,null,null,null,null,null,null,null,null,null,1,null,null,null,null,null,null,null,null,null,1]
[null,2,null,null,null,null,null,null,null,null,null,2,null,null,null,null,null,null,null,null,null,2,null,null,null,null,null,null,null,null,null,null,null,null,null,null,null,null,null,null,null,null,2,null,null,null,null,null,null,null,null,null,2]
[null,3,null,null,null,null,null,null,null,null,null,3,null,null,null,null,null,null,null,null,null,3,null,null,null,null,null,null,null,null,null,null,null,null,null,null,null,null,null,null,null,null,3,null,null,null,null,null,null,null,null,null,3]
[null,4,null,null,null,null,null,null,null,null,null,4,null,null,null,null,null,null,null,null,null,4,null,null,null,null,null,null,null,null,null,null,null,null,null,null,null,null,null,null,null,null,4,null,null,null,null,null,null,null,null,null,4]
[null,5,null,null,null,null,null,null,null,null,null,5,null,null,null,null,null,null,null,null,null,5,null,null,null,null,null,null,null,null,null,null,null,null,null,null,null,null,null,null,null,null,5,null,null,null,null,null,null,null,null,null,5]
[null,6,null,null,null,null,null,null,null,null,null,6,null,null,null,null,null,null,null,null,null,6,null,null,null,null,null,null,null,null,null,null,null,null,null,null,null,null,null,null,null,null,6,null,null,null,null,null,null,null,null,null,6]
[null,null,null,null,null,null,null,null,null,null,null,null,null,null,null,null,null,null,null,null,null,null,null,null,null,null,null,null,null,null,null,null,null,null,null,null,null,null,null,null,null,null,7,null,null,null,null,null,null,null,null,null,7]
[null,null,null,null,null,null,null,null,null,null,null,null,null,null,null,null,null,null,null,null,null,null,null,null,null,null,null,null,null,null,null,null,null,null,null,null,null,null,null,null,null,null,8,null,null,null,null,null,null,null,null,null,8]
[null,null,null,null,null,null,null,null,null,null,null,null,null,null,null,null,null,null,null,null,null,null,null,null,null,null,null,null,null,null,null,null,null,null,null,null,null,null,null,null,null,null,9,null,null,null,null,null,null,null,null,null,9]
[null,null,null,null,null,null,null,null,null,null,null,null,null,null,null,null,null,null,null,null,null,null,null,null,null,null,null,null,null,null,null,null,null,null,null,null,null,null,null,null,null,null,10,null,null,null,null,null,null,null,null,null,10]
[null,null,null,null,null,null,null,null,null,null,null,null,null,null,null,null,null,null,null,null,null,null,null,null,null,null,null,null,null,null,null,null,null,null,null,null,null,null,null,null,null,null,11,null,null,null,null,null,null,null,null,null,11]
[null,null,null,null,null,null,null,null,null,null,null,null,null,null,null,null,null,null,null,null,null,null,null,null,null,null,null,null,null,null,null,null,null,null,null,null,null,null,null,null,null,null,12,null,null,null,null,null,null,null,null,null,12]
[null,null,null,null,null,null,null,null,null,null,null,null,null,null,null,null,null,null,null,null,null,null,null,null,null,null,null,null,null,null,null,null,null,null,null,null,null,null,null,null,null,null,13,null,null,null,null,null,null,null,null,null,13]
[null,null,null,null,null,null,null,null,null,null,null,null,null,null,null,null,null,null,null,null,null,null,null,null,null,null,null,null,null,null,null,null,null,null,null,null,null,null,null,null,null,null,14,null,null,null,null,null,null,null,null,null,14]
[null,null,null,null,null,null,null,null,null,null,null,null,null,null,null,null,null,null,null,null,null,null,null,null,null,null,null,null,null,null,null,null,null,null,null,null,null,null,null,null,null,null,15,null,null,null,null,null,null,null,null,null,15]
[null,null,null,null,null,null,null,null,null,null,null,null,null,null,null,null,null,null,null,null,null,null,null,null,null,null,null,null,null,null,null,null,null,null,null,null,null,null,null,null,null,null,16,null,null,null,null,null,null,null,null,null,16]
[null,null,null,null,null,null,null,null,null,null,null,null,null,null,null,null,null,null,null,null,null,null,null,null,null,null,null,null,null,null,null,null,null,null,null,null,null,null,null,null,null,null,17,null,null,null,null,null,null,null,null,null,17]
[null,null,null,null,null,null,null,null,null,null,null,null,null,null,null,null,null,null,null,null,null,null,null,null,null,null,null,null,null,null,null,null,null,null,null,null,null,null,null,null,null,null,18,{"$f":"IF(Resultat!$D66=\"\",0,Resultat!$D66)","v":0},{"$f":"IF(Resultat!$E66=\"\",0,Resultat!$E66)","v":0},null,null,null,null,null,null,null,18,{"$f":"IF(Resultat!$D250=\"\",0,Resultat!$D250)","v":0},{"$f":"IF(Resultat!$E250=\"\",0,Resultat!$E250)","v":0}]
[]
[null,"Ri4 Östra Ringsjön",null,null,null,null,null,null,null,null,null,"Ri4 Östra Ringsjön",null,null,null,null,null,null,null,null,null,"Ri4 Östra Ringsjön",null,null,null,null,null,null,null,null,null,null,null,null,null,null,null,null,null,null,null,null,"60 Storarydsdammen",null,null,null,null,null,null,null,null,null,"60 Storarydsdammen"]
[null,"Januari",null,"Provdatum:",null,{"$f":"Resultat!$C19","v":"2025-01-15"},null,null,null,null,null,"Februari",null,"Provdatum:",null,{"$f":"Resultat!$C68","v":"2025-02-10"},null,null,null,null,null,"Mars",null,"Provdatum:",null,{"$f":"Resultat!$C85","v":""},null,null,null,null,null,null,null,null,null,null,null,null,null,null,null,null,"Februari",null,"Provdatum:",null,{"$f":"Resultat!$C57","v":"2025-02-12"},null,null,null,null,null,"Augusti",null,"Provdatum:",null,{"$f":"Resultat!$C245","v":""}]
[null,"Djup","Temp","Syrehalt",null,null,null,null,null,null,null,"Djup","Temp","Syrehalt",null,null,null,null,null,null,null,"Djup","Temp","Syrehalt",null,null,null,null,null,null,null,null,null,null,null,null,null,null,null,null,null,null,"Djup","Temp","Syrehalt",null,null,null,null,null,null,null,"Djup","Temp","Syrehalt"]
[null,"(m)","(°C)","(mg/l)",null,null,null,null,null,null,null,"(m)","(°C)","(mg/l)",null,null,null,null,null,null,null,"(m)","(°C)","(mg/l)",null,null,null,null,null,null,null,null,null,null,null,null,null,null,null,null,null,null,"(m)","(°C)","(mg/l)",null,null,null,null,null,null,null,"(m)","(°C)","(mg/l)"]
[null,0.5,{"$f":"IF(Resultat!$D19=\"\",0,Resultat!$D19)","v":1.6},{"$f":"IF(Resultat!$E19=\"\",0,Resultat!$E19)","v":13.5},null,null,null,null,null,null,null,0.5,{"$f":"IF(Resultat!$D68=\"\",0,Resultat!$D68)","v":2},{"$f":"IF(Resultat!$E68=\"\",0,Resultat!$E68)","v":14.3},null,null,null,null,null,null,null,0.5,{"$f":"IF(Resultat!$D85=\"\",0,Resultat!$D85)","v":0},{"$f":"IF(Resultat!$E85=\"\",0,Resultat!$E85)","v":0},null,null,null,null,null,null,null,null,null,null,null,null,null,null,null,null,null,null,0.5,{"$f":"IF(Resultat!$D57=\"\",0,Resultat!$D57)","v":1.7},{"$f":"IF(Resultat!$E57=\"\",0,Resultat!$E57)","v":13.3},null,null,null,null,null,null,null,0.5,{"$f":"IF(Resultat!$D241=\"\",0,Resultat!$D241)","v":0},{"$f":"IF(Resultat!$E241=\"\",0,Resultat!$E241)","v":0}]
[null,1,null,null,null,null,null,null,null,null,null,1,null,null,null,null,null,null,null,null,null,1,null,null,null,null,null,null,null,null,null,null,null,null,null,null,null,null,null,null,null,null,1,null,null,null,null,null,null,null,null,null,1]
[null,2,null,null,null,null,null,null,null,null,null,2,null,null,null,null,null,null,null,null,null,2,null,null,null,null,null,null,null,null,null,null,null,null,null,null,null,null,null,null,null,null,2,null,null,null,null,null,null,null,null,null,2]
[null,3,null,null,null,null,null,null,null,null,null,3,null,null,null,null,null,null,null,null,null,3,null,null,null,null,null,null,null,null,null,null,null,null,null,null,null,null,null,null,null,null,3,null,null,null,null,null,null,null,null,null,3]
[null,4,null,null,null,null,null,null,null,null,null,4,null,null,null,null,null,null,null,null,null,4,null,null,null,null,null,null,null,null,null,null,null,null,null,null,null,null,null,null,null,null,4,{"$f":"IF(Resultat!$D58=\"\",0,Resultat!$D58)","v":1.6},{"$f":"IF(Resultat!$E58=\"\",0,Resultat!$E58)","v":13.2},null,null,null,null,null,null,null,4,{"$f":"IF(Resultat!$D242=\"\",0,Resultat!$D242)","v":0},{"$f":"IF(Resultat!$E242=\"\",0,Resultat!$E242)","v":0}]
[null,5,null,null,null,null,null,null,null,null,null,5,null,null,null,null,null,null,null,null,null,5,null,null,null,null,null,null,null,null,null,null,null,null,null,null,null,null,null,null,null,null,5,null,null,null,null,null,null,null,null,null,5]
[null,6,null,null,null,null,null,null,null,null,null,6,null,null,null,null,null,null,null,null,null,6,null,null,null,null,null,null,null,null,null,null,null,null,null,null,null,null,null,null,null,null,6,null,null,null,null,null,null,null,null,null,6]
[null,7,null,null,null,null,null,null,null,null,null,7,null,null,null,null,null,null,null,null,null,7]
[null,8,null,null,null,null,null,null,null,null,null,8,null,null,null,null,null,null,null,null,null,8]
[null,9,null,null,null,null,null,null,null,null,null,9,null,null,null,null,null,null,null,null,null,9]
[null,10,null,null,null,null,null,null,null,null,null,10,null,null,null,null,null,null,null,null,null,10]
[null,11,null,null,null,null,null,null,null,null,null,11,null,null,null,null,null,null,null,null,null,11]
[null,12,null,null,null,null,null,null,null,null,null,12,null,null,null,null,null,null,null,null,null,12]
[null,13,null,null,null,null,null,null,null,null,null,13,null,null,null,null,null,null,null,null,null,13]
[null,14,null,null,null,null,null,null,null,null,null,14,null,null,null,null,null,null,null,null,null,14]
[null,15,1.7,13.4,null,null,null,null,null,null,null,15,1.8,13.98,null,null,null,null,null,null,null,15]
[null,16,null,null,null,null,null,null,null,null,null,16,null,null,null,null,null,null,null,null,null,16]
[]
[]
[]
[null,"Ri4 Östra Ringsjön"]
[null,"April",null,"Provdatum:",null,{"$f":"Resultat!$C124","v":""}]
[null,"Djup","Temp","Syrehalt"]
[null,"(m)","(°C)","(mg/l)"]
[null,0.5,{"$f":"IF(Resultat!$D124=\"\",0,Resultat!$D124)","v":0},{"$f":"IF(Resultat!$E124=\"\",0,Resultat!$E124)","v":0}]
[null,1]
[null,2]
[null,3]
[null,4]
[null,5]
[null,6]
[null,7]
[null,8]
[null,9]
[null,10]
[null,11]
[null,12]
[null,13]
[null,14]
[null,15]
[null,16]
[]
[]
[]
[null,"Ri4 Östra Ringsjön",null,null,null,null,null,null,null,null,null,"Östra Ringsjön, 12m djup",null,null,null,null,null,null,null,null,null,"Östra Ringsjön, 8m djup",null,null,null,null,null,null,null,null,null,"Östra Ringsjön, 5m djup"]
[null,"Maj",null,"Provdatum:",null,{"$f":"Resultat!$C141","v":""},null,null,null,null,null,"Maj",null,"Provdatum:",null,{"$f":"Resultat!$C141","v":""},null,null,null,null,null,"Maj",null,"Provdatum:",null,{"$f":"Resultat!$C141","v":""},null,null,null,null,null,"Maj",null,"Provdatum:",null,{"$f":"Resultat!$C141","v":""}]
[null,"Djup","Temp","Syrehalt",null,null,null,null,null,null,null,"Djup","Temp","Syrehalt",null,null,null,null,null,null,null,"Djup","Temp","Syrehalt",null,null,null,null,null,null,null,"Djup","Temp","Syrehalt"]
[null,"(m)","(°C)","(mg/l)",null,null,null,null,null,null,null,"(m)","(°C)","(mg/l)",null,null,null,null,null,null,null,"(m)","(°C)","(mg/l)",null,null,null,null,null,null,null,"(m)","(°C)","(mg/l)"]
[null,0.5,{"$f":"IF(Resultat!$D141=\"\",0,Resultat!$D141)","v":0},{"$f":"IF(Resultat!$E141=\"\",0,Resultat!$E141)","v":0},null,null,null,null,null,null,null,0.5,null,null,null,null,null,null,null,null,null,0.5,null,null,null,null,null,null,null,null,null,0.5]
[null,1,null,null,null,null,null,null,null,null,null,1,null,null,null,null,null,null,null,null,null,1,null,null,null,null,null,null,null,null,null,1]
[null,2,null,null,null,null,null,null,null,null,null,2,null,null,null,null,null,null,null,null,null,2,null,null,null,null,null,null,null,null,null,2]
[null,3,null,null,null,null,null,null,null,null,null,3,null,null,null,null,null,null,null,null,null,3,null,null,null,null,null,null,null,null,null,3]
[null,4,null,null,null,null,null,null,null,null,null,4,null,null,null,null,null,null,null,null,null,4,null,null,null,null,null,null,null,null,null,4]
[null,5,null,null,null,null,null,null,null,null,null,5,null,null,null,null,null,null,null,null,null,5,null,null,null,null,null,null,null,null,null,5]
[null,6,null,null,null,null,null,null,null,null,null,6,null,null,null,null,null,null,null,null,null,6,null,null,null,null,null,null,null,null,null,6]
[null,7,null,null,null,null,null,null,null,null,null,7,null,null,null,null,null,null,null,null,null,7,null,null,null,null,null,null,null,null,null,7]
[null,8,null,null,null,null,null,null,null,null,null,8,null,null,null,null,null,null,null,null,null,8,null,null,null,null,null,null,null,null,null,8]
[null,9,null,null,null,null,null,null,null,null,null,9]
[null,10,null,null,null,null,null,null,null,null,null,10]
[null,11,null,null,null,null,null,null,null,null,null,11]
[null,12,null,null,null,null,null,null,null,null,null,12]
[null,13]
[null,14]
[null,15]
[null,16]
[]
[]
[]
[null,"Ri4 Östra Ringsjön",null,null,null,null,null,null,null,null,null,"Östra Ringsjön, 12m djup",null,null,null,null,null,null,null,null,null,"Östra Ringsjön, 8m djup",null,null,null,null,null,null,null,null,null,"Östra Ringsjön, 5m djup"]
[null,"Juni",null,"Provdatum:",null,{"$f":"Resultat!$C159","v":""},null,null,null,null,null,"Juni",null,"Provdatum:",null,{"$f":"Resultat!$C159","v":""},null,null,null,null,null,"Juni",null,"Provdatum:",null,{"$f":"Resultat!$C159","v":""},null,null,null,null,null,"Juni",null,"Provdatum:",null,{"$f":"Resultat!$C159","v":""}]
[null,"Djup","Temp","Syrehalt",null,null,null,null,null,null,null,"Djup","Temp","Syrehalt",null,null,null,null,null,null,null,"Djup","Temp","Syrehalt",null,null,null,null,null,null,null,"Djup","Temp","Syrehalt"]
[null,"(m)","(°C)","(mg/l)",null,null,null,null,null,null,null,"(m)","(°C)","(mg/l)",null,null,null,null,null,null,null,"(m)","(°C)","(mg/l)",null,null,null,null,null,null,null,"(m)","(°C)","(mg/l)"]
[null,0.5,{"$f":"IF(Resultat!$D159=\"\",0,Resultat!$D159)","v":0},{"$f":"IF(Resultat!$E159=\"\",0,Resultat!$E159)","v":0},null,null,null,null,null,null,null,0.5,null,null,null,null,null,null,null,null,null,0.5,null,null,null,null,null,null,null,null,null,0.5]
[null,1,null,null,null,null,null,null,null,null,null,1,null,null,null,null,null,null,null,null,null,1,null,null,null,null,null,null,null,null,null,1]
[null,2,null,null,null,null,null,null,null,null,null,2,null,null,null,null,null,null,null,null,null,2,null,null,null,null,null,null,null,null,null,2]
[null,3,null,null,null,null,null,null,null,null,null,3,null,null,null,null,null,null,null,null,null,3,null,null,null,null,null,null,null,null,null,3]
[null,4,null,null,null,null,null,null,null,null,null,4,null,null,null,null,null,null,null,null,null,4,null,null,null,null,null,null,null,null,null,4]
[null,5,null,null,null,null,null,null,null,null,null,5,null,null,null,null,null,null,null,null,null,5,null,null,null,null,null,null,null,null,null,5]
[null,6,null,null,null,null,null,null,null,null,null,6,null,null,null,null,null,null,null,null,null,6,null,null,null,null,null,null,null,null,null,6]
[null,7,null,null,null,null,null,null,null,null,null,7,null,null,null,null,null,null,null,null,null,7,null,null,null,null,null,null,null,null,null,7]
[null,8,null,null,null,null,null,null,null,null,null,8,null,null,null,null,null,null,null,null,null,8,null,null,null,null,null,null,null,null,null,8]
[null,9,null,null,null,null,null,null,null,null,null,9,null,null,null,null,null,null,null,null,null,9,null,null,null,null,null,null,null,null,null,9]
[null,10,null,null,null,null,null,null,null,null,null,10,null,null,null,null,null,null,null,null,null,10,null,null,null,null,null,null,null,null,null,10]
[null,11,null,null,null,null,null,null,null,null,null,11,null,null,null,null,null,null,null,null,null,11,null,null,null,null,null,null,null,null,null,11]
[null,12,null,null,null,null,null,null,null,null,null,12,null,null,null,null,null,null,null,null,null,12,null,null,null,null,null,null,null,null,null,12]
[null,13,null,null,null,null,null,null,null,null,null,13,null,null,null,null,null,null,null,null,null,13,null,null,null,null,null,null,null,null,null,13]
[null,14,null,null,null,null,null,null,null,null,null,14,null,null,null,null,null,null,null,null,null,14,null,null,null,null,null,null,null,null,null,14]
[null,15,{"$f":"IF(Resultat!$D160=\"\",0,Resultat!$D160)","v":0},{"$f":"IF(Resultat!$E160=\"\",0,Resultat!$E160)","v":0},null,null,null,null,null,null,null,15,null,null,null,null,null,null,null,null,null,15,null,null,null,null,null,null,null,null,null,15]
[null,16,null,null,null,null,null,null,null,null,null,16,null,null,null,null,null,null,null,null,null,16,null,null,null,null,null,null,null,null,null,16]
[]
[]
[]
[null,"Ri4 Östra Ringsjön",null,null,null,null,null,null,null,null,null,"Östra Ringsjön, 12m djup",null,null,null,null,null,null,null,null,null,"Östra Ringsjön, 8m djup",null,null,null,null,null,null,null,null,null,"Östra Ringsjön, 5m djup"]
[null,"Juli",null,"Provdatum:",null,{"$f":"Resultat!$C201","v":""},null,null,null,null,null,"Juli",null,"Provdatum:",null,{"$f":"Resultat!$C201","v":""},null,null,null,null,null,"Juli",null,"Provdatum:",null,{"$f":"Resultat!$C201","v":""},null,null,null,null,null,"Juli",null,"Provdatum:",null,{"$f":"Resultat!$C201","v":""}]
[null,"Djup","Temp","Syrehalt",null,null,null,null,null,null,null,"Djup","Temp","Syrehalt",null,null,null,null,null,null,null,"Djup","Temp","Syrehalt",null,null,null,null,null,null,null,"Djup","Temp","Syrehalt"]
[null,"(m)","(°C)","(mg/l)",null,null,null,null,null,null,null,"(m)","(°C)","(mg/l)",null,null,null,null,null,null,null,"(m)","(°C)","(mg/l)",null,null,null,null,null,null,null,"(m)","(°C)","(mg/l)"]
[null,0.5,{"$f":"IF(Resultat!$D201=\"\",0,Resultat!$D201)","v":0},{"$f":"IF(Resultat!$E201=\"\",0,Resultat!$E201)","v":0},null,null,null,null,null,null,null,0.5,null,null,null,null,null,null,null,null,null,0.5,null,null,null,null,null,null,null,null,null,0.5]
[null,1,null,null,null,null,null,null,null,null,null,1,null,null,null,null,null,null,null,null,null,1,null,null,null,null,null,null,null,null,null,1]
[null,2,null,null,null,null,null,null,null,null,null,2,null,null,null,null,null,null,null,null,null,2,null,null,null,null,null,null,null,null,null,2]
[null,3,null,null,null,null,null,null,null,null,null,3,null,null,null,null,null,null,null,null,null,3,null,null,null,null,null,null,null,null,null,3]
[null,4,null,null,null,null,null,null,null,null,null,4,null,null,null,null,null,null,null,null,null,4,null,null,null,null,null,null,null,null,null,4]
[null,5,null,null,null,null,null,null,null,null,null,5,null,null,null,null,null,null,null,null,null,5,null,null,null,null,null,null,null,null,null,5]
[null,6,null,null,null,null,null,null,null,null,null,6,null,null,null,null,null,null,null,null,null,6,null,null,null,null,null,null,null,null,null,6]
[null,7,null,null,null,null,null,null,null,null,null,7,null,null,null,null,null,null,null,null,null,7,null,null,null,null,null,null,null,null,null,7]
[null,8,null,null,null,null,null,null,null,null,null,8,null,null,null,null,null,null,null,null,null,8,null,null,null,null,null,null,null,null,null,8]
[null,9,null,null,null,null,null,null,null,null,null,9,null,null,null,null,null,null,null,null,null,9,null,null,null,null,null,null,null,null,null,9]
[null,10,null,null,null,null,null,null,null,null,null,10,null,null,null,null,null,null,null,null,null,10,null,null,null,null,null,null,null,null,null,10]
[null,11,null,null,null,null,null,null,null,null,null,11,null,null,null,null,null,null,null,null,null,11,null,null,null,null,null,null,null,null,null,11]
[null,12,null,null,null,null,null,null,null,null,null,12,null,null,null,null,null,null,null,null,null,12,null,null,null,null,null,null,null,null,null,12]
[null,13,null,null,null,null,null,null,null,null,null,13,null,null,null,null,null,null,null,null,null,13,null,null,null,null,null,null,null,null,null,13]
[null,14,null,null,null,null,null,null,null,null,null,14,null,null,null,null,null,null,null,null,null,14,null,null,null,null,null,null,null,null,null,14]
[null,15,{"$f":"IF(Resultat!$D202=\"\",0,Resultat!$D202)","v":0},{"$f":"IF(Resultat!$E202=\"\",0,Resultat!$E202)","v":0},null,null,null,null,null,null,null,15,null,null,null,null,null,null,null,null,null,15,null,null,null,null,null,null,null,null,null,15]
[null,16,null,null,null,null,null,null,null,null,null,16,null,null,null,null,null,null,null,null,null,16,null,null,null,null,null,null,null,null,null,16]
[]
[]
[]
[null,"Ri4 Östra Ringsjön",null,null,null,null,null,null,null,null,null,"Östra Ringsjön, 12m djup",null,null,null,null,null,null,null,null,null,"Östra Ringsjön, 8m djup",null,null,null,null,null,null,null,null,null,"Östra Ringsjön, 5m djup"]
[null,"Augusti",null,"Provdatum:",null,{"$f":"Resultat!$C253","v":""},null,null,null,null,null,"Augusti",null,"Provdatum:",null,{"$f":"Resultat!$C253","v":""},null,null,null,null,null,"Augusti",null,"Provdatum:",null,{"$f":"Resultat!$C253","v":""},null,null,null,null,null,"Augusti",null,"Provdatum:",null,{"$f":"Resultat!$C253","v":""}]
[null,"Djup","Temp","Syrehalt",null,null,null,null,null,null,null,"Djup","Temp","Syrehalt",null,null,null,null,null,null,null,"Djup","Temp","Syrehalt",null,null,null,null,null,null,null,"Djup","Temp","Syrehalt"]
[null,"(m)","(°C)","(mg/l)",null,null,null,null,null,null,null,"(m)","(°C)","(mg/l)",null,null,null,null,null,null,null,"(m)","(°C)","(mg/l)",null,null,null,null,null,null,null,"(m)","(°C)","(mg/l)"]
[null,0.5,{"$f":"IF(Resultat!$D253=\"\",0,Resultat!$D253)","v":0},{"$f":"IF(Resultat!$E253=\"\",0,Resultat!$E253)","v":0},null,null,null,null,null,null,null,0.5,null,null,null,null,null,null,null,null,null,0.5,null,null,null,null,null,null,null,null,null,0.5]
[null,1,null,null,null,null,null,null,null,null,null,1,null,null,null,null,null,null,null,null,null,1,null,null,null,null,null,null,null,null,null,1]
[null,2,null,null,null,null,null,null,null,null,null,2,null,null,null,null,null,null,null,null,null,2,null,null,null,null,null,null,null,null,null,2]
[null,3,null,null,null,null,null,null,null,null,null,3,null,null,null,null,null,null,null,null,null,3,null,null,null,null,null,null,null,null,null,3]
[null,4,null,null,null,null,null,null,null,null,null,4,null,null,null,null,null,null,null,null,null,4,null,null,null,null,null,null,null,null,null,4]
[null,5,null,null,null,null,null,null,null,null,null,5,null,null,null,null,null,null,null,null,null,5,null,null,null,null,null,null,null,null,null,5]
[null,6,null,null,null,null,null,null,null,null,null,6,null,null,null,null,null,null,null,null,null,6,null,null,null,null,null,null,null,null,null,6]
[null,7,null,null,null,null,null,null,null,null,null,7,null,null,null,null,null,null,null,null,null,7,null,null,null,null,null,null,null,null,null,7]
[null,8,null,null,null,null,null,null,null,null,null,8,null,null,null,null,null,null,null,null,null,8,null,null,null,null,null,null,null,null,null,8]
[null,9,null,null,null,null,null,null,null,null,null,9,null,null,null,null,null,null,null,null,null,9,null,null,null,null,null,null,null,null,null,9]
[null,10,null,null,null,null,null,null,null,null,null,10,null,null,null,null,null,null,null,null,null,10,null,null,null,null,null,null,null,null,null,10]
[null,11,null,null,null,null,null,null,null,null,null,11,null,null,null,null,null,null,null,null,null,11,null,null,null,null,null,null,null,null,null,11]
[null,12,null,null,null,null,null,null,null,null,null,12,null,null,null,null,null,null,null,null,null,12,null,null,null,null,null,null,null,null,null,12]
[null,13,null,null,null,null,null,null,null,null,null,13,null,null,null,null,null,null,null,null,null,13,null,null,null,null,null,null,null,null,null,13]
[null,14,null,null,null,null,null,null,null,null,null,14,null,null,null,null,null,null,null,null,null,14,null,null,null,null,null,null,null,null,null,14]
[null,15,{"$f":"IF(Resultat!$D254=\"\",0,Resultat!$D254)","v":0},{"$f":"IF(Resultat!$E254=\"\",0,Resultat!$E254)","v":0},null,null,null,null,null,null,null,15,null,null,null,null,null,null,null,null,null,15,null,null,null,null,null,null,null,null,null,15]
[null,16,null,null,null,null,null,null,null,null,null,16,null,null,null,null,null,null,null,null,null,16,null,null,null,null,null,null,null,null,null,16]
[]
[]
[]
[null,"Ri4 Östra Ringsjön",null,null,null,null,null,null,null,null,null,"Östra Ringsjön, 12m djup",null,null,null,null,null,null,null,null,null,"Östra Ringsjön, 8m djup",null,null,null,null,null,null,null,null,null,"Östra Ringsjön, 5m djup"]
[null,"September",null,"Provdatum:",null,{"$f":"Resultat!$C295","v":""},null,null,null,null,null,"September",null,"Provdatum:",null,{"$f":"Resultat!$C295","v":""},null,null,null,null,null,"September",null,"Provdatum:",null,{"$f":"Resultat!$C295","v":""},null,null,null,null,null,"September",null,"Provdatum:",null,{"$f":"Resultat!$C295","v":""}]
[null,"Djup","Temp","Syrehalt",null,null,null,null,null,null,null,"Djup","Temp","Syrehalt",null,null,null,null,null,null,null,"Djup","Temp","Syrehalt",null,null,null,null,null,null,null,"Djup","Temp","Syrehalt"]
[null,"(m)","(°C)","(mg/l)",null,null,null,null,null,null,null,"(m)","(°C)","(mg/l)",null,null,null,null,null,null,null,"(m)","(°C)","(mg/l)",null,null,null,null,null,null,null,"(m)","(°C)","(mg/l)"]
[null,0.5,{"$f":"IF(Resultat!$D295=\"\",0,Resultat!$D295)","v":0},{"$f":"IF(Resultat!$E295=\"\",0,Resultat!$E295)","v":0},null,null,null,null,null,null,null,0.5,null,null,null,null,null,null,null,null,null,0.5,null,null,null,null,null,null,null,null,null,0.5]
[null,1,null,null,null,null,null,null,null,null,null,1,null,null,null,null,null,null,null,null,null,1,null,null,null,null,null,null,null,null,null,1]
[null,2,null,null,null,null,null,null,null,null,null,2,null,null,null,null,null,null,null,null,null,2,null,null,null,null,null,null,null,null,null,2]
[null,3,null,null,null,null,null,null,null,null,null,3,null,null,null,null,null,null,null,null,null,3,null,null,null,null,null,null,null,null,null,3]
[null,4,null,null,null,null,null,null,null,null,null,4,null,null,null,null,null,null,null,null,null,4,null,null,null,null,null,null,null,null,null,4]
[null,5,null,null,null,null,null,null,null,null,null,5,null,null,null,null,null,null,null,null,null,5,null,null,null,null,null,null,null,null,null,5]
[null,6,null,null,null,null,null,null,null,null,null,6,null,null,null,null,null,null,null,null,null,6,null,null,null,null,null,null,null,null,null,6]
[null,7,null,null,null,null,null,null,null,null,null,7,null,null,null,null,null,null,null,null,null,7,null,null,null,null,null,null,null,null,null,7]
[null,8,null,null,null,null,null,null,null,null,null,8,null,null,null,null,null,null,null,null,null,8,null,null,null,null,null,null,null,null,null,8]
[null,9,null,null,null,null,null,null,null,null,null,9,null,null,null,null,null,null,null,null,null,9,null,null,null,null,null,null,null,null,null,9]
[null,10,null,null,null,null,null,null,null,null,null,10,null,null,null,null,null,null,null,null,null,10,null,null,null,null,null,null,null,null,null,10]
[null,11,null,null,null,null,null,null,null,null,null,11,null,null,null,null,null,null,null,null,null,11,null,null,null,null,null,null,null,null,null,11]
[null,12,null,null,null,null,null,null,null,null,null,12,null,null,null,null,null,null,null,null,null,12,null,null,null,null,null,null,null,null,null,12]
[null,13,null,null,null,null,null,null,null,null,null,13,null,null,null,null,null,null,null,null,null,13,null,null,null,null,null,null,null,null,null,13]
[null,14,null,null,null,null,null,null,null,null,null,14,null,null,null,null,null,null,null,null,null,14,null,null,null,null,null,null,null,null,null,14]
[null,15,{"$f":"IF(Resultat!$D296=\"\",0,Resultat!$D296)","v":0},{"$f":"IF(Resultat!$E296=\"\",0,Resultat!$E296)","v":0},null,null,null,null,null,null,null,15,null,null,null,null,null,null,null,null,null,15,null,null,null,null,null,null,null,null,null,15]
[null,16,null,null,null,null,null,null,null,null,null,16,null,null,null,null,null,null,null,null,null,16,null,null,null,null,null,null,null,null,null,16]
[]
[]
[]
[null,"Ri4 Östra Ringsjön",null,null,null,null,null,null,null,null,null,"Ri4 Östra Ringsjön",null,null,null,null,null,null,null,null,null,"Ri4 Östra Ringsjön"]
[null,"Oktober",null,"Provdatum:",null,{"$f":"Resultat!$C314","v":""},"Syrgasprofil missad",null,null,null,null,"November",null,"Provdatum:",null,{"$f":"Resultat!$C353","v":""},null,null,null,null,null,"December",null,"Provdatum:",null,{"$f":"Resultat!$C370","v":""}]
[null,"Djup","Temp","Syrehalt",null,null,null,null,null,null,null,"Djup","Temp","Syrehalt",null,null,null,null,null,null,null,"Djup","Temp","Syrehalt"]
[null,"(m)","(°C)","(mg/l)",null,null,null,null,null,null,null,"(m)","(°C)","(mg/l)",null,null,null,null,null,null,null,"(m)","(°C)","(mg/l)"]
[null,0.5,{"$f":"IF(Resultat!$D314=\"\",0,Resultat!$D314)","v":0},{"$f":"IF(Resultat!$E314=\"\",0,Resultat!$E314)","v":0},null,null,null,null,null,null,null,0.5,{"$f":"IF(Resultat!$D353=\"\",0,Resultat!$D353)","v":0},{"$f":"IF(Resultat!$E353=\"\",0,Resultat!$E353)","v":0},null,null,null,null,null,null,null,0.5,{"$f":"IF(Resultat!$D370=\"\",0,Resultat!$D370)","v":0},{"$f":"IF(Resultat!$E370=\"\",0,Resultat!$E370)","v":0}]
[null,1,null,null,null,null,null,null,null,null,null,1,null,null,null,null,null,null,null,null,null,1]
[null,2,null,null,null,null,null,null,null,null,null,2,null,null,null,null,null,null,null,null,null,2]
[null,3,null,null,null,null,null,null,null,null,null,3,null,null,null,null,null,null,null,null,null,3]
[null,4,null,null,null,null,null,null,null,null,null,4,null,null,null,null,null,null,null,null,null,4]
[null,5,null,null,null,null,null,null,null,null,null,5,null,null,null,null,null,null,null,null,null,5]
[null,6,null,null,null,null,null,null,null,null,null,6,null,null,null,null,null,null,null,null,null,6]
[null,7,null,null,null,null,null,null,null,null,null,7,null,null,null,null,null,null,null,null,null,7]
[null,8,null,null,null,null,null,null,null,null,null,8,null,null,null,null,null,null,null,null,null,8]
[null,9,null,null,null,null,null,null,null,null,null,9,null,null,null,null,null,null,null,null,null,9]
[null,10,null,null,null,null,null,null,null,null,null,10,null,null,null,null,null,null,null,null,null,10]
[null,11,null,null,null,null,null,null,null,null,null,11,null,null,null,null,null,null,null,null,null,11]
[null,12,null,null,null,null,null,null,null,null,null,12,null,null,null,null,null,null,null,null,null,12]
[null,13,null,null,null,null,null,null,null,null,null,13,null,null,null,null,null,null,null,null,null,13]
[null,14,null,null,null,null,null,null,null,null,null,14,null,null,null,null,null,null,null,null,null,14]
[null,15,null,null,null,null,null,null,null,null,null,15,null,null,null,null,null,null,null,null,null,15]
[null,16,null,null,null,null,null,null,null,null,null,16,null,null,null,null,null,null,null,null,null,16]
[]
[]
[]
[null,"Ri5 Sätoftasjön",null,null,null,null,null,null,null,null,null,"Ri5 Sätoftasjön",null,null,null,null,null,null,null,null,null,"Ri5 Sätoftasjön"]
[null,"Januari",null,"Provdatum:",null,{"$f":"Resultat!$C18","v":"2025-01-15"},null,null,null,null,null,"Februari",null,"Provdatum:",null,{"$f":"Resultat!$C67","v":"2025-02-10"},null,null,null,null,null,"Mars",null,"Provdatum:",null,{"$f":"Resultat!$C84","v":""}]
[null,"Djup","Temp","Syrehalt",null,null,null,null,null,null,null,"Djup","Temp","Syrehalt",null,null,null,null,null,null,null,"Djup","Temp","Syrehalt"]
[null,"(m)","(°C)","(mg/l)",null,null,null,null,null,null,null,"(m)","(°C)","(mg/l)",null,null,null,null,null,null,null,"(m)","(°C)","(mg/l)"]
[null,0.5,{"$f":"IF(Resultat!$D18=\"\",0,Resultat!$D18)","v":0.7},{"$f":"IF(Resultat!$E18=\"\",0,Resultat!$E18)","v":13.8},null,null,null,null,null,null,null,0.5,{"$f":"IF(Resultat!$D67=\"\",0,Resultat!$D67)","v":1.7},{"$f":"IF(Resultat!$E67=\"\",0,Resultat!$E67)","v":14.1},null,null,null,null,null,null,null,0.5,{"$f":"IF(Resultat!$D84=\"\",0,Resultat!$D84)","v":0},{"$f":"IF(Resultat!$E84=\"\",0,Resultat!$E84)","v":0}]
[null,1,null,null,null,null,null,null,null,null,null,1,null,null,null,null,null,null,null,null,null,1]
[null,2,null,null,null,null,null,null,null,null,null,2,null,null,null,null,null,null,null,null,null,2]
[null,3,null,null,null,null,null,null,null,null,null,3,null,null,null,null,null,null,null,null,null,3]
[null,4,null,null,null,null,null,null,null,null,null,4,null,null,null,null,null,null,null,null,null,4]
[null,5,null,null,null,null,null,null,null,null,null,5,null,null,null,null,null,null,null,null,null,5]
[null,6,null,null,null,null,null,null,null,null,null,6,null,null,null,null,null,null,null,null,null,6]
[null,7,null,null,null,null,null,null,null,null,null,7,null,null,null,null,null,null,null,null,null,7]
[null,8,null,null,null,null,null,null,null,null,null,8,null,null,null,null,null,null,null,null,null,8]
[null,9,null,null,null,null,null,null,null,null,null,9,null,null,null,null,null,null,null,null,null,9]
[null,10,null,null,null,null,null,null,null,null,null,10,null,null,null,null,null,null,null,null,null,10]
[null,11,null,null,null,null,null,null,null,null,null,11,null,null,null,null,null,null,null,null,null,11]
[null,12,null,null,null,null,null,null,null,null,null,12,null,null,null,null,null,null,null,null,null,12]
[null,13,null,null,null,null,null,null,null,null,null,13,null,null,null,null,null,null,null,null,null,13]
[null,14,null,null,null,null,null,null,null,null,null,14,null,null,null,null,null,null,null,null,null,14]
[null,15,1.1000000000000001,13.1,null,null,null,null,null,null,null,15,1.7,14,null,null,null,null,null,null,null,15]
[null,16,null,null,null,null,null,null,null,null,null,16,null,null,null,null,null,null,null,null,null,16]
[]
[]
[]
[null,"Ri5 Sätoftasjön"]
[null,"April",null,"Provdatum:",null,{"$f":"Resultat!$C123","v":""}]
[null,"Djup","Temp","Syrehalt"]
[null,"(m)","(°C)","(mg/l)"]
[null,0.5,{"$f":"IF(Resultat!$D123=\"\",0,Resultat!$D123)","v":0},{"$f":"IF(Resultat!$E123=\"\",0,Resultat!$E123)","v":0}]
[null,1]
[null,2]
[null,3]
[null,4]
[null,5]
[null,6]
[null,7]
[null,8]
[null,9]
[null,10]
[null,11]
[null,12]
[null,13]
[null,14]
[null,15]
[null,16]
[]
[]
[]
[null,"Ri5 Sätoftasjön",null,null,null,null,null,null,null,null,null,"Sätoftasjön, 12 m djup",null,null,null,null,null,null,null,null,null,"Sätoftasjön, 8 m djup",null,null,null,null,null,null,null,null,null,"Sätoftasjön, 5 m djup"]
[null,"Maj",null,"Provdatum:",null,{"$f":"Resultat!$C140","v":""},null,null,null,null,null,"Maj",null,"Provdatum:",null,{"$f":"Resultat!$C140","v":""},null,null,null,null,null,"Maj",null,"Provdatum:",null,{"$f":"Resultat!$C140","v":""},null,null,null,null,null,"Maj",null,"Provdatum:",null,{"$f":"Resultat!$C140","v":""}]
[null,"Djup","Temp","Syrehalt",null,null,null,null,null,null,null,"Djup","Temp","Syrehalt",null,null,null,null,null,null,null,"Djup","Temp","Syrehalt",null,null,null,null,null,null,null,"Djup","Temp","Syrehalt"]
[null,"(m)","(°C)","(mg/l)",null,null,null,null,null,null,null,"(m)","(°C)","(mg/l)",null,null,null,null,null,null,null,"(m)","(°C)","(mg/l)",null,null,null,null,null,null,null,"(m)","(°C)","(mg/l)"]
[null,0.5,{"$f":"IF(Resultat!$D140=\"\",0,Resultat!$D140)","v":0},{"$f":"IF(Resultat!$E140=\"\",0,Resultat!$E140)","v":0},null,null,null,null,null,null,null,0.5,null,null,null,null,null,null,null,null,null,0.5,null,null,null,null,null,null,null,null,null,0.5]
[null,1,null,null,null,null,null,null,null,null,null,1,null,null,null,null,null,null,null,null,null,1,null,null,null,null,null,null,null,null,null,1]
[null,2,null,null,null,null,null,null,null,null,null,2,null,null,null,null,null,null,null,null,null,2,null,null,null,null,null,null,null,null,null,2]
[null,3,null,null,null,null,null,null,null,null,null,3,null,null,null,null,null,null,null,null,null,3,null,null,null,null,null,null,null,null,null,3]
[null,4,null,null,null,null,null,null,null,null,null,4,null,null,null,null,null,null,null,null,null,4,null,null,null,null,null,null,null,null,null,4]
[null,5,null,null,null,null,null,null,null,null,null,5,null,null,null,null,null,null,null,null,null,5,null,null,null,null,null,null,null,null,null,5]
[null,6,null,null,null,null,null,null,null,null,null,6,null,null,null,null,null,null,null,null,null,6,null,null,null,null,null,null,null,null,null,6]
[null,7,null,null,null,null,null,null,null,null,null,7,null,null,null,null,null,null,null,null,null,7,null,null,null,null,null,null,null,null,null,7]
[null,8,null,null,null,null,null,null,null,null,null,8,null,null,null,null,null,null,null,null,null,8,null,null,null,null,null,null,null,null,null,8]
[null,9,null,null,null,null,null,null,null,null,null,9,null,null,null,null,null,null,null,null,null,9,null,null,null,null,null,null,null,null,null,9]
[null,10,null,null,null,null,null,null,null,null,null,10,null,null,null,null,null,null,null,null,null,10,null,null,null,null,null,null,null,null,null,10]
[null,11,null,null,null,null,null,null,null,null,null,11,null,null,null,null,null,null,null,null,null,11,null,null,null,null,null,null,null,null,null,11]
[null,12,null,null,null,null,null,null,null,null,null,12,null,null,null,null,null,null,null,null,null,12,null,null,null,null,null,null,null,null,null,12]
[null,13,null,null,null,null,null,null,null,null,null,13,null,null,null,null,null,null,null,null,null,13,null,null,null,null,null,null,null,null,null,13]
[null,14,null,null,null,null,null,null,null,null,null,14,null,null,null,null,null,null,null,null,null,14,null,null,null,null,null,null,null,null,null,14]
[null,15,null,null,null,null,null,null,null,null,null,15,null,null,null,null,null,null,null,null,null,15,null,null,null,null,null,null,null,null,null,15]
[null,16,null,null,null,null,null,null,null,null,null,16,null,null,null,null,null,null,null,null,null,16,null,null,null,null,null,null,null,null,null,16]
[]
[]
[]
[null,"Ri5 Sätoftasjön",null,null,null,null,null,null,null,null,null,"Sätoftasjön, 12 m djup",null,null,null,null,null,null,null,null,null,"Sätoftasjön, 8 m djup",null,null,null,null,null,null,null,null,null,"Sätoftasjön, 5 m djup"]
[null,"Juni",null,"Provdatum:",null,{"$f":"Resultat!$C157","v":""},null,null,null,null,null,"Juni",null,"Provdatum:",null,{"$f":"Resultat!$C157","v":""},null,null,null,null,null,"Juni",null,"Provdatum:",null,{"$f":"Resultat!$C157","v":""},null,null,null,null,null,"Juni",null,"Provdatum:",null,{"$f":"Resultat!$C157","v":""}]
[null,"Djup","Temp","Syrehalt",null,null,null,null,null,null,null,"Djup","Temp","Syrehalt",null,null,null,null,null,null,null,"Djup","Temp","Syrehalt",null,null,null,null,null,null,null,"Djup","Temp","Syrehalt"]
[null,"(m)","(°C)","(mg/l)",null,null,null,null,null,null,null,"(m)","(°C)","(mg/l)",null,null,null,null,null,null,null,"(m)","(°C)","(mg/l)",null,null,null,null,null,null,null,"(m)","(°C)","(mg/l)"]
[null,0.5,{"$f":"IF(Resultat!$D157=\"\",0,Resultat!$D157)","v":0},{"$f":"IF(Resultat!$E157=\"\",0,Resultat!$E157)","v":0},null,null,null,null,null,null,null,0.5,null,null,null,null,null,null,null,null,null,0.5,null,null,null,null,null,null,null,null,null,0.5]
[null,1,null,null,null,null,null,null,null,null,null,1,null,null,null,null,null,null,null,null,null,1,null,null,null,null,null,null,null,null,null,1]
[null,2,null,null,null,null,null,null,null,null,null,2,null,null,null,null,null,null,null,null,null,2,null,null,null,null,null,null,null,null,null,2]
[null,3,null,null,null,null,null,null,null,null,null,3,null,null,null,null,null,null,null,null,null,3,null,null,null,null,null,null,null,null,null,3]
[null,4,null,null,null,null,null,null,null,null,null,4,null,null,null,null,null,null,null,null,null,4,null,null,null,null,null,null,null,null,null,4]
[null,5,null,null,null,null,null,null,null,null,null,5,null,null,null,null,null,null,null,null,null,5,null,null,null,null,null,null,null,null,null,5]
[null,6,null,null,null,null,null,null,null,null,null,6,null,null,null,null,null,null,null,null,null,6,null,null,null,null,null,null,null,null,null,6]
[null,7,null,null,null,null,null,null,null,null,null,7,null,null,null,null,null,null,null,null,null,7,null,null,null,null,null,null,null,null,null,7]
[null,8,null,null,null,null,null,null,null,null,null,8,null,null,null,null,null,null,null,null,null,8,null,null,null,null,null,null,null,null,null,8]
[null,9,null,null,null,null,null,null,null,null,null,9,null,null,null,null,null,null,null,null,null,9,null,null,null,null,null,null,null,null,null,9]
[null,10,null,null,null,null,null,null,null,null,null,10,null,null,null,null,null,null,null,null,null,10,null,null,null,null,null,null,null,null,null,10]
[null,11,null,null,null,null,null,null,null,null,null,11,null,null,null,null,null,null,null,null,null,11,null,null,null,null,null,null,null,null,null,11]
[null,12,null,null,null,null,null,null,null,null,null,12,null,null,null,null,null,null,null,null,null,12,null,null,null,null,null,null,null,null,null,12]
[null,13,null,null,null,null,null,null,null,null,null,13,null,null,null,null,null,null,null,null,null,13,null,null,null,null,null,null,null,null,null,13]
[null,14,null,null,null,null,null,null,null,null,null,14,null,null,null,null,null,null,null,null,null,14,null,null,null,null,null,null,null,null,null,14]
[null,15,{"$f":"IF(Resultat!$D158=\"\",0,Resultat!$D158)","v":0},{"$f":"IF(Resultat!$E158=\"\",0,Resultat!$E158)","v":0},null,null,null,null,null,null,null,15,null,null,null,null,null,null,null,null,null,15,null,null,null,null,null,null,null,null,null,15]
[null,16,null,null,null,null,null,null,null,null,null,16,null,null,null,null,null,null,null,null,null,16,null,null,null,null,null,null,null,null,null,16]
[]
[]
[]
[null,"Ri5 Sätoftasjön",null,null,null,null,null,null,null,null,null,"Sätoftasjön, 12 m djup",null,null,null,null,null,null,null,null,null,"Sätoftasjön, 8 m djup",null,null,null,null,null,null,null,null,null,"Sätoftasjön, 5 m djup"]
[null,"Juli",null,"Provdatum:",null,{"$f":"Resultat!$C199","v":""},null,null,null,null,null,"Juli",null,"Provdatum:",null,{"$f":"Resultat!$C199","v":""},null,null,null,null,null,"Juli",null,"Provdatum:",null,{"$f":"Resultat!$C199","v":""},null,null,null,null,null,"Juli",null,"Provdatum:",null,{"$f":"Resultat!$C199","v":""}]
[null,"Djup","Temp","Syrehalt",null,null,null,null,null,null,null,"Djup","Temp","Syrehalt",null,null,null,null,null,null,null,"Djup","Temp","Syrehalt",null,null,null,null,null,null,null,"Djup","Temp","Syrehalt"]
[null,"(m)","(°C)","(mg/l)",null,null,null,null,null,null,null,"(m)","(°C)","(mg/l)",null,null,null,null,null,null,null,"(m)","(°C)","(mg/l)",null,null,null,null,null,null,null,"(m)","(°C)","(mg/l)"]
[null,0.5,{"$f":"IF(Resultat!$D199=\"\",0,Resultat!$D199)","v":0},{"$f":"IF(Resultat!$E199=\"\",0,Resultat!$E199)","v":0},null,null,null,null,null,null,null,0.5,null,null,null,null,null,null,null,null,null,0.5,null,null,null,null,null,null,null,null,null,0.5]
[null,1,null,null,null,null,null,null,null,null,null,1,null,null,null,null,null,null,null,null,null,1,null,null,null,null,null,null,null,null,null,1]
[null,2,null,null,null,null,null,null,null,null,null,2,null,null,null,null,null,null,null,null,null,2,null,null,null,null,null,null,null,null,null,2]
[null,3,null,null,null,null,null,null,null,null,null,3,null,null,null,null,null,null,null,null,null,3,null,null,null,null,null,null,null,null,null,3]
[null,4,null,null,null,null,null,null,null,null,null,4,null,null,null,null,null,null,null,null,null,4,null,null,null,null,null,null,null,null,null,4]
[null,5,null,null,null,null,null,null,null,null,null,5,null,null,null,null,null,null,null,null,null,5,null,null,null,null,null,null,null,null,null,5]
[null,6,null,null,null,null,null,null,null,null,null,6,null,null,null,null,null,null,null,null,null,6,null,null,null,null,null,null,null,null,null,6]
[null,7,null,null,null,null,null,null,null,null,null,7,null,null,null,null,null,null,null,null,null,7,null,null,null,null,null,null,null,null,null,7]
[null,8,null,null,null,null,null,null,null,null,null,8,null,null,null,null,null,null,null,null,null,8,null,null,null,null,null,null,null,null,null,8]
[null,9,null,null,null,null,null,null,null,null,null,9,null,null,null,null,null,null,null,null,null,9,null,null,null,null,null,null,null,null,null,9]
[null,10,null,null,null,null,null,null,null,null,null,10,null,null,null,null,null,null,null,null,null,10,null,null,null,null,null,null,null,null,null,10]
[null,11,null,null,null,null,null,null,null,null,null,11,null,null,null,null,null,null,null,null,null,11,null,null,null,null,null,null,null,null,null,11]
[null,12,null,null,null,null,null,null,null,null,null,12,null,null,null,null,null,null,null,null,null,12,null,null,null,null,null,null,null,null,null,12]
[null,13,null,null,null,null,null,null,null,null,null,13,null,null,null,null,null,null,null,null,null,13,null,null,null,null,null,null,null,null,null,13]
[null,14,null,null,null,null,null,null,null,null,null,14,null,null,null,null,null,null,null,null,null,14,null,null,null,null,null,null,null,null,null,14]
[null,15,{"$f":"IF(Resultat!$D200=\"\",0,Resultat!$D200)","v":0},{"$f":"IF(Resultat!$E200=\"\",0,Resultat!$E200)","v":0},null,null,null,null,null,null,null,15,null,null,null,null,null,null,null,null,null,15,null,null,null,null,null,null,null,null,null,15]
[null,16,null,null,null,null,null,null,null,null,null,16,null,null,null,null,null,null,null,null,null,16,null,null,null,null,null,null,null,null,null,16]
[]
[]
[]
[null,"Ri5 Sätoftasjön",null,null,null,null,null,null,null,null,null,"Sätoftasjön, 12 m djup",null,null,null,null,null,null,null,null,null,"Sätoftasjön, 8 m djup",null,null,null,null,null,null,null,null,null,"Sätoftasjön, 5 m djup"]
[null,"Augusti",null,"Provdatum:",null,{"$f":"Resultat!$C251","v":""},null,null,null,null,null,"Augusti",null,"Provdatum:",null,{"$f":"Resultat!$C251","v":""},null,null,null,null,null,"Augusti",null,"Provdatum:",null,{"$f":"Resultat!$C251","v":""},null,null,null,null,null,"Augusti",null,"Provdatum:",null,{"$f":"Resultat!$C251","v":""}]
[null,"Djup","Temp","Syrehalt",null,null,null,null,null,null,null,"Djup","Temp","Syrehalt",null,null,null,null,null,null,null,"Djup","Temp","Syrehalt",null,null,null,null,null,null,null,"Djup","Temp","Syrehalt"]
[null,"(m)","(°C)","(mg/l)",null,null,null,null,null,null,null,"(m)","(°C)","(mg/l)",null,null,null,null,null,null,null,"(m)","(°C)","(mg/l)",null,null,null,null,null,null,null,"(m)","(°C)","(mg/l)"]
[null,0.5,{"$f":"IF(Resultat!$D251=\"\",0,Resultat!$D251)","v":0},{"$f":"IF(Resultat!$E251=\"\",0,Resultat!$E251)","v":0},null,null,null,null,null,null,null,0.5,null,null,null,null,null,null,null,null,null,0.5,null,null,null,null,null,null,null,null,null,0.5]
[null,1,null,null,null,null,null,null,null,null,null,1,null,null,null,null,null,null,null,null,null,1,null,null,null,null,null,null,null,null,null,1]
[null,2,null,null,null,null,null,null,null,null,null,2,null,null,null,null,null,null,null,null,null,2,null,null,null,null,null,null,null,null,null,2]
[null,3,null,null,null,null,null,null,null,null,null,3,null,null,null,null,null,null,null,null,null,3,null,null,null,null,null,null,null,null,null,3]
[null,4,null,null,null,null,null,null,null,null,null,4,null,null,null,null,null,null,null,null,null,4,null,null,null,null,null,null,null,null,null,4]
[null,5,null,null,null,null,null,null,null,null,null,5,null,null,null,null,null,null,null,null,null,5,null,null,null,null,null,null,null,null,null,5]
[null,6,null,null,null,null,null,null,null,null,null,6,null,null,null,null,null,null,null,null,null,6,null,null,null,null,null,null,null,null,null,6]
[null,7,null,null,null,null,null,null,null,null,null,7,null,null,null,null,null,null,null,null,null,7,null,null,null,null,null,null,null,null,null,7]
[null,8,null,null,null,null,null,null,null,null,null,8,null,null,null,null,null,null,null,null,null,8,null,null,null,null,null,null,null,null,null,8]
[null,9,null,null,null,null,null,null,null,null,null,9,null,null,null,null,null,null,null,null,null,9,null,null,null,null,null,null,null,null,null,9]
[null,10,null,null,null,null,null,null,null,null,null,10,null,null,null,null,null,null,null,null,null,10,null,null,null,null,null,null,null,null,null,10]
[null,11,null,null,null,null,null,null,null,null,null,11,null,null,null,null,null,null,null,null,null,11,null,null,null,null,null,null,null,null,null,11]
[null,12,null,null,null,null,null,null,null,null,null,12,null,null,null,null,null,null,null,null,null,12,null,null,null,null,null,null,null,null,null,12]
[null,13,null,null,null,null,null,null,null,null,null,13,null,null,null,null,null,null,null,null,null,13,null,null,null,null,null,null,null,null,null,13]
[null,14,null,null,null,null,null,null,null,null,null,14,null,null,null,null,null,null,null,null,null,14,null,null,null,null,null,null,null,null,null,14]
[null,15,{"$f":"IF(Resultat!$D252=\"\",0,Resultat!$D252)","v":0},{"$f":"IF(Resultat!$E252=\"\",0,Resultat!$E252)","v":0},null,null,null,null,null,null,null,15,null,null,null,null,null,null,null,null,null,15,null,null,null,null,null,null,null,null,null,15]
[null,16,null,null,null,null,null,null,null,null,null,16,null,null,null,null,null,null,null,null,null,16,null,null,null,null,null,null,null,null,null,16]
[]
[]
[]
[null,"Ri5 Sätoftasjön",null,null,null,null,null,null,null,null,null,"Sätoftasjön, 12 m djup",null,null,null,null,null,null,null,null,null,"Sätoftasjön, 8 m djup",null,null,null,null,null,null,null,null,null,"Sätoftasjön, 5 m djup"]
[null,"September",null,"Provdatum:",null,{"$f":"Resultat!$C293","v":""},null,null,null,null,null,"September",null,"Provdatum:",null,{"$f":"Resultat!$C293","v":""},null,null,null,null,null,"September",null,"Provdatum:",null,{"$f":"Resultat!$C293","v":""},null,null,null,null,null,"September",null,"Provdatum:",null,{"$f":"Resultat!$C293","v":""}]
[null,"Djup","Temp","Syrehalt",null,null,null,null,null,null,null,"Djup","Temp","Syrehalt",null,null,null,null,null,null,null,"Djup","Temp","Syrehalt",null,null,null,null,null,null,null,"Djup","Temp","Syrehalt"]
[null,"(m)","(°C)","(mg/l)",null,null,null,null,null,null,null,"(m)","(°C)","(mg/l)",null,null,null,null,null,null,null,"(m)","(°C)","(mg/l)",null,null,null,null,null,null,null,"(m)","(°C)","(mg/l)"]
[null,0.5,{"$f":"IF(Resultat!$D293=\"\",0,Resultat!$D293)","v":0},{"$f":"IF(Resultat!$E293=\"\",0,Resultat!$E293)","v":0},null,null,null,null,null,null,null,0.5,null,null,null,null,null,null,null,null,null,0.5,null,null,null,null,null,null,null,null,null,0.5]
[null,1,null,null,null,null,null,null,null,null,null,1,null,null,null,null,null,null,null,null,null,1,null,null,null,null,null,null,null,null,null,1]
[null,2,null,null,null,null,null,null,null,null,null,2,null,null,null,null,null,null,null,null,null,2,null,null,null,null,null,null,null,null,null,2]
[null,3,null,null,null,null,null,null,null,null,null,3,null,null,null,null,null,null,null,null,null,3,null,null,null,null,null,null,null,null,null,3]
[null,4,null,null,null,null,null,null,null,null,null,4,null,null,null,null,null,null,null,null,null,4,null,null,null,null,null,null,null,null,null,4]
[null,5,null,null,null,null,null,null,null,null,null,5,null,null,null,null,null,null,null,null,null,5,null,null,null,null,null,null,null,null,null,5]
[null,6,null,null,null,null,null,null,null,null,null,6,null,null,null,null,null,null,null,null,null,6,null,null,null,null,null,null,null,null,null,6]
[null,7,null,null,null,null,null,null,null,null,null,7,null,null,null,null,null,null,null,null,null,7,null,null,null,null,null,null,null,null,null,7]
[null,8,null,null,null,null,null,null,null,null,null,8,null,null,null,null,null,null,null,null,null,8,null,null,null,null,null,null,null,null,null,8]
[null,9,null,null,null,null,null,null,null,null,null,9,null,null,null,null,null,null,null,null,null,9,null,null,null,null,null,null,null,null,null,9]
[null,10,null,null,null,null,null,null,null,null,null,10,null,null,null,null,null,null,null,null,null,10,null,null,null,null,null,null,null,null,null,10]
[null,11,null,null,null,null,null,null,null,null,null,11,null,null,null,null,null,null,null,null,null,11,null,null,null,null,null,null,null,null,null,11]
[null,12,null,null,null,null,null,null,null,null,null,12,null,null,null,null,null,null,null,null,null,12,null,null,null,null,null,null,null,null,null,12]
[null,13,null,null,null,null,null,null,null,null,null,13,null,null,null,null,null,null,null,null,null,13,null,null,null,null,null,null,null,null,null,13]
[null,14,null,null,null,null,null,null,null,null,null,14,null,null,null,null,null,null,null,null,null,14,null,null,null,null,null,null,null,null,null,14]
[null,15,{"$f":"IF(Resultat!$D294=\"\",0,Resultat!$D294)","v":0},{"$f":"IF(Resultat!$E294=\"\",0,Resultat!$E294)","v":0},null,null,null,null,null,null,null,15,null,null,null,null,null,null,null,null,null,15,null,null,null,null,null,null,null,null,null,15]
[null,16,null,null,null,null,null,null,null,null,null,16,null,null,null,null,null,null,null,null,null,16,null,null,null,null,null,null,null,null,null,16]
[]
[]
[]
[null,"Ri5 Sätoftasjön",null,null,null,null,null,null,null,null,null,"Ri5 Sätoftasjön",null,null,null,null,null,null,null,null,null,"Ri5 Sätoftasjön"]
[null,"Oktober",null,"Provdatum:",null,{"$f":"Resultat!$C313","v":""},"Syrgasprofil missad",null,null,null,null,"November",null,"Provdatum:",null,{"$f":"Resultat!$C352","v":""},null,null,null,null,null,"December",null,"Provdatum:",null,{"$f":"Resultat!$C369","v":""}]
[null,"Djup","Temp","Syrehalt",null,null,null,null,null,null,null,"Djup","Temp","Syrehalt",null,null,null,null,null,null,null,"Djup","Temp","Syrehalt"]
[null,"(m)","(°C)","(mg/l)",null,null,null,null,null,null,null,"(m)","(°C)","(mg/l)",null,null,null,null,null,null,null,"(m)","(°C)","(mg/l)"]
[null,0.5,{"$f":"IF(Resultat!$D313=\"\",0,Resultat!$D313)","v":0},{"$f":"IF(Resultat!$E313=\"\",0,Resultat!$E313)","v":0},null,null,null,null,null,null,null,0.5,{"$f":"IF(Resultat!$D352=\"\",0,Resultat!$D352)","v":0},{"$f":"IF(Resultat!$E352=\"\",0,Resultat!$E352)","v":0},null,null,null,null,null,null,null,0.5,{"$f":"IF(Resultat!$D369=\"\",0,Resultat!$D369)","v":0},{"$f":"IF(Resultat!$E369=\"\",0,Resultat!$E369)","v":0}]
[null,1,null,null,null,null,null,null,null,null,null,1,null,null,null,null,null,null,null,null,null,1]
[null,2,null,null,null,null,null,null,null,null,null,2,null,null,null,null,null,null,null,null,null,2]
[null,3,null,null,null,null,null,null,null,null,null,3,null,null,null,null,null,null,null,null,null,3]
[null,4,null,null,null,null,null,null,null,null,null,4,null,null,null,null,null,null,null,null,null,4]
[null,5,null,null,null,null,null,null,null,null,null,5,null,null,null,null,null,null,null,null,null,5]
[null,6,null,null,null,null,null,null,null,null,null,6,null,null,null,null,null,null,null,null,null,6]
[null,7,null,null,null,null,null,null,null,null,null,7,null,null,null,null,null,null,null,null,null,7]
[null,8,null,null,null,null,null,null,null,null,null,8,null,null,null,null,null,null,null,null,null,8]
[null,9,null,null,null,null,null,null,null,null,null,9,null,null,null,null,null,null,null,null,null,9]
[null,10,null,null,null,null,null,null,null,null,null,10,null,null,null,null,null,null,null,null,null,10]
[null,11,null,null,null,null,null,null,null,null,null,11,null,null,null,null,null,null,null,null,null,11]
[null,12,null,null,null,null,null,null,null,null,null,12,null,null,null,null,null,null,null,null,null,12]
[null,13,null,null,null,null,null,null,null,null,null,13,null,null,null,null,null,null,null,null,null,13]
[null,14,null,null,null,null,null,null,null,null,null,14,null,null,null,null,null,null,null,null,null,14]
[null,15,null,null,null,null,null,null,null,null,null,15,null,null,null,null,null,null,null,null,null,15]
[null,16,null,null,null,null,null,null,null,null,null,16,null,null,null,null,null,null,null,null,null,16]

{"sheet":"RS","index":4,"n_rows":346,"n_cols":29,"rows_kept":346,"cut":false,"hidden":true,"merged":[]}
[{"$f":"TRIM(CONCATENATE(D1,E1))","v":"ProvtagningspunktProvtagn"},null,"Sorterings-","Provtagningspunkt","Provtagn"," Temp"," Syreh","Syrem","  pH"," Alkalin","Kond","   Färg","Gruml","Abs,filt","BOD7"," Perm.t.","COD-Cr","PO4-P","Tot-P filt","Tot-P"," NO3+2-N","NH4-N"," Tot-N","Ca","Mg","SO4","Klor a","Siktdjup","Anmärkning"]
[null,null,"ordning","Nr Läge","datum","  °C","mg/l","%",null,"  mmol/l","mS/m"," mgPt/l","  FNU","/5cm","mg/l","   mg/l","   mg/l"," µg/l"," µg/l"," µg/l","  µg/l","  µg/l","  µg/l","mekv/l","mekv/l","mekv/l"," µg/l","m"]
[{"$f":"TRIM(CONCATENATE(D3,E3))","v":"3 Rönneå, uppstr Bålamöllan45672"},{"$f":"CONCATENATE(D3,MONTH(E3))","v":"3  Rönneå, uppstr Bålamöllan1"},3,"3  Rönneå, uppstr Bålamöllan","2025-01-15",1.7,12.8,92,7.5,1.6,26.7,50,7.7,0.12,2.5,38.314999999999998,40,"","",77,1500,72,2400,1.9,0.33,0.41,"","",""]
["3 Rönneå, uppstr Bålamöllan45698","3  Rönneå, uppstr Bålamöllan2",3,"3  Rönneå, uppstr Bålamöllan","2025-02-10",2.1,13.9,101,8,1.8,26.6,60,5.3,8.1000000000000003E-2,2.9,31.995000000000001,"<30","","",43,730,"<10",1300,2,0.26,0.33,"","",""]
["3 Rönneå, uppstr Bålamöllan",{"$error":"#VALUE!"},3,"3  Rönneå, uppstr Bålamöllan","","","","","","","","","","","","","","","","","","","","","","","","",""]
["3 Rönneå, uppstr Bålamöllan",{"$error":"#VALUE!"},3,"3  Rönneå, uppstr Bålamöllan","","","","","","","","","","","","","","","","","","","","","","","","",""]
["3 Rönneå, uppstr Bålamöllan",{"$error":"#VALUE!"},3,"3  Rönneå, uppstr Bålamöllan","","","","","","","","","","","","","","","","","","","","","","","","",""]
["3 Rönneå, uppstr Bålamöllan",{"$error":"#VALUE!"},3,"3  Rönneå, uppstr Bålamöllan","","","","","","","","","","","","","","","","","","","","","","","","",""]
["3 Rönneå, uppstr Bålamöllan",{"$error":"#VALUE!"},3,"3  Rönneå, uppstr Bålamöllan","","","","","","","","","","","","","","","","","","","","","","","","",""]
["3 Rönneå, uppstr Bålamöllan",{"$error":"#VALUE!"},3,"3  Rönneå, uppstr Bålamöllan","","","","","","","","","","","","","","","","","","","","","","","","",""]
["3 Rönneå, uppstr Bålamöllan",{"$error":"#VALUE!"},3,"3  Rönneå, uppstr Bålamöllan","","","","","","","","","","","","","","","","","","","","","","","","",""]
["3 Rönneå, uppstr Bålamöllan",{"$error":"#VALUE!"},3,"3  Rönneå, uppstr Bålamöllan","","","","","","","","","","","","","","","","","","","","","","","","",""]
["3 Rönneå, uppstr Bålamöllan",{"$f":"CONCATENATE(D13,MONTH(E13))","v":{"$error":"#VALUE!"}},3,"3  Rönneå, uppstr Bålamöllan","","","","","","","","","","","","","","","","","","","","","","","","",""]
["3 Rönneå, uppstr Bålamöllan",{"$error":"#VALUE!"},3,"3  Rönneå, uppstr Bålamöllan","","","","","","","","","","","","","","","","","","","","","","","","",""]
["75 Rönneå, Bögerup vid bron innan Bolebäcken45698","75 Rönneå, Bögerup vid bron innan Bolebäcken2",5,"75 Rönneå, Bögerup vid bron innan Bolebäcken","2025-02-10",2,13.9,100,7.9,1.6,25.5,100,5.7,9.9000000000000005E-2,2.6,33.18,"<30","","",41,810,14,1400,2,0.28000000000000003,0.34,"","",""]
["75 Rönneå, Bögerup vid bron innan Bolebäcken",{"$error":"#VALUE!"},5,"75 Rönneå, Bögerup vid bron innan Bolebäcken","","","","","","","","","","","","","","","","","","","","","","","","",""]
["75 Rönneå, Bögerup vid bron innan Bolebäcken",{"$error":"#VALUE!"},5,"75 Rönneå, Bögerup vid bron innan Bolebäcken","","","","","","","","","","","","","","","","","","","","","","","","",""]
["75 Rönneå, Bögerup vid bron innan Bolebäcken",{"$error":"#VALUE!"},5,"75 Rönneå, Bögerup vid bron innan Bolebäcken","","","","","","","","","","","","","","","","","","","","","","","","",""]
["75 Rönneå, Bögerup vid bron innan Bolebäcken",{"$error":"#VALUE!"},5,"75 Rönneå, Bögerup vid bron innan Bolebäcken","","","","","","","","","","","","","","","","","","","","","","","","",""]
["75 Rönneå, Bögerup vid bron innan Bolebäcken",{"$error":"#VALUE!"},5,"75 Rönneå, Bögerup vid bron innan Bolebäcken","","","","","","","","","","","","","","","","","","","","","","","","",""]
["11 Rönneå, vid Djupadalsmölla45672","11 Rönneå, vid Djupadalsmölla1",10,"11 Rönneå, vid Djupadalsmölla","2025-01-15",2.1,13,94,7.6,1.6,27.9,50,7.7,0.13,2.2000000000000002,35.550000000000004,33,"","",62,1900,97,2400,2,0.38,0.46,"","",""]
["11 Rönneå, vid Djupadalsmölla45698","11 Rönneå, vid Djupadalsmölla2",10,"11 Rönneå, vid Djupadalsmölla","2025-02-10",2.1,13.9,101,7.9,1.8,26.3,50,5.4,0.09,2.4,31.205000000000002,"<30","","",41,880,"<10",1400,2,0.28000000000000003,0.35,"","",""]
["11 Rönneå, vid Djupadalsmölla",{"$error":"#VALUE!"},10,"11 Rönneå, vid Djupadalsmölla","","","","","","","","","","","","","","","","","","","","","","","","",""]
["11 Rönneå, vid Djupadalsmölla",{"$error":"#VALUE!"},10,"11 Rönneå, vid Djupadalsmölla","","","","","","","","","","","","","","","","","","","","","","","","",""]
["11 Rönneå, vid Djupadalsmölla",{"$error":"#VALUE!"},10,"11 Rönneå, vid Djupadalsmölla","","","","","","","","","","","","","","","","","","","","","","","","",""]
["11 Rönneå, vid Djupadalsmölla",{"$error":"#VALUE!"},10,"11 Rönneå, vid Djupadalsmölla","","","","","","","","","","","","","","","","","","","","","","","","",""]
["11 Rönneå, vid Djupadalsmölla",{"$error":"#VALUE!"},10,"11 Rönneå, vid Djupadalsmölla","","","","","","","","","","","","","","","","","","","","","","","","",""]
["11 Rönneå, vid Djupadalsmölla",{"$error":"#VALUE!"},10,"11 Rönneå, vid Djupadalsmölla","","","","","","","","","","","","","","","","","","","","","","","","",""]
["11 Rönneå, vid Djupadalsmölla",{"$error":"#VALUE!"},10,"11 Rönneå, vid Djupadalsmölla","","","","","","","","","","","","","","","","","","","","","","","","",""]
["11 Rönneå, vid Djupadalsmölla",{"$error":"#VALUE!"},10,"11 Rönneå, vid Djupadalsmölla","","","","","","","","","","","","","","","","","","","","","","","","",""]
["11 Rönneå, vid Djupadalsmölla",{"$error":"#VALUE!"},10,"11 Rönneå, vid Djupadalsmölla","","","","","","","","","","","","","","","","","","","","","","","","",""]
["11 Rönneå, vid Djupadalsmölla",{"$error":"#VALUE!"},10,"11 Rönneå, vid Djupadalsmölla","","","","","","","","","","","","","","","","","","","","","","","","",""]
["14 Rönneå, uppstr Ljungbyheds ARV45698","14 Rönneå, uppstr Ljungbyheds ARV2",15,"14 Rönneå, uppstr Ljungbyheds ARV","2025-02-10",1.7,13.8,99,7.8,1.5,24.5,70,5.6,0.12,2.1,37.130000000000003,"<30","","",41,940,11,1500,1.8,0.28999999999999998,0.34,"","",""]
["14 Rönneå, uppstr Ljungbyheds ARV",{"$error":"#VALUE!"},15,"14 Rönneå, uppstr Ljungbyheds ARV","","","","","","","","","","","","","","","","","","","","","","","","",""]
[{"$f":"TRIM(CONCATENATE(D35,E35))","v":"14 Rönneå, uppstr Ljungbyheds ARV"},{"$error":"#VALUE!"},15,"14 Rönneå, uppstr Ljungbyheds ARV","","","","","","","","","","","","","","","","","","","","","","","","",""]
["14 Rönneå, uppstr Ljungbyheds ARV",{"$error":"#VALUE!"},15,"14 Rönneå, uppstr Ljungbyheds ARV","","","","","","","","","","","","","","","","","","","","","","","","",""]
["14 Rönneå, uppstr Ljungbyheds ARV",{"$error":"#VALUE!"},15,"14 Rönneå, uppstr Ljungbyheds ARV","","","","","","","","","","","","","","","","","","","","","","","","",""]
["14 Rönneå, uppstr Ljungbyheds ARV",{"$error":"#VALUE!"},15,"14 Rönneå, uppstr Ljungbyheds ARV","","","","","","","","","","","","","","","","","","","","","","","","",""]
["79 Rönneå, nedstr Ljungbyhed ARV45699","79 Rönneå, nedstr Ljungbyhed ARV2",20,"79 Rönneå, nedstr Ljungbyhed ARV","2025-02-11",1.5,14,100,7.8,1.5,24.8,100,5.5,0.12,2.2000000000000002,28.835000000000001,"<30","","",51,1000,"<10",1600,1.8,0.28999999999999998,0.34,"","",""]
["79 Rönneå, nedstr Ljungbyhed ARV",{"$error":"#VALUE!"},20,"79 Rönneå, nedstr Ljungbyhed ARV","","","","","","","","","","","","","","","","","","","","","","","","",""]
["79 Rönneå, nedstr Ljungbyhed ARV",{"$error":"#VALUE!"},20,"79 Rönneå, nedstr Ljungbyhed ARV","","","","","","","","","","","","","","","","","","","","","","","","",""]
["79 Rönneå, nedstr Ljungbyhed ARV",{"$error":"#VALUE!"},20,"79 Rönneå, nedstr Ljungbyhed ARV","","","","","","","","","","","","","","","","","","","","","","","","",""]
["79 Rönneå, nedstr Ljungbyhed ARV",{"$error":"#VALUE!"},20,"79 Rönneå, nedstr Ljungbyhed ARV","","","","","","","","","","","","","","","","","","","","","","","","",""]
["79 Rönneå, nedstr Ljungbyhed ARV",{"$error":"#VALUE!"},20,"79 Rönneå, nedstr Ljungbyhed ARV","","","","","","","","","","","","","","","","","","","","","","","","",""]
["24 Rönneå, vid Forsmöllan45672","24 Rönneå, vid Forsmöllan1",25,"24 Rönneå, vid Forsmöllan","2025-01-15",2.2999999999999998,12.9,94,7.3,0.85,19.2,120,4.5999999999999996,0.24,"",51.35,"","","",38,1600,"",2100,1.2,0.3,0.37,"","",""]
["24 Rönneå, vid Forsmöllan45699","24 Rönneå, vid Forsmöllan2",25,"24 Rönneå, vid Forsmöllan","2025-02-11",1.7,14,100,7.7,1.4,23.6,100,5.0999999999999996,0.15,"",32.785000000000004,"","","",34,990,"",1600,1.6,0.28999999999999998,0.34,"","",""]
["24 Rönneå, vid Forsmöllan",{"$error":"#VALUE!"},25,"24 Rönneå, vid Forsmöllan","","","","","","","","","","","","","","","","","","","","","","","","",""]
["24 Rönneå, vid Forsmöllan",{"$error":"#VALUE!"},25,"24 Rönneå, vid Forsmöllan","","","","","","","","","","","","","","","","","","","","","","","","",""]
["24 Rönneå, vid Forsmöllan",{"$error":"#VALUE!"},25,"24 Rönneå, vid Forsmöllan","","","","","","","","","","","","","","","","","","","","","","","","",""]
["24 Rönneå, vid Forsmöllan",{"$error":"#VALUE!"},25,"24 Rönneå, vid Forsmöllan","","","","","","","","","","","","","","","","","","","","","","","","",""]
["24 Rönneå, vid Forsmöllan",{"$error":"#VALUE!"},25,"24 Rönneå, vid Forsmöllan","","","","","","","","","","","","","","","","","","","","","","","","",""]
["24 Rönneå, vid Forsmöllan",{"$error":"#VALUE!"},25,"24 Rönneå, vid Forsmöllan","","","","","","","","","","","","","","","","","","","","","","","","",""]
["24 Rönneå, vid Forsmöllan",{"$error":"#VALUE!"},25,"24 Rönneå, vid Forsmöllan","","","","","","","","","","","","","","","","","","","","","","","","",""]
["24 Rönneå, vid Forsmöllan",{"$error":"#VALUE!"},25,"24 Rönneå, vid Forsmöllan","","","","","","","","","","","","","","","","","","","","","","","","",""]
["24 Rönneå, vid Forsmöllan",{"$error":"#VALUE!"},25,"24 Rönneå, vid Forsmöllan","","","","","","","","","","","","","","","","","","","","","","","","",""]
["24 Rönneå, vid Forsmöllan",{"$error":"#VALUE!"},25,"24 Rönneå, vid Forsmöllan","","","","","","","","","","","","","","","","","","","","","","","","",""]
["25 Rönneå, vid Stackarps bro45672","25 Rönneå, vid Stackarps bro1",30,"25 Rönneå, vid Stackarps bro","2025-01-15",2.2999999999999998,13.8,101,7.4,0.85,19.600000000000001,120,4.5999999999999996,0.24,"",47.400000000000006,"","","",37,1700,"",2200,1.2,0.3,0.38,"","",""]
["25 Rönneå, vid Stackarps bro45699","25 Rönneå, vid Stackarps bro2",30,"25 Rönneå, vid Stackarps bro","2025-02-11",1.6,14.5,104,7.7,1.4,23.9,100,5.4,0.28000000000000003,"",30.02,"","","",34,1000,"",1600,1.6,0.28999999999999998,0.36,"","",""]
["25 Rönneå, vid Stackarps bro",{"$error":"#VALUE!"},30,"25 Rönneå, vid Stackarps bro","","","","","","","","","","","","","","","","","","","","","","","","",""]
["25 Rönneå, vid Stackarps bro",{"$error":"#VALUE!"},30,"25 Rönneå, vid Stackarps bro","","","","","","","","","","","","","","","","","","","","","","","","",""]
["25 Rönneå, vid Stackarps bro",{"$error":"#VALUE!"},30,"25 Rönneå, vid Stackarps bro","","","","","","","","","","","","","","","","","","","","","","","","",""]
["25 Rönneå, vid Stackarps bro",{"$error":"#VALUE!"},30,"25 Rönneå, vid Stackarps bro","","","","","","","","","","","","","","","","","","","","","","","","",""]
["25 Rönneå, vid Stackarps bro",{"$error":"#VALUE!"},30,"25 Rönneå, vid Stackarps bro","","","","","","","","","","","","","","","","","","","","","","","","",""]
["25 Rönneå, vid Stackarps bro",{"$error":"#VALUE!"},30,"25 Rönneå, vid Stackarps bro","","","","","","","","","","","","","","","","","","","","","","","","",""]
["25 Rönneå, vid Stackarps bro",{"$error":"#VALUE!"},30,"25 Rönneå, vid Stackarps bro","","","","","","","","","","","","","","","","","","","","","","","","",""]
["25 Rönneå, vid Stackarps bro",{"$error":"#VALUE!"},30,"25 Rönneå, vid Stackarps bro","","","","","","","","","","","","","","","","","","","","","","","","",""]
[{"$f":"TRIM(CONCATENATE(D67,E67))","v":"25 Rönneå, vid Stackarps bro"},{"$error":"#VALUE!"},30,"25 Rönneå, vid Stackarps bro","","","","","","","","","","","","","","","","","","","","","","","","",""]
["25 Rönneå, vid Stackarps bro",{"$error":"#VALUE!"},30,"25 Rönneå, vid Stackarps bro","","","","","","","","","","","","","","","","","","","","","","","","",""]
["34 Rönneå, vid Tranarps bro45699","34 Rönneå, vid Tranarps bro2",35,"34 Rönneå, vid Tranarps bro","2025-02-11",2.1,14.1,102,7.6,1.2,21.6,100,6.7,0.18,2,38.710000000000008,30,"","",34,1100,26,1600,1.4,0.27,0.34,"","",""]
["34 Rönneå, vid Tranarps bro",{"$error":"#VALUE!"},35,"34 Rönneå, vid Tranarps bro","","","","","","","","","","","","","","","","","","","","","","","","",""]
["34 Rönneå, vid Tranarps bro",{"$error":"#VALUE!"},35,"34 Rönneå, vid Tranarps bro","","","","","","","","","","","","","","","","","","","","","","","","",""]
["34 Rönneå, vid Tranarps bro",{"$error":"#VALUE!"},35,"34 Rönneå, vid Tranarps bro","","","","","","","","","","","","","","","","","","","","","","","","",""]
["34 Rönneå, vid Tranarps bro",{"$error":"#VALUE!"},35,"34 Rönneå, vid Tranarps bro","","","","","","","","","","","","","","","","","","","","","","","","",""]
["34 Rönneå, vid Tranarps bro",{"$error":"#VALUE!"},35,"34 Rönneå, vid Tranarps bro","","","","","","","","","","","","","","","","","","","","","","","","",""]
["49 Rönneå, uppstr Ängelholm45672","49 Rönneå, uppstr Ängelholm1",40,"49 Rönneå, uppstr Ängelholm","2025-01-15",1.7,13.4,96,7.1,0.56000000000000005,17.399999999999999,130,8,0.3,2.1,51.35,42,"","",39,1500,56,2000,0.75,0.24,0.34,"","",""]
["49 Rönneå, uppstr Ängelholm45699","49 Rönneå, uppstr Ängelholm2",40,"49 Rönneå, uppstr Ängelholm","2025-02-11",2.7,13.6,100,7.6,1.1000000000000001,22.1,100,6.8,0.2,1.9,39.5,"<30","","",35,1200,41,1600,1.3,0.28000000000000003,0.4,"","",""]
["49 Rönneå, uppstr Ängelholm",{"$f":"CONCATENATE(D77,MONTH(E77))","v":{"$error":"#VALUE!"}},40,"49 Rönneå, uppstr Ängelholm","","","","","","","","","","","","","","","","","","","","","","","","",""]
["49 Rönneå, uppstr Ängelholm",{"$error":"#VALUE!"},40,"49 Rönneå, uppstr Ängelholm","","","","","","","","","","","","","","","","","","","","","","","","",""]
["49 Rönneå, uppstr Ängelholm",{"$error":"#VALUE!"},40,"49 Rönneå, uppstr Ängelholm","","","","","","","","","","","","","","","","","","","","","","","","",""]
["49 Rönneå, uppstr Ängelholm",{"$error":"#VALUE!"},40,"49 Rönneå, uppstr Ängelholm","","","","","","","","","","","","","","","","","","","","","","","","",""]
["49 Rönneå, uppstr Ängelholm",{"$error":"#VALUE!"},40,"49 Rönneå, uppstr Ängelholm","","","","","","","","","","","","","","","","","","","","","","","","",""]
["49 Rönneå, uppstr Ängelholm",{"$error":"#VALUE!"},40,"49 Rönneå, uppstr Ängelholm","","","","","","","","","","","","","","","","","","","","","","","","",""]
["49 Rönneå, uppstr Ängelholm",{"$error":"#VALUE!"},40,"49 Rönneå, uppstr Ängelholm","","","","","","","","","","","","","","","","","","","","","","","","",""]
["49 Rönneå, uppstr Ängelholm",{"$error":"#VALUE!"},40,"49 Rönneå, uppstr Ängelholm","","","","","","","","","","","","","","","","","","","","","","","","",""]
["49 Rönneå, uppstr Ängelholm",{"$error":"#VALUE!"},40,"49 Rönneå, uppstr Ängelholm","","","","","","","","","","","","","","","","","","","","","","","","",""]
["49 Rönneå, uppstr Ängelholm",{"$error":"#VALUE!"},40,"49 Rönneå, uppstr Ängelholm","","","","","","","","","","","","","","","","","","","","","","","","",""]
["57 Rönneå, vid utfl t Skälderviken45672","57 Rönneå, vid utfl t Skälderviken1",45,"57 Rönneå, vid utfl t Skälderviken","2025-01-15",1.8,13.5,97,7.2,0.59,18.100000000000001,120,8.1,0.3,"",43.45,"","","",40,1600,"",2200,0.79,0.25,0.35,"","",""]
["57 Rönneå, vid utfl t Skälderviken45699","57 Rönneå, vid utfl t Skälderviken2",45,"57 Rönneå, vid utfl t Skälderviken","2025-02-11",2.2999999999999998,13.9,101,7.5,1.1000000000000001,22.2,150,6.1,0.2,"",38.710000000000008,"","","",39,1200,"",1900,1.3,0.28999999999999998,0.39,"","",""]
["57 Rönneå, vid utfl t Skälderviken",{"$error":"#VALUE!"},45,"57 Rönneå, vid utfl t Skälderviken","","","","","","","","","","","","","","","","","","","","","","","","",""]
["57 Rönneå, vid utfl t Skälderviken",{"$error":"#VALUE!"},45,"57 Rönneå, vid utfl t Skälderviken","","","","","","","","","","","","","","","","","","","","","","","","",""]
["57 Rönneå, vid utfl t Skälderviken",{"$error":"#VALUE!"},45,"57 Rönneå, vid utfl t Skälderviken","","","","","","","","","","","","","","","","","","","","","","","","",""]
["57 Rönneå, vid utfl t Skälderviken",{"$error":"#VALUE!"},45,"57 Rönneå, vid utfl t Skälderviken","","","","","","","","","","","","","","","","","","","","","","","","",""]
["57 Rönneå, vid utfl t Skälderviken",{"$error":"#VALUE!"},45,"57 Rönneå, vid utfl t Skälderviken","","","","","","","","","","","","","","","","","","","","","","","","",""]
["57 Rönneå, vid utfl t Skälderviken",{"$error":"#VALUE!"},45,"57 Rönneå, vid utfl t Skälderviken","","","","","","","","","","","","","","","","","","","","","","","","",""]
["57 Rönneå, vid utfl t Skälderviken",{"$error":"#VALUE!"},45,"57 Rönneå, vid utfl t Skälderviken","","","","","","","","","","","","","","","","","","","","","","","","",""]
["57 Rönneå, vid utfl t Skälderviken",{"$error":"#VALUE!"},45,"57 Rönneå, vid utfl t Skälderviken","","","","","","","","","","","","","","","","","","","","","","","","",""]
["57 Rönneå, vid utfl t Skälderviken",{"$error":"#VALUE!"},45,"57 Rönneå, vid utfl t Skälderviken","","","","","","","","","","","","","","","","","","","","","","","","",""]
["57 Rönneå, vid utfl t Skälderviken",{"$error":"#VALUE!"},45,"57 Rönneå, vid utfl t Skälderviken","","","","","","","","","","","","","","","","","","","","","","","","",""]
[{"$f":"TRIM(CONCATENATE(D99,E99))","v":"6 Bäljaneå, uppstr Röstånga45698"},"6  Bäljaneå, uppstr Röstånga2",50,"6  Bäljaneå, uppstr Röstånga","2025-02-10",3,13.7,102,8.1,2.6,38.700000000000003,45,4.2,7.8E-2,1.4,15.8,"<30","","",24,3500,17,3400,3,0.81,0.75,"","",""]
["6 Bäljaneå, uppstr Röstånga",{"$error":"#VALUE!"},50,"6  Bäljaneå, uppstr Röstånga","","","","","","","","","","","","","","","","","","","","","","","","",""]
["6 Bäljaneå, uppstr Röstånga",{"$error":"#VALUE!"},50,"6  Bäljaneå, uppstr Röstånga","","","","","","","","","","","","","","","","","","","","","","","","",""]
["6 Bäljaneå, uppstr Röstånga",{"$error":"#VALUE!"},50,"6  Bäljaneå, uppstr Röstånga","","","","","","","","","","","","","","","","","","","","","","","","",""]
["6 Bäljaneå, uppstr Röstånga",{"$error":"#VALUE!"},50,"6  Bäljaneå, uppstr Röstånga","","","","","","","","","","","","","","","","","","","","","","","","",""]
["6 Bäljaneå, uppstr Röstånga",{"$error":"#VALUE!"},50,"6  Bäljaneå, uppstr Röstånga","","","","","","","","","","","","","","","","","","","","","","","","",""]
["8 Bäljaneå, före utfl t Rönneå45698","8  Bäljaneå, före utfl t Rönneå2",55,"8  Bäljaneå, före utfl t Rönneå","2025-02-10",3.8,12.4,94,7.5,2,31,100,7,0.13,1.1000000000000001,25.28,"<30","","",24,2100,40,2200,2.2000000000000002,0.56000000000000005,0.61,"","",""]
["8 Bäljaneå, före utfl t Rönneå",{"$error":"#VALUE!"},55,"8  Bäljaneå, före utfl t Rönneå","","","","","","","","","","","","","","","","","","","","","","","","",""]
["8 Bäljaneå, före utfl t Rönneå",{"$error":"#VALUE!"},55,"8  Bäljaneå, före utfl t Rönneå","","","","","","","","","","","","","","","","","","","","","","","","",""]
["8 Bäljaneå, före utfl t Rönneå",{"$error":"#VALUE!"},55,"8  Bäljaneå, före utfl t Rönneå","","","","","","","","","","","","","","","","","","","","","","","","",""]
["8 Bäljaneå, före utfl t Rönneå",{"$error":"#VALUE!"},55,"8  Bäljaneå, före utfl t Rönneå","","","","","","","","","","","","","","","","","","","","","","","","",""]
["8 Bäljaneå, före utfl t Rönneå",{"$error":"#VALUE!"},55,"8  Bäljaneå, före utfl t Rönneå","","","","","","","","","","","","","","","","","","","","","","","","",""]
[{"$f":"TRIM(CONCATENATE(D111,E111))","v":"59 Klingstorpabäcken, Färingstofta45699"},{"$f":"CONCATENATE(D111,MONTH(E111))","v":"59 Klingstorpabäcken, Färingstofta2"},60,"59 Klingstorpabäcken, Färingstofta","2025-02-11",2,13.7,99,6.8,0.21,9.61,150,3,0.34,"",71.100000000000009,"","","",21,760,"",1200,0.39,0.19,0.19,"","",""]
["59 Klingstorpabäcken, Färingstofta",{"$error":"#VALUE!"},60,"59 Klingstorpabäcken, Färingstofta","","","","","","","","","","","","","","","","","","","","","","","","",""]
["59 Klingstorpabäcken, Färingstofta",{"$error":"#VALUE!"},60,"59 Klingstorpabäcken, Färingstofta","","","","","","","","","","","","","","","","","","","","","","","","",""]
["59 Klingstorpabäcken, Färingstofta",{"$error":"#VALUE!"},60,"59 Klingstorpabäcken, Färingstofta","","","","","","","","","","","","","","","","","","","","","","","","",""]
["59 Klingstorpabäcken, Färingstofta",{"$error":"#VALUE!"},60,"59 Klingstorpabäcken, Färingstofta","","","","","","","","","","","","","","","","","","","","","","","","",""]
["59 Klingstorpabäcken, Färingstofta",{"$error":"#VALUE!"},60,"59 Klingstorpabäcken, Färingstofta","","","","","","","","","","","","","","","","","","","","","","","","",""]
["72 Storedamm, utlopp mot Svenstorp45699","72 Storedamm, utlopp mot Svenstorp2",65,"72 Storedamm, utlopp mot Svenstorp","2025-02-11",1.5,13.7,98,6.2,6.2E-2,7.25,220,3.6,0.39,"",79,"","","",21,280,"",1000,0.23,0.12,0.16,"","",""]
["72 Storedamm, utlopp mot Svenstorp",{"$error":"#VALUE!"},65,"72 Storedamm, utlopp mot Svenstorp","","","","","","","","","","","","","","","","","","","","","","","","",""]
["72 Storedamm, utlopp mot Svenstorp",{"$error":"#VALUE!"},65,"72 Storedamm, utlopp mot Svenstorp","","","","","","","","","","","","","","","","","","","","","","","","",""]
["72 Storedamm, utlopp mot Svenstorp",{"$error":"#VALUE!"},65,"72 Storedamm, utlopp mot Svenstorp","","","","","","","","","","","","","","","","","","","","","","","","",""]
["72 Storedamm, utlopp mot Svenstorp",{"$error":"#VALUE!"},65,"72 Storedamm, utlopp mot Svenstorp","","","","","","","","","","","","","","","","","","","","","","","","",""]
["72 Storedamm, utlopp mot Svenstorp",{"$error":"#VALUE!"},65,"72 Storedamm, utlopp mot Svenstorp","","","","","","","","","","","","","","","","","","","","","","","","",""]
["15 Ybbarpsån, utfl ur Ybbarpssjön45699","15 Ybbarpsån, utfl ur Ybbarpssjön2",70,"15 Ybbarpsån, utfl ur Ybbarpssjön","2025-02-11",0.7,13.9,97,6.8,0.23,9.7899999999999991,150,8.8000000000000007,0.37,"",51.35,"","","",21,500,"",960,0.35,0.18,0.19,"","",""]
["15 Ybbarpsån, utfl ur Ybbarpssjön",{"$error":"#VALUE!"},70,"15 Ybbarpsån, utfl ur Ybbarpssjön","","","","","","","","","","","","","","","","","","","","","","","","",""]
["15 Ybbarpsån, utfl ur Ybbarpssjön",{"$error":"#VALUE!"},70,"15 Ybbarpsån, utfl ur Ybbarpssjön","","","","","","","","","","","","","","","","","","","","","","","","",""]
["15 Ybbarpsån, utfl ur Ybbarpssjön",{"$error":"#VALUE!"},70,"15 Ybbarpsån, utfl ur Ybbarpssjön","","","","","","","","","","","","","","","","","","","","","","","","",""]
["15 Ybbarpsån, utfl ur Ybbarpssjön",{"$error":"#VALUE!"},70,"15 Ybbarpsån, utfl ur Ybbarpssjön","","","","","","","","","","","","","","","","","","","","","","","","",""]
["15 Ybbarpsån, utfl ur Ybbarpssjön",{"$error":"#VALUE!"},70,"15 Ybbarpsån, utfl ur Ybbarpssjön","","","","","","","","","","","","","","","","","","","","","","","","",""]
["16 Ybbarpsån, nedstr Perstorp AB45672","16 Ybbarpsån, nedstr Perstorp AB1",75,"16 Ybbarpsån, nedstr Perstorp AB","2025-01-15",2,13.8,100,6.7,0.28000000000000003,20.100000000000001,200,6,0.38,"",71.100000000000009,"","","",30,1400,"",2100,0.36,0.18,0.46,"","",""]
["16 Ybbarpsån, nedstr Perstorp AB45699","16 Ybbarpsån, nedstr Perstorp AB2",75,"16 Ybbarpsån, nedstr Perstorp AB","2025-02-11",1.8,14,101,7,0.44,23.3,220,8.4,0.36,"",55.300000000000004,"","","",23,690,"",1200,0.38,0.19,0.5,"","",""]
["16 Ybbarpsån, nedstr Perstorp AB",{"$error":"#VALUE!"},75,"16 Ybbarpsån, nedstr Perstorp AB","","","","","","","","","","","","","","","","","","","","","","","","",""]
["16 Ybbarpsån, nedstr Perstorp AB",{"$error":"#VALUE!"},75,"16 Ybbarpsån, nedstr Perstorp AB","","","","","","","","","","","","","","","","","","","","","","","","",""]
["16 Ybbarpsån, nedstr Perstorp AB",{"$error":"#VALUE!"},75,"16 Ybbarpsån, nedstr Perstorp AB","","","","","","","","","","","","","","","","","","","","","","","","",""]
["16 Ybbarpsån, nedstr Perstorp AB",{"$error":"#VALUE!"},75,"16 Ybbarpsån, nedstr Perstorp AB","","","","","","","","","","","","","","","","","","","","","","","","",""]
["16 Ybbarpsån, nedstr Perstorp AB",{"$error":"#VALUE!"},75,"16 Ybbarpsån, nedstr Perstorp AB","","","","","","","","","","","","","","","","","","","","","","","","",""]
["16 Ybbarpsån, nedstr Perstorp AB",{"$error":"#VALUE!"},75,"16 Ybbarpsån, nedstr Perstorp AB","","","","","","","","","","","","","","","","","","","","","","","","",""]
["16 Ybbarpsån, nedstr Perstorp AB",{"$error":"#VALUE!"},75,"16 Ybbarpsån, nedstr Perstorp AB","","","","","","","","","","","","","","","","","","","","","","","","",""]
["16 Ybbarpsån, nedstr Perstorp AB",{"$error":"#VALUE!"},75,"16 Ybbarpsån, nedstr Perstorp AB","","","","","","","","","","","","","","","","","","","","","","","","",""]
["16 Ybbarpsån, nedstr Perstorp AB",{"$error":"#VALUE!"},75,"16 Ybbarpsån, nedstr Perstorp AB","","","","","","","","","","","","","","","","","","","","","","","","",""]
["16 Ybbarpsån, nedstr Perstorp AB",{"$error":"#VALUE!"},75,"16 Ybbarpsån, nedstr Perstorp AB","","","","","","","","","","","","","","","","","","","","","","","","",""]
["17 Ybbarpsån, Storarydsdammens utl45700","17 Ybbarpsån, Storarydsdammens utl2",80,"17 Ybbarpsån, Storarydsdammens utl","2025-02-12",1.6,13.3,95,7,0.36,21,150,6.7,0.28000000000000003,"",51.35,"","","",21,760,"",1100,0.38,0.2,0.5,"","",""]
["17 Ybbarpsån, Storarydsdammens utl",{"$error":"#VALUE!"},80,"17 Ybbarpsån, Storarydsdammens utl","","","","","","","","","","","","","","","","","","","","","","","","",""]
["17 Ybbarpsån, Storarydsdammens utl",{"$error":"#VALUE!"},80,"17 Ybbarpsån, Storarydsdammens utl","","","","","","","","","","","","","","","","","","","","","","","","",""]
["17 Ybbarpsån, Storarydsdammens utl",{"$error":"#VALUE!"},80,"17 Ybbarpsån, Storarydsdammens utl","","","","","","","","","","","","","","","","","","","","","","","","",""]
["17 Ybbarpsån, Storarydsdammens utl",{"$error":"#VALUE!"},80,"17 Ybbarpsån, Storarydsdammens utl","","","","","","","","","","","","","","","","","","","","","","","","",""]
["17 Ybbarpsån, Storarydsdammens utl",{"$error":"#VALUE!"},80,"17 Ybbarpsån, Storarydsdammens utl","","","","","","","","","","","","","","","","","","","","","","","","",""]
["22 Ybbarpsån, vid Herrevadskloster45672","22 Ybbarpsån, vid Herrevadskloster1",85,"22 Ybbarpsån, vid Herrevadskloster","2025-01-15",1,12.8,90,6.7,0.31,17.600000000000001,200,5,0.38,"",75.05,"","","",30,1100,"",1700,0.41,0.2,0.42,"","",""]
["22 Ybbarpsån, vid Herrevadskloster45699","22 Ybbarpsån, vid Herrevadskloster2",85,"22 Ybbarpsån, vid Herrevadskloster","2025-02-11",1.2,14.2,100,6.9,0.34,18.399999999999999,150,8.4,0.36,"",63.2,"","","",31,1100,"",1700,0.45,0.2,0.41,"","",""]
["22 Ybbarpsån, vid Herrevadskloster",{"$error":"#VALUE!"},85,"22 Ybbarpsån, vid Herrevadskloster","","","","","","","","","","","","","","","","","","","","","","","","",""]
["22 Ybbarpsån, vid Herrevadskloster",{"$error":"#VALUE!"},85,"22 Ybbarpsån, vid Herrevadskloster","","","","","","","","","","","","","","","","","","","","","","","","",""]
["22 Ybbarpsån, vid Herrevadskloster",{"$error":"#VALUE!"},85,"22 Ybbarpsån, vid Herrevadskloster","","","","","","","","","","","","","","","","","","","","","","","","",""]
["22 Ybbarpsån, vid Herrevadskloster",{"$error":"#VALUE!"},85,"22 Ybbarpsån, vid Herrevadskloster","","","","","","","","","","","","","","","","","","","","","","","","",""]
["22 Ybbarpsån, vid Herrevadskloster",{"$error":"#VALUE!"},85,"22 Ybbarpsån, vid Herrevadskloster","","","","","","","","","","","","","","","","","","","","","","","","",""]
["22 Ybbarpsån, vid Herrevadskloster",{"$error":"#VALUE!"},85,"22 Ybbarpsån, vid Herrevadskloster","","","","","","","","","","","","","","","","","","","","","","","","",""]
["22 Ybbarpsån, vid Herrevadskloster",{"$error":"#VALUE!"},85,"22 Ybbarpsån, vid Herrevadskloster","","","","","","","","","","","","","","","","","","","","","","","","",""]
["22 Ybbarpsån, vid Herrevadskloster",{"$error":"#VALUE!"},85,"22 Ybbarpsån, vid Herrevadskloster","","","","","","","","","","","","","","","","","","","","","","","","",""]
["22 Ybbarpsån, vid Herrevadskloster",{"$error":"#VALUE!"},85,"22 Ybbarpsån, vid Herrevadskloster","","","","","","","","","","","","","","","","","","","","","","","","",""]
["22 Ybbarpsån, vid Herrevadskloster",{"$error":"#VALUE!"},85,"22 Ybbarpsån, vid Herrevadskloster","","","","","","","","","","","","","","","","","","","","","","","","",""]
["28 Perstorpsbäcken, uppstr Perstorp45699","28 Perstorpsbäcken, uppstr Perstorp2",90,"28 Perstorpsbäcken, uppstr Perstorp","2025-02-11",1.6,13.4,96,6.6,0.2,9.19,150,12,0.39,1.4,71.100000000000009,43,"","",23,480,170,1100,0.38,0.16,0.2,"","",""]
["28 Perstorpsbäcken, uppstr Perstorp",{"$error":"#VALUE!"},90,"28 Perstorpsbäcken, uppstr Perstorp","","","","","","","","","","","","","","","","","","","","","","","","",""]
["28 Perstorpsbäcken, uppstr Perstorp",{"$error":"#VALUE!"},90,"28 Perstorpsbäcken, uppstr Perstorp","","","","","","","","","","","","","","","","","","","","","","","","",""]
["28 Perstorpsbäcken, uppstr Perstorp",{"$error":"#VALUE!"},90,"28 Perstorpsbäcken, uppstr Perstorp","","","","","","","","","","","","","","","","","","","","","","","","",""]
["28 Perstorpsbäcken, uppstr Perstorp",{"$error":"#VALUE!"},90,"28 Perstorpsbäcken, uppstr Perstorp","","","","","","","","","","","","","","","","","","","","","","","","",""]
["28 Perstorpsbäcken, uppstr Perstorp",{"$error":"#VALUE!"},90,"28 Perstorpsbäcken, uppstr Perstorp","","","","","","","","","","","","","","","","","","","","","","","","",""]
["29 Perstorpsbäcken, nedstr Perstorp45699","29 Perstorpsbäcken, nedstr Perstorp2",95,"29 Perstorpsbäcken, nedstr Perstorp","2025-02-11",2,13.4,97,7,0.33,14.1,220,9.6,0.35,1.1000000000000001,51.35,34,"","",20,1400,280,2200,0.52,0.21,0.24,"","",""]
["29 Perstorpsbäcken, nedstr Perstorp",{"$error":"#VALUE!"},95,"29 Perstorpsbäcken, nedstr Perstorp","","","","","","","","","","","","","","","","","","","","","","","","",""]
["29 Perstorpsbäcken, nedstr Perstorp",{"$error":"#VALUE!"},95,"29 Perstorpsbäcken, nedstr Perstorp","","","","","","","","","","","","","","","","","","","","","","","","",""]
["29 Perstorpsbäcken, nedstr Perstorp",{"$error":"#VALUE!"},95,"29 Perstorpsbäcken, nedstr Perstorp","","","","","","","","","","","","","","","","","","","","","","","","",""]
["29 Perstorpsbäcken, nedstr Perstorp",{"$error":"#VALUE!"},95,"29 Perstorpsbäcken, nedstr Perstorp","","","","","","","","","","","","","","","","","","","","","","","","",""]
["29 Perstorpsbäcken, nedstr Perstorp",{"$error":"#VALUE!"},95,"29 Perstorpsbäcken, nedstr Perstorp","","","","","","","","","","","","","","","","","","","","","","","","",""]
[{"$f":"TRIM(CONCATENATE(D171,E171))","v":"76 Oderbäcken, uppstr Oderljunga ARV45700"},{"$f":"CONCATENATE(D171,MONTH(E171))","v":"76 Oderbäcken, uppstr Oderljunga ARV2"},100,"76 Oderbäcken, uppstr Oderljunga ARV","2025-02-12",1.3,13.5,96,6.4,0.16,9.69,150,7.3,0.3,1.4,59.25,36,"","",20,730,77,1100,0.34,0.16,0.21,"","",""]
["76 Oderbäcken, uppstr Oderljunga ARV",{"$error":"#VALUE!"},100,"76 Oderbäcken, uppstr Oderljunga ARV","","","","","","","","","","","","","","","","","","","","","","","","",""]
["76 Oderbäcken, uppstr Oderljunga ARV",{"$error":"#VALUE!"},100,"76 Oderbäcken, uppstr Oderljunga ARV","","","","","","","","","","","","","","","","","","","","","","","","",""]
["76 Oderbäcken, uppstr Oderljunga ARV",{"$error":"#VALUE!"},100,"76 Oderbäcken, uppstr Oderljunga ARV","","","","","","","","","","","","","","","","","","","","","","","","",""]
["76 Oderbäcken, uppstr Oderljunga ARV",{"$error":"#VALUE!"},100,"76 Oderbäcken, uppstr Oderljunga ARV","","","","","","","","","","","","","","","","","","","","","","","","",""]
["76 Oderbäcken, uppstr Oderljunga ARV",{"$error":"#VALUE!"},100,"76 Oderbäcken, uppstr Oderljunga ARV","","","","","","","","","","","","","","","","","","","","","","","","",""]
["30 Bäljaneå, vid Hyllstofta45699","30 Bäljaneå, vid Hyllstofta2",105,"30 Bäljaneå, vid Hyllstofta","2025-02-11",1.7,14.1,101,6.9,0.23,11.4,150,9.3000000000000007,0.31,1.3,47.400000000000006,33,"","",20,1100,140,1600,0.41,0.18,0.21,"","",""]
["30 Bäljaneå, vid Hyllstofta",{"$error":"#VALUE!"},105,"30 Bäljaneå, vid Hyllstofta","","","","","","","","","","","","","","","","","","","","","","","","",""]
["30 Bäljaneå, vid Hyllstofta",{"$error":"#VALUE!"},105,"30 Bäljaneå, vid Hyllstofta","","","","","","","","","","","","","","","","","","","","","","","","",""]
["30 Bäljaneå, vid Hyllstofta",{"$error":"#VALUE!"},105,"30 Bäljaneå, vid Hyllstofta","","","","","","","","","","","","","","","","","","","","","","","","",""]
["30 Bäljaneå, vid Hyllstofta",{"$error":"#VALUE!"},105,"30 Bäljaneå, vid Hyllstofta","","","","","","","","","","","","","","","","","","","","","","","","",""]
["30 Bäljaneå, vid Hyllstofta",{"$error":"#VALUE!"},105,"30 Bäljaneå, vid Hyllstofta","","","","","","","","","","","","","","","","","","","","","","","","",""]
[{"$f":"TRIM(CONCATENATE(D183,E183))","v":"32 Bäljaneå, uppstr Klippan45699"},{"$f":"CONCATENATE(D183,MONTH(E183))","v":"32 Bäljaneå, uppstr Klippan2"},110,"32 Bäljaneå, uppstr Klippan","2025-02-11",2,14.1,102,7,0.25,12,150,7.9,0.3,1.4,47.400000000000006,34,"","",19,1000,110,1600,0.43,0.2,0.23,"","",""]
["32 Bäljaneå, uppstr Klippan",{"$error":"#VALUE!"},110,"32 Bäljaneå, uppstr Klippan","","","","","","","","","","","","","","","","","","","","","","","","",""]
["32 Bäljaneå, uppstr Klippan",{"$error":"#VALUE!"},110,"32 Bäljaneå, uppstr Klippan","","","","","","","","","","","","","","","","","","","","","","","","",""]
["32 Bäljaneå, uppstr Klippan",{"$error":"#VALUE!"},110,"32 Bäljaneå, uppstr Klippan","","","","","","","","","","","","","","","","","","","","","","","","",""]
["32 Bäljaneå, uppstr Klippan",{"$error":"#VALUE!"},110,"32 Bäljaneå, uppstr Klippan","","","","","","","","","","","","","","","","","","","","","","","","",""]
["32 Bäljaneå, uppstr Klippan",{"$error":"#VALUE!"},110,"32 Bäljaneå, uppstr Klippan","","","","","","","","","","","","","","","","","","","","","","","","",""]
["78 Bäljaneå, nedstr Klippans ARV45699","78 Bäljaneå, nedstr Klippans ARV2",115,"78 Bäljaneå, nedstr Klippans ARV","2025-02-11",2.2000000000000002,13.9,101,7.1,0.26,13.2,150,8,0.28999999999999998,1.5,51.35,34,"","",23,1200,110,1800,0.48,0.21,0.27,"","",""]
["78 Bäljaneå, nedstr Klippans ARV",{"$error":"#VALUE!"},115,"78 Bäljaneå, nedstr Klippans ARV","","","","","","","","","","","","","","","","","","","","","","","","",""]
["78 Bäljaneå, nedstr Klippans ARV",{"$error":"#VALUE!"},115,"78 Bäljaneå, nedstr Klippans ARV","","","","","","","","","","","","","","","","","","","","","","","","",""]
["78 Bäljaneå, nedstr Klippans ARV",{"$error":"#VALUE!"},115,"78 Bäljaneå, nedstr Klippans ARV","","","","","","","","","","","","","","","","","","","","","","","","",""]
["78 Bäljaneå, nedstr Klippans ARV",{"$error":"#VALUE!"},115,"78 Bäljaneå, nedstr Klippans ARV","","","","","","","","","","","","","","","","","","","","","","","","",""]
["78 Bäljaneå, nedstr Klippans ARV",{"$error":"#VALUE!"},115,"78 Bäljaneå, nedstr Klippans ARV","","","","","","","","","","","","","","","","","","","","","","","","",""]
["33 Bäljaneå, nedstr Klippan45672","33 Bäljaneå, nedstr Klippan1",120,"33 Bäljaneå, nedstr Klippan","2025-01-15",2.5,13.5,99,6.6,0.13,10.5,180,5.5,0.36,"",67.150000000000006,"","","",28,1100,"",1600,0.34,0.16,0.22,"","",""]
["33 Bäljaneå, nedstr Klippan45699","33 Bäljaneå, nedstr Klippan2",120,"33 Bäljaneå, nedstr Klippan","2025-02-11",2,14,101,6.9,0.26,12,250,8.3000000000000007,0.32,"",43.45,"","","",23,1100,"",1700,0.45,0.2,0.24,"","",""]
["33 Bäljaneå, nedstr Klippan",{"$error":"#VALUE!"},120,"33 Bäljaneå, nedstr Klippan","","","","","","","","","","","","","","","","","","","","","","","","",""]
["33 Bäljaneå, nedstr Klippan",{"$error":"#VALUE!"},120,"33 Bäljaneå, nedstr Klippan","","","","","","","","","","","","","","","","","","","","","","","","",""]
["33 Bäljaneå, nedstr Klippan",{"$error":"#VALUE!"},120,"33 Bäljaneå, nedstr Klippan","","","","","","","","","","","","","","","","","","","","","","","","",""]
["33 Bäljaneå, nedstr Klippan",{"$error":"#VALUE!"},120,"33 Bäljaneå, nedstr Klippan","","","","","","","","","","","","","","","","","","","","","","","","",""]
["33 Bäljaneå, nedstr Klippan",{"$error":"#VALUE!"},120,"33 Bäljaneå, nedstr Klippan","","","","","","","","","","","","","","","","","","","","","","","","",""]
["33 Bäljaneå, nedstr Klippan",{"$error":"#VALUE!"},120,"33 Bäljaneå, nedstr Klippan","","","","","","","","","","","","","","","","","","","","","","","","",""]
["33 Bäljaneå, nedstr Klippan",{"$error":"#VALUE!"},120,"33 Bäljaneå, nedstr Klippan","","","","","","","","","","","","","","","","","","","","","","","","",""]
["33 Bäljaneå, nedstr Klippan",{"$error":"#VALUE!"},120,"33 Bäljaneå, nedstr Klippan","","","","","","","","","","","","","","","","","","","","","","","","",""]
["33 Bäljaneå, nedstr Klippan",{"$error":"#VALUE!"},120,"33 Bäljaneå, nedstr Klippan","","","","","","","","","","","","","","","","","","","","","","","","",""]
["33 Bäljaneå, nedstr Klippan",{"$error":"#VALUE!"},120,"33 Bäljaneå, nedstr Klippan","","","","","","","","","","","","","","","","","","","","","","","","",""]
["77 Biflöde till Rönneå, uppstr Kvidinge ARV45699","77 Biflöde till Rönneå, uppstr Kvidinge ARV2",125,"77 Biflöde till Rönneå, uppstr Kvidinge ARV","2025-02-11",2.5,13.5,99,7.5,1.4,38.4,100,17,0.14000000000000001,1.4,30.810000000000002,"<30","","",91,8800,92,8800,2.2000000000000002,0.59,0.83,"","",""]
["77 Biflöde till Rönneå, uppstr Kvidinge ARV",{"$error":"#VALUE!"},125,"77 Biflöde till Rönneå, uppstr Kvidinge ARV","","","","","","","","","","","","","","","","","","","","","","","","",""]
["77 Biflöde till Rönneå, uppstr Kvidinge ARV",{"$error":"#VALUE!"},125,"77 Biflöde till Rönneå, uppstr Kvidinge ARV","","","","","","","","","","","","","","","","","","","","","","","","",""]
["77 Biflöde till Rönneå, uppstr Kvidinge ARV",{"$error":"#VALUE!"},125,"77 Biflöde till Rönneå, uppstr Kvidinge ARV","","","","","","","","","","","","","","","","","","","","","","","","",""]
["77 Biflöde till Rönneå, uppstr Kvidinge ARV",{"$error":"#VALUE!"},125,"77 Biflöde till Rönneå, uppstr Kvidinge ARV","","","","","","","","","","","","","","","","","","","","","","","","",""]
["77 Biflöde till Rönneå, uppstr Kvidinge ARV",{"$error":"#VALUE!"},125,"77 Biflöde till Rönneå, uppstr Kvidinge ARV","","","","","","","","","","","","","","","","","","","","","","","","",""]
["36 Pinnån, nedstr Åsljungasjön45700","36 Pinnån, nedstr Åsljungasjön2",130,"36 Pinnån, nedstr Åsljungasjön","2025-02-12",1.1000000000000001,12.5,88,6.3,0.11,8.9600000000000009,300,4.8,0.46,1.7,86.9,48,"","",29,370,35,940,0.25,0.12,0.12,"","",""]
["36 Pinnån, nedstr Åsljungasjön",{"$error":"#VALUE!"},130,"36 Pinnån, nedstr Åsljungasjön","","","","","","","","","","","","","","","","","","","","","","","","",""]
["36 Pinnån, nedstr Åsljungasjön",{"$error":"#VALUE!"},130,"36 Pinnån, nedstr Åsljungasjön","","","","","","","","","","","","","","","","","","","","","","","","",""]
["36 Pinnån, nedstr Åsljungasjön",{"$error":"#VALUE!"},130,"36 Pinnån, nedstr Åsljungasjön","","","","","","","","","","","","","","","","","","","","","","","","",""]
["36 Pinnån, nedstr Åsljungasjön",{"$error":"#VALUE!"},130,"36 Pinnån, nedstr Åsljungasjön","","","","","","","","","","","","","","","","","","","","","","","","",""]
["36 Pinnån, nedstr Åsljungasjön",{"$error":"#VALUE!"},130,"36 Pinnån, nedstr Åsljungasjön","","","","","","","","","","","","","","","","","","","","","","","","",""]
["40 Pinnån, nedstr Örkelljunga45700","40 Pinnån, nedstr Örkelljunga2",135,"40 Pinnån, nedstr Örkelljunga","2025-02-12",1.6,13.7,98,6.6,0.15,10.7,150,3.1,0.41,2.6,75.05,45,"","",28,940,240,1500,0.3,0.15,0.15,"","",""]
["40 Pinnån, nedstr Örkelljunga",{"$error":"#VALUE!"},135,"40 Pinnån, nedstr Örkelljunga","","","","","","","","","","","","","","","","","","","","","","","","",""]
["40 Pinnån, nedstr Örkelljunga",{"$error":"#VALUE!"},135,"40 Pinnån, nedstr Örkelljunga","","","","","","","","","","","","","","","","","","","","","","","","",""]
["40 Pinnån, nedstr Örkelljunga",{"$error":"#VALUE!"},135,"40 Pinnån, nedstr Örkelljunga","","","","","","","","","","","","","","","","","","","","","","","","",""]
["40 Pinnån, nedstr Örkelljunga",{"$error":"#VALUE!"},135,"40 Pinnån, nedstr Örkelljunga","","","","","","","","","","","","","","","","","","","","","","","","",""]
["40 Pinnån, nedstr Örkelljunga",{"$error":"#VALUE!"},135,"40 Pinnån, nedstr Örkelljunga","","","","","","","","","","","","","","","","","","","","","","","","",""]
["42 Pinnån, uppstr Gelita45699","42 Pinnån, uppstr Gelita2",140,"42 Pinnån, uppstr Gelita","2025-02-11",1.8,13.8,99,6.5,0.18,10.4,220,3.8,0.39,"",63.2,"","","",26,790,"",1400,0.32,0.16,0.15,"","",""]
["42 Pinnån, uppstr Gelita",{"$error":"#VALUE!"},140,"42 Pinnån, uppstr Gelita","","","","","","","","","","","","","","","","","","","","","","","","",""]
["42 Pinnån, uppstr Gelita",{"$error":"#VALUE!"},140,"42 Pinnån, uppstr Gelita","","","","","","","","","","","","","","","","","","","","","","","","",""]
["42 Pinnån, uppstr Gelita",{"$error":"#VALUE!"},140,"42 Pinnån, uppstr Gelita","","","","","","","","","","","","","","","","","","","","","","","","",""]
["42 Pinnån, uppstr Gelita",{"$error":"#VALUE!"},140,"42 Pinnån, uppstr Gelita","","","","","","","","","","","","","","","","","","","","","","","","",""]
["42 Pinnån, uppstr Gelita",{"$error":"#VALUE!"},140,"42 Pinnån, uppstr Gelita","","","","","","","","","","","","","","","","","","","","","","","","",""]
["44 Pinnån, utfl ur Kopparmölledamm45672","44 Pinnån, utfl ur Kopparmölledamm1",145,"44 Pinnån, utfl ur Kopparmölledamm","2025-01-15",1.9,13.8,99,6.5,0.14000000000000001,12.5,250,3,0.43,"",75.05,"","","",28,800,"",1300,0.28000000000000003,0.14000000000000001,0.32,"","",""]
["44 Pinnån, utfl ur Kopparmölledamm45699","44 Pinnån, utfl ur Kopparmölledamm2",145,"44 Pinnån, utfl ur Kopparmölledamm","2025-02-11",2.4,13.8,101,6.8,0.26,19.100000000000001,150,4.3,0.38,"",67.150000000000006,"","","",36,920,"",1600,0.35,0.16,0.68,"","",""]
["44 Pinnån, utfl ur Kopparmölledamm",{"$error":"#VALUE!"},145,"44 Pinnån, utfl ur Kopparmölledamm","","","","","","","","","","","","","","","","","","","","","","","","",""]
["44 Pinnån, utfl ur Kopparmölledamm",{"$error":"#VALUE!"},145,"44 Pinnån, utfl ur Kopparmölledamm","","","","","","","","","","","","","","","","","","","","","","","","",""]
["44 Pinnån, utfl ur Kopparmölledamm",{"$error":"#VALUE!"},145,"44 Pinnån, utfl ur Kopparmölledamm","","","","","","","","","","","","","","","","","","","","","","","","",""]
["44 Pinnån, utfl ur Kopparmölledamm",{"$error":"#VALUE!"},145,"44 Pinnån, utfl ur Kopparmölledamm","","","","","","","","","","","","","","","","","","","","","","","","",""]
["44 Pinnån, utfl ur Kopparmölledamm",{"$error":"#VALUE!"},145,"44 Pinnån, utfl ur Kopparmölledamm","","","","","","","","","","","","","","","","","","","","","","","","",""]
["44 Pinnån, utfl ur Kopparmölledamm",{"$error":"#VALUE!"},145,"44 Pinnån, utfl ur Kopparmölledamm","","","","","","","","","","","","","","","","","","","","","","","","",""]
["44 Pinnån, utfl ur Kopparmölledamm",{"$error":"#VALUE!"},145,"44 Pinnån, utfl ur Kopparmölledamm","","","","","","","","","","","","","","","","","","","","","","","","",""]
["44 Pinnån, utfl ur Kopparmölledamm",{"$error":"#VALUE!"},145,"44 Pinnån, utfl ur Kopparmölledamm","","","","","","","","","","","","","","","","","","","","","","","","",""]
["44 Pinnån, utfl ur Kopparmölledamm",{"$error":"#VALUE!"},145,"44 Pinnån, utfl ur Kopparmölledamm","","","","","","","","","","","","","","","","","","","","","","","","",""]
["44 Pinnån, utfl ur Kopparmölledamm",{"$error":"#VALUE!"},145,"44 Pinnån, utfl ur Kopparmölledamm","","","","","","","","","","","","","","","","","","","","","","","","",""]
["58 Pinnån, vid utfl t Rönneå45672","58 Pinnån, vid utfl t Rönneå1",150,"58 Pinnån, vid utfl t Rönneå","2025-01-15",2.4,13.2,96,6.7,0.2,13.9,400,4.7,0.41,"",71.100000000000009,"","","",32,1000,"",1500,0.35,0.16,0.33,"","",""]
["58 Pinnån, vid utfl t Rönneå45699","58 Pinnån, vid utfl t Rönneå2",150,"58 Pinnån, vid utfl t Rönneå","2025-02-11",2.8,13.7,101,7,0.38,19.899999999999999,250,5.5,0.42,"",59.25,"","","",29,1100,"",1700,0.48,0.21,0.7,"","",""]
["58 Pinnån, vid utfl t Rönneå",{"$error":"#VALUE!"},150,"58 Pinnån, vid utfl t Rönneå","","","","","","","","","","","","","","","","","","","","","","","","",""]
["58 Pinnån, vid utfl t Rönneå",{"$error":"#VALUE!"},150,"58 Pinnån, vid utfl t Rönneå","","","","","","","","","","","","","","","","","","","","","","","","",""]
[{"$f":"TRIM(CONCATENATE(D247,E247))","v":"58 Pinnån, vid utfl t Rönneå"},{"$f":"CONCATENATE(D247,MONTH(E247))","v":{"$error":"#VALUE!"}},150,"58 Pinnån, vid utfl t Rönneå","","","","","","","","","","","","","","","","","","","","","","","","",""]
["58 Pinnån, vid utfl t Rönneå",{"$error":"#VALUE!"},150,"58 Pinnån, vid utfl t Rönneå","","","","","","","","","","","","","","","","","","","","","","","","",""]
["58 Pinnån, vid utfl t Rönneå",{"$error":"#VALUE!"},150,"58 Pinnån, vid utfl t Rönneå","","","","","","","","","","","","","","","","","","","","","","","","",""]
["58 Pinnån, vid utfl t Rönneå",{"$error":"#VALUE!"},150,"58 Pinnån, vid utfl t Rönneå","","","","","","","","","","","","","","","","","","","","","","","","",""]
["58 Pinnån, vid utfl t Rönneå",{"$error":"#VALUE!"},150,"58 Pinnån, vid utfl t Rönneå","","","","","","","","","","","","","","","","","","","","","","","","",""]
["58 Pinnån, vid utfl t Rönneå",{"$error":"#VALUE!"},150,"58 Pinnån, vid utfl t Rönneå","","","","","","","","","","","","","","","","","","","","","","","","",""]
["58 Pinnån, vid utfl t Rönneå",{"$error":"#VALUE!"},150,"58 Pinnån, vid utfl t Rönneå","","","","","","","","","","","","","","","","","","","","","","","","",""]
["58 Pinnån, vid utfl t Rönneå",{"$error":"#VALUE!"},150,"58 Pinnån, vid utfl t Rönneå","","","","","","","","","","","","","","","","","","","","","","","","",""]
["70 Kägleån, vid Ängeltofta45699","70 Kägleån, vid Ängeltofta2",155,"70 Kägleån, vid Ängeltofta","2025-02-11",2.2000000000000002,14,102,7.6,1.2,21,100,6,0.17,"",23.305000000000003,"","","",32,1500,"",1900,1.2,0.36,0.25,"","",""]
["70 Kägleån, vid Ängeltofta",{"$error":"#VALUE!"},155,"70 Kägleån, vid Ängeltofta","","","","","","","","","","","","","","","","","","","","","","","","",""]
["70 Kägleån, vid Ängeltofta",{"$error":"#VALUE!"},155,"70 Kägleån, vid Ängeltofta","","","","","","","","","","","","","","","","","","","","","","","","",""]
["70 Kägleån, vid Ängeltofta",{"$error":"#VALUE!"},155,"70 Kägleån, vid Ängeltofta","","","","","","","","","","","","","","","","","","","","","","","","",""]
["70 Kägleån, vid Ängeltofta",{"$error":"#VALUE!"},155,"70 Kägleån, vid Ängeltofta","","","","","","","","","","","","","","","","","","","","","","","","",""]
["70 Kägleån, vid Ängeltofta",{"$error":"#VALUE!"},155,"70 Kägleån, vid Ängeltofta","","","","","","","","","","","","","","","","","","","","","","","","",""]
["55 Kägleån, vägbro Åkersholm45699","55 Kägleån, vägbro Åkersholm2",160,"55 Kägleån, vägbro Åkersholm","2025-02-11",2.2000000000000002,13.9,101,7.7,1.5,24.5,100,7.8,0.19,"",25.28,"","","",40,1400,"",1700,1.3,0.45,0.28000000000000003,"","",""]
["55 Kägleån, vägbro Åkersholm",{"$error":"#VALUE!"},160,"55 Kägleån, vägbro Åkersholm","","","","","","","","","","","","","","","","","","","","","","","","",""]
["55 Kägleån, vägbro Åkersholm",{"$error":"#VALUE!"},160,"55 Kägleån, vägbro Åkersholm","","","","","","","","","","","","","","","","","","","","","","","","",""]
["55 Kägleån, vägbro Åkersholm",{"$error":"#VALUE!"},160,"55 Kägleån, vägbro Åkersholm","","","","","","","","","","","","","","","","","","","","","","","","",""]
["55 Kägleån, vägbro Åkersholm",{"$error":"#VALUE!"},160,"55 Kägleån, vägbro Åkersholm","","","","","","","","","","","","","","","","","","","","","","","","",""]
["55 Kägleån, vägbro Åkersholm",{"$error":"#VALUE!"},160,"55 Kägleån, vägbro Åkersholm","","","","","","","","","","","","","","","","","","","","","","","","",""]
["56 Rössjöholmsån, f utfl t Rönneå45672","56 Rössjöholmsån, f utfl t Rönneå1",165,"56 Rössjöholmsån, f utfl t Rönneå","2025-01-15",2.4,13.6,99,7.3,0.56999999999999995,13.8,120,9.8000000000000007,0.23,1.9,43.45,32,"","",40,870,11,1200,0.59,0.23,0.16,"","",""]
["56 Rössjöholmsån, f utfl t Rönneå45699","56 Rössjöholmsån, f utfl t Rönneå2",165,"56 Rössjöholmsån, f utfl t Rönneå","2025-02-11",1.9,14.1,102,7.5,0.87,17,150,7.2,0.22,1.3,35.945,"<30","","",32,1000,34,1300,0.83,0.31,0.21,"","",""]
["56 Rössjöholmsån, f utfl t Rönneå",{"$error":"#VALUE!"},165,"56 Rössjöholmsån, f utfl t Rönneå","","","","","","","","","","","","","","","","","","","","","","","","",""]
["56 Rössjöholmsån, f utfl t Rönneå",{"$error":"#VALUE!"},165,"56 Rössjöholmsån, f utfl t Rönneå","","","","","","","","","","","","","","","","","","","","","","","","",""]
["56 Rössjöholmsån, f utfl t Rönneå",{"$error":"#VALUE!"},165,"56 Rössjöholmsån, f utfl t Rönneå","","","","","","","","","","","","","","","","","","","","","","","","",""]
["56 Rössjöholmsån, f utfl t Rönneå",{"$error":"#VALUE!"},165,"56 Rössjöholmsån, f utfl t Rönneå","","","","","","","","","","","","","","","","","","","","","","","","",""]
["56 Rössjöholmsån, f utfl t Rönneå",{"$error":"#VALUE!"},165,"56 Rössjöholmsån, f utfl t Rönneå","","","","","","","","","","","","","","","","","","","","","","","","",""]
["56 Rössjöholmsån, f utfl t Rönneå",{"$error":"#VALUE!"},165,"56 Rössjöholmsån, f utfl t Rönneå","","","","","","","","","","","","","","","","","","","","","","","","",""]
["56 Rössjöholmsån, f utfl t Rönneå",{"$error":"#VALUE!"},165,"56 Rössjöholmsån, f utfl t Rönneå","","","","","","","","","","","","","","","","","","","","","","","","",""]
["56 Rössjöholmsån, f utfl t Rönneå",{"$error":"#VALUE!"},165,"56 Rössjöholmsån, f utfl t Rönneå","","","","","","","","","","","","","","","","","","","","","","","","",""]
["56 Rössjöholmsån, f utfl t Rönneå",{"$error":"#VALUE!"},165,"56 Rössjöholmsån, f utfl t Rönneå","","","","","","","","","","","","","","","","","","","","","","","","",""]
["56 Rössjöholmsån, f utfl t Rönneå",{"$error":"#VALUE!"},165,"56 Rössjöholmsån, f utfl t Rönneå","","","","","","","","","","","","","","","","","","","","","","","","",""]
["60 Storarydsdammen yta45700","60 Storarydsdammen yta2",170,"60 Storarydsdammen yta","2025-02-12",1.7,13.3,95,7,0.34,20.8,150,"",0.28000000000000003,"",51.35,"",4.3,13,23,770,"",1200,"",0.21,0.49,"",1.3,""]
["60 Storarydsdammen yta",{"$error":"#VALUE!"},170,"60 Storarydsdammen yta","","","","","","","","","","","","","","","","","","","","","","","","",""]
["60 Storarydsdammen 4 m45700","60 Storarydsdammen 4 m2",175,"60 Storarydsdammen 4 m","2025-02-12",1.6,13.2,94,"","","","","","","","","","","","","","","","","","","","",""]
["60 Storarydsdammen 4 m",{"$error":"#VALUE!"},175,"60 Storarydsdammen 4 m","","","","","","","","","","","","","","","","","","","","","","","","",""]
["19 Ö Sorrödssjön, ytan45700","19 Ö Sorrödssjön, ytan2",180,"19 Ö Sorrödssjön, ytan","2025-02-12",1.5,13.2,94,7,0.3,18.899999999999999,150,"",0.3,"",59.25,"",3.5,11,22,990,"",1300,"",0.2,0.44,"",1.1000000000000001,""]
["19 Ö Sorrödssjön, ytan",{"$error":"#VALUE!"},180,"19 Ö Sorrödssjön, ytan","","","","","","","","","","","","","","","","","","","","","","","","",""]
["19 Ö Sorrödssjön, 4 m45700","19 Ö Sorrödssjön,  4 m2",185,"19 Ö Sorrödssjön,  4 m","2025-02-12",1.2,13.5,95,"","","","","","","","","",3.4,11,55,990,44,1300,"","","","","",""]
["19 Ö Sorrödssjön, 4 m",{"$error":"#VALUE!"},185,"19 Ö Sorrödssjön,  4 m","","","","","","","","","","","","","","","","","","","","","","","","",""]
["37 Hjälmsjön, ytan45700","37 Hjälmsjön, ytan2",190,"37 Hjälmsjön, ytan","2025-02-12",1.4,13.3,95,6.4,9.7000000000000003E-2,8.69,200,"",0.46,"",82.95,"",2.9,12,24,550,"",1000,"",0.13,0.12,"",1.1000000000000001,""]
["37 Hjälmsjön, ytan",{"$error":"#VALUE!"},190,"37 Hjälmsjön, ytan","","","","","","","","","","","","","","","","","","","","","","","","",""]
["37 Hjälmsjön, 6,5 m45700","37 Hjälmsjön, 6,5 m2",195,"37 Hjälmsjön, 6,5 m","2025-02-12",1.1000000000000001,13.4,94,"","","","","","","","","",2.7,8.1999999999999993,13,540,"<10",1000,"","","","","",""]
["37 Hjälmsjön, 6,5 m",{"$error":"#VALUE!"},195,"37 Hjälmsjön, 6,5 m","","","","","","","","","","","","","","","","","","","","","","","","",""]
["50 Västersjön, ytan45700","50 Västersjön, ytan2",200,"50 Västersjön, ytan","2025-02-12",1.1000000000000001,13.9,98,6.9,0.15,6.86,100,"",0.24,"",51.35,"","<2",8.1,15,170,"",550,"",0.12,9.1999999999999998E-2,"",1.9,""]
["50 Västersjön, ytan",{"$error":"#VALUE!"},200,"50 Västersjön, ytan","","","","","","","","","","","","","","","","","","","","","","","","",""]
["50 Västersjön, 10 m45700","50 Västersjön, 10 m2",205,"50 Västersjön, 10 m","2025-02-12",0.6,14,97,"","","","","","","","","","<2",8.9,15,170,12,560,"","","","","",""]
["50 Västersjön, 10 m",{"$error":"#VALUE!"},205,"50 Västersjön, 10 m","","","","","","","","","","","","","","","","","","","","","","","","",""]
["51 Rössjön, ytan45700","51 Rössjön, ytan2",210,"51 Rössjön, ytan","2025-02-12",1.5,13.6,97,6.9,0.16,7.66,100,"",0.18,"",39.5,"","<2",8.8000000000000007,13,360,"",630,"",0.14000000000000001,0.11,"",2.2000000000000002,""]
["51 Rössjön, ytan",{"$error":"#VALUE!"},210,"51 Rössjön, ytan","","","","","","","","","","","","","","","","","","","","","","","","",""]
["51 Rössjön, 18 m45700","51 Rössjön, 18 m2",215,"51 Rössjön, 18 m","2025-02-12","","","","","","","","","","","","","","","","","","","","","","","","Inget prov pga stark vind"]
["51 Rössjön, 18 m",{"$error":"#VALUE!"},215,"51 Rössjön, 18 m","","","","","","","","","","","","","","","","","","","","","","","","",""]
["Ri5 Sätoftasjön, ytan45672","Ri5 Sätoftasjön, ytan1",220,"Ri5 Sätoftasjön, ytan","2025-01-15",0.7,13.8,96,7.9,1.3,21.5,75,"",0.14000000000000001,"",35.550000000000004,"","<2",11,34,690,"",1200,"",0.24,0.3,20,1.1000000000000001,""]
["Ri5 Sätoftasjön, ytan45698","Ri5 Sätoftasjön, ytan2",220,"Ri5 Sätoftasjön, ytan","2025-02-10",1.7,14.1,101,7.9,1.2,21.1,90,"",0.16,"",37.130000000000003,"","<2",8.1,33,720,"",1400,"",0.22,0.3,33,1.1000000000000001,"Siktdjup osäkert pga stark vind"]
["Ri5 Sätoftasjön, ytan",{"$error":"#VALUE!"},220,"Ri5 Sätoftasjön, ytan","","","","","","","","","","","","","","","","","","","","","","","","",""]
["Ri5 Sätoftasjön, ytan",{"$error":"#VALUE!"},220,"Ri5 Sätoftasjön, ytan","","","","","","","","","","","","","","","","","","","","","","","","",""]
["Ri5 Sätoftasjön, ytan",{"$error":"#VALUE!"},220,"Ri5 Sätoftasjön, ytan","","","","","","","","","","","","","","","","","","","","","","","","",""]
["Ri5 Sätoftasjön, ytan",{"$error":"#VALUE!"},220,"Ri5 Sätoftasjön, ytan","","","","","","","","","","","","","","","","","","","","","","","","",""]
["Ri5 Sätoftasjön, ytan",{"$error":"#VALUE!"},220,"Ri5 Sätoftasjön, ytan","","","","","","","","","","","","","","","","","","","","","","","","",""]
["Ri5 Sätoftasjön, ytan",{"$error":"#VALUE!"},220,"Ri5 Sätoftasjön, ytan","","","","","","","","","","","","","","","","","","","","","","","","",""]
["Ri5 Sätoftasjön, ytan",{"$error":"#VALUE!"},220,"Ri5 Sätoftasjön, ytan","","","","","","","","","","","","","","","","","","","","","","","","",""]
["Ri5 Sätoftasjön, ytan",{"$error":"#VALUE!"},220,"Ri5 Sätoftasjön, ytan","","","","","","","","","","","","","","","","","","","","","","","","",""]
["Ri5 Sätoftasjön, ytan",{"$error":"#VALUE!"},220,"Ri5 Sätoftasjön, ytan","","","","","","","","","","","","","","","","","","","","","","","","",""]
["Ri5 Sätoftasjön, ytan",{"$error":"#VALUE!"},220,"Ri5 Sätoftasjön, ytan","","","","","","","","","","","","","","","","","","","","","","","","",""]
[{"$f":"TRIM(CONCATENATE(D311,E311))","v":"Ri5 Sätoftasjön, 15 m"},{"$f":"CONCATENATE(D311,MONTH(E311))","v":{"$error":"#VALUE!"}},225,"Ri5 Sätoftasjön, 15 m","","","","","","","","","","","","","","","","","","","","","","","","",""]
["Ri5 Sätoftasjön, 15 m",{"$error":"#VALUE!"},225,"Ri5 Sätoftasjön, 15 m","","","","","","","","","","","","","","","","","","","","","","","","",""]
["Ri5 Sätoftasjön, 15 m",{"$error":"#VALUE!"},225,"Ri5 Sätoftasjön, 15 m","","","","","","","","","","","","","","","","","","","","","","","","",""]
["Ri5 Sätoftasjön, 15 m",{"$error":"#VALUE!"},225,"Ri5 Sätoftasjön, 15 m","","","","","","","","","","","","","","","","","","","","","","","","",""]
["Ri4 Östra Ringsjön, ytan45672","Ri4 Östra Ringsjön, ytan1",230,"Ri4 Östra Ringsjön, ytan","2025-01-15",1.6,13.5,97,8,1.6,26.4,12,"",8.6999999999999994E-2,"",26.86,"",36,46,64,1300,"",1600,"",0.26,0.32,12,1.7,""]
["Ri4 Östra Ringsjön, ytan45698","Ri4 Östra Ringsjön, ytan2",230,"Ri4 Östra Ringsjön, ytan","2025-02-10",2,14.3,103,8,1.6,25.9,55,"",0.1,"",26.465000000000003,"",19,32,58,1300,"",1900,"",0.24,0.32,17,1.5,"Siktdjup osäkert pga stark vind"]
["Ri4 Östra Ringsjön, ytan",{"$error":"#VALUE!"},230,"Ri4 Östra Ringsjön, ytan","","","","","","","","","","","","","","","","","","","","","","","","",""]
["Ri4 Östra Ringsjön, ytan",{"$error":"#VALUE!"},230,"Ri4 Östra Ringsjön, ytan","","","","","","","","","","","","","","","","","","","","","","","","",""]
["Ri4 Östra Ringsjön, ytan",{"$error":"#VALUE!"},230,"Ri4 Östra Ringsjön, ytan","","","","","","","","","","","","","","","","","","","","","","","","",""]
["Ri4 Östra Ringsjön, ytan",{"$error":"#VALUE!"},230,"Ri4 Östra Ringsjön, ytan","","","","","","","","","","","","","","","","","","","","","","","","",""]
["Ri4 Östra Ringsjön, ytan",{"$error":"#VALUE!"},230,"Ri4 Östra Ringsjön, ytan","","","","","","","","","","","","","","","","","","","","","","","","",""]
["Ri4 Östra Ringsjön, ytan",{"$error":"#VALUE!"},230,"Ri4 Östra Ringsjön, ytan","","","","","","","","","","","","","","","","","","","","","","","","",""]
["Ri4 Östra Ringsjön, ytan",{"$error":"#VALUE!"},230,"Ri4 Östra Ringsjön, ytan","","","","","","","","","","","","","","","","","","","","","","","","",""]
["Ri4 Östra Ringsjön, ytan",{"$error":"#VALUE!"},230,"Ri4 Östra Ringsjön, ytan","","","","","","","","","","","","","","","","","","","","","","","","",""]
["Ri4 Östra Ringsjön, ytan",{"$error":"#VALUE!"},230,"Ri4 Östra Ringsjön, ytan","","","","","","","","","","","","","","","","","","","","","","","","",""]
["Ri4 Östra Ringsjön, ytan",{"$error":"#VALUE!"},230,"Ri4 Östra Ringsjön, ytan","","","","","","","","","","","","","","","","","","","","","","","","",""]
["Ri4 Östra Ringsjön, 15 m",{"$error":"#VALUE!"},235,"Ri4 Östra Ringsjön, 15 m","","","","","","","","","","","","","","","","","","","","","","","","",""]
["Ri4 Östra Ringsjön, 15 m",{"$error":"#VALUE!"},235,"Ri4 Östra Ringsjön, 15 m","","","","","","","","","","","","","","","","","","","","","","","","",""]
["Ri4 Östra Ringsjön, 15 m",{"$error":"#VALUE!"},235,"Ri4 Östra Ringsjön, 15 m","","","","","","","","","","","","","","","","","","","","","","","","",""]
["Ri4 Östra Ringsjön, 15 m",{"$error":"#VALUE!"},235,"Ri4 Östra Ringsjön, 15 m","","","","","","","","","","","","","","","","","","","","","","","","",""]
["Ri2 Västra Ringsjön, ytan45672","Ri2 Västra Ringsjön, ytan1",240,"Ri2 Västra Ringsjön, ytan","2025-01-15",0.8,14.9,104,8.3000000000000007,1.6,25.8,45,"",5.2999999999999999E-2,"",25.675000000000001,"","<2",7.6,46,420,"",1100,"",0.26,0.31,61,1,""]
["Ri2 Västra Ringsjön, ytan45698","Ri2 Västra Ringsjön, ytan2",240,"Ri2 Västra Ringsjön, ytan","2025-02-10",1.7,14.3,103,8.3000000000000007,1.6,25.5,35,"",7.3999999999999996E-2,"",23.305000000000003,"","<2",7.8,29,480,"",1200,"",0.24,0.3,20,1.7,"Siktdjup osäkert pga stark vind"]
["Ri2 Västra Ringsjön, ytan",{"$error":"#VALUE!"},240,"Ri2 Västra Ringsjön, ytan","","","","","","","","","","","","","","","","","","","","","","","","",""]
["Ri2 Västra Ringsjön, ytan",{"$error":"#VALUE!"},240,"Ri2 Västra Ringsjön, ytan","","","","","","","","","","","","","","","","","","","","","","","","",""]
["Ri2 Västra Ringsjön, ytan",{"$error":"#VALUE!"},240,"Ri2 Västra Ringsjön, ytan","","","","","","","","","","","","","","","","","","","","","","","","",""]
["Ri2 Västra Ringsjön, ytan",{"$error":"#VALUE!"},240,"Ri2 Västra Ringsjön, ytan","","","","","","","","","","","","","","","","","","","","","","","","",""]
["Ri2 Västra Ringsjön, ytan",{"$error":"#VALUE!"},240,"Ri2 Västra Ringsjön, ytan","","","","","","","","","","","","","","","","","","","","","","","","",""]
["Ri2 Västra Ringsjön, ytan",{"$error":"#VALUE!"},240,"Ri2 Västra Ringsjön, ytan","","","","","","","","","","","","","","","","","","","","","","","","",""]
["Ri2 Västra Ringsjön, ytan",{"$error":"#VALUE!"},240,"Ri2 Västra Ringsjön, ytan","","","","","","","","","","","","","","","","","","","","","","","","",""]
["Ri2 Västra Ringsjön, ytan",{"$error":"#VALUE!"},240,"Ri2 Västra Ringsjön, ytan","","","","","","","","","","","","","","","","","","","","","","","","",""]
["Ri2 Västra Ringsjön, ytan",{"$error":"#VALUE!"},240,"Ri2 Västra Ringsjön, ytan","","","","","","","","","","","","","","","","","","","","","","","","",""]
["Ri2 Västra Ringsjön, ytan",{"$error":"#VALUE!"},240,"Ri2 Västra Ringsjön, ytan","","","","","","","","","","","","","","","","","","","","","","","","",""]
["Ri2 Västra Ringsjön, 4 m",{"$error":"#VALUE!"},245,"Ri2 Västra Ringsjön, 4 m","","","","","","","","","","","","","","","","","","","","","","","","",""]
["Ri2 Västra Ringsjön, 4 m",{"$error":"#VALUE!"},245,"Ri2 Västra Ringsjön, 4 m","","","","","","","","","","","","","","","","","","","","","","","","",""]
["Ri2 Västra Ringsjön, 4 m",{"$error":"#VALUE!"},245,"Ri2 Västra Ringsjön, 4 m","","","","","","","","","","","","","","","","","","","","","","","","",""]
["Ri2 Västra Ringsjön, 4 m",{"$error":"#VALUE!"},245,"Ri2 Västra Ringsjön, 4 m","","","","","","","","","","","","","","","","","","","","","","","","",""]

{"sheet":"Sorterat","index":5,"n_rows":549,"n_cols":78,"rows_kept":549,"cut":false,"hidden":false,"merged":[[4,28,4,29]]}
[]
[null,"Rönne å 2025"]
[null,"Sorterat per provpunkt"]
[null,null,null,"Värden < a räknas som a vid beräkning av statistik",null,null,null,null,null,null,null,null,null,null,null,null,null,null,null,null,null,null,null,null,null,null,null,null,null,null,null,null,null,null,null,null,null,null,null,null,null,null,null,null,null,null,null,null,null,null,null,null,null,null,null,"<-värden omvandlade till värden. Medelvärde hämtas här"]
["Sorterings-","Provtagningspunkt","Provtagn"," Temp"," Syreh","Syrem","  pH"," Alkalin","Kond","   Färg","Gruml","Abs,filt","BOD7"," Perm.t.","COD-Cr","PO4-P","Tot-P filt","Tot-P"," NO3+2-N","NH4-N"," Tot-N","Ca","Mg","SO4","Klor a","Siktdjup","Anmärkning","provtagare/projektledare",null,null,null,null,null,null,null,null,null,null,null,null,null,null,null,null,null,null,null,null,null,null,null,null,null,null,null," Temp"," Syreh","Syrem","  pH"," Alkalin","Kond","   Färg","Gruml","Abs,filt","BOD7"," Perm.t.","COD-Cr","PO4-P","Tot-P filt","Tot-P"," NO3+2-N","NH4-N"," Tot-N","Ca","Mg","SO4","Klor a","Siktdjup"]
["ordning","Nr Läge","datum","  °C","mg/l","%",null,"  mmol/l","mS/m"," mgPt/l","  FNU","/5cm","mg/l","   mg/l","   mg/l"," µg/l"," µg/l"," µg/l","  µg/l","  µg/l","  µg/l","mekv/l","mekv/l","mekv/l"," µg/l","m",null,null,null,null,null,null,null,null,null,null,null,null,null,null,null,null,null,null,null,null,null,null,null,null,null,null,null,null,null,"  °C","mg/l","%",null,"  mmol/l","mS/m"," mgPt/l","  FNU","/5cm","mg/l","   mg/l","   mg/l"," µg/l"," µg/l"," µg/l","  µg/l","  µg/l","  µg/l","   mg/l","   mg/l","   mg/l"," µg/l","m"]
[3,"3  Rönneå, uppstr Bålamöllan","2025-01-15",1.7,12.8,92,7.5,1.6,26.7,50,7.7,0.12,2.5,38.314999999999998,40,"","",77,1500,72,2400,1.9,0.33,0.41,"","","",null,null,null,null,null,null,null,null,null,null,null,null,null,null,null,null,null,null,null,null,null,null,null,null,null,null,null,null,{"$f":"IF(OR(LEFT(D7,1)=\"<\",LEFT(D7,1)=\">\"),VALUE(MID(D7,2,5)),D7)","v":1.7},12.8,92,7.5,1.6,26.7,50,7.7,0.12,2.5,38.314999999999998,40,"","",77,1500,72,2400,1.9,0.33,0.41,"",""]
[3,"3  Rönneå, uppstr Bålamöllan","2025-02-10",2.1,13.9,101,8,1.8,26.6,60,5.3,8.1000000000000003E-2,2.9,31.995000000000001,"<30","","",43,730,"<10",1300,2,0.26,0.33,"","","",null,null,null,null,null,null,null,null,null,null,null,null,null,null,null,null,null,null,null,null,null,null,null,null,null,null,null,null,{"$f":"IF(OR(LEFT(D8,1)=\"<\",LEFT(D8,1)=\">\"),VALUE(MID(D8,2,5)),D8)","v":2.1},{"$f":"IF(OR(LEFT(E8,1)=\"<\",LEFT(E8,1)=\">\"),VALUE(MID(E8,2,5)),E8)","v":13.9},{"$f":"IF(OR(LEFT(F8,1)=\"<\",LEFT(F8,1)=\">\"),VALUE(MID(F8,2,5)),F8)","v":101},{"$f":"IF(OR(LEFT(G8,1)=\"<\",LEFT(G8,1)=\">\"),VALUE(MID(G8,2,5)),G8)","v":8},{"$f":"IF(OR(LEFT(H8,1)=\"<\",LEFT(H8,1)=\">\"),VALUE(MID(H8,2,5)),H8)","v":1.8},{"$f":"IF(OR(LEFT(I8,1)=\"<\",LEFT(I8,1)=\">\"),VALUE(MID(I8,2,5)),I8)","v":26.6},{"$f":"IF(OR(LEFT(J8,1)=\"<\",LEFT(J8,1)=\">\"),VALUE(MID(J8,2,5)),J8)","v":60},{"$f":"IF(OR(LEFT(K8,1)=\"<\",LEFT(K8,1)=\">\"),VALUE(MID(K8,2,5)),K8)","v":5.3},{"$f":"IF(OR(LEFT(L8,1)=\"<\",LEFT(L8,1)=\">\"),VALUE(MID(L8,2,5)),L8)","v":8.1000000000000003E-2},{"$f":"IF(OR(LEFT(M8,1)=\"<\",LEFT(M8,1)=\">\"),VALUE(MID(M8,2,5)),M8)","v":2.9},{"$f":"IF(OR(LEFT(N8,1)=\"<\",LEFT(N8,1)=\">\"),VALUE(MID(N8,2,5)),N8)","v":31.995000000000001},{"$f":"IF(OR(LEFT(O8,1)=\"<\",LEFT(O8,1)=\">\"),VALUE(MID(O8,2,5)),O8)","v":30},{"$f":"IF(OR(LEFT(P8,1)=\"<\",LEFT(P8,1)=\">\"),VALUE(MID(P8,2,5)),P8)","v":""},{"$f":"IF(OR(LEFT(Q8,1)=\"<\",LEFT(Q8,1)=\">\"),VALUE(MID(Q8,2,5)),Q8)","v":""},{"$f":"IF(OR(LEFT(R8,1)=\"<\",LEFT(R8,1)=\">\"),VALUE(MID(R8,2,5)),R8)","v":43},{"$f":"IF(OR(LEFT(S8,1)=\"<\",LEFT(S8,1)=\">\"),VALUE(MID(S8,2,5)),S8)","v":730},{"$f":"IF(OR(LEFT(T8,1)=\"<\",LEFT(T8,1)=\">\"),VALUE(MID(T8,2,5)),T8)","v":10},{"$f":"IF(OR(LEFT(U8,1)=\"<\",LEFT(U8,1)=\">\"),VALUE(MID(U8,2,5)),U8)","v":1300},{"$f":"IF(OR(LEFT(V8,1)=\"<\",LEFT(V8,1)=\">\"),VALUE(MID(V8,2,5)),V8)","v":2},{"$f":"IF(OR(LEFT(W8,1)=\"<\",LEFT(W8,1)=\">\"),VALUE(MID(W8,2,5)),W8)","v":0.26},{"$f":"IF(OR(LEFT(X8,1)=\"<\",LEFT(X8,1)=\">\"),VALUE(MID(X8,2,5)),X8)","v":0.33},{"$f":"IF(OR(LEFT(Y8,1)=\"<\",LEFT(Y8,1)=\">\"),VALUE(MID(Y8,2,5)),Y8)","v":""},{"$f":"IF(OR(LEFT(Z8,1)=\"<\",LEFT(Z8,1)=\">\"),VALUE(MID(Z8,2,5)),Z8)","v":""}]
[3,"3  Rönneå, uppstr Bålamöllan","","","","","","","","","","","","","","","","","","","","","","","","","",null,null,null,null,null,null,null,null,null,null,null,null,null,null,null,null,null,null,null,null,null,null,null,null,null,null,null,null,"","","","","","","","","","","","","","","","","","","","","","",""]
[3,"3  Rönneå, uppstr Bålamöllan","","","","","","","","","","","","","","","","","","","","","","","","","",null,null,null,null,null,null,null,null,null,null,null,null,null,null,null,null,null,null,null,null,null,null,null,null,null,null,null,null,"","","","","","","","","","","","","","","","","","","","","","",""]
[3,"3  Rönneå, uppstr Bålamöllan","","","","","","","","","","","","","","","","","","","","","","","","","",null,null,null,null,null,null,null,null,null,null,null,null,null,null,null,null,null,null,null,null,null,null,null,null,null,null,null,null,"","","","","","","","","","","","","","","","","","","","","","",""]
[3,"3  Rönneå, uppstr Bålamöllan","","","","","","","","","","","","","","","","","","","","","","","","","",null,null,null,null,null,null,null,null,null,null,null,null,null,null,null,null,null,null,null,null,null,null,null,null,null,null,null,null,"","","","","","","","","","","","","","","","","","","","","","",""]
[3,"3  Rönneå, uppstr Bålamöllan","","","","","","","","","","","","","","","","","","","","","","","","","",null,null,null,null,null,null,null,null,null,null,null,null,null,null,null,null,null,null,null,null,null,null,null,null,null,null,null,null,"","","","","","","","","","","","","","","","","","","","","","",""]
[3,"3  Rönneå, uppstr Bålamöllan","","","","","","","","","","","","","","","","","","","","","","","","","",null,null,null,null,null,null,null,null,null,null,null,null,null,null,null,null,null,null,null,null,null,null,null,null,null,null,null,null,"","","","","","","","","","","","","","","","","","","","","","",""]
[3,"3  Rönneå, uppstr Bålamöllan","","","","","","","","","","","","","","","","","","","","","","","","","",null,null,null,null,null,null,null,null,null,null,null,null,null,null,null,null,null,null,null,null,null,null,null,null,null,null,null,null,"","","","","","","","","","","","","","","","","","","","","","",""]
[3,"3  Rönneå, uppstr Bålamöllan","","","","","","","","","","","","","","","","","","","","","","","","","",null,null,null,null,null,null,null,null,null,null,null,null,null,null,null,null,null,null,null,null,null,null,null,null,null,null,null,null,"","","","","","","","","","","","","","","","","","","","","","",""]
[3,"3  Rönneå, uppstr Bålamöllan","","","","","","","","","","","","","","","","","","","","","","","","","",null,null,null,null,null,null,null,null,null,null,null,null,null,null,null,null,null,null,null,null,null,null,null,null,null,null,null,null,"","","","","","","","","","","","","","","","","","","","","","",""]
[3,"3  Rönneå, uppstr Bålamöllan","","","","","","","","","","","","","","","","","","","","","","","","","",null,null,null,null,null,null,null,null,null,null,null,null,null,null,null,null,null,null,null,null,null,null,null,null,null,null,null,null,"","","","","","","","","","","","","","","","","","","","","","",""]
[null,null,"Medel",1.9,13.350000000000001,96.5,7.75,1.7000000000000002,26.65,55,6.5,0.10050000000000001,2.7,35.155000000000001,35,{"$error":"#DIV/0!"},{"$error":"#DIV/0!"},60,1115,41,1850,1.95,0.29500000000000004,0.37,{"$error":"#DIV/0!"},{"$error":"#DIV/0!"},null,null,null,null,null,null,null,null,null,null,null,null,null,null,null,null,null,null,null,null,null,null,null,null,null,null,null,null,null,1.9,13.350000000000001,96.5,7.75,1.7000000000000002,26.65,55,6.5,0.10050000000000001,2.7,35.155000000000001,35,{"$error":"#DIV/0!"},{"$error":"#DIV/0!"},60,1115,41,1850,1.95,0.29500000000000004,0.37,{"$error":"#DIV/0!"},{"$error":"#DIV/0!"}]
[null,null,"Max",2.1,13.9,101,8,1.8,26.7,60,7.7,0.12,2.9,38.314999999999998,40,0,0,77,1500,72,2400,2,0.33,0.41,0,0,null,null,null,null,null,null,null,null,null,null,null,null,null,null,null,null,null,null,null,null,null,null,null,null,null,null,null,null,null,2.1,13.9,101,8,1.8,26.7,60,7.7,0.12,2.9,38.314999999999998,40,0,0,77,1500,72,2400,2,0.33,0.41,0,0]
[null,null,"Min",1.7,12.8,92,7.5,1.6,26.6,50,5.3,8.1000000000000003E-2,2.5,31.995000000000001,30,0,0,43,730,10,1300,1.9,0.26,0.33,0,0,null,null,null,null,null,null,null,null,null,null,null,null,null,null,null,null,null,null,null,null,null,null,null,null,null,null,null,null,null,1.7,12.8,92,7.5,1.6,26.6,50,5.3,8.1000000000000003E-2,2.5,31.995000000000001,30,0,0,43,730,10,1300,1.9,0.26,0.33,0,0]
[null,null,null,null,null,null,null,null,null,null,null,null,null,null,null,null,null,null,null,null,null,null,null,null,null,null,null,null,null,null,null,null,null,null,null,null,null,null,null,null,null,null,null,null,null,null,null,null,null,null,null,null,null,null,null,0,0,0,0,0,0,0,0,0,0,0,0,0,0,0,0,0,0,0,0,0,0,0]
[5,"75 Rönneå, Bögerup vid bron innan Bolebäcken","2025-02-10",2,13.9,100,7.9,1.6,25.5,100,5.7,9.9000000000000005E-2,2.6,33.18,"<30","","",41,810,14,1400,2,0.28000000000000003,0.34,"","","",null,null,null,null,null,null,null,null,null,null,null,null,null,null,null,null,null,null,null,null,null,null,null,null,null,null,null,null,2,13.9,100,7.9,1.6,25.5,100,5.7,9.9000000000000005E-2,2.6,33.18,30,"","",41,810,14,1400,2,0.28000000000000003,0.34,"",""]
[5,"75 Rönneå, Bögerup vid bron innan Bolebäcken","","","","","","","","","","","","","","","","","","","","","","","","","",null,null,null,null,null,null,null,null,null,null,null,null,null,null,null,null,null,null,null,null,null,null,null,null,null,null,null,null,"","","","","","","","","","","","","","","","","","","","","","",""]
[5,"75 Rönneå, Bögerup vid bron innan Bolebäcken","","","","","","","","","","","","","","","","","","","","","","","","","",null,null,null,null,null,null,null,null,null,null,null,null,null,null,null,null,null,null,null,null,null,null,null,null,null,null,null,null,"","","","","","","","","","","","","","","","","","","","","","",""]
[5,"75 Rönneå, Bögerup vid bron innan Bolebäcken","","","","","","","","","","","","","","","","","","","","","","","","","",null,null,null,null,null,null,null,null,null,null,null,null,null,null,null,null,null,null,null,null,null,null,null,null,null,null,null,null,"","","","","","","","","","","","","","","","","","","","","","",""]
[5,"75 Rönneå, Bögerup vid bron innan Bolebäcken","","","","","","","","","","","","","","","","","","","","","","","","","",null,null,null,null,null,null,null,null,null,null,null,null,null,null,null,null,null,null,null,null,null,null,null,null,null,null,null,null,"","","","","","","","","","","","","","","","","","","","","","",""]
[5,"75 Rönneå, Bögerup vid bron innan Bolebäcken","","","","","","","","","","","","","","","","","","","","","","","","","",null,null,null,null,null,null,null,null,null,null,null,null,null,null,null,null,null,null,null,null,null,null,null,null,null,null,null,null,"","","","","","","","","","","","","","","","","","","","","","",""]
[null,null,"Medel",2,13.9,100,7.9,1.6,25.5,100,5.7,9.9000000000000005E-2,2.6,33.18,30,{"$error":"#DIV/0!"},{"$error":"#DIV/0!"},41,810,14,1400,2,0.28000000000000003,0.34,{"$error":"#DIV/0!"},{"$error":"#DIV/0!"},null,null,null,null,null,null,null,null,null,null,null,null,null,null,null,null,null,null,null,null,null,null,null,null,null,null,null,null,null,2,13.9,100,7.9,1.6,25.5,100,5.7,9.9000000000000005E-2,2.6,33.18,30,{"$error":"#DIV/0!"},{"$error":"#DIV/0!"},41,810,14,1400,2,0.28000000000000003,0.34,{"$error":"#DIV/0!"},{"$error":"#DIV/0!"}]
[null,null,"Max",2,13.9,100,7.9,1.6,25.5,100,5.7,9.9000000000000005E-2,2.6,33.18,30,0,0,41,810,14,1400,2,0.28000000000000003,0.34,0,0,null,null,null,null,null,null,null,null,null,null,null,null,null,null,null,null,null,null,null,null,null,null,null,null,null,null,null,null,null,2,13.9,100,7.9,1.6,25.5,100,5.7,9.9000000000000005E-2,2.6,33.18,30,0,0,41,810,14,1400,2,0.28000000000000003,0.34,0,0]
[null,null,"Min",2,13.9,100,7.9,1.6,25.5,100,5.7,9.9000000000000005E-2,2.6,33.18,30,0,0,41,810,14,1400,2,0.28000000000000003,0.34,0,0,null,null,null,null,null,null,null,null,null,null,null,null,null,null,null,null,null,null,null,null,null,null,null,null,null,null,null,null,null,2,13.9,100,7.9,1.6,25.5,100,5.7,9.9000000000000005E-2,2.6,33.18,30,0,0,41,810,14,1400,2,0.28000000000000003,0.34,0,0]
[null,null,null,null,null,null,null,null,null,null,null,null,null,null,null,null,null,null,null,null,null,null,null,null,null,null,null,null,null,null,null,null,null,null,null,null,null,null,null,null,null,null,null,null,null,null,null,null,null,null,null,null,null,null,null,0,0,0,0,0,0,0,0,0,0,0,0,0,0,0,0,0,0,0,0,0,0,0]
[10,"11 Rönneå, vid Djupadalsmölla","2025-01-15",2.1,13,94,7.6,1.6,27.9,50,7.7,0.13,2.2000000000000002,35.550000000000004,33,"","",62,1900,97,2400,2,0.38,0.46,"","","",null,null,null,null,null,null,null,null,null,null,null,null,null,null,null,null,null,null,null,null,null,null,null,null,null,null,null,null,2.1,13,94,7.6,1.6,27.9,50,7.7,0.13,2.2000000000000002,35.550000000000004,33,"","",62,1900,97,2400,2,0.38,0.46,"",""]
[10,"11 Rönneå, vid Djupadalsmölla","2025-02-10",2.1,13.9,101,7.9,1.8,26.3,50,5.4,0.09,2.4,31.205000000000002,"<30","","",41,880,"<10",1400,2,0.28000000000000003,0.35,"","","",null,null,null,null,null,null,null,null,null,null,null,null,null,null,null,null,null,null,null,null,null,null,null,null,null,null,null,null,2.1,13.9,101,7.9,1.8,26.3,50,5.4,0.09,2.4,31.205000000000002,30,"","",41,880,10,1400,2,0.28000000000000003,0.35,"",""]
[10,"11 Rönneå, vid Djupadalsmölla","","","","","","","","","","","","","","","","","","","","","","","","","",null,null,null,null,null,null,null,null,null,null,null,null,null,null,null,null,null,null,null,null,null,null,null,null,null,null,null,null,"","","","","","","","","","","","","","","","","","","","","","",""]
[10,"11 Rönneå, vid Djupadalsmölla","","","","","","","","","","","","","","","","","","","","","","","","","",null,null,null,null,null,null,null,null,null,null,null,null,null,null,null,null,null,null,null,null,null,null,null,null,null,null,null,null,"","","","","","","","","","","","","","","","","","","","","","",""]
[10,"11 Rönneå, vid Djupadalsmölla","","","","","","","","","","","","","","","","","","","","","","","","","",null,null,null,null,null,null,null,null,null,null,null,null,null,null,null,null,null,null,null,null,null,null,null,null,null,null,null,null,"","","","","","","","","","","","","","","","","","","","","","",""]
[10,"11 Rönneå, vid Djupadalsmölla","","","","","","","","","","","","","","","","","","","","","","","","","",null,null,null,null,null,null,null,null,null,null,null,null,null,null,null,null,null,null,null,null,null,null,null,null,null,null,null,null,"","","","","","","","","","","","","","","","","","","","","","",""]
[10,"11 Rönneå, vid Djupadalsmölla","","","","","","","","","","","","","","","","","","","","","","","","","",null,null,null,null,null,null,null,null,null,null,null,null,null,null,null,null,null,null,null,null,null,null,null,null,null,null,null,null,"","","","","","","","","","","","","","","","","","","","","","",""]
[10,"11 Rönneå, vid Djupadalsmölla","","","","","","","","","","","","","","","","","","","","","","","","","",null,null,null,null,null,null,null,null,null,null,null,null,null,null,null,null,null,null,null,null,null,null,null,null,null,null,null,null,"","","","","","","","","","","","","","","","","","","","","","",""]
[10,"11 Rönneå, vid Djupadalsmölla","","","","","","","","","","","","","","","","","","","","","","","","","",null,null,null,null,null,null,null,null,null,null,null,null,null,null,null,null,null,null,null,null,null,null,null,null,null,null,null,null,"","","","","","","","","","","","","","","","","","","","","","",""]
[10,"11 Rönneå, vid Djupadalsmölla","","","","","","","","","","","","","","","","","","","","","","","","","",null,null,null,null,null,null,null,null,null,null,null,null,null,null,null,null,null,null,null,null,null,null,null,null,null,null,null,null,"","","","","","","","","","","","","","","","","","","","","","",""]
[10,"11 Rönneå, vid Djupadalsmölla","","","","","","","","","","","","","","","","","","","","","","","","","",null,null,null,null,null,null,null,null,null,null,null,null,null,null,null,null,null,null,null,null,null,null,null,null,null,null,null,null,"","","","","","","","","","","","","","","","","","","","","","",""]
[10,"11 Rönneå, vid Djupadalsmölla","","","","","","","","","","","","","","","","","","","","","","","","","",null,null,null,null,null,null,null,null,null,null,null,null,null,null,null,null,null,null,null,null,null,null,null,null,null,null,null,null,"","","","","","","","","","","","","","","","","","","","","","",""]
[null,null,"Medel",2.1,13.45,97.5,7.75,1.7000000000000002,27.1,50,6.5500000000000007,0.11,2.2999999999999998,33.377500000000005,31.5,{"$error":"#DIV/0!"},{"$error":"#DIV/0!"},51.5,1390,53.5,1900,2,0.33,0.40500000000000003,{"$error":"#DIV/0!"},{"$error":"#DIV/0!"},null,null,null,null,null,null,null,null,null,null,null,null,null,null,null,null,null,null,null,null,null,null,null,null,null,null,null,null,null,2.1,13.45,97.5,7.75,1.7000000000000002,27.1,50,6.5500000000000007,0.11,2.2999999999999998,33.377500000000005,31.5,{"$error":"#DIV/0!"},{"$error":"#DIV/0!"},51.5,1390,53.5,1900,2,0.33,0.40500000000000003,{"$error":"#DIV/0!"},{"$error":"#DIV/0!"}]
[null,null,"Max",2.1,13.9,101,7.9,1.8,27.9,50,7.7,0.13,2.4,35.550000000000004,33,0,0,62,1900,97,2400,2,0.38,0.46,0,0,null,null,null,null,null,null,null,null,null,null,null,null,null,null,null,null,null,null,null,null,null,null,null,null,null,null,null,null,null,2.1,13.9,101,7.9,1.8,27.9,50,7.7,0.13,2.4,35.550000000000004,33,0,0,62,1900,97,2400,2,0.38,0.46,0,0]
[null,null,"Min",2.1,13,94,7.6,1.6,26.3,50,5.4,0.09,2.2000000000000002,31.205000000000002,30,0,0,41,880,10,1400,2,0.28000000000000003,0.35,0,0,null,null,null,null,null,null,null,null,null,null,null,null,null,null,null,null,null,null,null,null,null,null,null,null,null,null,null,null,null,2.1,13,94,7.6,1.6,26.3,50,5.4,0.09,2.2000000000000002,31.205000000000002,30,0,0,41,880,10,1400,2,0.28000000000000003,0.35,0,0]
[null,null,null,null,null,null,null,null,null,null,null,null,null,null,null,null,null,null,null,null,null,null,null,null,null,null,null,null,null,null,null,null,null,null,null,null,null,null,null,null,null,null,null,null,null,null,null,null,null,null,null,null,null,null,null,0,0,0,0,0,0,0,0,0,0,0,0,0,0,0,0,0,0,0,0,0,0,0]
[15,"14 Rönneå, uppstr Ljungbyheds ARV","2025-02-10",1.7,13.8,99,7.8,1.5,24.5,70,5.6,0.12,2.1,37.130000000000003,"<30","","",41,940,11,1500,1.8,0.28999999999999998,0.34,"","","",null,null,null,null,null,null,null,null,null,null,null,null,null,null,null,null,null,null,null,null,null,null,null,null,null,null,null,null,1.7,13.8,99,7.8,1.5,24.5,70,5.6,0.12,2.1,37.130000000000003,30,"","",41,940,11,1500,1.8,0.28999999999999998,0.34,"",""]
[15,"14 Rönneå, uppstr Ljungbyheds ARV","","","","","","","","","","","","","","","","","","","","","","","","","",null,null,null,null,null,null,null,null,null,null,null,null,null,null,null,null,null,null,null,null,null,null,null,null,null,null,null,null,"","","","","","","","","","","","","","","","","","","","","","",""]
[15,"14 Rönneå, uppstr Ljungbyheds ARV","","","","","","","","","","","","","","","","","","","","","","","","","",null,null,null,null,null,null,null,null,null,null,null,null,null,null,null,null,null,null,null,null,null,null,null,null,null,null,null,null,"","","","","","","","","","","","","","","","","","","","","","",""]
[15,"14 Rönneå, uppstr Ljungbyheds ARV","","","","","","","","","","","","","","","","","","","","","","","","","",null,null,null,null,null,null,null,null,null,null,null,null,null,null,null,null,null,null,null,null,null,null,null,null,null,null,null,null,"","","","","","","","","","","","","","","","","","","","","","",""]
[15,"14 Rönneå, uppstr Ljungbyheds ARV","","","","","","","","","","","","","","","","","","","","","","","","","",null,null,null,null,null,null,null,null,null,null,null,null,null,null,null,null,null,null,null,null,null,null,null,null,null,null,null,null,"","","","","","","","","","","","","","","","","","","","","","",""]
[15,"14 Rönneå, uppstr Ljungbyheds ARV","","","","","","","","","","","","","","","","","","","","","","","","","",null,null,null,null,null,null,null,null,null,null,null,null,null,null,null,null,null,null,null,null,null,null,null,null,null,null,null,null,"","","","","","","","","","","","","","","","","","","","","","",""]
[null,null,"Medel",1.7,13.8,99,7.8,1.5,24.5,70,5.6,0.12,2.1,37.130000000000003,30,{"$error":"#DIV/0!"},{"$error":"#DIV/0!"},41,940,11,1500,1.8,0.28999999999999998,0.34,{"$error":"#DIV/0!"},{"$error":"#DIV/0!"},null,null,null,null,null,null,null,null,null,null,null,null,null,null,null,null,null,null,null,null,null,null,null,null,null,null,null,null,null,1.7,13.8,99,7.8,1.5,24.5,70,5.6,0.12,2.1,37.130000000000003,30,{"$error":"#DIV/0!"},{"$error":"#DIV/0!"},41,940,11,1500,1.8,0.28999999999999998,0.34,{"$error":"#DIV/0!"},{"$error":"#DIV/0!"}]
[null,null,"Max",1.7,13.8,99,7.8,1.5,24.5,70,5.6,0.12,2.1,37.130000000000003,30,0,0,41,940,11,1500,1.8,0.28999999999999998,0.34,0,0,null,null,null,null,null,null,null,null,null,null,null,null,null,null,null,null,null,null,null,null,null,null,null,null,null,null,null,null,null,1.7,13.8,99,7.8,1.5,24.5,70,5.6,0.12,2.1,37.130000000000003,30,0,0,41,940,11,1500,1.8,0.28999999999999998,0.34,0,0]
[null,null,"Min",1.7,13.8,99,7.8,1.5,24.5,70,5.6,0.12,2.1,37.130000000000003,30,0,0,41,940,11,1500,1.8,0.28999999999999998,0.34,0,0,null,null,null,null,null,null,null,null,null,null,null,null,null,null,null,null,null,null,null,null,null,null,null,null,null,null,null,null,null,1.7,13.8,99,7.8,1.5,24.5,70,5.6,0.12,2.1,37.130000000000003,30,0,0,41,940,11,1500,1.8,0.28999999999999998,0.34,0,0]
[null,null,null,null,null,null,null,null,null,null,null,null,null,null,null,null,null,null,null,null,null,null,null,null,null,null,null,null,null,null,null,null,null,null,null,null,null,null,null,null,null,null,null,null,null,null,null,null,null,null,null,null,null,null,null,0,0,0,0,0,0,0,0,0,0,0,0,0,0,0,0,0,0,0,0,0,0,0]
[20,"79 Rönneå, nedstr Ljungbyhed ARV","2025-02-11",1.5,14,100,7.8,1.5,24.8,100,5.5,0.12,2.2000000000000002,28.835000000000001,"<30","","",51,1000,"<10",1600,1.8,0.28999999999999998,0.34,"","","",null,null,null,null,null,null,null,null,null,null,null,null,null,null,null,null,null,null,null,null,null,null,null,null,null,null,null,null,1.5,14,100,7.8,1.5,24.8,100,5.5,0.12,2.2000000000000002,28.835000000000001,30,"","",51,1000,10,1600,1.8,0.28999999999999998,0.34,"",""]
[20,"79 Rönneå, nedstr Ljungbyhed ARV","","","","","","","","","","","","","","","","","","","","","","","","","",null,null,null,null,null,null,null,null,null,null,null,null,null,null,null,null,null,null,null,null,null,null,null,null,null,null,null,null,"","","","","","","","","","","","","","","","","","","","","","",""]
[20,"79 Rönneå, nedstr Ljungbyhed ARV","","","","","","","","","","","","","","","","","","","","","","","","","",null,null,null,null,null,null,null,null,null,null,null,null,null,null,null,null,null,null,null,null,null,null,null,null,null,null,null,null,"","","","","","","","","","","","","","","","","","","","","","",""]
[20,"79 Rönneå, nedstr Ljungbyhed ARV","","","","","","","","","","","","","","","","","","","","","","","","","",null,null,null,null,null,null,null,null,null,null,null,null,null,null,null,null,null,null,null,null,null,null,null,null,null,null,null,null,"","","","","","","","","","","","","","","","","","","","","","",""]
[20,"79 Rönneå, nedstr Ljungbyhed ARV","","","","","","","","","","","","","","","","","","","","","","","","","",null,null,null,null,null,null,null,null,null,null,null,null,null,null,null,null,null,null,null,null,null,null,null,null,null,null,null,null,"","","","","","","","","","","","","","","","","","","","","","",""]
[20,"79 Rönneå, nedstr Ljungbyhed ARV","","","","","","","","","","","","","","","","","","","","","","","","","",null,null,null,null,null,null,null,null,null,null,null,null,null,null,null,null,null,null,null,null,null,null,null,null,null,null,null,null,"","","","","","","","","","","","","","","","","","","","","","",""]
[null,null,"Medel",1.5,14,100,7.8,1.5,24.8,100,5.5,0.12,2.2000000000000002,28.835000000000001,30,{"$error":"#DIV/0!"},{"$error":"#DIV/0!"},51,1000,10,1600,1.8,0.28999999999999998,0.34,{"$error":"#DIV/0!"},{"$error":"#DIV/0!"},null,null,null,null,null,null,null,null,null,null,null,null,null,null,null,null,null,null,null,null,null,null,null,null,null,null,null,null,null,1.5,14,100,7.8,1.5,24.8,100,5.5,0.12,2.2000000000000002,28.835000000000001,30,{"$error":"#DIV/0!"},{"$error":"#DIV/0!"},51,1000,10,1600,1.8,0.28999999999999998,0.34,{"$error":"#DIV/0!"},{"$error":"#DIV/0!"}]
[null,null,"Max",1.5,14,100,7.8,1.5,24.8,100,5.5,0.12,2.2000000000000002,28.835000000000001,30,0,0,51,1000,10,1600,1.8,0.28999999999999998,0.34,0,0,null,null,null,null,null,null,null,null,null,null,null,null,null,null,null,null,null,null,null,null,null,null,null,null,null,null,null,null,null,1.5,14,100,7.8,1.5,24.8,100,5.5,0.12,2.2000000000000002,28.835000000000001,30,0,0,51,1000,10,1600,1.8,0.28999999999999998,0.34,0,0]
[null,null,"Min",1.5,14,100,7.8,1.5,24.8,100,5.5,0.12,2.2000000000000002,28.835000000000001,30,0,0,51,1000,10,1600,1.8,0.28999999999999998,0.34,0,0,null,null,null,null,null,null,null,null,null,null,null,null,null,null,null,null,null,null,null,null,null,null,null,null,null,null,null,null,null,1.5,14,100,7.8,1.5,24.8,100,5.5,0.12,2.2000000000000002,28.835000000000001,30,0,0,51,1000,10,1600,1.8,0.28999999999999998,0.34,0,0]
[null,null,null,null,null,null,null,null,null,null,null,null,null,null,null,null,null,null,null,null,null,null,null,null,null,null,null,null,null,null,null,null,null,null,null,null,null,null,null,null,null,null,null,null,null,null,null,null,null,null,null,null,null,null,null,0,0,0,0,0,0,0,0,0,0,0,0,0,0,0,0,0,0,0,0,0,0,0]
[25,"24 Rönneå, vid Forsmöllan","2025-01-15",2.2999999999999998,12.9,94,7.3,0.85,19.2,120,4.5999999999999996,0.24,"",51.35,"","","",38,1600,"",2100,1.2,0.3,0.37,"","","",null,null,null,null,null,null,null,null,null,null,null,null,null,null,null,null,null,null,null,null,null,null,null,null,null,null,null,null,2.2999999999999998,12.9,94,7.3,0.85,19.2,120,4.5999999999999996,0.24,"",51.35,"","","",38,1600,"",2100,1.2,0.3,0.37,"",""]
[25,"24 Rönneå, vid Forsmöllan","2025-02-11",1.7,14,100,7.7,1.4,23.6,100,5.0999999999999996,0.15,"",32.785000000000004,"","","",34,990,"",1600,1.6,0.28999999999999998,0.34,"","","",null,null,null,null,null,null,null,null,null,null,null,null,null,null,null,null,null,null,null,null,null,null,null,null,null,null,null,null,1.7,14,100,7.7,1.4,23.6,100,5.0999999999999996,0.15,"",32.785000000000004,"","","",34,990,"",1600,1.6,0.28999999999999998,0.34,"",""]
[25,"24 Rönneå, vid Forsmöllan","","","","","","","","","","","","","","","","","","","","","","","","","",null,null,null,null,null,null,null,null,null,null,null,null,null,null,null,null,null,null,null,null,null,null,null,null,null,null,null,null,"","","","","","","","","","","","","","","","","","","","","","",""]
[25,"24 Rönneå, vid Forsmöllan","","","","","","","","","","","","","","","","","","","","","","","","","",null,null,null,null,null,null,null,null,null,null,null,null,null,null,null,null,null,null,null,null,null,null,null,null,null,null,null,null,{"$f":"IF(OR(LEFT(D72,1)=\"<\",LEFT(D72,1)=\">\"),VALUE(MID(D72,2,5)),D72)","v":""},{"$f":"IF(OR(LEFT(E72,1)=\"<\",LEFT(E72,1)=\">\"),VALUE(MID(E72,2,5)),E72)","v":""},{"$f":"IF(OR(LEFT(F72,1)=\"<\",LEFT(F72,1)=\">\"),VALUE(MID(F72,2,5)),F72)","v":""},{"$f":"IF(OR(LEFT(G72,1)=\"<\",LEFT(G72,1)=\">\"),VALUE(MID(G72,2,5)),G72)","v":""},{"$f":"IF(OR(LEFT(H72,1)=\"<\",LEFT(H72,1)=\">\"),VALUE(MID(H72,2,5)),H72)","v":""},{"$f":"IF(OR(LEFT(I72,1)=\"<\",LEFT(I72,1)=\">\"),VALUE(MID(I72,2,5)),I72)","v":""},{"$f":"IF(OR(LEFT(J72,1)=\"<\",LEFT(J72,1)=\">\"),VALUE(MID(J72,2,5)),J72)","v":""},{"$f":"IF(OR(LEFT(K72,1)=\"<\",LEFT(K72,1)=\">\"),VALUE(MID(K72,2,5)),K72)","v":""},{"$f":"IF(OR(LEFT(L72,1)=\"<\",LEFT(L72,1)=\">\"),VALUE(MID(L72,2,5)),L72)","v":""},{"$f":"IF(OR(LEFT(M72,1)=\"<\",LEFT(M72,1)=\">\"),VALUE(MID(M72,2,5)),M72)","v":""},{"$f":"IF(OR(LEFT(N72,1)=\"<\",LEFT(N72,1)=\">\"),VALUE(MID(N72,2,5)),N72)","v":""},{"$f":"IF(OR(LEFT(O72,1)=\"<\",LEFT(O72,1)=\">\"),VALUE(MID(O72,2,5)),O72)","v":""},{"$f":"IF(OR(LEFT(P72,1)=\"<\",LEFT(P72,1)=\">\"),VALUE(MID(P72,2,5)),P72)","v":""},{"$f":"IF(OR(LEFT(Q72,1)=\"<\",LEFT(Q72,1)=\">\"),VALUE(MID(Q72,2,5)),Q72)","v":""},{"$f":"IF(OR(LEFT(R72,1)=\"<\",LEFT(R72,1)=\">\"),VALUE(MID(R72,2,5)),R72)","v":""},{"$f":"IF(OR(LEFT(S72,1)=\"<\",LEFT(S72,1)=\">\"),VALUE(MID(S72,2,5)),S72)","v":""},{"$f":"IF(OR(LEFT(T72,1)=\"<\",LEFT(T72,1)=\">\"),VALUE(MID(T72,2,5)),T72)","v":""},{"$f":"IF(OR(LEFT(U72,1)=\"<\",LEFT(U72,1)=\">\"),VALUE(MID(U72,2,5)),U72)","v":""},{"$f":"IF(OR(LEFT(V72,1)=\"<\",LEFT(V72,1)=\">\"),VALUE(MID(V72,2,5)),V72)","v":""},{"$f":"IF(OR(LEFT(W72,1)=\"<\",LEFT(W72,1)=\">\"),VALUE(MID(W72,2,5)),W72)","v":""},{"$f":"IF(OR(LEFT(X72,1)=\"<\",LEFT(X72,1)=\">\"),VALUE(MID(X72,2,5)),X72)","v":""},{"$f":"IF(OR(LEFT(Y72,1)=\"<\",LEFT(Y72,1)=\">\"),VALUE(MID(Y72,2,5)),Y72)","v":""},{"$f":"IF(OR(LEFT(Z72,1)=\"<\",LEFT(Z72,1)=\">\"),VALUE(MID(Z72,2,5)),Z72)","v":""}]
[25,"24 Rönneå, vid Forsmöllan","","","","","","","","","","","","","","","","","","","","","","","","","",null,null,null,null,null,null,null,null,null,null,null,null,null,null,null,null,null,null,null,null,null,null,null,null,null,null,null,null,"","","","","","","","","","","","","","","","","","","","","","",""]
[25,"24 Rönneå, vid Forsmöllan","","","","","","","","","","","","","","","","","","","","","","","","","",null,null,null,null,null,null,null,null,null,null,null,null,null,null,null,null,null,null,null,null,null,null,null,null,null,null,null,null,"","","","","","","","","","","","","","","","","","","","","","",""]
[25,"24 Rönneå, vid Forsmöllan","","","","","","","","","","","","","","","","","","","","","","","","","",null,null,null,null,null,null,null,null,null,null,null,null,null,null,null,null,null,null,null,null,null,null,null,null,null,null,null,null,"","","","","","","","","","","","","","","","","","","","","","",""]
[25,"24 Rönneå, vid Forsmöllan","","","","","","","","","","","","","","","","","","","","","","","","","",null,null,null,null,null,null,null,null,null,null,null,null,null,null,null,null,null,null,null,null,null,null,null,null,null,null,null,null,"","","","","","","","","","","","","","","","","","","","","","",""]
[25,"24 Rönneå, vid Forsmöllan","","","","","","","","","","","","","","","","","","","","","","","","","",null,null,null,null,null,null,null,null,null,null,null,null,null,null,null,null,null,null,null,null,null,null,null,null,null,null,null,null,"","","","","","","","","","","","","","","","","","","","","","",""]
[25,"24 Rönneå, vid Forsmöllan","","","","","","","","","","","","","","","","","","","","","","","","","",null,null,null,null,null,null,null,null,null,null,null,null,null,null,null,null,null,null,null,null,null,null,null,null,null,null,null,null,"","","","","","","","","","","","","","","","","","","","","","",""]
[25,"24 Rönneå, vid Forsmöllan","","","","","","","","","","","","","","","","","","","","","","","","","",null,null,null,null,null,null,null,null,null,null,null,null,null,null,null,null,null,null,null,null,null,null,null,null,null,null,null,null,"","","","","","","","","","","","","","","","","","","","","","",""]
[25,"24 Rönneå, vid Forsmöllan","","","","","","","","","","","","","","","","","","","","","","","","","",null,null,null,null,null,null,null,null,null,null,null,null,null,null,null,null,null,null,null,null,null,null,null,null,null,null,null,null,"","","","","","","","","","","","","","","","","","","","","","",""]
[null,null,"Medel",2,13.45,97,7.5,1.125,21.4,110,4.8499999999999996,0.19500000000000001,{"$error":"#DIV/0!"},42.067500000000003,{"$error":"#DIV/0!"},{"$error":"#DIV/0!"},{"$error":"#DIV/0!"},36,1295,{"$error":"#DIV/0!"},1850,1.4,0.29499999999999998,0.35499999999999998,{"$error":"#DIV/0!"},{"$error":"#DIV/0!"},null,null,null,null,null,null,null,null,null,null,null,null,null,null,null,null,null,null,null,null,null,null,null,null,null,null,null,null,null,2,13.45,97,7.5,1.125,21.4,110,4.8499999999999996,0.19500000000000001,{"$error":"#DIV/0!"},42.067500000000003,{"$error":"#DIV/0!"},{"$error":"#DIV/0!"},{"$error":"#DIV/0!"},36,1295,{"$error":"#DIV/0!"},1850,1.4,0.29499999999999998,0.35499999999999998,{"$error":"#DIV/0!"},{"$error":"#DIV/0!"}]
[null,null,"Max",2.2999999999999998,14,100,7.7,1.4,23.6,120,5.0999999999999996,0.24,0,51.35,0,0,0,38,1600,0,2100,1.6,0.3,0.37,0,0,null,null,null,null,null,null,null,null,null,null,null,null,null,null,null,null,null,null,null,null,null,null,null,null,null,null,null,null,null,2.2999999999999998,14,100,7.7,1.4,23.6,120,5.0999999999999996,0.24,0,51.35,0,0,0,38,1600,0,2100,1.6,0.3,0.37,0,0]
[null,null,"Min",1.7,12.9,94,7.3,0.85,19.2,100,4.5999999999999996,0.15,0,32.785000000000004,0,0,0,34,990,0,1600,1.2,0.28999999999999998,0.34,0,0,null,null,null,null,null,null,null,null,null,null,null,null,null,null,null,null,null,null,null,null,null,null,null,null,null,null,null,null,null,1.7,12.9,94,7.3,0.85,19.2,100,4.5999999999999996,0.15,0,32.785000000000004,0,0,0,34,990,0,1600,1.2,0.28999999999999998,0.34,0,0]
[null,null,null,null,null,null,null,null,null,null,null,null,null,null,null,null,null,null,null,null,null,null,null,null,null,null,null,null,null,null,null,null,null,null,null,null,null,null,null,null,null,null,null,null,null,null,null,null,null,null,null,null,null,null,null,0,0,0,0,0,0,0,0,0,0,0,0,0,0,0,0,0,0,0,0,0,0,0]
[30,"25 Rönneå, vid Stackarps bro","2025-01-15",2.2999999999999998,13.8,101,7.4,0.85,19.600000000000001,120,4.5999999999999996,0.24,"",47.400000000000006,"","","",37,1700,"",2200,1.2,0.3,0.38,"","","",null,null,null,null,null,null,null,null,null,null,null,null,null,null,null,null,null,null,null,null,null,null,null,null,null,null,null,null,2.2999999999999998,13.8,101,7.4,0.85,19.600000000000001,120,4.5999999999999996,0.24,"",47.400000000000006,"","","",37,1700,"",2200,1.2,0.3,0.38,"",""]
[30,"25 Rönneå, vid Stackarps bro","2025-02-11",1.6,14.5,104,7.7,1.4,23.9,100,5.4,0.28000000000000003,"",30.02,"","","",34,1000,"",1600,1.6,0.28999999999999998,0.36,"","","",null,null,null,null,null,null,null,null,null,null,null,null,null,null,null,null,null,null,null,null,null,null,null,null,null,null,null,null,1.6,14.5,104,7.7,1.4,23.9,100,5.4,0.28000000000000003,"",30.02,"","","",34,1000,"",1600,1.6,0.28999999999999998,0.36,"",""]
[30,"25 Rönneå, vid Stackarps bro","","","","","","","","","","","","","","","","","","","","","","","","","",null,null,null,null,null,null,null,null,null,null,null,null,null,null,null,null,null,null,null,null,null,null,null,null,null,null,null,null,"","","","","","","","","","","","","","","","","","","","","","",""]
[30,"25 Rönneå, vid Stackarps bro","","","","","","","","","","","","","","","","","","","","","","","","","",null,null,null,null,null,null,null,null,null,null,null,null,null,null,null,null,null,null,null,null,null,null,null,null,null,null,null,null,"","","","","","","","","","","","","","","","","","","","","","",""]
[30,"25 Rönneå, vid Stackarps bro","","","","","","","","","","","","","","","","","","","","","","","","","",null,null,null,null,null,null,null,null,null,null,null,null,null,null,null,null,null,null,null,null,null,null,null,null,null,null,null,null,"","","","","","","","","","","","","","","","","","","","","","",""]
[30,"25 Rönneå, vid Stackarps bro","","","","","","","","","","","","","","","","","","","","","","","","","",null,null,null,null,null,null,null,null,null,null,null,null,null,null,null,null,null,null,null,null,null,null,null,null,null,null,null,null,"","","","","","","","","","","","","","","","","","","","","","",""]
[30,"25 Rönneå, vid Stackarps bro","","","","","","","","","","","","","","","","","","","","","","","","","",null,null,null,null,null,null,null,null,null,null,null,null,null,null,null,null,null,null,null,null,null,null,null,null,null,null,null,null,"","","","","","","","","","","","","","","","","","","","","","",""]
[30,"25 Rönneå, vid Stackarps bro","","","","","","","","","","","","","","","","","","","","","","","","","",null,null,null,null,null,null,null,null,null,null,null,null,null,null,null,null,null,null,null,null,null,null,null,null,null,null,null,null,"","","","","","","","","","","","","","","","","","","","","","",""]
[30,"25 Rönneå, vid Stackarps bro","","","","","","","","","","","","","","","","","","","","","","","","","",null,null,null,null,null,null,null,null,null,null,null,null,null,null,null,null,null,null,null,null,null,null,null,null,null,null,null,null,"","","","","","","","","","","","","","","","","","","","","","",""]
[30,"25 Rönneå, vid Stackarps bro","","","","","","","","","","","","","","","","","","","","","","","","","",null,null,null,null,null,null,null,null,null,null,null,null,null,null,null,null,null,null,null,null,null,null,null,null,null,null,null,null,"","","","","","","","","","","","","","","","","","","","","","",""]
[30,"25 Rönneå, vid Stackarps bro","","","","","","","","","","","","","","","","","","","","","","","","","",null,null,null,null,null,null,null,null,null,null,null,null,null,null,null,null,null,null,null,null,null,null,null,null,null,null,null,null,"","","","","","","","","","","","","","","","","","","","","","",""]
[30,"25 Rönneå, vid Stackarps bro","","","","","","","","","","","","","","","","","","","","","","","","","",null,null,null,null,null,null,null,null,null,null,null,null,null,null,null,null,null,null,null,null,null,null,null,null,null,null,null,null,"","","","","","","","","","","","","","","","","","","","","","",""]
[null,null,"Medel",1.95,14.15,102.5,7.5500000000000007,1.125,21.75,110,5,0.26,{"$error":"#DIV/0!"},38.71,{"$error":"#DIV/0!"},{"$error":"#DIV/0!"},{"$error":"#DIV/0!"},35.5,1350,{"$error":"#DIV/0!"},1900,1.4,0.29499999999999998,0.37,{"$error":"#DIV/0!"},{"$error":"#DIV/0!"},null,null,null,null,null,null,null,null,null,null,null,null,null,null,null,null,null,null,null,null,null,null,null,null,null,null,null,null,null,1.95,14.15,102.5,7.5500000000000007,1.125,21.75,110,5,0.26,{"$error":"#DIV/0!"},38.71,{"$error":"#DIV/0!"},{"$error":"#DIV/0!"},{"$error":"#DIV/0!"},35.5,1350,{"$error":"#DIV/0!"},1900,1.4,0.29499999999999998,0.37,{"$error":"#DIV/0!"},{"$error":"#DIV/0!"}]
[null,null,"Max",2.2999999999999998,14.5,104,7.7,1.4,23.9,120,5.4,0.28000000000000003,0,47.400000000000006,0,0,0,37,1700,0,2200,1.6,0.3,0.38,0,0,null,null,null,null,null,null,null,null,null,null,null,null,null,null,null,null,null,null,null,null,null,null,null,null,null,null,null,null,null,2.2999999999999998,14.5,104,7.7,1.4,23.9,120,5.4,0.28000000000000003,0,47.400000000000006,0,0,0,37,1700,0,2200,1.6,0.3,0.38,0,0]
[null,null,"Min",1.6,13.8,101,7.4,0.85,19.600000000000001,100,4.5999999999999996,0.24,0,30.02,0,0,0,34,1000,0,1600,1.2,0.28999999999999998,0.36,0,0,null,null,null,null,null,null,null,null,null,null,null,null,null,null,null,null,null,null,null,null,null,null,null,null,null,null,null,null,null,1.6,13.8,101,7.4,0.85,19.600000000000001,100,4.5999999999999996,0.24,0,30.02,0,0,0,34,1000,0,1600,1.2,0.28999999999999998,0.36,0,0]
[null,null,null,null,null,null,null,null,null,null,null,null,null,null,null,null,null,null,null,null,null,null,null,null,null,null,null,null,null,null,null,null,null,null,null,null,null,null,null,null,null,null,null,null,null,null,null,null,null,null,null,null,null,null,null,0,0,0,0,0,0,0,0,0,0,0,0,0,0,0,0,0,0,0,0,0,0,0]
[35,"34 Rönneå, vid Tranarps bro","2025-02-11",2.1,14.1,102,7.6,1.2,21.6,100,6.7,0.18,2,38.710000000000008,30,"","",34,1100,26,1600,1.4,0.27,0.34,"","","",null,null,null,null,null,null,null,null,null,null,null,null,null,null,null,null,null,null,null,null,null,null,null,null,null,null,null,null,2.1,14.1,102,7.6,1.2,21.6,100,6.7,0.18,2,38.710000000000008,30,"","",34,1100,26,1600,1.4,0.27,0.34,"",""]
[35,"34 Rönneå, vid Tranarps bro","","","","","","","","","","","","","","","","","","","","","","","","","",null,null,null,null,null,null,null,null,null,null,null,null,null,null,null,null,null,null,null,null,null,null,null,null,null,null,null,null,"","","","","","","","","","","","","","","","","","","","","","",""]
[35,"34 Rönneå, vid Tranarps bro","","","","","","","","","","","","","","","","","","","","","","","","","",null,null,null,null,null,null,null,null,null,null,null,null,null,null,null,null,null,null,null,null,null,null,null,null,null,null,null,null,"","","","","","","","","","","","","","","","","","","","","","",""]
[35,"34 Rönneå, vid Tranarps bro","","","","","","","","","","","","","","","","","","","","","","","","","",null,null,null,null,null,null,null,null,null,null,null,null,null,null,null,null,null,null,null,null,null,null,null,null,null,null,null,null,"","","","","","","","","","","","","","","","","","","","","","",""]
[35,"34 Rönneå, vid Tranarps bro","","","","","","","","","","","","","","","","","","","","","","","","","",null,null,null,null,null,null,null,null,null,null,null,null,null,null,null,null,null,null,null,null,null,null,null,null,null,null,null,null,"","","","","","","","","","","","","","","","","","","","","","",""]
[35,"34 Rönneå, vid Tranarps bro","","","","","","","","","","","","","","","","","","","","","","","","","",null,null,null,null,null,null,null,null,null,null,null,null,null,null,null,null,null,null,null,null,null,null,null,null,null,null,null,null,"","","","","","","","","","","","","","","","","","","","","","",""]
[null,null,"Medel",2.1,14.1,102,7.6,1.2,21.6,100,6.7,0.18,2,38.710000000000008,30,{"$error":"#DIV/0!"},{"$error":"#DIV/0!"},34,1100,26,1600,1.4,0.27,0.34,{"$error":"#DIV/0!"},{"$error":"#DIV/0!"},null,null,null,null,null,null,null,null,null,null,null,null,null,null,null,null,null,null,null,null,null,null,null,null,null,null,null,null,null,2.1,14.1,102,7.6,1.2,21.6,100,6.7,0.18,2,38.710000000000008,30,{"$error":"#DIV/0!"},{"$error":"#DIV/0!"},34,1100,26,1600,1.4,0.27,0.34,{"$error":"#DIV/0!"},{"$error":"#DIV/0!"}]
[null,null,"Max",2.1,14.1,102,7.6,1.2,21.6,100,6.7,0.18,2,38.710000000000008,30,0,0,34,1100,26,1600,1.4,0.27,0.34,0,0,null,null,null,null,null,null,null,null,null,null,null,null,null,null,null,null,null,null,null,null,null,null,null,null,null,null,null,null,null,2.1,14.1,102,7.6,1.2,21.6,100,6.7,0.18,2,38.710000000000008,30,0,0,34,1100,26,1600,1.4,0.27,0.34,0,0]
[null,null,"Min",2.1,14.1,102,7.6,1.2,21.6,100,6.7,0.18,2,38.710000000000008,30,0,0,34,1100,26,1600,1.4,0.27,0.34,0,0,null,null,null,null,null,null,null,null,null,null,null,null,null,null,null,null,null,null,null,null,null,null,null,null,null,null,null,null,null,2.1,14.1,102,7.6,1.2,21.6,100,6.7,0.18,2,38.710000000000008,30,0,0,34,1100,26,1600,1.4,0.27,0.34,0,0]
[null,null,null,null,null,null,null,null,null,null,null,null,null,null,null,null,null,null,null,null,null,null,null,null,null,null,null,null,null,null,null,null,null,null,null,null,null,null,null,null,null,null,null,null,null,null,null,null,null,null,null,null,null,null,null,0,0,0,0,0,0,0,0,0,0,0,0,0,0,0,0,0,0,0,0,0,0,0]
[40,"49 Rönneå, uppstr Ängelholm","2025-01-15",1.7,13.4,96,7.1,0.56000000000000005,17.399999999999999,130,8,0.3,2.1,51.35,42,"","",39,1500,56,2000,0.75,0.24,0.34,"","","",null,null,null,null,null,null,null,null,null,null,null,null,null,null,null,null,null,null,null,null,null,null,null,null,null,null,null,null,1.7,13.4,96,7.1,0.56000000000000005,17.399999999999999,130,8,0.3,2.1,51.35,42,"","",39,1500,56,2000,0.75,0.24,0.34,"",""]
[40,"49 Rönneå, uppstr Ängelholm","2025-02-11",2.7,13.6,100,7.6,1.1000000000000001,22.1,100,6.8,0.2,1.9,39.5,"<30","","",35,1200,41,1600,1.3,0.28000000000000003,0.4,"","","",null,null,null,null,null,null,null,null,null,null,null,null,null,null,null,null,null,null,null,null,null,null,null,null,null,null,null,null,2.7,13.6,100,7.6,1.1000000000000001,22.1,100,6.8,0.2,1.9,39.5,30,"","",35,1200,41,1600,1.3,0.28000000000000003,0.4,"",""]
[40,"49 Rönneå, uppstr Ängelholm","","","","","","","","","","","","","","","","","","","","","","","","","",null,null,null,null,null,null,null,null,null,null,null,null,null,null,null,null,null,null,null,null,null,null,null,null,null,null,null,null,"","","","","","","","","","","","","","","","","","","","","","",""]
[40,"49 Rönneå, uppstr Ängelholm","","","","","","","","","","","","","","","","","","","","","","","","","",null,null,null,null,null,null,null,null,null,null,null,null,null,null,null,null,null,null,null,null,null,null,null,null,null,null,null,null,"","","","","","","","","","","","","","","","","","","","","","",""]
[40,"49 Rönneå, uppstr Ängelholm","","","","","","","","","","","","","","","","","","","","","","","","","",null,null,null,null,null,null,null,null,null,null,null,null,null,null,null,null,null,null,null,null,null,null,null,null,null,null,null,null,"","","","","","","","","","","","","","","","","","","","","","",""]
[40,"49 Rönneå, uppstr Ängelholm","","","","","","","","","","","","","","","","","","","","","","","","","",null,null,null,null,null,null,null,null,null,null,null,null,null,null,null,null,null,null,null,null,null,null,null,null,null,null,null,null,"","","","","","","","","","","","","","","","","","","","","","",""]
[40,"49 Rönneå, uppstr Ängelholm","","","","","","","","","","","","","","","","","","","","","","","","","",null,null,null,null,null,null,null,null,null,null,null,null,null,null,null,null,null,null,null,null,null,null,null,null,null,null,null,null,"","","","","","","","","","","","","","","","","","","","","","",""]
[40,"49 Rönneå, uppstr Ängelholm","","","","","","","","","","","","","","","","","","","","","","","","","",null,null,null,null,null,null,null,null,null,null,null,null,null,null,null,null,null,null,null,null,null,null,null,null,null,null,null,null,"","","","","","","","","","","","","","","","","","","","","","",""]
[40,"49 Rönneå, uppstr Ängelholm","","","","","","","","","","","","","","","","","","","","","","","","","",null,null,null,null,null,null,null,null,null,null,null,null,null,null,null,null,null,null,null,null,null,null,null,null,null,null,null,null,"","","","","","","","","","","","","","","","","","","","","","",""]
[40,"49 Rönneå, uppstr Ängelholm","","","","","","","","","","","","","","","","","","","","","","","","","",null,null,null,null,null,null,null,null,null,null,null,null,null,null,null,null,null,null,null,null,null,null,null,null,null,null,null,null,"","","","","","","","","","","","","","","","","","","","","","",""]
[40,"49 Rönneå, uppstr Ängelholm","","","","","","","","","","","","","","","","","","","","","","","","","",null,null,null,null,null,null,null,null,null,null,null,null,null,null,null,null,null,null,null,null,null,null,null,null,null,null,null,null,"","","","","","","","","","","","","","","","","","","","","","",""]
[40,"49 Rönneå, uppstr Ängelholm","","","","","","","","","","","","","","","","","","","","","","","","","",null,null,null,null,null,null,null,null,null,null,null,null,null,null,null,null,null,null,null,null,null,null,null,null,null,null,null,null,"","","","","","","","","","","","","","","","","","","","","","",""]
[null,null,"Medel",2.2000000000000002,13.5,98,7.35,0.83000000000000007,19.75,115,7.4,0.25,2,45.424999999999997,36,{"$error":"#DIV/0!"},{"$error":"#DIV/0!"},37,1350,48.5,1800,1.0249999999999999,0.26,0.37,{"$error":"#DIV/0!"},{"$error":"#DIV/0!"},null,null,null,null,null,null,null,null,null,null,null,null,null,null,null,null,null,null,null,null,null,null,null,null,null,null,null,null,null,2.2000000000000002,13.5,98,7.35,0.83000000000000007,19.75,115,7.4,0.25,2,45.424999999999997,36,{"$error":"#DIV/0!"},{"$error":"#DIV/0!"},37,1350,48.5,1800,1.0249999999999999,0.26,0.37,{"$error":"#DIV/0!"},{"$error":"#DIV/0!"}]
[null,null,"Max",2.7,13.6,100,7.6,1.1000000000000001,22.1,130,8,0.3,2.1,51.35,42,0,0,39,1500,56,2000,1.3,0.28000000000000003,0.4,0,0,null,null,null,null,null,null,null,null,null,null,null,null,null,null,null,null,null,null,null,null,null,null,null,null,null,null,null,null,null,2.7,13.6,100,7.6,1.1000000000000001,22.1,130,8,0.3,2.1,51.35,42,0,0,39,1500,56,2000,1.3,0.28000000000000003,0.4,0,0]
[null,null,"Min",1.7,13.4,96,7.1,0.56000000000000005,17.399999999999999,100,6.8,0.2,1.9,39.5,30,0,0,35,1200,41,1600,0.75,0.24,0.34,0,0,null,null,null,null,null,null,null,null,null,null,null,null,null,null,null,null,null,null,null,null,null,null,null,null,null,null,null,null,null,1.7,13.4,96,7.1,0.56000000000000005,17.399999999999999,100,6.8,0.2,1.9,39.5,30,0,0,35,1200,41,1600,0.75,0.24,0.34,0,0]
[null,null,null,null,null,null,null,null,null,null,null,null,null,null,null,null,null,null,null,null,null,null,null,null,null,null,null,null,null,null,null,null,null,null,null,null,null,null,null,null,null,null,null,null,null,null,null,null,null,null,null,null,null,null,null,0,0,0,0,0,0,0,0,0,0,0,0,0,0,0,0,0,0,0,0,0,0,0]
[45,"57 Rönneå, vid utfl t Skälderviken","2025-01-15",1.8,13.5,97,7.2,0.59,18.100000000000001,120,8.1,0.3,"",43.45,"","","",40,1600,"",2200,0.79,0.25,0.35,"","","",null,null,null,null,null,null,null,null,null,null,null,null,null,null,null,null,null,null,null,null,null,null,null,null,null,null,null,null,1.8,13.5,97,7.2,0.59,18.100000000000001,120,8.1,0.3,"",43.45,"","","",40,1600,"",2200,0.79,0.25,0.35,"",""]
[45,"57 Rönneå, vid utfl t Skälderviken","2025-02-11",2.2999999999999998,13.9,101,7.5,1.1000000000000001,22.2,150,6.1,0.2,"",38.710000000000008,"","","",39,1200,"",1900,1.3,0.28999999999999998,0.39,"","","",null,null,null,null,null,null,null,null,null,null,null,null,null,null,null,null,null,null,null,null,null,null,null,null,null,null,null,null,2.2999999999999998,13.9,101,7.5,1.1000000000000001,22.2,150,6.1,0.2,"",38.710000000000008,"","","",39,1200,"",1900,1.3,0.28999999999999998,0.39,"",""]
[45,"57 Rönneå, vid utfl t Skälderviken","","","","","","","","","","","","","","","","","","","","","","","","","",null,null,null,null,null,null,null,null,null,null,null,null,null,null,null,null,null,null,null,null,null,null,null,null,null,null,null,null,"","","","","","","","","","","","","","","","","","","","","","",""]
[45,"57 Rönneå, vid utfl t Skälderviken","","","","","","","","","","","","","","","","","","","","","","","","","",null,null,null,null,null,null,null,null,null,null,null,null,null,null,null,null,null,null,null,null,null,null,null,null,null,null,null,null,"","","","","","","","","","","","","","","","","","","","","","",""]
[45,"57 Rönneå, vid utfl t Skälderviken","","","","","","","","","","","","","","","","","","","","","","","","","",null,null,null,null,null,null,null,null,null,null,null,null,null,null,null,null,null,null,null,null,null,null,null,null,null,null,null,null,"","","","","","","","","","","","","","","","","","","","","","",""]
[45,"57 Rönneå, vid utfl t Skälderviken","","","","","","","","","","","","","","","","","","","","","","","","","",null,null,null,null,null,null,null,null,null,null,null,null,null,null,null,null,null,null,null,null,null,null,null,null,null,null,null,null,"","","","","","","","","","","","","","","","","","","","","","",""]
[45,"57 Rönneå, vid utfl t Skälderviken","","","","","","","","","","","","","","","","","","","","","","","","","",null,null,null,null,null,null,null,null,null,null,null,null,null,null,null,null,null,null,null,null,null,null,null,null,null,null,null,null,"","","","","","","","","","","","","","","","","","","","","","",""]
[45,"57 Rönneå, vid utfl t Skälderviken","","","","","","","","","","","","","","","","","","","","","","","","","",null,null,null,null,null,null,null,null,null,null,null,null,null,null,null,null,null,null,null,null,null,null,null,null,null,null,null,null,"","","","","","","","","","","","","","","","","","","","","","",""]
[45,"57 Rönneå, vid utfl t Skälderviken","","","","","","","","","","","","","","","","","","","","","","","","","",null,null,null,null,null,null,null,null,null,null,null,null,null,null,null,null,null,null,null,null,null,null,null,null,null,null,null,null,"","","","","","","","","","","","","","","","","","","","","","",""]
[45,"57 Rönneå, vid utfl t Skälderviken","","","","","","","","","","","","","","","","","","","","","","","","","",null,null,null,null,null,null,null,null,null,null,null,null,null,null,null,null,null,null,null,null,null,null,null,null,null,null,null,null,{"$f":"IF(OR(LEFT(D136,1)=\"<\",LEFT(D136,1)=\">\"),VALUE(MID(D136,2,5)),D136)","v":""},{"$f":"IF(OR(LEFT(E136,1)=\"<\",LEFT(E136,1)=\">\"),VALUE(MID(E136,2,5)),E136)","v":""},{"$f":"IF(OR(LEFT(F136,1)=\"<\",LEFT(F136,1)=\">\"),VALUE(MID(F136,2,5)),F136)","v":""},{"$f":"IF(OR(LEFT(G136,1)=\"<\",LEFT(G136,1)=\">\"),VALUE(MID(G136,2,5)),G136)","v":""},{"$f":"IF(OR(LEFT(H136,1)=\"<\",LEFT(H136,1)=\">\"),VALUE(MID(H136,2,5)),H136)","v":""},{"$f":"IF(OR(LEFT(I136,1)=\"<\",LEFT(I136,1)=\">\"),VALUE(MID(I136,2,5)),I136)","v":""},{"$f":"IF(OR(LEFT(J136,1)=\"<\",LEFT(J136,1)=\">\"),VALUE(MID(J136,2,5)),J136)","v":""},{"$f":"IF(OR(LEFT(K136,1)=\"<\",LEFT(K136,1)=\">\"),VALUE(MID(K136,2,5)),K136)","v":""},{"$f":"IF(OR(LEFT(L136,1)=\"<\",LEFT(L136,1)=\">\"),VALUE(MID(L136,2,5)),L136)","v":""},{"$f":"IF(OR(LEFT(M136,1)=\"<\",LEFT(M136,1)=\">\"),VALUE(MID(M136,2,5)),M136)","v":""},{"$f":"IF(OR(LEFT(N136,1)=\"<\",LEFT(N136,1)=\">\"),VALUE(MID(N136,2,5)),N136)","v":""},{"$f":"IF(OR(LEFT(O136,1)=\"<\",LEFT(O136,1)=\">\"),VALUE(MID(O136,2,5)),O136)","v":""},{"$f":"IF(OR(LEFT(P136,1)=\"<\",LEFT(P136,1)=\">\"),VALUE(MID(P136,2,5)),P136)","v":""},{"$f":"IF(OR(LEFT(Q136,1)=\"<\",LEFT(Q136,1)=\">\"),VALUE(MID(Q136,2,5)),Q136)","v":""},{"$f":"IF(OR(LEFT(R136,1)=\"<\",LEFT(R136,1)=\">\"),VALUE(MID(R136,2,5)),R136)","v":""},{"$f":"IF(OR(LEFT(S136,1)=\"<\",LEFT(S136,1)=\">\"),VALUE(MID(S136,2,5)),S136)","v":""},{"$f":"IF(OR(LEFT(T136,1)=\"<\",LEFT(T136,1)=\">\"),VALUE(MID(T136,2,5)),T136)","v":""},{"$f":"IF(OR(LEFT(U136,1)=\"<\",LEFT(U136,1)=\">\"),VALUE(MID(U136,2,5)),U136)","v":""},{"$f":"IF(OR(LEFT(V136,1)=\"<\",LEFT(V136,1)=\">\"),VALUE(MID(V136,2,5)),V136)","v":""},{"$f":"IF(OR(LEFT(W136,1)=\"<\",LEFT(W136,1)=\">\"),VALUE(MID(W136,2,5)),W136)","v":""},{"$f":"IF(OR(LEFT(X136,1)=\"<\",LEFT(X136,1)=\">\"),VALUE(MID(X136,2,5)),X136)","v":""},{"$f":"IF(OR(LEFT(Y136,1)=\"<\",LEFT(Y136,1)=\">\"),VALUE(MID(Y136,2,5)),Y136)","v":""},{"$f":"IF(OR(LEFT(Z136,1)=\"<\",LEFT(Z136,1)=\">\"),VALUE(MID(Z136,2,5)),Z136)","v":""}]
[45,"57 Rönneå, vid utfl t Skälderviken","","","","","","","","","","","","","","","","","","","","","","","","","",null,null,null,null,null,null,null,null,null,null,null,null,null,null,null,null,null,null,null,null,null,null,null,null,null,null,null,null,"","","","","","","","","","","","","","","","","","","","","","",""]
[45,"57 Rönneå, vid utfl t Skälderviken","","","","","","","","","","","","","","","","","","","","","","","","","",null,null,null,null,null,null,null,null,null,null,null,null,null,null,null,null,null,null,null,null,null,null,null,null,null,null,null,null,"","","","","","","","","","","","","","","","","","","","","","",""]
[null,null,"Medel",2.0499999999999998,13.7,99,7.35,0.84499999999999997,20.149999999999999,135,7.1,0.25,{"$error":"#DIV/0!"},41.080000000000005,{"$error":"#DIV/0!"},{"$error":"#DIV/0!"},{"$error":"#DIV/0!"},39.5,1400,{"$error":"#DIV/0!"},2050,1.0449999999999999,0.27,0.37,{"$error":"#DIV/0!"},{"$error":"#DIV/0!"},null,null,null,null,null,null,null,null,null,null,null,null,null,null,null,null,null,null,null,null,null,null,null,null,null,null,null,null,null,2.0499999999999998,13.7,99,7.35,0.84499999999999997,20.149999999999999,135,7.1,0.25,{"$error":"#DIV/0!"},41.080000000000005,{"$error":"#DIV/0!"},{"$error":"#DIV/0!"},{"$error":"#DIV/0!"},39.5,1400,{"$error":"#DIV/0!"},2050,1.0449999999999999,0.27,0.37,{"$error":"#DIV/0!"},{"$error":"#DIV/0!"}]
[null,null,"Max",2.2999999999999998,13.9,101,7.5,1.1000000000000001,22.2,150,8.1,0.3,0,43.45,0,0,0,40,1600,0,2200,1.3,0.28999999999999998,0.39,0,0,null,null,null,null,null,null,null,null,null,null,null,null,null,null,null,null,null,null,null,null,null,null,null,null,null,null,null,null,null,2.2999999999999998,13.9,101,7.5,1.1000000000000001,22.2,150,8.1,0.3,0,43.45,0,0,0,40,1600,0,2200,1.3,0.28999999999999998,0.39,0,0]
[null,null,"Min",1.8,13.5,97,7.2,0.59,18.100000000000001,120,6.1,0.2,0,38.710000000000008,0,0,0,39,1200,0,1900,0.79,0.25,0.35,0,0,null,null,null,null,null,null,null,null,null,null,null,null,null,null,null,null,null,null,null,null,null,null,null,null,null,null,null,null,null,1.8,13.5,97,7.2,0.59,18.100000000000001,120,6.1,0.2,0,38.710000000000008,0,0,0,39,1200,0,1900,0.79,0.25,0.35,0,0]
[null,null,null,null,null,null,null,null,null,null,null,null,null,null,null,null,null,null,null,null,null,null,null,null,null,null,null,null,null,null,null,null,null,null,null,null,null,null,null,null,null,null,null,null,null,null,null,null,null,null,null,null,null,null,null,0,0,0,0,0,0,0,0,0,0,0,0,0,0,0,0,0,0,0,0,0,0,0]
[50,"6  Bäljaneå, uppstr Röstånga","2025-02-10",3,13.7,102,8.1,2.6,38.700000000000003,45,4.2,7.8E-2,1.4,15.8,"<30","","",24,3500,17,3400,3,0.81,0.75,"","","",null,null,null,null,null,null,null,null,null,null,null,null,null,null,null,null,null,null,null,null,null,null,null,null,null,null,null,null,3,13.7,102,8.1,2.6,38.700000000000003,45,4.2,7.8E-2,1.4,15.8,30,"","",24,3500,17,3400,3,0.81,0.75,"",""]
[50,"6  Bäljaneå, uppstr Röstånga","","","","","","","","","","","","","","","","","","","","","","","","","",null,null,null,null,null,null,null,null,null,null,null,null,null,null,null,null,null,null,null,null,null,null,null,null,null,null,null,null,"","","","","","","","","","","","","","","","","","","","","","",""]
[50,"6  Bäljaneå, uppstr Röstånga","","","","","","","","","","","","","","","","","","","","","","","","","",null,null,null,null,null,null,null,null,null,null,null,null,null,null,null,null,null,null,null,null,null,null,null,null,null,null,null,null,"","","","","","","","","","","","","","","","","","","","","","",""]
[50,"6  Bäljaneå, uppstr Röstånga","","","","","","","","","","","","","","","","","","","","","","","","","",null,null,null,null,null,null,null,null,null,null,null,null,null,null,null,null,null,null,null,null,null,null,null,null,null,null,null,null,"","","","","","","","","","","","","","","","","","","","","","",""]
[50,"6  Bäljaneå, uppstr Röstånga","","","","","","","","","","","","","","","","","","","","","","","","","",null,null,null,null,null,null,null,null,null,null,null,null,null,null,null,null,null,null,null,null,null,null,null,null,null,null,null,null,"","","","","","","","","","","","","","","","","","","","","","",""]
[50,"6  Bäljaneå, uppstr Röstånga","","","","","","","","","","","","","","","","","","","","","","","","","",null,null,null,null,null,null,null,null,null,null,null,null,null,null,null,null,null,null,null,null,null,null,null,null,null,null,null,null,"","","","","","","","","","","","","","","","","","","","","","",""]
[null,null,"Medel",3,13.7,102,8.1,2.6,38.700000000000003,45,4.2,7.8E-2,1.4,15.8,30,{"$error":"#DIV/0!"},{"$error":"#DIV/0!"},24,3500,17,3400,3,0.81,0.75,{"$error":"#DIV/0!"},{"$error":"#DIV/0!"},null,null,null,null,null,null,null,null,null,null,null,null,null,null,null,null,null,null,null,null,null,null,null,null,null,null,null,null,null,3,13.7,102,8.1,2.6,38.700000000000003,45,4.2,7.8E-2,1.4,15.8,30,{"$error":"#DIV/0!"},{"$error":"#DIV/0!"},24,3500,17,3400,3,0.81,0.75,{"$error":"#DIV/0!"},{"$error":"#DIV/0!"}]
[null,null,"Max",3,13.7,102,8.1,2.6,38.700000000000003,45,4.2,7.8E-2,1.4,15.8,30,0,0,24,3500,17,3400,3,0.81,0.75,0,0,null,null,null,null,null,null,null,null,null,null,null,null,null,null,null,null,null,null,null,null,null,null,null,null,null,null,null,null,null,3,13.7,102,8.1,2.6,38.700000000000003,45,4.2,7.8E-2,1.4,15.8,30,0,0,24,3500,17,3400,3,0.81,0.75,0,0]
[null,null,"Min",3,13.7,102,8.1,2.6,38.700000000000003,45,4.2,7.8E-2,1.4,15.8,30,0,0,24,3500,17,3400,3,0.81,0.75,0,0,null,null,null,null,null,null,null,null,null,null,null,null,null,null,null,null,null,null,null,null,null,null,null,null,null,null,null,null,null,3,13.7,102,8.1,2.6,38.700000000000003,45,4.2,7.8E-2,1.4,15.8,30,0,0,24,3500,17,3400,3,0.81,0.75,0,0]
[null,null,null,null,null,null,null,null,null,null,null,null,null,null,null,null,null,null,null,null,null,null,null,null,null,null,null,null,null,null,null,null,null,null,null,null,null,null,null,null,null,null,null,null,null,null,null,null,null,null,null,null,null,null,null,0,0,0,0,0,0,0,0,0,0,0,0,0,0,0,0,0,0,0,0,0,0,0]
[55,"8  Bäljaneå, före utfl t Rönneå","2025-02-10",3.8,12.4,94,7.5,2,31,100,7,0.13,1.1000000000000001,25.28,"<30","","",24,2100,40,2200,2.2000000000000002,0.56000000000000005,0.61,"","","",null,null,null,null,null,null,null,null,null,null,null,null,null,null,null,null,null,null,null,null,null,null,null,null,null,null,null,null,3.8,12.4,94,7.5,2,31,100,7,0.13,1.1000000000000001,25.28,30,"","",24,2100,40,2200,2.2000000000000002,0.56000000000000005,0.61,"",""]
[55,"8  Bäljaneå, före utfl t Rönneå","","","","","","","","","","","","","","","","","","","","","","","","","",null,null,null,null,null,null,null,null,null,null,null,null,null,null,null,null,null,null,null,null,null,null,null,null,null,null,null,null,"","","","","","","","","","","","","","","","","","","","","","",""]
[55,"8  Bäljaneå, före utfl t Rönneå","","","","","","","","","","","","","","","","","","","","","","","","","",null,null,null,null,null,null,null,null,null,null,null,null,null,null,null,null,null,null,null,null,null,null,null,null,null,null,null,null,"","","","","","","","","","","","","","","","","","","","","","",""]
[55,"8  Bäljaneå, före utfl t Rönneå","","","","","","","","","","","","","","","","","","","","","","","","","",null,null,null,null,null,null,null,null,null,null,null,null,null,null,null,null,null,null,null,null,null,null,null,null,null,null,null,null,"","","","","","","","","","","","","","","","","","","","","","",""]
[55,"8  Bäljaneå, före utfl t Rönneå","","","","","","","","","","","","","","","","","","","","","","","","","",null,null,null,null,null,null,null,null,null,null,null,null,null,null,null,null,null,null,null,null,null,null,null,null,null,null,null,null,"","","","","","","","","","","","","","","","","","","","","","",""]
[55,"8  Bäljaneå, före utfl t Rönneå","","","","","","","","","","","","","","","","","","","","","","","","","",null,null,null,null,null,null,null,null,null,null,null,null,null,null,null,null,null,null,null,null,null,null,null,null,null,null,null,null,"","","","","","","","","","","","","","","","","","","","","","",""]
[null,null,"Medel",3.8,12.4,94,7.5,2,31,100,7,0.13,1.1000000000000001,25.28,30,{"$error":"#DIV/0!"},{"$error":"#DIV/0!"},24,2100,40,2200,2.2000000000000002,0.56000000000000005,0.61,{"$error":"#DIV/0!"},{"$error":"#DIV/0!"},null,null,null,null,null,null,null,null,null,null,null,null,null,null,null,null,null,null,null,null,null,null,null,null,null,null,null,null,null,3.8,12.4,94,7.5,2,31,100,7,0.13,1.1000000000000001,25.28,30,{"$error":"#DIV/0!"},{"$error":"#DIV/0!"},24,2100,40,2200,2.2000000000000002,0.56000000000000005,0.61,{"$error":"#DIV/0!"},{"$error":"#DIV/0!"}]
[null,null,"Max",3.8,12.4,94,7.5,2,31,100,7,0.13,1.1000000000000001,25.28,30,0,0,24,2100,40,2200,2.2000000000000002,0.56000000000000005,0.61,0,0,null,null,null,null,null,null,null,null,null,null,null,null,null,null,null,null,null,null,null,null,null,null,null,null,null,null,null,null,null,3.8,12.4,94,7.5,2,31,100,7,0.13,1.1000000000000001,25.28,30,0,0,24,2100,40,2200,2.2000000000000002,0.56000000000000005,0.61,0,0]
[null,null,"Min",3.8,12.4,94,7.5,2,31,100,7,0.13,1.1000000000000001,25.28,30,0,0,24,2100,40,2200,2.2000000000000002,0.56000000000000005,0.61,0,0,null,null,null,null,null,null,null,null,null,null,null,null,null,null,null,null,null,null,null,null,null,null,null,null,null,null,null,null,null,3.8,12.4,94,7.5,2,31,100,7,0.13,1.1000000000000001,25.28,30,0,0,24,2100,40,2200,2.2000000000000002,0.56000000000000005,0.61,0,0]
[null,null,null,null,null,null,null,null,null,null,null,null,null,null,null,null,null,null,null,null,null,null,null,null,null,null,null,null,null,null,null,null,null,null,null,null,null,null,null,null,null,null,null,null,null,null,null,null,null,null,null,null,null,null,null,0,0,0,0,0,0,0,0,0,0,0,0,0,0,0,0,0,0,0,0,0,0,0]
[60,"59 Klingstorpabäcken, Färingstofta","2025-02-11",2,13.7,99,6.8,0.21,9.61,150,3,0.34,"",71.100000000000009,"","","",21,760,"",1200,0.39,0.19,0.19,"","","",null,null,null,null,null,null,null,null,null,null,null,null,null,null,null,null,null,null,null,null,null,null,null,null,null,null,null,null,2,13.7,99,6.8,0.21,9.61,150,3,0.34,"",71.100000000000009,"","","",21,760,"",1200,0.39,0.19,0.19,"",""]
[60,"59 Klingstorpabäcken, Färingstofta","","","","","","","","","","","","","","","","","","","","","","","","","",null,null,null,null,null,null,null,null,null,null,null,null,null,null,null,null,null,null,null,null,null,null,null,null,null,null,null,null,"","","","","","","","","","","","","","","","","","","","","","",""]
[60,"59 Klingstorpabäcken, Färingstofta","","","","","","","","","","","","","","","","","","","","","","","","","",null,null,null,null,null,null,null,null,null,null,null,null,null,null,null,null,null,null,null,null,null,null,null,null,null,null,null,null,"","","","","","","","","","","","","","","","","","","","","","",""]
[60,{"$f":"RS!D114","v":"59 Klingstorpabäcken, Färingstofta"},{"$f":"RS!E114","v":""},{"$f":"RS!F114","v":""},{"$f":"RS!G114","v":""},{"$f":"RS!H114","v":""},{"$f":"RS!I114","v":""},{"$f":"RS!J114","v":""},{"$f":"RS!K114","v":""},{"$f":"RS!L114","v":""},{"$f":"RS!M114","v":""},{"$f":"RS!N114","v":""},{"$f":"RS!O114","v":""},{"$f":"RS!P114","v":""},{"$f":"RS!Q114","v":""},{"$f":"RS!R114","v":""},{"$f":"RS!S114","v":""},{"$f":"RS!T114","v":""},{"$f":"RS!U114","v":""},{"$f":"RS!V114","v":""},{"$f":"RS!W114","v":""},{"$f":"RS!X114","v":""},{"$f":"RS!Y114","v":""},{"$f":"RS!Z114","v":""},{"$f":"RS!AA114","v":""},{"$f":"RS!AB114","v":""},{"$f":"RS!AC114","v":""},null,null,null,null,null,null,null,null,null,null,null,null,null,null,null,null,null,null,null,null,null,null,null,null,null,null,null,null,"","","","","","","","","","","","","","","","","","","","","","",""]
[60,{"$f":"RS!D115","v":"59 Klingstorpabäcken, Färingstofta"},{"$f":"RS!E115","v":""},{"$f":"RS!F115","v":""},{"$f":"RS!G115","v":""},{"$f":"RS!H115","v":""},{"$f":"RS!I115","v":""},{"$f":"RS!J115","v":""},{"$f":"RS!K115","v":""},{"$f":"RS!L115","v":""},{"$f":"RS!M115","v":""},{"$f":"RS!N115","v":""},{"$f":"RS!O115","v":""},{"$f":"RS!P115","v":""},{"$f":"RS!Q115","v":""},{"$f":"RS!R115","v":""},{"$f":"RS!S115","v":""},{"$f":"RS!T115","v":""},{"$f":"RS!U115","v":""},{"$f":"RS!V115","v":""},{"$f":"RS!W115","v":""},{"$f":"RS!X115","v":""},{"$f":"RS!Y115","v":""},{"$f":"RS!Z115","v":""},{"$f":"RS!AA115","v":""},{"$f":"RS!AB115","v":""},{"$f":"RS!AC115","v":""},null,null,null,null,null,null,null,null,null,null,null,null,null,null,null,null,null,null,null,null,null,null,null,null,null,null,null,null,"","","","","","","","","","","","","","","","","","","","","","",""]
[60,{"$f":"RS!D116","v":"59 Klingstorpabäcken, Färingstofta"},{"$f":"RS!E116","v":""},{"$f":"RS!F116","v":""},{"$f":"RS!G116","v":""},{"$f":"RS!H116","v":""},{"$f":"RS!I116","v":""},{"$f":"RS!J116","v":""},{"$f":"RS!K116","v":""},{"$f":"RS!L116","v":""},{"$f":"RS!M116","v":""},{"$f":"RS!N116","v":""},{"$f":"RS!O116","v":""},{"$f":"RS!P116","v":""},{"$f":"RS!Q116","v":""},{"$f":"RS!R116","v":""},{"$f":"RS!S116","v":""},{"$f":"RS!T116","v":""},{"$f":"RS!U116","v":""},{"$f":"RS!V116","v":""},{"$f":"RS!W116","v":""},{"$f":"RS!X116","v":""},{"$f":"RS!Y116","v":""},{"$f":"RS!Z116","v":""},{"$f":"RS!AA116","v":""},{"$f":"RS!AB116","v":""},{"$f":"RS!AC116","v":""},null,null,null,null,null,null,null,null,null,null,null,null,null,null,null,null,null,null,null,null,null,null,null,null,null,null,null,null,"","","","","","","","","","","","","","","","","","","","","","",""]
[null,null,"Medel",{"$f":"AVERAGE(BD163:BD168)","v":2},{"$f":"AVERAGE(BE163:BE168)","v":13.7},{"$f":"AVERAGE(BF163:BF168)","v":99},{"$f":"AVERAGE(BG163:BG168)","v":6.8},{"$f":"AVERAGE(BH163:BH168)","v":0.21},{"$f":"AVERAGE(BI163:BI168)","v":9.61},{"$f":"AVERAGE(BJ163:BJ168)","v":150},{"$f":"AVERAGE(BK163:BK168)","v":3},{"$f":"AVERAGE(BL163:BL168)","v":0.34},{"$f":"AVERAGE(BM163:BM168)","v":{"$error":"#DIV/0!"}},{"$f":"AVERAGE(BN163:BN168)","v":71.100000000000009},{"$f":"AVERAGE(BO163:BO168)","v":{"$error":"#DIV/0!"}},{"$f":"AVERAGE(BP163:BP168)","v":{"$error":"#DIV/0!"}},{"$f":"AVERAGE(BQ163:BQ168)","v":{"$error":"#DIV/0!"}},{"$f":"AVERAGE(BR163:BR168)","v":21},{"$f":"AVERAGE(BS163:BS168)","v":760},{"$f":"AVERAGE(BT163:BT168)","v":{"$error":"#DIV/0!"}},{"$f":"AVERAGE(BU163:BU168)","v":1200},{"$f":"AVERAGE(BV163:BV168)","v":0.39},{"$f":"AVERAGE(BW163:BW168)","v":0.19},{"$f":"AVERAGE(BX163:BX168)","v":0.19},{"$f":"AVERAGE(BY163:BY168)","v":{"$error":"#DIV/0!"}},{"$f":"AVERAGE(BZ163:BZ168)","v":{"$error":"#DIV/0!"}},null,null,null,null,null,null,null,null,null,null,null,null,null,null,null,null,null,null,null,null,null,null,null,null,null,null,null,null,null,2,13.7,99,6.8,0.21,9.61,150,3,0.34,{"$error":"#DIV/0!"},71.100000000000009,{"$error":"#DIV/0!"},{"$error":"#DIV/0!"},{"$error":"#DIV/0!"},21,760,{"$error":"#DIV/0!"},1200,0.39,0.19,0.19,{"$error":"#DIV/0!"},{"$error":"#DIV/0!"}]
[null,null,"Max",{"$f":"MAX(BD163:BD168)","v":2},{"$f":"MAX(BE163:BE168)","v":13.7},{"$f":"MAX(BF163:BF168)","v":99},{"$f":"MAX(BG163:BG168)","v":6.8},{"$f":"MAX(BH163:BH168)","v":0.21},{"$f":"MAX(BI163:BI168)","v":9.61},{"$f":"MAX(BJ163:BJ168)","v":150},{"$f":"MAX(BK163:BK168)","v":3},{"$f":"MAX(BL163:BL168)","v":0.34},{"$f":"MAX(BM163:BM168)","v":0},{"$f":"MAX(BN163:BN168)","v":71.100000000000009},{"$f":"MAX(BO163:BO168)","v":0},{"$f":"MAX(BP163:BP168)","v":0},{"$f":"MAX(BQ163:BQ168)","v":0},{"$f":"MAX(BR163:BR168)","v":21},{"$f":"MAX(BS163:BS168)","v":760},{"$f":"MAX(BT163:BT168)","v":0},{"$f":"MAX(BU163:BU168)","v":1200},{"$f":"MAX(BV163:BV168)","v":0.39},{"$f":"MAX(BW163:BW168)","v":0.19},{"$f":"MAX(BX163:BX168)","v":0.19},{"$f":"MAX(BY163:BY168)","v":0},{"$f":"MAX(BZ163:BZ168)","v":0},null,null,null,null,null,null,null,null,null,null,null,null,null,null,null,null,null,null,null,null,null,null,null,null,null,null,null,null,null,2,13.7,99,6.8,0.21,9.61,150,3,0.34,0,71.100000000000009,0,0,0,21,760,0,1200,0.39,0.19,0.19,0,0]
[null,null,"Min",{"$f":"MIN(BD163:BD168)","v":2},{"$f":"MIN(BE163:BE168)","v":13.7},{"$f":"MIN(BF163:BF168)","v":99},{"$f":"MIN(BG163:BG168)","v":6.8},{"$f":"MIN(BH163:BH168)","v":0.21},{"$f":"MIN(BI163:BI168)","v":9.61},{"$f":"MIN(BJ163:BJ168)","v":150},{"$f":"MIN(BK163:BK168)","v":3},{"$f":"MIN(BL163:BL168)","v":0.34},{"$f":"MIN(BM163:BM168)","v":0},{"$f":"MIN(BN163:BN168)","v":71.100000000000009},{"$f":"MIN(BO163:BO168)","v":0},{"$f":"MIN(BP163:BP168)","v":0},{"$f":"MIN(BQ163:BQ168)","v":0},{"$f":"MIN(BR163:BR168)","v":21},{"$f":"MIN(BS163:BS168)","v":760},{"$f":"MIN(BT163:BT168)","v":0},{"$f":"MIN(BU163:BU168)","v":1200},{"$f":"MIN(BV163:BV168)","v":0.39},{"$f":"MIN(BW163:BW168)","v":0.19},{"$f":"MIN(BX163:BX168)","v":0.19},{"$f":"MIN(BY163:BY168)","v":0},{"$f":"MIN(BZ163:BZ168)","v":0},null,null,null,null,null,null,null,null,null,null,null,null,null,null,null,null,null,null,null,null,null,null,null,null,null,null,null,null,null,2,13.7,99,6.8,0.21,9.61,150,3,0.34,0,71.100000000000009,0,0,0,21,760,0,1200,0.39,0.19,0.19,0,0]
[null,null,null,null,null,null,null,null,null,null,null,null,null,null,null,null,null,null,null,null,null,null,null,null,null,null,null,null,null,null,null,null,null,null,null,null,null,null,null,null,null,null,null,null,null,null,null,null,null,null,null,null,null,null,null,0,0,0,0,0,0,0,0,0,0,0,0,0,0,0,0,0,0,0,0,0,0,0]
[65,{"$f":"RS!D117","v":"72 Storedamm, utlopp mot Svenstorp"},{"$f":"RS!E117","v":"2025-02-11"},{"$f":"RS!F117","v":1.5},{"$f":"RS!G117","v":13.7},{"$f":"RS!H117","v":98},{"$f":"RS!I117","v":6.2},{"$f":"RS!J117","v":6.2E-2},{"$f":"RS!K117","v":7.25},{"$f":"RS!L117","v":220},{"$f":"RS!M117","v":3.6},{"$f":"RS!N117","v":0.39},{"$f":"RS!O117","v":""},{"$f":"RS!P117","v":79},{"$f":"RS!Q117","v":""},{"$f":"RS!R117","v":""},{"$f":"RS!S117","v":""},{"$f":"RS!T117","v":21},{"$f":"RS!U117","v":280},{"$f":"RS!V117","v":""},{"$f":"RS!W117","v":1000},{"$f":"RS!X117","v":0.23},{"$f":"RS!Y117","v":0.12},{"$f":"RS!Z117","v":0.16},{"$f":"RS!AA117","v":""},{"$f":"RS!AB117","v":""},{"$f":"RS!AC117","v":""},null,null,null,null,null,null,null,null,null,null,null,null,null,null,null,null,null,null,null,null,null,null,null,null,null,null,null,null,1.5,13.7,98,6.2,6.2E-2,7.25,220,3.6,0.39,"",79,"","","",21,280,"",1000,0.23,0.12,0.16,"",""]
[65,{"$f":"RS!D118","v":"72 Storedamm, utlopp mot Svenstorp"},{"$f":"RS!E118","v":""},{"$f":"RS!F118","v":""},{"$f":"RS!G118","v":""},{"$f":"RS!H118","v":""},{"$f":"RS!I118","v":""},{"$f":"RS!J118","v":""},{"$f":"RS!K118","v":""},{"$f":"RS!L118","v":""},{"$f":"RS!M118","v":""},{"$f":"RS!N118","v":""},{"$f":"RS!O118","v":""},{"$f":"RS!P118","v":""},{"$f":"RS!Q118","v":""},{"$f":"RS!R118","v":""},{"$f":"RS!S118","v":""},{"$f":"RS!T118","v":""},{"$f":"RS!U118","v":""},{"$f":"RS!V118","v":""},{"$f":"RS!W118","v":""},{"$f":"RS!X118","v":""},{"$f":"RS!Y118","v":""},{"$f":"RS!Z118","v":""},{"$f":"RS!AA118","v":""},{"$f":"RS!AB118","v":""},{"$f":"RS!AC118","v":""},null,null,null,null,null,null,null,null,null,null,null,null,null,null,null,null,null,null,null,null,null,null,null,null,null,null,null,null,"","","","","","","","","","","","","","","","","","","","","","",""]
[65,{"$f":"RS!D119","v":"72 Storedamm, utlopp mot Svenstorp"},{"$f":"RS!E119","v":""},{"$f":"RS!F119","v":""},{"$f":"RS!G119","v":""},{"$f":"RS!H119","v":""},{"$f":"RS!I119","v":""},{"$f":"RS!J119","v":""},{"$f":"RS!K119","v":""},{"$f":"RS!L119","v":""},{"$f":"RS!M119","v":""},{"$f":"RS!N119","v":""},{"$f":"RS!O119","v":""},{"$f":"RS!P119","v":""},{"$f":"RS!Q119","v":""},{"$f":"RS!R119","v":""},{"$f":"RS!S119","v":""},{"$f":"RS!T119","v":""},{"$f":"RS!U119","v":""},{"$f":"RS!V119","v":""},{"$f":"RS!W119","v":""},{"$f":"RS!X119","v":""},{"$f":"RS!Y119","v":""},{"$f":"RS!Z119","v":""},{"$f":"RS!AA119","v":""},{"$f":"RS!AB119","v":""},{"$f":"RS!AC119","v":""},null,null,null,null,null,null,null,null,null,null,null,null,null,null,null,null,null,null,null,null,null,null,null,null,null,null,null,null,"","","","","","","","","","","","","","","","","","","","","","",""]
[65,{"$f":"RS!D120","v":"72 Storedamm, utlopp mot Svenstorp"},{"$f":"RS!E120","v":""},{"$f":"RS!F120","v":""},{"$f":"RS!G120","v":""},{"$f":"RS!H120","v":""},{"$f":"RS!I120","v":""},{"$f":"RS!J120","v":""},{"$f":"RS!K120","v":""},{"$f":"RS!L120","v":""},{"$f":"RS!M120","v":""},{"$f":"RS!N120","v":""},{"$f":"RS!O120","v":""},{"$f":"RS!P120","v":""},{"$f":"RS!Q120","v":""},{"$f":"RS!R120","v":""},{"$f":"RS!S120","v":""},{"$f":"RS!T120","v":""},{"$f":"RS!U120","v":""},{"$f":"RS!V120","v":""},{"$f":"RS!W120","v":""},{"$f":"RS!X120","v":""},{"$f":"RS!Y120","v":""},{"$f":"RS!Z120","v":""},{"$f":"RS!AA120","v":""},{"$f":"RS!AB120","v":""},{"$f":"RS!AC120","v":""},null,null,null,null,null,null,null,null,null,null,null,null,null,null,null,null,null,null,null,null,null,null,null,null,null,null,null,null,"","","","","","","","","","","","","","","","","","","","","","",""]
[65,{"$f":"RS!D121","v":"72 Storedamm, utlopp mot Svenstorp"},{"$f":"RS!E121","v":""},{"$f":"RS!F121","v":""},{"$f":"RS!G121","v":""},{"$f":"RS!H121","v":""},{"$f":"RS!I121","v":""},{"$f":"RS!J121","v":""},{"$f":"RS!K121","v":""},{"$f":"RS!L121","v":""},{"$f":"RS!M121","v":""},{"$f":"RS!N121","v":""},{"$f":"RS!O121","v":""},{"$f":"RS!P121","v":""},{"$f":"RS!Q121","v":""},{"$f":"RS!R121","v":""},{"$f":"RS!S121","v":""},{"$f":"RS!T121","v":""},{"$f":"RS!U121","v":""},{"$f":"RS!V121","v":""},{"$f":"RS!W121","v":""},{"$f":"RS!X121","v":""},{"$f":"RS!Y121","v":""},{"$f":"RS!Z121","v":""},{"$f":"RS!AA121","v":""},{"$f":"RS!AB121","v":""},{"$f":"RS!AC121","v":""},null,null,null,null,null,null,null,null,null,null,null,null,null,null,null,null,null,null,null,null,null,null,null,null,null,null,null,null,"","","","","","","","","","","","","","","","","","","","","","",""]
[65,{"$f":"RS!D122","v":"72 Storedamm, utlopp mot Svenstorp"},{"$f":"RS!E122","v":""},{"$f":"RS!F122","v":""},{"$f":"RS!G122","v":""},{"$f":"RS!H122","v":""},{"$f":"RS!I122","v":""},{"$f":"RS!J122","v":""},{"$f":"RS!K122","v":""},{"$f":"RS!L122","v":""},{"$f":"RS!M122","v":""},{"$f":"RS!N122","v":""},{"$f":"RS!O122","v":""},{"$f":"RS!P122","v":""},{"$f":"RS!Q122","v":""},{"$f":"RS!R122","v":""},{"$f":"RS!S122","v":""},{"$f":"RS!T122","v":""},{"$f":"RS!U122","v":""},{"$f":"RS!V122","v":""},{"$f":"RS!W122","v":""},{"$f":"RS!X122","v":""},{"$f":"RS!Y122","v":""},{"$f":"RS!Z122","v":""},{"$f":"RS!AA122","v":""},{"$f":"RS!AB122","v":""},{"$f":"RS!AC122","v":""},null,null,null,null,null,null,null,null,null,null,null,null,null,null,null,null,null,null,null,null,null,null,null,null,null,null,null,null,"","","","","","","","","","","","","","","","","","","","","","",""]
[null,null,"Medel",{"$f":"AVERAGE(BD173:BD178)","v":1.5},{"$f":"AVERAGE(BE173:BE178)","v":13.7},{"$f":"AVERAGE(BF173:BF178)","v":98},{"$f":"AVERAGE(BG173:BG178)","v":6.2},{"$f":"AVERAGE(BH173:BH178)","v":6.2E-2},{"$f":"AVERAGE(BI173:BI178)","v":7.25},{"$f":"AVERAGE(BJ173:BJ178)","v":220},{"$f":"AVERAGE(BK173:BK178)","v":3.6},{"$f":"AVERAGE(BL173:BL178)","v":0.39},{"$f":"AVERAGE(BM173:BM178)","v":{"$error":"#DIV/0!"}},{"$f":"AVERAGE(BN173:BN178)","v":79},{"$f":"AVERAGE(BO173:BO178)","v":{"$error":"#DIV/0!"}},{"$f":"AVERAGE(BP173:BP178)","v":{"$error":"#DIV/0!"}},{"$f":"AVERAGE(BQ173:BQ178)","v":{"$error":"#DIV/0!"}},{"$f":"AVERAGE(BR173:BR178)","v":21},{"$f":"AVERAGE(BS173:BS178)","v":280},{"$f":"AVERAGE(BT173:BT178)","v":{"$error":"#DIV/0!"}},{"$f":"AVERAGE(BU173:BU178)","v":1000},{"$f":"AVERAGE(BV173:BV178)","v":0.23},{"$f":"AVERAGE(BW173:BW178)","v":0.12},{"$f":"AVERAGE(BX173:BX178)","v":0.16},{"$f":"AVERAGE(BY173:BY178)","v":{"$error":"#DIV/0!"}},{"$f":"AVERAGE(BZ173:BZ178)","v":{"$error":"#DIV/0!"}},null,null,null,null,null,null,null,null,null,null,null,null,null,null,null,null,null,null,null,null,null,null,null,null,null,null,null,null,null,1.5,13.7,98,6.2,6.2E-2,7.25,220,3.6,0.39,{"$error":"#DIV/0!"},79,{"$error":"#DIV/0!"},{"$error":"#DIV/0!"},{"$error":"#DIV/0!"},21,280,{"$error":"#DIV/0!"},1000,0.23,0.12,0.16,{"$error":"#DIV/0!"},{"$error":"#DIV/0!"}]
[null,null,"Max",{"$f":"MAX(BD173:BD178)","v":1.5},{"$f":"MAX(BE173:BE178)","v":13.7},{"$f":"MAX(BF173:BF178)","v":98},{"$f":"MAX(BG173:BG178)","v":6.2},{"$f":"MAX(BH173:BH178)","v":6.2E-2},{"$f":"MAX(BI173:BI178)","v":7.25},{"$f":"MAX(BJ173:BJ178)","v":220},{"$f":"MAX(BK173:BK178)","v":3.6},{"$f":"MAX(BL173:BL178)","v":0.39},{"$f":"MAX(BM173:BM178)","v":0},{"$f":"MAX(BN173:BN178)","v":79},{"$f":"MAX(BO173:BO178)","v":0},{"$f":"MAX(BP173:BP178)","v":0},{"$f":"MAX(BQ173:BQ178)","v":0},{"$f":"MAX(BR173:BR178)","v":21},{"$f":"MAX(BS173:BS178)","v":280},{"$f":"MAX(BT173:BT178)","v":0},{"$f":"MAX(BU173:BU178)","v":1000},{"$f":"MAX(BV173:BV178)","v":0.23},{"$f":"MAX(BW173:BW178)","v":0.12},{"$f":"MAX(BX173:BX178)","v":0.16},{"$f":"MAX(BY173:BY178)","v":0},{"$f":"MAX(BZ173:BZ178)","v":0},null,null,null,null,null,null,null,null,null,null,null,null,null,null,null,null,null,null,null,null,null,null,null,null,null,null,null,null,null,1.5,13.7,98,6.2,6.2E-2,7.25,220,3.6,0.39,0,79,0,0,0,21,280,0,1000,0.23,0.12,0.16,0,0]
[null,null,"Min",{"$f":"MIN(BD173:BD178)","v":1.5},{"$f":"MIN(BE173:BE178)","v":13.7},{"$f":"MIN(BF173:BF178)","v":98},{"$f":"MIN(BG173:BG178)","v":6.2},{"$f":"MIN(BH173:BH178)","v":6.2E-2},{"$f":"MIN(BI173:BI178)","v":7.25},{"$f":"MIN(BJ173:BJ178)","v":220},{"$f":"MIN(BK173:BK178)","v":3.6},{"$f":"MIN(BL173:BL178)","v":0.39},{"$f":"MIN(BM173:BM178)","v":0},{"$f":"MIN(BN173:BN178)","v":79},{"$f":"MIN(BO173:BO178)","v":0},{"$f":"MIN(BP173:BP178)","v":0},{"$f":"MIN(BQ173:BQ178)","v":0},{"$f":"MIN(BR173:BR178)","v":21},{"$f":"MIN(BS173:BS178)","v":280},{"$f":"MIN(BT173:BT178)","v":0},{"$f":"MIN(BU173:BU178)","v":1000},{"$f":"MIN(BV173:BV178)","v":0.23},{"$f":"MIN(BW173:BW178)","v":0.12},{"$f":"MIN(BX173:BX178)","v":0.16},{"$f":"MIN(BY173:BY178)","v":0},{"$f":"MIN(BZ173:BZ178)","v":0},null,null,null,null,null,null,null,null,null,null,null,null,null,null,null,null,null,null,null,null,null,null,null,null,null,null,null,null,null,1.5,13.7,98,6.2,6.2E-2,7.25,220,3.6,0.39,0,79,0,0,0,21,280,0,1000,0.23,0.12,0.16,0,0]
[null,null,null,null,null,null,null,null,null,null,null,null,null,null,null,null,null,null,null,null,null,null,null,null,null,null,null,null,null,null,null,null,null,null,null,null,null,null,null,null,null,null,null,null,null,null,null,null,null,null,null,null,null,null,null,0,0,0,0,0,0,0,0,0,0,0,0,0,0,0,0,0,0,0,0,0,0,0]
[70,{"$f":"RS!D123","v":"15 Ybbarpsån, utfl ur Ybbarpssjön"},{"$f":"RS!E123","v":"2025-02-11"},{"$f":"RS!F123","v":0.7},{"$f":"RS!G123","v":13.9},{"$f":"RS!H123","v":97},{"$f":"RS!I123","v":6.8},{"$f":"RS!J123","v":0.23},{"$f":"RS!K123","v":9.7899999999999991},{"$f":"RS!L123","v":150},{"$f":"RS!M123","v":8.8000000000000007},{"$f":"RS!N123","v":0.37},{"$f":"RS!O123","v":""},{"$f":"RS!P123","v":51.35},{"$f":"RS!Q123","v":""},{"$f":"RS!R123","v":""},{"$f":"RS!S123","v":""},{"$f":"RS!T123","v":21},{"$f":"RS!U123","v":500},{"$f":"RS!V123","v":""},{"$f":"RS!W123","v":960},{"$f":"RS!X123","v":0.35},{"$f":"RS!Y123","v":0.18},{"$f":"RS!Z123","v":0.19},{"$f":"RS!AA123","v":""},{"$f":"RS!AB123","v":""},{"$f":"RS!AC123","v":""},null,null,null,null,null,null,null,null,null,null,null,null,null,null,null,null,null,null,null,null,null,null,null,null,null,null,null,null,0.7,13.9,97,6.8,0.23,9.7899999999999991,150,8.8000000000000007,0.37,"",51.35,"","","",21,500,"",960,0.35,0.18,0.19,"",""]
[70,{"$f":"RS!D124","v":"15 Ybbarpsån, utfl ur Ybbarpssjön"},{"$f":"RS!E124","v":""},{"$f":"RS!F124","v":""},{"$f":"RS!G124","v":""},{"$f":"RS!H124","v":""},{"$f":"RS!I124","v":""},{"$f":"RS!J124","v":""},{"$f":"RS!K124","v":""},{"$f":"RS!L124","v":""},{"$f":"RS!M124","v":""},{"$f":"RS!N124","v":""},{"$f":"RS!O124","v":""},{"$f":"RS!P124","v":""},{"$f":"RS!Q124","v":""},{"$f":"RS!R124","v":""},{"$f":"RS!S124","v":""},{"$f":"RS!T124","v":""},{"$f":"RS!U124","v":""},{"$f":"RS!V124","v":""},{"$f":"RS!W124","v":""},{"$f":"RS!X124","v":""},{"$f":"RS!Y124","v":""},{"$f":"RS!Z124","v":""},{"$f":"RS!AA124","v":""},{"$f":"RS!AB124","v":""},{"$f":"RS!AC124","v":""},null,null,null,null,null,null,null,null,null,null,null,null,null,null,null,null,null,null,null,null,null,null,null,null,null,null,null,null,"","","","","","","","","","","","","","","","","","","","","","",""]
[70,{"$f":"RS!D125","v":"15 Ybbarpsån, utfl ur Ybbarpssjön"},{"$f":"RS!E125","v":""},{"$f":"RS!F125","v":""},{"$f":"RS!G125","v":""},{"$f":"RS!H125","v":""},{"$f":"RS!I125","v":""},{"$f":"RS!J125","v":""},{"$f":"RS!K125","v":""},{"$f":"RS!L125","v":""},{"$f":"RS!M125","v":""},{"$f":"RS!N125","v":""},{"$f":"RS!O125","v":""},{"$f":"RS!P125","v":""},{"$f":"RS!Q125","v":""},{"$f":"RS!R125","v":""},{"$f":"RS!S125","v":""},{"$f":"RS!T125","v":""},{"$f":"RS!U125","v":""},{"$f":"RS!V125","v":""},{"$f":"RS!W125","v":""},{"$f":"RS!X125","v":""},{"$f":"RS!Y125","v":""},{"$f":"RS!Z125","v":""},{"$f":"RS!AA125","v":""},{"$f":"RS!AB125","v":""},{"$f":"RS!AC125","v":""},null,null,null,null,null,null,null,null,null,null,null,null,null,null,null,null,null,null,null,null,null,null,null,null,null,null,null,null,"","","","","","","","","","","","","","","","","","","","","","",""]
[70,{"$f":"RS!D126","v":"15 Ybbarpsån, utfl ur Ybbarpssjön"},{"$f":"RS!E126","v":""},{"$f":"RS!F126","v":""},{"$f":"RS!G126","v":""},{"$f":"RS!H126","v":""},{"$f":"RS!I126","v":""},{"$f":"RS!J126","v":""},{"$f":"RS!K126","v":""},{"$f":"RS!L126","v":""},{"$f":"RS!M126","v":""},{"$f":"RS!N126","v":""},{"$f":"RS!O126","v":""},{"$f":"RS!P126","v":""},{"$f":"RS!Q126","v":""},{"$f":"RS!R126","v":""},{"$f":"RS!S126","v":""},{"$f":"RS!T126","v":""},{"$f":"RS!U126","v":""},{"$f":"RS!V126","v":""},{"$f":"RS!W126","v":""},{"$f":"RS!X126","v":""},{"$f":"RS!Y126","v":""},{"$f":"RS!Z126","v":""},{"$f":"RS!AA126","v":""},{"$f":"RS!AB126","v":""},{"$f":"RS!AC126","v":""},null,null,null,null,null,null,null,null,null,null,null,null,null,null,null,null,null,null,null,null,null,null,null,null,null,null,null,null,"","","","","","","","","","","","","","","","","","","","","","",""]
[70,{"$f":"RS!D127","v":"15 Ybbarpsån, utfl ur Ybbarpssjön"},{"$f":"RS!E127","v":""},{"$f":"RS!F127","v":""},{"$f":"RS!G127","v":""},{"$f":"RS!H127","v":""},{"$f":"RS!I127","v":""},{"$f":"RS!J127","v":""},{"$f":"RS!K127","v":""},{"$f":"RS!L127","v":""},{"$f":"RS!M127","v":""},{"$f":"RS!N127","v":""},{"$f":"RS!O127","v":""},{"$f":"RS!P127","v":""},{"$f":"RS!Q127","v":""},{"$f":"RS!R127","v":""},{"$f":"RS!S127","v":""},{"$f":"RS!T127","v":""},{"$f":"RS!U127","v":""},{"$f":"RS!V127","v":""},{"$f":"RS!W127","v":""},{"$f":"RS!X127","v":""},{"$f":"RS!Y127","v":""},{"$f":"RS!Z127","v":""},{"$f":"RS!AA127","v":""},{"$f":"RS!AB127","v":""},{"$f":"RS!AC127","v":""},null,null,null,null,null,null,null,null,null,null,null,null,null,null,null,null,null,null,null,null,null,null,null,null,null,null,null,null,"","","","","","","","","","","","","","","","","","","","","","",""]
[70,{"$f":"RS!D128","v":"15 Ybbarpsån, utfl ur Ybbarpssjön"},{"$f":"RS!E128","v":""},{"$f":"RS!F128","v":""},{"$f":"RS!G128","v":""},{"$f":"RS!H128","v":""},{"$f":"RS!I128","v":""},{"$f":"RS!J128","v":""},{"$f":"RS!K128","v":""},{"$f":"RS!L128","v":""},{"$f":"RS!M128","v":""},{"$f":"RS!N128","v":""},{"$f":"RS!O128","v":""},{"$f":"RS!P128","v":""},{"$f":"RS!Q128","v":""},{"$f":"RS!R128","v":""},{"$f":"RS!S128","v":""},{"$f":"RS!T128","v":""},{"$f":"RS!U128","v":""},{"$f":"RS!V128","v":""},{"$f":"RS!W128","v":""},{"$f":"RS!X128","v":""},{"$f":"RS!Y128","v":""},{"$f":"RS!Z128","v":""},{"$f":"RS!AA128","v":""},{"$f":"RS!AB128","v":""},{"$f":"RS!AC128","v":""},null,null,null,null,null,null,null,null,null,null,null,null,null,null,null,null,null,null,null,null,null,null,null,null,null,null,null,null,"","","","","","","","","","","","","","","","","","","","","","",""]
[null,null,"Medel",{"$f":"AVERAGE(BD183:BD188)","v":0.7},{"$f":"AVERAGE(BE183:BE188)","v":13.9},{"$f":"AVERAGE(BF183:BF188)","v":97},{"$f":"AVERAGE(BG183:BG188)","v":6.8},{"$f":"AVERAGE(BH183:BH188)","v":0.23},{"$f":"AVERAGE(BI183:BI188)","v":9.7899999999999991},{"$f":"AVERAGE(BJ183:BJ188)","v":150},{"$f":"AVERAGE(BK183:BK188)","v":8.8000000000000007},{"$f":"AVERAGE(BL183:BL188)","v":0.37},{"$f":"AVERAGE(BM183:BM188)","v":{"$error":"#DIV/0!"}},{"$f":"AVERAGE(BN183:BN188)","v":51.35},{"$f":"AVERAGE(BO183:BO188)","v":{"$error":"#DIV/0!"}},{"$f":"AVERAGE(BP183:BP188)","v":{"$error":"#DIV/0!"}},{"$f":"AVERAGE(BQ183:BQ188)","v":{"$error":"#DIV/0!"}},{"$f":"AVERAGE(BR183:BR188)","v":21},{"$f":"AVERAGE(BS183:BS188)","v":500},{"$f":"AVERAGE(BT183:BT188)","v":{"$error":"#DIV/0!"}},{"$f":"AVERAGE(BU183:BU188)","v":960},{"$f":"AVERAGE(BV183:BV188)","v":0.35},{"$f":"AVERAGE(BW183:BW188)","v":0.18},{"$f":"AVERAGE(BX183:BX188)","v":0.19},{"$f":"AVERAGE(BY183:BY188)","v":{"$error":"#DIV/0!"}},{"$f":"AVERAGE(BZ183:BZ188)","v":{"$error":"#DIV/0!"}},null,null,null,null,null,null,null,null,null,null,null,null,null,null,null,null,null,null,null,null,null,null,null,null,null,null,null,null,null,0.7,13.9,97,6.8,0.23,9.7899999999999991,150,8.8000000000000007,0.37,{"$error":"#DIV/0!"},51.35,{"$error":"#DIV/0!"},{"$error":"#DIV/0!"},{"$error":"#DIV/0!"},21,500,{"$error":"#DIV/0!"},960,0.35,0.18,0.19,{"$error":"#DIV/0!"},{"$error":"#DIV/0!"}]
[null,null,"Max",{"$f":"MAX(BD183:BD188)","v":0.7},{"$f":"MAX(BE183:BE188)","v":13.9},{"$f":"MAX(BF183:BF188)","v":97},{"$f":"MAX(BG183:BG188)","v":6.8},{"$f":"MAX(BH183:BH188)","v":0.23},{"$f":"MAX(BI183:BI188)","v":9.7899999999999991},{"$f":"MAX(BJ183:BJ188)","v":150},{"$f":"MAX(BK183:BK188)","v":8.8000000000000007},{"$f":"MAX(BL183:BL188)","v":0.37},{"$f":"MAX(BM183:BM188)","v":0},{"$f":"MAX(BN183:BN188)","v":51.35},{"$f":"MAX(BO183:BO188)","v":0},{"$f":"MAX(BP183:BP188)","v":0},{"$f":"MAX(BQ183:BQ188)","v":0},{"$f":"MAX(BR183:BR188)","v":21},{"$f":"MAX(BS183:BS188)","v":500},{"$f":"MAX(BT183:BT188)","v":0},{"$f":"MAX(BU183:BU188)","v":960},{"$f":"MAX(BV183:BV188)","v":0.35},{"$f":"MAX(BW183:BW188)","v":0.18},{"$f":"MAX(BX183:BX188)","v":0.19},{"$f":"MAX(BY183:BY188)","v":0},{"$f":"MAX(BZ183:BZ188)","v":0},null,null,null,null,null,null,null,null,null,null,null,null,null,null,null,null,null,null,null,null,null,null,null,null,null,null,null,null,null,0.7,13.9,97,6.8,0.23,9.7899999999999991,150,8.8000000000000007,0.37,0,51.35,0,0,0,21,500,0,960,0.35,0.18,0.19,0,0]
[null,null,"Min",{"$f":"MIN(BD183:BD188)","v":0.7},{"$f":"MIN(BE183:BE188)","v":13.9},{"$f":"MIN(BF183:BF188)","v":97},{"$f":"MIN(BG183:BG188)","v":6.8},{"$f":"MIN(BH183:BH188)","v":0.23},{"$f":"MIN(BI183:BI188)","v":9.7899999999999991},{"$f":"MIN(BJ183:BJ188)","v":150},{"$f":"MIN(BK183:BK188)","v":8.8000000000000007},{"$f":"MIN(BL183:BL188)","v":0.37},{"$f":"MIN(BM183:BM188)","v":0},{"$f":"MIN(BN183:BN188)","v":51.35},{"$f":"MIN(BO183:BO188)","v":0},{"$f":"MIN(BP183:BP188)","v":0},{"$f":"MIN(BQ183:BQ188)","v":0},{"$f":"MIN(BR183:BR188)","v":21},{"$f":"MIN(BS183:BS188)","v":500},{"$f":"MIN(BT183:BT188)","v":0},{"$f":"MIN(BU183:BU188)","v":960},{"$f":"MIN(BV183:BV188)","v":0.35},{"$f":"MIN(BW183:BW188)","v":0.18},{"$f":"MIN(BX183:BX188)","v":0.19},{"$f":"MIN(BY183:BY188)","v":0},{"$f":"MIN(BZ183:BZ188)","v":0},null,null,null,null,null,null,null,null,null,null,null,null,null,null,null,null,null,null,null,null,null,null,null,null,null,null,null,null,null,0.7,13.9,97,6.8,0.23,9.7899999999999991,150,8.8000000000000007,0.37,0,51.35,0,0,0,21,500,0,960,0.35,0.18,0.19,0,0]
[null,null,null,null,null,null,null,null,null,null,null,null,null,null,null,null,null,null,null,null,null,null,null,null,null,null,null,null,null,null,null,null,null,null,null,null,null,null,null,null,null,null,null,null,null,null,null,null,null,null,null,null,null,null,null,0,0,0,0,0,0,0,0,0,0,0,0,0,0,0,0,0,0,0,0,0,0,0]
[75,{"$f":"RS!D129","v":"16 Ybbarpsån, nedstr Perstorp AB"},{"$f":"RS!E129","v":"2025-01-15"},{"$f":"RS!F129","v":2},{"$f":"RS!G129","v":13.8},{"$f":"RS!H129","v":100},{"$f":"RS!I129","v":6.7},{"$f":"RS!J129","v":0.28000000000000003},{"$f":"RS!K129","v":20.100000000000001},{"$f":"RS!L129","v":200},{"$f":"RS!M129","v":6},{"$f":"RS!N129","v":0.38},{"$f":"RS!O129","v":""},{"$f":"RS!P129","v":71.100000000000009},{"$f":"RS!Q129","v":""},{"$f":"RS!R129","v":""},{"$f":"RS!S129","v":""},{"$f":"RS!T129","v":30},{"$f":"RS!U129","v":1400},{"$f":"RS!V129","v":""},{"$f":"RS!W129","v":2100},{"$f":"RS!X129","v":0.36},{"$f":"RS!Y129","v":0.18},{"$f":"RS!Z129","v":0.46},{"$f":"RS!AA129","v":""},{"$f":"RS!AB129","v":""},{"$f":"RS!AC129","v":""},null,null,null,null,null,null,null,null,null,null,null,null,null,null,null,null,null,null,null,null,null,null,null,null,null,null,null,null,2,13.8,100,6.7,0.28000000000000003,20.100000000000001,200,6,0.38,"",71.100000000000009,"","","",30,1400,"",2100,0.36,0.18,0.46,"",""]
[75,{"$f":"RS!D130","v":"16 Ybbarpsån, nedstr Perstorp AB"},{"$f":"RS!E130","v":"2025-02-11"},{"$f":"RS!F130","v":1.8},{"$f":"RS!G130","v":14},{"$f":"RS!H130","v":101},{"$f":"RS!I130","v":7},{"$f":"RS!J130","v":0.44},{"$f":"RS!K130","v":23.3},{"$f":"RS!L130","v":220},{"$f":"RS!M130","v":8.4},{"$f":"RS!N130","v":0.36},{"$f":"RS!O130","v":""},{"$f":"RS!P130","v":55.300000000000004},{"$f":"RS!Q130","v":""},{"$f":"RS!R130","v":""},{"$f":"RS!S130","v":""},{"$f":"RS!T130","v":23},{"$f":"RS!U130","v":690},{"$f":"RS!V130","v":""},{"$f":"RS!W130","v":1200},{"$f":"RS!X130","v":0.38},{"$f":"RS!Y130","v":0.19},{"$f":"RS!Z130","v":0.5},{"$f":"RS!AA130","v":""},{"$f":"RS!AB130","v":""},{"$f":"RS!AC130","v":""},null,null,null,null,null,null,null,null,null,null,null,null,null,null,null,null,null,null,null,null,null,null,null,null,null,null,null,null,1.8,14,101,7,0.44,23.3,220,8.4,0.36,"",55.300000000000004,"","","",23,690,"",1200,0.38,0.19,0.5,"",""]
[75,{"$f":"RS!D131","v":"16 Ybbarpsån, nedstr Perstorp AB"},{"$f":"RS!E131","v":""},{"$f":"RS!F131","v":""},{"$f":"RS!G131","v":""},{"$f":"RS!H131","v":""},{"$f":"RS!I131","v":""},{"$f":"RS!J131","v":""},{"$f":"RS!K131","v":""},{"$f":"RS!L131","v":""},{"$f":"RS!M131","v":""},{"$f":"RS!N131","v":""},{"$f":"RS!O131","v":""},{"$f":"RS!P131","v":""},{"$f":"RS!Q131","v":""},{"$f":"RS!R131","v":""},{"$f":"RS!S131","v":""},{"$f":"RS!T131","v":""},{"$f":"RS!U131","v":""},{"$f":"RS!V131","v":""},{"$f":"RS!W131","v":""},{"$f":"RS!X131","v":""},{"$f":"RS!Y131","v":""},{"$f":"RS!Z131","v":""},{"$f":"RS!AA131","v":""},{"$f":"RS!AB131","v":""},{"$f":"RS!AC131","v":""},null,null,null,null,null,null,null,null,null,null,null,null,null,null,null,null,null,null,null,null,null,null,null,null,null,null,null,null,"","","","","","","","","","","","","","","","","","","","","","",""]
[75,{"$f":"RS!D132","v":"16 Ybbarpsån, nedstr Perstorp AB"},{"$f":"RS!E132","v":""},{"$f":"RS!F132","v":""},{"$f":"RS!G132","v":""},{"$f":"RS!H132","v":""},{"$f":"RS!I132","v":""},{"$f":"RS!J132","v":""},{"$f":"RS!K132","v":""},{"$f":"RS!L132","v":""},{"$f":"RS!M132","v":""},{"$f":"RS!N132","v":""},{"$f":"RS!O132","v":""},{"$f":"RS!P132","v":""},{"$f":"RS!Q132","v":""},{"$f":"RS!R132","v":""},{"$f":"RS!S132","v":""},{"$f":"RS!T132","v":""},{"$f":"RS!U132","v":""},{"$f":"RS!V132","v":""},{"$f":"RS!W132","v":""},{"$f":"RS!X132","v":""},{"$f":"RS!Y132","v":""},{"$f":"RS!Z132","v":""},{"$f":"RS!AA132","v":""},{"$f":"RS!AB132","v":""},{"$f":"RS!AC132","v":""},null,null,null,null,null,null,null,null,null,null,null,null,null,null,null,null,null,null,null,null,null,null,null,null,null,null,null,null,"","","","","","","","","","","","","","","","","","","","","","",""]
[75,{"$f":"RS!D133","v":"16 Ybbarpsån, nedstr Perstorp AB"},{"$f":"RS!E133","v":""},{"$f":"RS!F133","v":""},{"$f":"RS!G133","v":""},{"$f":"RS!H133","v":""},{"$f":"RS!I133","v":""},{"$f":"RS!J133","v":""},{"$f":"RS!K133","v":""},{"$f":"RS!L133","v":""},{"$f":"RS!M133","v":""},{"$f":"RS!N133","v":""},{"$f":"RS!O133","v":""},{"$f":"RS!P133","v":""},{"$f":"RS!Q133","v":""},{"$f":"RS!R133","v":""},{"$f":"RS!S133","v":""},{"$f":"RS!T133","v":""},{"$f":"RS!U133","v":""},{"$f":"RS!V133","v":""},{"$f":"RS!W133","v":""},{"$f":"RS!X133","v":""},{"$f":"RS!Y133","v":""},{"$f":"RS!Z133","v":""},{"$f":"RS!AA133","v":""},{"$f":"RS!AB133","v":""},{"$f":"RS!AC133","v":""},null,null,null,null,null,null,null,null,null,null,null,null,null,null,null,null,null,null,null,null,null,null,null,null,null,null,null,null,"","","","","","","","","","","","","","","","","","","","","","",""]
[75,{"$f":"RS!D134","v":"16 Ybbarpsån, nedstr Perstorp AB"},{"$f":"RS!E134","v":""},{"$f":"RS!F134","v":""},{"$f":"RS!G134","v":""},{"$f":"RS!H134","v":""},{"$f":"RS!I134","v":""},{"$f":"RS!J134","v":""},{"$f":"RS!K134","v":""},{"$f":"RS!L134","v":""},{"$f":"RS!M134","v":""},{"$f":"RS!N134","v":""},{"$f":"RS!O134","v":""},{"$f":"RS!P134","v":""},{"$f":"RS!Q134","v":""},{"$f":"RS!R134","v":""},{"$f":"RS!S134","v":""},{"$f":"RS!T134","v":""},{"$f":"RS!U134","v":""},{"$f":"RS!V134","v":""},{"$f":"RS!W134","v":""},{"$f":"RS!X134","v":""},{"$f":"RS!Y134","v":""},{"$f":"RS!Z134","v":""},{"$f":"RS!AA134","v":""},{"$f":"RS!AB134","v":""},{"$f":"RS!AC134","v":""},null,null,null,null,null,null,null,null,null,null,null,null,null,null,null,null,null,null,null,null,null,null,null,null,null,null,null,null,"","","","","","","","","","","","","","","","","","","","","","",""]
[75,{"$f":"RS!D135","v":"16 Ybbarpsån, nedstr Perstorp AB"},{"$f":"RS!E135","v":""},{"$f":"RS!F135","v":""},{"$f":"RS!G135","v":""},{"$f":"RS!H135","v":""},{"$f":"RS!I135","v":""},{"$f":"RS!J135","v":""},{"$f":"RS!K135","v":""},{"$f":"RS!L135","v":""},{"$f":"RS!M135","v":""},{"$f":"RS!N135","v":""},{"$f":"RS!O135","v":""},{"$f":"RS!P135","v":""},{"$f":"RS!Q135","v":""},{"$f":"RS!R135","v":""},{"$f":"RS!S135","v":""},{"$f":"RS!T135","v":""},{"$f":"RS!U135","v":""},{"$f":"RS!V135","v":""},{"$f":"RS!W135","v":""},{"$f":"RS!X135","v":""},{"$f":"RS!Y135","v":""},{"$f":"RS!Z135","v":""},{"$f":"RS!AA135","v":""},{"$f":"RS!AB135","v":""},{"$f":"RS!AC135","v":""},null,null,null,null,null,null,null,null,null,null,null,null,null,null,null,null,null,null,null,null,null,null,null,null,null,null,null,null,"","","","","","","","","","","","","","","","","","","","","","",""]
[75,{"$f":"RS!D136","v":"16 Ybbarpsån, nedstr Perstorp AB"},{"$f":"RS!E136","v":""},{"$f":"RS!F136","v":""},{"$f":"RS!G136","v":""},{"$f":"RS!H136","v":""},{"$f":"RS!I136","v":""},{"$f":"RS!J136","v":""},{"$f":"RS!K136","v":""},{"$f":"RS!L136","v":""},{"$f":"RS!M136","v":""},{"$f":"RS!N136","v":""},{"$f":"RS!O136","v":""},{"$f":"RS!P136","v":""},{"$f":"RS!Q136","v":""},{"$f":"RS!R136","v":""},{"$f":"RS!S136","v":""},{"$f":"RS!T136","v":""},{"$f":"RS!U136","v":""},{"$f":"RS!V136","v":""},{"$f":"RS!W136","v":""},{"$f":"RS!X136","v":""},{"$f":"RS!Y136","v":""},{"$f":"RS!Z136","v":""},{"$f":"RS!AA136","v":""},{"$f":"RS!AB136","v":""},{"$f":"RS!AC136","v":""},null,null,null,null,null,null,null,null,null,null,null,null,null,null,null,null,null,null,null,null,null,null,null,null,null,null,null,null,{"$f":"IF(OR(LEFT(D200,1)=\"<\",LEFT(D200,1)=\">\"),VALUE(MID(D200,2,5)),D200)","v":""},{"$f":"IF(OR(LEFT(E200,1)=\"<\",LEFT(E200,1)=\">\"),VALUE(MID(E200,2,5)),E200)","v":""},{"$f":"IF(OR(LEFT(F200,1)=\"<\",LEFT(F200,1)=\">\"),VALUE(MID(F200,2,5)),F200)","v":""},{"$f":"IF(OR(LEFT(G200,1)=\"<\",LEFT(G200,1)=\">\"),VALUE(MID(G200,2,5)),G200)","v":""},{"$f":"IF(OR(LEFT(H200,1)=\"<\",LEFT(H200,1)=\">\"),VALUE(MID(H200,2,5)),H200)","v":""},{"$f":"IF(OR(LEFT(I200,1)=\"<\",LEFT(I200,1)=\">\"),VALUE(MID(I200,2,5)),I200)","v":""},{"$f":"IF(OR(LEFT(J200,1)=\"<\",LEFT(J200,1)=\">\"),VALUE(MID(J200,2,5)),J200)","v":""},{"$f":"IF(OR(LEFT(K200,1)=\"<\",LEFT(K200,1)=\">\"),VALUE(MID(K200,2,5)),K200)","v":""},{"$f":"IF(OR(LEFT(L200,1)=\"<\",LEFT(L200,1)=\">\"),VALUE(MID(L200,2,5)),L200)","v":""},{"$f":"IF(OR(LEFT(M200,1)=\"<\",LEFT(M200,1)=\">\"),VALUE(MID(M200,2,5)),M200)","v":""},{"$f":"IF(OR(LEFT(N200,1)=\"<\",LEFT(N200,1)=\">\"),VALUE(MID(N200,2,5)),N200)","v":""},{"$f":"IF(OR(LEFT(O200,1)=\"<\",LEFT(O200,1)=\">\"),VALUE(MID(O200,2,5)),O200)","v":""},{"$f":"IF(OR(LEFT(P200,1)=\"<\",LEFT(P200,1)=\">\"),VALUE(MID(P200,2,5)),P200)","v":""},{"$f":"IF(OR(LEFT(Q200,1)=\"<\",LEFT(Q200,1)=\">\"),VALUE(MID(Q200,2,5)),Q200)","v":""},{"$f":"IF(OR(LEFT(R200,1)=\"<\",LEFT(R200,1)=\">\"),VALUE(MID(R200,2,5)),R200)","v":""},{"$f":"IF(OR(LEFT(S200,1)=\"<\",LEFT(S200,1)=\">\"),VALUE(MID(S200,2,5)),S200)","v":""},{"$f":"IF(OR(LEFT(T200,1)=\"<\",LEFT(T200,1)=\">\"),VALUE(MID(T200,2,5)),T200)","v":""},{"$f":"IF(OR(LEFT(U200,1)=\"<\",LEFT(U200,1)=\">\"),VALUE(MID(U200,2,5)),U200)","v":""},{"$f":"IF(OR(LEFT(V200,1)=\"<\",LEFT(V200,1)=\">\"),VALUE(MID(V200,2,5)),V200)","v":""},{"$f":"IF(OR(LEFT(W200,1)=\"<\",LEFT(W200,1)=\">\"),VALUE(MID(W200,2,5)),W200)","v":""},{"$f":"IF(OR(LEFT(X200,1)=\"<\",LEFT(X200,1)=\">\"),VALUE(MID(X200,2,5)),X200)","v":""},{"$f":"IF(OR(LEFT(Y200,1)=\"<\",LEFT(Y200,1)=\">\"),VALUE(MID(Y200,2,5)),Y200)","v":""},{"$f":"IF(OR(LEFT(Z200,1)=\"<\",LEFT(Z200,1)=\">\"),VALUE(MID(Z200,2,5)),Z200)","v":""}]
[75,{"$f":"RS!D137","v":"16 Ybbarpsån, nedstr Perstorp AB"},{"$f":"RS!E137","v":""},{"$f":"RS!F137","v":""},{"$f":"RS!G137","v":""},{"$f":"RS!H137","v":""},{"$f":"RS!I137","v":""},{"$f":"RS!J137","v":""},{"$f":"RS!K137","v":""},{"$f":"RS!L137","v":""},{"$f":"RS!M137","v":""},{"$f":"RS!N137","v":""},{"$f":"RS!O137","v":""},{"$f":"RS!P137","v":""},{"$f":"RS!Q137","v":""},{"$f":"RS!R137","v":""},{"$f":"RS!S137","v":""},{"$f":"RS!T137","v":""},{"$f":"RS!U137","v":""},{"$f":"RS!V137","v":""},{"$f":"RS!W137","v":""},{"$f":"RS!X137","v":""},{"$f":"RS!Y137","v":""},{"$f":"RS!Z137","v":""},{"$f":"RS!AA137","v":""},{"$f":"RS!AB137","v":""},{"$f":"RS!AC137","v":""},null,null,null,null,null,null,null,null,null,null,null,null,null,null,null,null,null,null,null,null,null,null,null,null,null,null,null,null,"","","","","","","","","","","","","","","","","","","","","","",""]
[75,{"$f":"RS!D138","v":"16 Ybbarpsån, nedstr Perstorp AB"},{"$f":"RS!E138","v":""},{"$f":"RS!F138","v":""},{"$f":"RS!G138","v":""},{"$f":"RS!H138","v":""},{"$f":"RS!I138","v":""},{"$f":"RS!J138","v":""},{"$f":"RS!K138","v":""},{"$f":"RS!L138","v":""},{"$f":"RS!M138","v":""},{"$f":"RS!N138","v":""},{"$f":"RS!O138","v":""},{"$f":"RS!P138","v":""},{"$f":"RS!Q138","v":""},{"$f":"RS!R138","v":""},{"$f":"RS!S138","v":""},{"$f":"RS!T138","v":""},{"$f":"RS!U138","v":""},{"$f":"RS!V138","v":""},{"$f":"RS!W138","v":""},{"$f":"RS!X138","v":""},{"$f":"RS!Y138","v":""},{"$f":"RS!Z138","v":""},{"$f":"RS!AA138","v":""},{"$f":"RS!AB138","v":""},{"$f":"RS!AC138","v":""},null,null,null,null,null,null,null,null,null,null,null,null,null,null,null,null,null,null,null,null,null,null,null,null,null,null,null,null,"","","","","","","","","","","","","","","","","","","","","","",""]
[75,{"$f":"RS!D139","v":"16 Ybbarpsån, nedstr Perstorp AB"},{"$f":"RS!E139","v":""},{"$f":"RS!F139","v":""},{"$f":"RS!G139","v":""},{"$f":"RS!H139","v":""},{"$f":"RS!I139","v":""},{"$f":"RS!J139","v":""},{"$f":"RS!K139","v":""},{"$f":"RS!L139","v":""},{"$f":"RS!M139","v":""},{"$f":"RS!N139","v":""},{"$f":"RS!O139","v":""},{"$f":"RS!P139","v":""},{"$f":"RS!Q139","v":""},{"$f":"RS!R139","v":""},{"$f":"RS!S139","v":""},{"$f":"RS!T139","v":""},{"$f":"RS!U139","v":""},{"$f":"RS!V139","v":""},{"$f":"RS!W139","v":""},{"$f":"RS!X139","v":""},{"$f":"RS!Y139","v":""},{"$f":"RS!Z139","v":""},{"$f":"RS!AA139","v":""},{"$f":"RS!AB139","v":""},{"$f":"RS!AC139","v":""},null,null,null,null,null,null,null,null,null,null,null,null,null,null,null,null,null,null,null,null,null,null,null,null,null,null,null,null,"","","","","","","","","","","","","","","","","","","","","","",""]
[75,{"$f":"RS!D140","v":"16 Ybbarpsån, nedstr Perstorp AB"},{"$f":"RS!E140","v":""},{"$f":"RS!F140","v":""},{"$f":"RS!G140","v":""},{"$f":"RS!H140","v":""},{"$f":"RS!I140","v":""},{"$f":"RS!J140","v":""},{"$f":"RS!K140","v":""},{"$f":"RS!L140","v":""},{"$f":"RS!M140","v":""},{"$f":"RS!N140","v":""},{"$f":"RS!O140","v":""},{"$f":"RS!P140","v":""},{"$f":"RS!Q140","v":""},{"$f":"RS!R140","v":""},{"$f":"RS!S140","v":""},{"$f":"RS!T140","v":""},{"$f":"RS!U140","v":""},{"$f":"RS!V140","v":""},{"$f":"RS!W140","v":""},{"$f":"RS!X140","v":""},{"$f":"RS!Y140","v":""},{"$f":"RS!Z140","v":""},{"$f":"RS!AA140","v":""},{"$f":"RS!AB140","v":""},{"$f":"RS!AC140","v":""},null,null,null,null,null,null,null,null,null,null,null,null,null,null,null,null,null,null,null,null,null,null,null,null,null,null,null,null,"","","","","","","","","","","","","","","","","","","","","","",""]
[null,null,"Medel",{"$f":"AVERAGE(BD193:BD204)","v":1.9},{"$f":"AVERAGE(BE193:BE204)","v":13.9},{"$f":"AVERAGE(BF193:BF204)","v":100.5},{"$f":"AVERAGE(BG193:BG204)","v":6.85},{"$f":"AVERAGE(BH193:BH204)","v":0.36},{"$f":"AVERAGE(BI193:BI204)","v":21.700000000000003},{"$f":"AVERAGE(BJ193:BJ204)","v":210},{"$f":"AVERAGE(BK193:BK204)","v":7.2},{"$f":"AVERAGE(BL193:BL204)","v":0.37},{"$f":"AVERAGE(BM193:BM204)","v":{"$error":"#DIV/0!"}},{"$f":"AVERAGE(BN193:BN204)","v":63.2},{"$f":"AVERAGE(BO193:BO204)","v":{"$error":"#DIV/0!"}},{"$f":"AVERAGE(BP193:BP204)","v":{"$error":"#DIV/0!"}},{"$f":"AVERAGE(BQ193:BQ204)","v":{"$error":"#DIV/0!"}},{"$f":"AVERAGE(BR193:BR204)","v":26.5},{"$f":"AVERAGE(BS193:BS204)","v":1045},{"$f":"AVERAGE(BT193:BT204)","v":{"$error":"#DIV/0!"}},{"$f":"AVERAGE(BU193:BU204)","v":1650},{"$f":"AVERAGE(BV193:BV204)","v":0.37},{"$f":"AVERAGE(BW193:BW204)","v":0.185},{"$f":"AVERAGE(BX193:BX204)","v":0.48},{"$f":"AVERAGE(BY193:BY204)","v":{"$error":"#DIV/0!"}},{"$f":"AVERAGE(BZ193:BZ204)","v":{"$error":"#DIV/0!"}},null,null,null,null,null,null,null,null,null,null,null,null,null,null,null,null,null,null,null,null,null,null,null,null,null,null,null,null,null,1.9,13.9,100.5,6.85,0.36,21.700000000000003,210,7.2,0.37,{"$error":"#DIV/0!"},63.2,{"$error":"#DIV/0!"},{"$error":"#DIV/0!"},{"$error":"#DIV/0!"},26.5,1045,{"$error":"#DIV/0!"},1650,0.37,0.185,0.48,{"$error":"#DIV/0!"},{"$error":"#DIV/0!"}]
[null,null,"Max",{"$f":"MAX(BD193:BD204)","v":2},{"$f":"MAX(BE193:BE204)","v":14},{"$f":"MAX(BF193:BF204)","v":101},{"$f":"MAX(BG193:BG204)","v":7},{"$f":"MAX(BH193:BH204)","v":0.44},{"$f":"MAX(BI193:BI204)","v":23.3},{"$f":"MAX(BJ193:BJ204)","v":220},{"$f":"MAX(BK193:BK204)","v":8.4},{"$f":"MAX(BL193:BL204)","v":0.38},{"$f":"MAX(BM193:BM204)","v":0},{"$f":"MAX(BN193:BN204)","v":71.100000000000009},{"$f":"MAX(BO193:BO204)","v":0},{"$f":"MAX(BP193:BP204)","v":0},{"$f":"MAX(BQ193:BQ204)","v":0},{"$f":"MAX(BR193:BR204)","v":30},{"$f":"MAX(BS193:BS204)","v":1400},{"$f":"MAX(BT193:BT204)","v":0},{"$f":"MAX(BU193:BU204)","v":2100},{"$f":"MAX(BV193:BV204)","v":0.38},{"$f":"MAX(BW193:BW204)","v":0.19},{"$f":"MAX(BX193:BX204)","v":0.5},{"$f":"MAX(BY193:BY204)","v":0},{"$f":"MAX(BZ193:BZ204)","v":0},null,null,null,null,null,null,null,null,null,null,null,null,null,null,null,null,null,null,null,null,null,null,null,null,null,null,null,null,null,2,14,101,7,0.44,23.3,220,8.4,0.38,0,71.100000000000009,0,0,0,30,1400,0,2100,0.38,0.19,0.5,0,0]
[null,null,"Min",{"$f":"MIN(BD193:BD204)","v":1.8},{"$f":"MIN(BE193:BE204)","v":13.8},{"$f":"MIN(BF193:BF204)","v":100},{"$f":"MIN(BG193:BG204)","v":6.7},{"$f":"MIN(BH193:BH204)","v":0.28000000000000003},{"$f":"MIN(BI193:BI204)","v":20.100000000000001},{"$f":"MIN(BJ193:BJ204)","v":200},{"$f":"MIN(BK193:BK204)","v":6},{"$f":"MIN(BL193:BL204)","v":0.36},{"$f":"MIN(BM193:BM204)","v":0},{"$f":"MIN(BN193:BN204)","v":55.300000000000004},{"$f":"MIN(BO193:BO204)","v":0},{"$f":"MIN(BP193:BP204)","v":0},{"$f":"MIN(BQ193:BQ204)","v":0},{"$f":"MIN(BR193:BR204)","v":23},{"$f":"MIN(BS193:BS204)","v":690},{"$f":"MIN(BT193:BT204)","v":0},{"$f":"MIN(BU193:BU204)","v":1200},{"$f":"MIN(BV193:BV204)","v":0.36},{"$f":"MIN(BW193:BW204)","v":0.18},{"$f":"MIN(BX193:BX204)","v":0.46},{"$f":"MIN(BY193:BY204)","v":0},{"$f":"MIN(BZ193:BZ204)","v":0},null,null,null,null,null,null,null,null,null,null,null,null,null,null,null,null,null,null,null,null,null,null,null,null,null,null,null,null,null,1.8,13.8,100,6.7,0.28000000000000003,20.100000000000001,200,6,0.36,0,55.300000000000004,0,0,0,23,690,0,1200,0.36,0.18,0.46,0,0]
[null,null,null,null,null,null,null,null,null,null,null,null,null,null,null,null,null,null,null,null,null,null,null,null,null,null,null,null,null,null,null,null,null,null,null,null,null,null,null,null,null,null,null,null,null,null,null,null,null,null,null,null,null,null,null,0,0,0,0,0,0,0,0,0,0,0,0,0,0,0,0,0,0,0,0,0,0,0]
[80,{"$f":"RS!D141","v":"17 Ybbarpsån, Storarydsdammens utl"},{"$f":"RS!E141","v":"2025-02-12"},{"$f":"RS!F141","v":1.6},{"$f":"RS!G141","v":13.3},{"$f":"RS!H141","v":95},{"$f":"RS!I141","v":7},{"$f":"RS!J141","v":0.36},{"$f":"RS!K141","v":21},{"$f":"RS!L141","v":150},{"$f":"RS!M141","v":6.7},{"$f":"RS!N141","v":0.28000000000000003},{"$f":"RS!O141","v":""},{"$f":"RS!P141","v":51.35},{"$f":"RS!Q141","v":""},{"$f":"RS!R141","v":""},{"$f":"RS!S141","v":""},{"$f":"RS!T141","v":21},{"$f":"RS!U141","v":760},{"$f":"RS!V141","v":""},{"$f":"RS!W141","v":1100},{"$f":"RS!X141","v":0.38},{"$f":"RS!Y141","v":0.2},{"$f":"RS!Z141","v":0.5},{"$f":"RS!AA141","v":""},{"$f":"RS!AB141","v":""},{"$f":"RS!AC141","v":""},null,null,null,null,null,null,null,null,null,null,null,null,null,null,null,null,null,null,null,null,null,null,null,null,null,null,null,null,1.6,13.3,95,7,0.36,21,150,6.7,0.28000000000000003,"",51.35,"","","",21,760,"",1100,0.38,0.2,0.5,"",""]
[80,{"$f":"RS!D142","v":"17 Ybbarpsån, Storarydsdammens utl"},{"$f":"RS!E142","v":""},{"$f":"RS!F142","v":""},{"$f":"RS!G142","v":""},{"$f":"RS!H142","v":""},{"$f":"RS!I142","v":""},{"$f":"RS!J142","v":""},{"$f":"RS!K142","v":""},{"$f":"RS!L142","v":""},{"$f":"RS!M142","v":""},{"$f":"RS!N142","v":""},{"$f":"RS!O142","v":""},{"$f":"RS!P142","v":""},{"$f":"RS!Q142","v":""},{"$f":"RS!R142","v":""},{"$f":"RS!S142","v":""},{"$f":"RS!T142","v":""},{"$f":"RS!U142","v":""},{"$f":"RS!V142","v":""},{"$f":"RS!W142","v":""},{"$f":"RS!X142","v":""},{"$f":"RS!Y142","v":""},{"$f":"RS!Z142","v":""},{"$f":"RS!AA142","v":""},{"$f":"RS!AB142","v":""},{"$f":"RS!AC142","v":""},null,null,null,null,null,null,null,null,null,null,null,null,null,null,null,null,null,null,null,null,null,null,null,null,null,null,null,null,"","","","","","","","","","","","","","","","","","","","","","",""]
[80,{"$f":"RS!D143","v":"17 Ybbarpsån, Storarydsdammens utl"},{"$f":"RS!E143","v":""},{"$f":"RS!F143","v":""},{"$f":"RS!G143","v":""},{"$f":"RS!H143","v":""},{"$f":"RS!I143","v":""},{"$f":"RS!J143","v":""},{"$f":"RS!K143","v":""},{"$f":"RS!L143","v":""},{"$f":"RS!M143","v":""},{"$f":"RS!N143","v":""},{"$f":"RS!O143","v":""},{"$f":"RS!P143","v":""},{"$f":"RS!Q143","v":""},{"$f":"RS!R143","v":""},{"$f":"RS!S143","v":""},{"$f":"RS!T143","v":""},{"$f":"RS!U143","v":""},{"$f":"RS!V143","v":""},{"$f":"RS!W143","v":""},{"$f":"RS!X143","v":""},{"$f":"RS!Y143","v":""},{"$f":"RS!Z143","v":""},{"$f":"RS!AA143","v":""},{"$f":"RS!AB143","v":""},{"$f":"RS!AC143","v":""},null,null,null,null,null,null,null,null,null,null,null,null,null,null,null,null,null,null,null,null,null,null,null,null,null,null,null,null,"","","","","","","","","","","","","","","","","","","","","","",""]
[80,{"$f":"RS!D144","v":"17 Ybbarpsån, Storarydsdammens utl"},{"$f":"RS!E144","v":""},{"$f":"RS!F144","v":""},{"$f":"RS!G144","v":""},{"$f":"RS!H144","v":""},{"$f":"RS!I144","v":""},{"$f":"RS!J144","v":""},{"$f":"RS!K144","v":""},{"$f":"RS!L144","v":""},{"$f":"RS!M144","v":""},{"$f":"RS!N144","v":""},{"$f":"RS!O144","v":""},{"$f":"RS!P144","v":""},{"$f":"RS!Q144","v":""},{"$f":"RS!R144","v":""},{"$f":"RS!S144","v":""},{"$f":"RS!T144","v":""},{"$f":"RS!U144","v":""},{"$f":"RS!V144","v":""},{"$f":"RS!W144","v":""},{"$f":"RS!X144","v":""},{"$f":"RS!Y144","v":""},{"$f":"RS!Z144","v":""},{"$f":"RS!AA144","v":""},{"$f":"RS!AB144","v":""},{"$f":"RS!AC144","v":""},null,null,null,null,null,null,null,null,null,null,null,null,null,null,null,null,null,null,null,null,null,null,null,null,null,null,null,null,"","","","","","","","","","","","","","","","","","","","","","",""]
[80,{"$f":"RS!D145","v":"17 Ybbarpsån, Storarydsdammens utl"},{"$f":"RS!E145","v":""},{"$f":"RS!F145","v":""},{"$f":"RS!G145","v":""},{"$f":"RS!H145","v":""},{"$f":"RS!I145","v":""},{"$f":"RS!J145","v":""},{"$f":"RS!K145","v":""},{"$f":"RS!L145","v":""},{"$f":"RS!M145","v":""},{"$f":"RS!N145","v":""},{"$f":"RS!O145","v":""},{"$f":"RS!P145","v":""},{"$f":"RS!Q145","v":""},{"$f":"RS!R145","v":""},{"$f":"RS!S145","v":""},{"$f":"RS!T145","v":""},{"$f":"RS!U145","v":""},{"$f":"RS!V145","v":""},{"$f":"RS!W145","v":""},{"$f":"RS!X145","v":""},{"$f":"RS!Y145","v":""},{"$f":"RS!Z145","v":""},{"$f":"RS!AA145","v":""},{"$f":"RS!AB145","v":""},{"$f":"RS!AC145","v":""},null,null,null,null,null,null,null,null,null,null,null,null,null,null,null,null,null,null,null,null,null,null,null,null,null,null,null,null,"","","","","","","","","","","","","","","","","","","","","","",""]
[80,{"$f":"RS!D146","v":"17 Ybbarpsån, Storarydsdammens utl"},{"$f":"RS!E146","v":""},{"$f":"RS!F146","v":""},{"$f":"RS!G146","v":""},{"$f":"RS!H146","v":""},{"$f":"RS!I146","v":""},{"$f":"RS!J146","v":""},{"$f":"RS!K146","v":""},{"$f":"RS!L146","v":""},{"$f":"RS!M146","v":""},{"$f":"RS!N146","v":""},{"$f":"RS!O146","v":""},{"$f":"RS!P146","v":""},{"$f":"RS!Q146","v":""},{"$f":"RS!R146","v":""},{"$f":"RS!S146","v":""},{"$f":"RS!T146","v":""},{"$f":"RS!U146","v":""},{"$f":"RS!V146","v":""},{"$f":"RS!W146","v":""},{"$f":"RS!X146","v":""},{"$f":"RS!Y146","v":""},{"$f":"RS!Z146","v":""},{"$f":"RS!AA146","v":""},{"$f":"RS!AB146","v":""},{"$f":"RS!AC146","v":""},null,null,null,null,null,null,null,null,null,null,null,null,null,null,null,null,null,null,null,null,null,null,null,null,null,null,null,null,"","","","","","","","","","","","","","","","","","","","","","",""]
[null,null,"Medel",{"$f":"AVERAGE(BD209:BD214)","v":1.6},{"$f":"AVERAGE(BE209:BE214)","v":13.3},{"$f":"AVERAGE(BF209:BF214)","v":95},{"$f":"AVERAGE(BG209:BG214)","v":7},{"$f":"AVERAGE(BH209:BH214)","v":0.36},{"$f":"AVERAGE(BI209:BI214)","v":21},{"$f":"AVERAGE(BJ209:BJ214)","v":150},{"$f":"AVERAGE(BK209:BK214)","v":6.7},{"$f":"AVERAGE(BL209:BL214)","v":0.28000000000000003},{"$f":"AVERAGE(BM209:BM214)","v":{"$error":"#DIV/0!"}},{"$f":"AVERAGE(BN209:BN214)","v":51.35},{"$f":"AVERAGE(BO209:BO214)","v":{"$error":"#DIV/0!"}},{"$f":"AVERAGE(BP209:BP214)","v":{"$error":"#DIV/0!"}},{"$f":"AVERAGE(BQ209:BQ214)","v":{"$error":"#DIV/0!"}},{"$f":"AVERAGE(BR209:BR214)","v":21},{"$f":"AVERAGE(BS209:BS214)","v":760},{"$f":"AVERAGE(BT209:BT214)","v":{"$error":"#DIV/0!"}},{"$f":"AVERAGE(BU209:BU214)","v":1100},{"$f":"AVERAGE(BV209:BV214)","v":0.38},{"$f":"AVERAGE(BW209:BW214)","v":0.2},{"$f":"AVERAGE(BX209:BX214)","v":0.5},{"$f":"AVERAGE(BY209:BY214)","v":{"$error":"#DIV/0!"}},{"$f":"AVERAGE(BZ209:BZ214)","v":{"$error":"#DIV/0!"}},null,null,null,null,null,null,null,null,null,null,null,null,null,null,null,null,null,null,null,null,null,null,null,null,null,null,null,null,null,1.6,13.3,95,7,0.36,21,150,6.7,0.28000000000000003,{"$error":"#DIV/0!"},51.35,{"$error":"#DIV/0!"},{"$error":"#DIV/0!"},{"$error":"#DIV/0!"},21,760,{"$error":"#DIV/0!"},1100,0.38,0.2,0.5,{"$error":"#DIV/0!"},{"$error":"#DIV/0!"}]
[null,null,"Max",{"$f":"MAX(BD209:BD214)","v":1.6},{"$f":"MAX(BE209:BE214)","v":13.3},{"$f":"MAX(BF209:BF214)","v":95},{"$f":"MAX(BG209:BG214)","v":7},{"$f":"MAX(BH209:BH214)","v":0.36},{"$f":"MAX(BI209:BI214)","v":21},{"$f":"MAX(BJ209:BJ214)","v":150},{"$f":"MAX(BK209:BK214)","v":6.7},{"$f":"MAX(BL209:BL214)","v":0.28000000000000003},{"$f":"MAX(BM209:BM214)","v":0},{"$f":"MAX(BN209:BN214)","v":51.35},{"$f":"MAX(BO209:BO214)","v":0},{"$f":"MAX(BP209:BP214)","v":0},{"$f":"MAX(BQ209:BQ214)","v":0},{"$f":"MAX(BR209:BR214)","v":21},{"$f":"MAX(BS209:BS214)","v":760},{"$f":"MAX(BT209:BT214)","v":0},{"$f":"MAX(BU209:BU214)","v":1100},{"$f":"MAX(BV209:BV214)","v":0.38},{"$f":"MAX(BW209:BW214)","v":0.2},{"$f":"MAX(BX209:BX214)","v":0.5},{"$f":"MAX(BY209:BY214)","v":0},{"$f":"MAX(BZ209:BZ214)","v":0},null,null,null,null,null,null,null,null,null,null,null,null,null,null,null,null,null,null,null,null,null,null,null,null,null,null,null,null,null,1.6,13.3,95,7,0.36,21,150,6.7,0.28000000000000003,0,51.35,0,0,0,21,760,0,1100,0.38,0.2,0.5,0,0]
[null,null,"Min",{"$f":"MIN(BD209:BD214)","v":1.6},{"$f":"MIN(BE209:BE214)","v":13.3},{"$f":"MIN(BF209:BF214)","v":95},{"$f":"MIN(BG209:BG214)","v":7},{"$f":"MIN(BH209:BH214)","v":0.36},{"$f":"MIN(BI209:BI214)","v":21},{"$f":"MIN(BJ209:BJ214)","v":150},{"$f":"MIN(BK209:BK214)","v":6.7},{"$f":"MIN(BL209:BL214)","v":0.28000000000000003},{"$f":"MIN(BM209:BM214)","v":0},{"$f":"MIN(BN209:BN214)","v":51.35},{"$f":"MIN(BO209:BO214)","v":0},{"$f":"MIN(BP209:BP214)","v":0},{"$f":"MIN(BQ209:BQ214)","v":0},{"$f":"MIN(BR209:BR214)","v":21},{"$f":"MIN(BS209:BS214)","v":760},{"$f":"MIN(BT209:BT214)","v":0},{"$f":"MIN(BU209:BU214)","v":1100},{"$f":"MIN(BV209:BV214)","v":0.38},{"$f":"MIN(BW209:BW214)","v":0.2},{"$f":"MIN(BX209:BX214)","v":0.5},{"$f":"MIN(BY209:BY214)","v":0},{"$f":"MIN(BZ209:BZ214)","v":0},null,null,null,null,null,null,null,null,null,null,null,null,null,null,null,null,null,null,null,null,null,null,null,null,null,null,null,null,null,1.6,13.3,95,7,0.36,21,150,6.7,0.28000000000000003,0,51.35,0,0,0,21,760,0,1100,0.38,0.2,0.5,0,0]
[null,null,null,null,null,null,null,null,null,null,null,null,null,null,null,null,null,null,null,null,null,null,null,null,null,null,null,null,null,null,null,null,null,null,null,null,null,null,null,null,null,null,null,null,null,null,null,null,null,null,null,null,null,null,null,0,0,0,0,0,0,0,0,0,0,0,0,0,0,0,0,0,0,0,0,0,0,0]
[85,{"$f":"RS!D147","v":"22 Ybbarpsån, vid Herrevadskloster"},{"$f":"RS!E147","v":"2025-01-15"},{"$f":"RS!F147","v":1},{"$f":"RS!G147","v":12.8},{"$f":"RS!H147","v":90},{"$f":"RS!I147","v":6.7},{"$f":"RS!J147","v":0.31},{"$f":"RS!K147","v":17.600000000000001},{"$f":"RS!L147","v":200},{"$f":"RS!M147","v":5},{"$f":"RS!N147","v":0.38},{"$f":"RS!O147","v":""},{"$f":"RS!P147","v":75.05},{"$f":"RS!Q147","v":""},{"$f":"RS!R147","v":""},{"$f":"RS!S147","v":""},{"$f":"RS!T147","v":30},{"$f":"RS!U147","v":1100},{"$f":"RS!V147","v":""},{"$f":"RS!W147","v":1700},{"$f":"RS!X147","v":0.41},{"$f":"RS!Y147","v":0.2},{"$f":"RS!Z147","v":0.42},{"$f":"RS!AA147","v":""},{"$f":"RS!AB147","v":""},{"$f":"RS!AC147","v":""},null,null,null,null,null,null,null,null,null,null,null,null,null,null,null,null,null,null,null,null,null,null,null,null,null,null,null,null,1,12.8,90,6.7,0.31,17.600000000000001,200,5,0.38,"",75.05,"","","",30,1100,"",1700,0.41,0.2,0.42,"",""]
[85,{"$f":"RS!D148","v":"22 Ybbarpsån, vid Herrevadskloster"},{"$f":"RS!E148","v":"2025-02-11"},{"$f":"RS!F148","v":1.2},{"$f":"RS!G148","v":14.2},{"$f":"RS!H148","v":100},{"$f":"RS!I148","v":6.9},{"$f":"RS!J148","v":0.34},{"$f":"RS!K148","v":18.399999999999999},{"$f":"RS!L148","v":150},{"$f":"RS!M148","v":8.4},{"$f":"RS!N148","v":0.36},{"$f":"RS!O148","v":""},{"$f":"RS!P148","v":63.2},{"$f":"RS!Q148","v":""},{"$f":"RS!R148","v":""},{"$f":"RS!S148","v":""},{"$f":"RS!T148","v":31},{"$f":"RS!U148","v":1100},{"$f":"RS!V148","v":""},{"$f":"RS!W148","v":1700},{"$f":"RS!X148","v":0.45},{"$f":"RS!Y148","v":0.2},{"$f":"RS!Z148","v":0.41},{"$f":"RS!AA148","v":""},{"$f":"RS!AB148","v":""},{"$f":"RS!AC148","v":""},null,null,null,null,null,null,null,null,null,null,null,null,null,null,null,null,null,null,null,null,null,null,null,null,null,null,null,null,1.2,14.2,100,6.9,0.34,18.399999999999999,150,8.4,0.36,"",63.2,"","","",31,1100,"",1700,0.45,0.2,0.41,"",""]
[85,{"$f":"RS!D149","v":"22 Ybbarpsån, vid Herrevadskloster"},{"$f":"RS!E149","v":""},{"$f":"RS!F149","v":""},{"$f":"RS!G149","v":""},{"$f":"RS!H149","v":""},{"$f":"RS!I149","v":""},{"$f":"RS!J149","v":""},{"$f":"RS!K149","v":""},{"$f":"RS!L149","v":""},{"$f":"RS!M149","v":""},{"$f":"RS!N149","v":""},{"$f":"RS!O149","v":""},{"$f":"RS!P149","v":""},{"$f":"RS!Q149","v":""},{"$f":"RS!R149","v":""},{"$f":"RS!S149","v":""},{"$f":"RS!T149","v":""},{"$f":"RS!U149","v":""},{"$f":"RS!V149","v":""},{"$f":"RS!W149","v":""},{"$f":"RS!X149","v":""},{"$f":"RS!Y149","v":""},{"$f":"RS!Z149","v":""},{"$f":"RS!AA149","v":""},{"$f":"RS!AB149","v":""},{"$f":"RS!AC149","v":""},null,null,null,null,null,null,null,null,null,null,null,null,null,null,null,null,null,null,null,null,null,null,null,null,null,null,null,null,"","","","","","","","","","","","","","","","","","","","","","",""]
[85,{"$f":"RS!D150","v":"22 Ybbarpsån, vid Herrevadskloster"},{"$f":"RS!E150","v":""},{"$f":"RS!F150","v":""},{"$f":"RS!G150","v":""},{"$f":"RS!H150","v":""},{"$f":"RS!I150","v":""},{"$f":"RS!J150","v":""},{"$f":"RS!K150","v":""},{"$f":"RS!L150","v":""},{"$f":"RS!M150","v":""},{"$f":"RS!N150","v":""},{"$f":"RS!O150","v":""},{"$f":"RS!P150","v":""},{"$f":"RS!Q150","v":""},{"$f":"RS!R150","v":""},{"$f":"RS!S150","v":""},{"$f":"RS!T150","v":""},{"$f":"RS!U150","v":""},{"$f":"RS!V150","v":""},{"$f":"RS!W150","v":""},{"$f":"RS!X150","v":""},{"$f":"RS!Y150","v":""},{"$f":"RS!Z150","v":""},{"$f":"RS!AA150","v":""},{"$f":"RS!AB150","v":""},{"$f":"RS!AC150","v":""},null,null,null,null,null,null,null,null,null,null,null,null,null,null,null,null,null,null,null,null,null,null,null,null,null,null,null,null,"","","","","","","","","","","","","","","","","","","","","","",""]
[85,{"$f":"RS!D151","v":"22 Ybbarpsån, vid Herrevadskloster"},{"$f":"RS!E151","v":""},{"$f":"RS!F151","v":""},{"$f":"RS!G151","v":""},{"$f":"RS!H151","v":""},{"$f":"RS!I151","v":""},{"$f":"RS!J151","v":""},{"$f":"RS!K151","v":""},{"$f":"RS!L151","v":""},{"$f":"RS!M151","v":""},{"$f":"RS!N151","v":""},{"$f":"RS!O151","v":""},{"$f":"RS!P151","v":""},{"$f":"RS!Q151","v":""},{"$f":"RS!R151","v":""},{"$f":"RS!S151","v":""},{"$f":"RS!T151","v":""},{"$f":"RS!U151","v":""},{"$f":"RS!V151","v":""},{"$f":"RS!W151","v":""},{"$f":"RS!X151","v":""},{"$f":"RS!Y151","v":""},{"$f":"RS!Z151","v":""},{"$f":"RS!AA151","v":""},{"$f":"RS!AB151","v":""},{"$f":"RS!AC151","v":""},null,null,null,null,null,null,null,null,null,null,null,null,null,null,null,null,null,null,null,null,null,null,null,null,null,null,null,null,"","","","","","","","","","","","","","","","","","","","","","",""]
[85,{"$f":"RS!D152","v":"22 Ybbarpsån, vid Herrevadskloster"},{"$f":"RS!E152","v":""},{"$f":"RS!F152","v":""},{"$f":"RS!G152","v":""},{"$f":"RS!H152","v":""},{"$f":"RS!I152","v":""},{"$f":"RS!J152","v":""},{"$f":"RS!K152","v":""},{"$f":"RS!L152","v":""},{"$f":"RS!M152","v":""},{"$f":"RS!N152","v":""},{"$f":"RS!O152","v":""},{"$f":"RS!P152","v":""},{"$f":"RS!Q152","v":""},{"$f":"RS!R152","v":""},{"$f":"RS!S152","v":""},{"$f":"RS!T152","v":""},{"$f":"RS!U152","v":""},{"$f":"RS!V152","v":""},{"$f":"RS!W152","v":""},{"$f":"RS!X152","v":""},{"$f":"RS!Y152","v":""},{"$f":"RS!Z152","v":""},{"$f":"RS!AA152","v":""},{"$f":"RS!AB152","v":""},{"$f":"RS!AC152","v":""},null,null,null,null,null,null,null,null,null,null,null,null,null,null,null,null,null,null,null,null,null,null,null,null,null,null,null,null,"","","","","","","","","","","","","","","","","","","","","","",""]
[85,{"$f":"RS!D153","v":"22 Ybbarpsån, vid Herrevadskloster"},{"$f":"RS!E153","v":""},{"$f":"RS!F153","v":""},{"$f":"RS!G153","v":""},{"$f":"RS!H153","v":""},{"$f":"RS!I153","v":""},{"$f":"RS!J153","v":""},{"$f":"RS!K153","v":""},{"$f":"RS!L153","v":""},{"$f":"RS!M153","v":""},{"$f":"RS!N153","v":""},{"$f":"RS!O153","v":""},{"$f":"RS!P153","v":""},{"$f":"RS!Q153","v":""},{"$f":"RS!R153","v":""},{"$f":"RS!S153","v":""},{"$f":"RS!T153","v":""},{"$f":"RS!U153","v":""},{"$f":"RS!V153","v":""},{"$f":"RS!W153","v":""},{"$f":"RS!X153","v":""},{"$f":"RS!Y153","v":""},{"$f":"RS!Z153","v":""},{"$f":"RS!AA153","v":""},{"$f":"RS!AB153","v":""},{"$f":"RS!AC153","v":""},null,null,null,null,null,null,null,null,null,null,null,null,null,null,null,null,null,null,null,null,null,null,null,null,null,null,null,null,"","","","","","","","","","","","","","","","","","","","","","",""]
[85,{"$f":"RS!D154","v":"22 Ybbarpsån, vid Herrevadskloster"},{"$f":"RS!E154","v":""},{"$f":"RS!F154","v":""},{"$f":"RS!G154","v":""},{"$f":"RS!H154","v":""},{"$f":"RS!I154","v":""},{"$f":"RS!J154","v":""},{"$f":"RS!K154","v":""},{"$f":"RS!L154","v":""},{"$f":"RS!M154","v":""},{"$f":"RS!N154","v":""},{"$f":"RS!O154","v":""},{"$f":"RS!P154","v":""},{"$f":"RS!Q154","v":""},{"$f":"RS!R154","v":""},{"$f":"RS!S154","v":""},{"$f":"RS!T154","v":""},{"$f":"RS!U154","v":""},{"$f":"RS!V154","v":""},{"$f":"RS!W154","v":""},{"$f":"RS!X154","v":""},{"$f":"RS!Y154","v":""},{"$f":"RS!Z154","v":""},{"$f":"RS!AA154","v":""},{"$f":"RS!AB154","v":""},{"$f":"RS!AC154","v":""},null,null,null,null,null,null,null,null,null,null,null,null,null,null,null,null,null,null,null,null,null,null,null,null,null,null,null,null,"","","","","","","","","","","","","","","","","","","","","","",""]
[85,{"$f":"RS!D155","v":"22 Ybbarpsån, vid Herrevadskloster"},{"$f":"RS!E155","v":""},{"$f":"RS!F155","v":""},{"$f":"RS!G155","v":""},{"$f":"RS!H155","v":""},{"$f":"RS!I155","v":""},{"$f":"RS!J155","v":""},{"$f":"RS!K155","v":""},{"$f":"RS!L155","v":""},{"$f":"RS!M155","v":""},{"$f":"RS!N155","v":""},{"$f":"RS!O155","v":""},{"$f":"RS!P155","v":""},{"$f":"RS!Q155","v":""},{"$f":"RS!R155","v":""},{"$f":"RS!S155","v":""},{"$f":"RS!T155","v":""},{"$f":"RS!U155","v":""},{"$f":"RS!V155","v":""},{"$f":"RS!W155","v":""},{"$f":"RS!X155","v":""},{"$f":"RS!Y155","v":""},{"$f":"RS!Z155","v":""},{"$f":"RS!AA155","v":""},{"$f":"RS!AB155","v":""},{"$f":"RS!AC155","v":""},null,null,null,null,null,null,null,null,null,null,null,null,null,null,null,null,null,null,null,null,null,null,null,null,null,null,null,null,"","","","","","","","","","","","","","","","","","","","","","",""]
[85,{"$f":"RS!D156","v":"22 Ybbarpsån, vid Herrevadskloster"},{"$f":"RS!E156","v":""},{"$f":"RS!F156","v":""},{"$f":"RS!G156","v":""},{"$f":"RS!H156","v":""},{"$f":"RS!I156","v":""},{"$f":"RS!J156","v":""},{"$f":"RS!K156","v":""},{"$f":"RS!L156","v":""},{"$f":"RS!M156","v":""},{"$f":"RS!N156","v":""},{"$f":"RS!O156","v":""},{"$f":"RS!P156","v":""},{"$f":"RS!Q156","v":""},{"$f":"RS!R156","v":""},{"$f":"RS!S156","v":""},{"$f":"RS!T156","v":""},{"$f":"RS!U156","v":""},{"$f":"RS!V156","v":""},{"$f":"RS!W156","v":""},{"$f":"RS!X156","v":""},{"$f":"RS!Y156","v":""},{"$f":"RS!Z156","v":""},{"$f":"RS!AA156","v":""},{"$f":"RS!AB156","v":""},{"$f":"RS!AC156","v":""},null,null,null,null,null,null,null,null,null,null,null,null,null,null,null,null,null,null,null,null,null,null,null,null,null,null,null,null,"","","","","","","","","","","","","","","","","","","","","","",""]
[85,{"$f":"RS!D157","v":"22 Ybbarpsån, vid Herrevadskloster"},{"$f":"RS!E157","v":""},{"$f":"RS!F157","v":""},{"$f":"RS!G157","v":""},{"$f":"RS!H157","v":""},{"$f":"RS!I157","v":""},{"$f":"RS!J157","v":""},{"$f":"RS!K157","v":""},{"$f":"RS!L157","v":""},{"$f":"RS!M157","v":""},{"$f":"RS!N157","v":""},{"$f":"RS!O157","v":""},{"$f":"RS!P157","v":""},{"$f":"RS!Q157","v":""},{"$f":"RS!R157","v":""},{"$f":"RS!S157","v":""},{"$f":"RS!T157","v":""},{"$f":"RS!U157","v":""},{"$f":"RS!V157","v":""},{"$f":"RS!W157","v":""},{"$f":"RS!X157","v":""},{"$f":"RS!Y157","v":""},{"$f":"RS!Z157","v":""},{"$f":"RS!AA157","v":""},{"$f":"RS!AB157","v":""},{"$f":"RS!AC157","v":""},null,null,null,null,null,null,null,null,null,null,null,null,null,null,null,null,null,null,null,null,null,null,null,null,null,null,null,null,"","","","","","","","","","","","","","","","","","","","","","",""]
[85,{"$f":"RS!D158","v":"22 Ybbarpsån, vid Herrevadskloster"},{"$f":"RS!E158","v":""},{"$f":"RS!F158","v":""},{"$f":"RS!G158","v":""},{"$f":"RS!H158","v":""},{"$f":"RS!I158","v":""},{"$f":"RS!J158","v":""},{"$f":"RS!K158","v":""},{"$f":"RS!L158","v":""},{"$f":"RS!M158","v":""},{"$f":"RS!N158","v":""},{"$f":"RS!O158","v":""},{"$f":"RS!P158","v":""},{"$f":"RS!Q158","v":""},{"$f":"RS!R158","v":""},{"$f":"RS!S158","v":""},{"$f":"RS!T158","v":""},{"$f":"RS!U158","v":""},{"$f":"RS!V158","v":""},{"$f":"RS!W158","v":""},{"$f":"RS!X158","v":""},{"$f":"RS!Y158","v":""},{"$f":"RS!Z158","v":""},{"$f":"RS!AA158","v":""},{"$f":"RS!AB158","v":""},{"$f":"RS!AC158","v":""},null,null,null,null,null,null,null,null,null,null,null,null,null,null,null,null,null,null,null,null,null,null,null,null,null,null,null,null,"","","","","","","","","","","","","","","","","","","","","","",""]
[null,null,"Medel",{"$f":"AVERAGE(BD219:BD230)","v":1.1000000000000001},{"$f":"AVERAGE(BE219:BE230)","v":13.5},{"$f":"AVERAGE(BF219:BF230)","v":95},{"$f":"AVERAGE(BG219:BG230)","v":6.8000000000000007},{"$f":"AVERAGE(BH219:BH230)","v":0.32500000000000001},{"$f":"AVERAGE(BI219:BI230)","v":18},{"$f":"AVERAGE(BJ219:BJ230)","v":175},{"$f":"AVERAGE(BK219:BK230)","v":6.7},{"$f":"AVERAGE(BL219:BL230)","v":0.37},{"$f":"AVERAGE(BM219:BM230)","v":{"$error":"#DIV/0!"}},{"$f":"AVERAGE(BN219:BN230)","v":69.125},{"$f":"AVERAGE(BO219:BO230)","v":{"$error":"#DIV/0!"}},{"$f":"AVERAGE(BP219:BP230)","v":{"$error":"#DIV/0!"}},{"$f":"AVERAGE(BQ219:BQ230)","v":{"$error":"#DIV/0!"}},{"$f":"AVERAGE(BR219:BR230)","v":30.5},{"$f":"AVERAGE(BS219:BS230)","v":1100},{"$f":"AVERAGE(BT219:BT230)","v":{"$error":"#DIV/0!"}},{"$f":"AVERAGE(BU219:BU230)","v":1700},{"$f":"AVERAGE(BV219:BV230)","v":0.43},{"$f":"AVERAGE(BW219:BW230)","v":0.2},{"$f":"AVERAGE(BX219:BX230)","v":0.41499999999999998},{"$f":"AVERAGE(BY219:BY230)","v":{"$error":"#DIV/0!"}},{"$f":"AVERAGE(BZ219:BZ230)","v":{"$error":"#DIV/0!"}},null,null,null,null,null,null,null,null,null,null,null,null,null,null,null,null,null,null,null,null,null,null,null,null,null,null,null,null,null,1.1000000000000001,13.5,95,6.8000000000000007,0.32500000000000001,18,175,6.7,0.37,{"$error":"#DIV/0!"},69.125,{"$error":"#DIV/0!"},{"$error":"#DIV/0!"},{"$error":"#DIV/0!"},30.5,1100,{"$error":"#DIV/0!"},1700,0.43,0.2,0.41499999999999998,{"$error":"#DIV/0!"},{"$error":"#DIV/0!"}]
[null,null,"Max",{"$f":"MAX(BD219:BD230)","v":1.2},{"$f":"MAX(BE219:BE230)","v":14.2},{"$f":"MAX(BF219:BF230)","v":100},{"$f":"MAX(BG219:BG230)","v":6.9},{"$f":"MAX(BH219:BH230)","v":0.34},{"$f":"MAX(BI219:BI230)","v":18.399999999999999},{"$f":"MAX(BJ219:BJ230)","v":200},{"$f":"MAX(BK219:BK230)","v":8.4},{"$f":"MAX(BL219:BL230)","v":0.38},{"$f":"MAX(BM219:BM230)","v":0},{"$f":"MAX(BN219:BN230)","v":75.05},{"$f":"MAX(BO219:BO230)","v":0},{"$f":"MAX(BP219:BP230)","v":0},{"$f":"MAX(BQ219:BQ230)","v":0},{"$f":"MAX(BR219:BR230)","v":31},{"$f":"MAX(BS219:BS230)","v":1100},{"$f":"MAX(BT219:BT230)","v":0},{"$f":"MAX(BU219:BU230)","v":1700},{"$f":"MAX(BV219:BV230)","v":0.45},{"$f":"MAX(BW219:BW230)","v":0.2},{"$f":"MAX(BX219:BX230)","v":0.42},{"$f":"MAX(BY219:BY230)","v":0},{"$f":"MAX(BZ219:BZ230)","v":0},null,null,null,null,null,null,null,null,null,null,null,null,null,null,null,null,null,null,null,null,null,null,null,null,null,null,null,null,null,1.2,14.2,100,6.9,0.34,18.399999999999999,200,8.4,0.38,0,75.05,0,0,0,31,1100,0,1700,0.45,0.2,0.42,0,0]
[null,null,"Min",{"$f":"MIN(BD219:BD230)","v":1},{"$f":"MIN(BE219:BE230)","v":12.8},{"$f":"MIN(BF219:BF230)","v":90},{"$f":"MIN(BG219:BG230)","v":6.7},{"$f":"MIN(BH219:BH230)","v":0.31},{"$f":"MIN(BI219:BI230)","v":17.600000000000001},{"$f":"MIN(BJ219:BJ230)","v":150},{"$f":"MIN(BK219:BK230)","v":5},{"$f":"MIN(BL219:BL230)","v":0.36},{"$f":"MIN(BM219:BM230)","v":0},{"$f":"MIN(BN219:BN230)","v":63.2},{"$f":"MIN(BO219:BO230)","v":0},{"$f":"MIN(BP219:BP230)","v":0},{"$f":"MIN(BQ219:BQ230)","v":0},{"$f":"MIN(BR219:BR230)","v":30},{"$f":"MIN(BS219:BS230)","v":1100},{"$f":"MIN(BT219:BT230)","v":0},{"$f":"MIN(BU219:BU230)","v":1700},{"$f":"MIN(BV219:BV230)","v":0.41},{"$f":"MIN(BW219:BW230)","v":0.2},{"$f":"MIN(BX219:BX230)","v":0.41},{"$f":"MIN(BY219:BY230)","v":0},{"$f":"MIN(BZ219:BZ230)","v":0},null,null,null,null,null,null,null,null,null,null,null,null,null,null,null,null,null,null,null,null,null,null,null,null,null,null,null,null,null,1,12.8,90,6.7,0.31,17.600000000000001,150,5,0.36,0,63.2,0,0,0,30,1100,0,1700,0.41,0.2,0.41,0,0]
[null,null,null,null,null,null,null,null,null,null,null,null,null,null,null,null,null,null,null,null,null,null,null,null,null,null,null,null,null,null,null,null,null,null,null,null,null,null,null,null,null,null,null,null,null,null,null,null,null,null,null,null,null,null,null,0,0,0,0,0,0,0,0,0,0,0,0,0,0,0,0,0,0,0,0,0,0,0]
[90,{"$f":"RS!D159","v":"28 Perstorpsbäcken, uppstr Perstorp"},{"$f":"RS!E159","v":"2025-02-11"},{"$f":"RS!F159","v":1.6},{"$f":"RS!G159","v":13.4},{"$f":"RS!H159","v":96},{"$f":"RS!I159","v":6.6},{"$f":"RS!J159","v":0.2},{"$f":"RS!K159","v":9.19},{"$f":"RS!L159","v":150},{"$f":"RS!M159","v":12},{"$f":"RS!N159","v":0.39},{"$f":"RS!O159","v":1.4},{"$f":"RS!P159","v":71.100000000000009},{"$f":"RS!Q159","v":43},{"$f":"RS!R159","v":""},{"$f":"RS!S159","v":""},{"$f":"RS!T159","v":23},{"$f":"RS!U159","v":480},{"$f":"RS!V159","v":170},{"$f":"RS!W159","v":1100},{"$f":"RS!X159","v":0.38},{"$f":"RS!Y159","v":0.16},{"$f":"RS!Z159","v":0.2},{"$f":"RS!AA159","v":""},{"$f":"RS!AB159","v":""},{"$f":"RS!AC159","v":""},null,null,null,null,null,null,null,null,null,null,null,null,null,null,null,null,null,null,null,null,null,null,null,null,null,null,null,null,1.6,13.4,96,6.6,0.2,9.19,150,12,0.39,1.4,71.100000000000009,43,"","",23,480,170,1100,0.38,0.16,0.2,"",""]
[90,{"$f":"RS!D160","v":"28 Perstorpsbäcken, uppstr Perstorp"},{"$f":"RS!E160","v":""},{"$f":"RS!F160","v":""},{"$f":"RS!G160","v":""},{"$f":"RS!H160","v":""},{"$f":"RS!I160","v":""},{"$f":"RS!J160","v":""},{"$f":"RS!K160","v":""},{"$f":"RS!L160","v":""},{"$f":"RS!M160","v":""},{"$f":"RS!N160","v":""},{"$f":"RS!O160","v":""},{"$f":"RS!P160","v":""},{"$f":"RS!Q160","v":""},{"$f":"RS!R160","v":""},{"$f":"RS!S160","v":""},{"$f":"RS!T160","v":""},{"$f":"RS!U160","v":""},{"$f":"RS!V160","v":""},{"$f":"RS!W160","v":""},{"$f":"RS!X160","v":""},{"$f":"RS!Y160","v":""},{"$f":"RS!Z160","v":""},{"$f":"RS!AA160","v":""},{"$f":"RS!AB160","v":""},{"$f":"RS!AC160","v":""},null,null,null,null,null,null,null,null,null,null,null,null,null,null,null,null,null,null,null,null,null,null,null,null,null,null,null,null,"","","","","","","","","","","","","","","","","","","","","","",""]
[90,{"$f":"RS!D161","v":"28 Perstorpsbäcken, uppstr Perstorp"},{"$f":"RS!E161","v":""},{"$f":"RS!F161","v":""},{"$f":"RS!G161","v":""},{"$f":"RS!H161","v":""},{"$f":"RS!I161","v":""},{"$f":"RS!J161","v":""},{"$f":"RS!K161","v":""},{"$f":"RS!L161","v":""},{"$f":"RS!M161","v":""},{"$f":"RS!N161","v":""},{"$f":"RS!O161","v":""},{"$f":"RS!P161","v":""},{"$f":"RS!Q161","v":""},{"$f":"RS!R161","v":""},{"$f":"RS!S161","v":""},{"$f":"RS!T161","v":""},{"$f":"RS!U161","v":""},{"$f":"RS!V161","v":""},{"$f":"RS!W161","v":""},{"$f":"RS!X161","v":""},{"$f":"RS!Y161","v":""},{"$f":"RS!Z161","v":""},{"$f":"RS!AA161","v":""},{"$f":"RS!AB161","v":""},{"$f":"RS!AC161","v":""},null,null,null,null,null,null,null,null,null,null,null,null,null,null,null,null,null,null,null,null,null,null,null,null,null,null,null,null,"","","","","","","","","","","","","","","","","","","","","","",""]
[90,{"$f":"RS!D162","v":"28 Perstorpsbäcken, uppstr Perstorp"},{"$f":"RS!E162","v":""},{"$f":"RS!F162","v":""},{"$f":"RS!G162","v":""},{"$f":"RS!H162","v":""},{"$f":"RS!I162","v":""},{"$f":"RS!J162","v":""},{"$f":"RS!K162","v":""},{"$f":"RS!L162","v":""},{"$f":"RS!M162","v":""},{"$f":"RS!N162","v":""},{"$f":"RS!O162","v":""},{"$f":"RS!P162","v":""},{"$f":"RS!Q162","v":""},{"$f":"RS!R162","v":""},{"$f":"RS!S162","v":""},{"$f":"RS!T162","v":""},{"$f":"RS!U162","v":""},{"$f":"RS!V162","v":""},{"$f":"RS!W162","v":""},{"$f":"RS!X162","v":""},{"$f":"RS!Y162","v":""},{"$f":"RS!Z162","v":""},{"$f":"RS!AA162","v":""},{"$f":"RS!AB162","v":""},{"$f":"RS!AC162","v":""},null,null,null,null,null,null,null,null,null,null,null,null,null,null,null,null,null,null,null,null,null,null,null,null,null,null,null,null,"","","","","","","","","","","","","","","","","","","","","","",""]
[90,{"$f":"RS!D163","v":"28 Perstorpsbäcken, uppstr Perstorp"},{"$f":"RS!E163","v":""},{"$f":"RS!F163","v":""},{"$f":"RS!G163","v":""},{"$f":"RS!H163","v":""},{"$f":"RS!I163","v":""},{"$f":"RS!J163","v":""},{"$f":"RS!K163","v":""},{"$f":"RS!L163","v":""},{"$f":"RS!M163","v":""},{"$f":"RS!N163","v":""},{"$f":"RS!O163","v":""},{"$f":"RS!P163","v":""},{"$f":"RS!Q163","v":""},{"$f":"RS!R163","v":""},{"$f":"RS!S163","v":""},{"$f":"RS!T163","v":""},{"$f":"RS!U163","v":""},{"$f":"RS!V163","v":""},{"$f":"RS!W163","v":""},{"$f":"RS!X163","v":""},{"$f":"RS!Y163","v":""},{"$f":"RS!Z163","v":""},{"$f":"RS!AA163","v":""},{"$f":"RS!AB163","v":""},{"$f":"RS!AC163","v":""},null,null,null,null,null,null,null,null,null,null,null,null,null,null,null,null,null,null,null,null,null,null,null,null,null,null,null,null,"","","","","","","","","","","","","","","","","","","","","","",""]
[90,{"$f":"RS!D164","v":"28 Perstorpsbäcken, uppstr Perstorp"},{"$f":"RS!E164","v":""},{"$f":"RS!F164","v":""},{"$f":"RS!G164","v":""},{"$f":"RS!H164","v":""},{"$f":"RS!I164","v":""},{"$f":"RS!J164","v":""},{"$f":"RS!K164","v":""},{"$f":"RS!L164","v":""},{"$f":"RS!M164","v":""},{"$f":"RS!N164","v":""},{"$f":"RS!O164","v":""},{"$f":"RS!P164","v":""},{"$f":"RS!Q164","v":""},{"$f":"RS!R164","v":""},{"$f":"RS!S164","v":""},{"$f":"RS!T164","v":""},{"$f":"RS!U164","v":""},{"$f":"RS!V164","v":""},{"$f":"RS!W164","v":""},{"$f":"RS!X164","v":""},{"$f":"RS!Y164","v":""},{"$f":"RS!Z164","v":""},{"$f":"RS!AA164","v":""},{"$f":"RS!AB164","v":""},{"$f":"RS!AC164","v":""},null,null,null,null,null,null,null,null,null,null,null,null,null,null,null,null,null,null,null,null,null,null,null,null,null,null,null,null,"","","","","","","","","","","","","","","","","","","","","","",""]
[null,null,"Medel",{"$f":"AVERAGE(BD235:BD240)","v":1.6},{"$f":"AVERAGE(BE235:BE240)","v":13.4},{"$f":"AVERAGE(BF235:BF240)","v":96},{"$f":"AVERAGE(BG235:BG240)","v":6.6},{"$f":"AVERAGE(BH235:BH240)","v":0.2},{"$f":"AVERAGE(BI235:BI240)","v":9.19},{"$f":"AVERAGE(BJ235:BJ240)","v":150},{"$f":"AVERAGE(BK235:BK240)","v":12},{"$f":"AVERAGE(BL235:BL240)","v":0.39},{"$f":"AVERAGE(BM235:BM240)","v":1.4},{"$f":"AVERAGE(BN235:BN240)","v":71.100000000000009},{"$f":"AVERAGE(BO235:BO240)","v":43},{"$f":"AVERAGE(BP235:BP240)","v":{"$error":"#DIV/0!"}},{"$f":"AVERAGE(BQ235:BQ240)","v":{"$error":"#DIV/0!"}},{"$f":"AVERAGE(BR235:BR240)","v":23},{"$f":"AVERAGE(BS235:BS240)","v":480},{"$f":"AVERAGE(BT235:BT240)","v":170},{"$f":"AVERAGE(BU235:BU240)","v":1100},{"$f":"AVERAGE(BV235:BV240)","v":0.38},{"$f":"AVERAGE(BW235:BW240)","v":0.16},{"$f":"AVERAGE(BX235:BX240)","v":0.2},{"$f":"AVERAGE(BY235:BY240)","v":{"$error":"#DIV/0!"}},{"$f":"AVERAGE(BZ235:BZ240)","v":{"$error":"#DIV/0!"}},null,null,null,null,null,null,null,null,null,null,null,null,null,null,null,null,null,null,null,null,null,null,null,null,null,null,null,null,null,1.6,13.4,96,6.6,0.2,9.19,150,12,0.39,1.4,71.100000000000009,43,{"$error":"#DIV/0!"},{"$error":"#DIV/0!"},23,480,170,1100,0.38,0.16,0.2,{"$error":"#DIV/0!"},{"$error":"#DIV/0!"}]
[null,null,"Max",{"$f":"MAX(BD235:BD240)","v":1.6},{"$f":"MAX(BE235:BE240)","v":13.4},{"$f":"MAX(BF235:BF240)","v":96},{"$f":"MAX(BG235:BG240)","v":6.6},{"$f":"MAX(BH235:BH240)","v":0.2},{"$f":"MAX(BI235:BI240)","v":9.19},{"$f":"MAX(BJ235:BJ240)","v":150},{"$f":"MAX(BK235:BK240)","v":12},{"$f":"MAX(BL235:BL240)","v":0.39},{"$f":"MAX(BM235:BM240)","v":1.4},{"$f":"MAX(BN235:BN240)","v":71.100000000000009},{"$f":"MAX(BO235:BO240)","v":43},{"$f":"MAX(BP235:BP240)","v":0},{"$f":"MAX(BQ235:BQ240)","v":0},{"$f":"MAX(BR235:BR240)","v":23},{"$f":"MAX(BS235:BS240)","v":480},{"$f":"MAX(BT235:BT240)","v":170},{"$f":"MAX(BU235:BU240)","v":1100},{"$f":"MAX(BV235:BV240)","v":0.38},{"$f":"MAX(BW235:BW240)","v":0.16},{"$f":"MAX(BX235:BX240)","v":0.2},{"$f":"MAX(BY235:BY240)","v":0},{"$f":"MAX(BZ235:BZ240)","v":0},null,null,null,null,null,null,null,null,null,null,null,null,null,null,null,null,null,null,null,null,null,null,null,null,null,null,null,null,null,1.6,13.4,96,6.6,0.2,9.19,150,12,0.39,1.4,71.100000000000009,43,0,0,23,480,170,1100,0.38,0.16,0.2,0,0]
[null,null,"Min",{"$f":"MIN(BD235:BD240)","v":1.6},{"$f":"MIN(BE235:BE240)","v":13.4},{"$f":"MIN(BF235:BF240)","v":96},{"$f":"MIN(BG235:BG240)","v":6.6},{"$f":"MIN(BH235:BH240)","v":0.2},{"$f":"MIN(BI235:BI240)","v":9.19},{"$f":"MIN(BJ235:BJ240)","v":150},{"$f":"MIN(BK235:BK240)","v":12},{"$f":"MIN(BL235:BL240)","v":0.39},{"$f":"MIN(BM235:BM240)","v":1.4},{"$f":"MIN(BN235:BN240)","v":71.100000000000009},{"$f":"MIN(BO235:BO240)","v":43},{"$f":"MIN(BP235:BP240)","v":0},{"$f":"MIN(BQ235:BQ240)","v":0},{"$f":"MIN(BR235:BR240)","v":23},{"$f":"MIN(BS235:BS240)","v":480},{"$f":"MIN(BT235:BT240)","v":170},{"$f":"MIN(BU235:BU240)","v":1100},{"$f":"MIN(BV235:BV240)","v":0.38},{"$f":"MIN(BW235:BW240)","v":0.16},{"$f":"MIN(BX235:BX240)","v":0.2},{"$f":"MIN(BY235:BY240)","v":0},{"$f":"MIN(BZ235:BZ240)","v":0},null,null,null,null,null,null,null,null,null,null,null,null,null,null,null,null,null,null,null,null,null,null,null,null,null,null,null,null,null,1.6,13.4,96,6.6,0.2,9.19,150,12,0.39,1.4,71.100000000000009,43,0,0,23,480,170,1100,0.38,0.16,0.2,0,0]
[null,null,null,null,null,null,null,null,null,null,null,null,null,null,null,null,null,null,null,null,null,null,null,null,null,null,null,null,null,null,null,null,null,null,null,null,null,null,null,null,null,null,null,null,null,null,null,null,null,null,null,null,null,null,null,0,0,0,0,0,0,0,0,0,0,0,0,0,0,0,0,0,0,0,0,0,0,0]
[95,{"$f":"RS!D165","v":"29 Perstorpsbäcken, nedstr Perstorp"},{"$f":"RS!E165","v":"2025-02-11"},{"$f":"RS!F165","v":2},{"$f":"RS!G165","v":13.4},{"$f":"RS!H165","v":97},{"$f":"RS!I165","v":7},{"$f":"RS!J165","v":0.33},{"$f":"RS!K165","v":14.1},{"$f":"RS!L165","v":220},{"$f":"RS!M165","v":9.6},{"$f":"RS!N165","v":0.35},{"$f":"RS!O165","v":1.1000000000000001},{"$f":"RS!P165","v":51.35},{"$f":"RS!Q165","v":34},{"$f":"RS!R165","v":""},{"$f":"RS!S165","v":""},{"$f":"RS!T165","v":20},{"$f":"RS!U165","v":1400},{"$f":"RS!V165","v":280},{"$f":"RS!W165","v":2200},{"$f":"RS!X165","v":0.52},{"$f":"RS!Y165","v":0.21},{"$f":"RS!Z165","v":0.24},{"$f":"RS!AA165","v":""},{"$f":"RS!AB165","v":""},{"$f":"RS!AC165","v":""},null,null,null,null,null,null,null,null,null,null,null,null,null,null,null,null,null,null,null,null,null,null,null,null,null,null,null,null,2,13.4,97,7,0.33,14.1,220,9.6,0.35,1.1000000000000001,51.35,34,"","",20,1400,280,2200,0.52,0.21,0.24,"",""]
[95,{"$f":"RS!D166","v":"29 Perstorpsbäcken, nedstr Perstorp"},{"$f":"RS!E166","v":""},{"$f":"RS!F166","v":""},{"$f":"RS!G166","v":""},{"$f":"RS!H166","v":""},{"$f":"RS!I166","v":""},{"$f":"RS!J166","v":""},{"$f":"RS!K166","v":""},{"$f":"RS!L166","v":""},{"$f":"RS!M166","v":""},{"$f":"RS!N166","v":""},{"$f":"RS!O166","v":""},{"$f":"RS!P166","v":""},{"$f":"RS!Q166","v":""},{"$f":"RS!R166","v":""},{"$f":"RS!S166","v":""},{"$f":"RS!T166","v":""},{"$f":"RS!U166","v":""},{"$f":"RS!V166","v":""},{"$f":"RS!W166","v":""},{"$f":"RS!X166","v":""},{"$f":"RS!Y166","v":""},{"$f":"RS!Z166","v":""},{"$f":"RS!AA166","v":""},{"$f":"RS!AB166","v":""},{"$f":"RS!AC166","v":""},null,null,null,null,null,null,null,null,null,null,null,null,null,null,null,null,null,null,null,null,null,null,null,null,null,null,null,null,"","","","","","","","","","","","","","","","","","","","","","",""]
[95,{"$f":"RS!D167","v":"29 Perstorpsbäcken, nedstr Perstorp"},{"$f":"RS!E167","v":""},{"$f":"RS!F167","v":""},{"$f":"RS!G167","v":""},{"$f":"RS!H167","v":""},{"$f":"RS!I167","v":""},{"$f":"RS!J167","v":""},{"$f":"RS!K167","v":""},{"$f":"RS!L167","v":""},{"$f":"RS!M167","v":""},{"$f":"RS!N167","v":""},{"$f":"RS!O167","v":""},{"$f":"RS!P167","v":""},{"$f":"RS!Q167","v":""},{"$f":"RS!R167","v":""},{"$f":"RS!S167","v":""},{"$f":"RS!T167","v":""},{"$f":"RS!U167","v":""},{"$f":"RS!V167","v":""},{"$f":"RS!W167","v":""},{"$f":"RS!X167","v":""},{"$f":"RS!Y167","v":""},{"$f":"RS!Z167","v":""},{"$f":"RS!AA167","v":""},{"$f":"RS!AB167","v":""},{"$f":"RS!AC167","v":""},null,null,null,null,null,null,null,null,null,null,null,null,null,null,null,null,null,null,null,null,null,null,null,null,null,null,null,null,"","","","","","","","","","","","","","","","","","","","","","",""]
[95,{"$f":"RS!D168","v":"29 Perstorpsbäcken, nedstr Perstorp"},{"$f":"RS!E168","v":""},{"$f":"RS!F168","v":""},{"$f":"RS!G168","v":""},{"$f":"RS!H168","v":""},{"$f":"RS!I168","v":""},{"$f":"RS!J168","v":""},{"$f":"RS!K168","v":""},{"$f":"RS!L168","v":""},{"$f":"RS!M168","v":""},{"$f":"RS!N168","v":""},{"$f":"RS!O168","v":""},{"$f":"RS!P168","v":""},{"$f":"RS!Q168","v":""},{"$f":"RS!R168","v":""},{"$f":"RS!S168","v":""},{"$f":"RS!T168","v":""},{"$f":"RS!U168","v":""},{"$f":"RS!V168","v":""},{"$f":"RS!W168","v":""},{"$f":"RS!X168","v":""},{"$f":"RS!Y168","v":""},{"$f":"RS!Z168","v":""},{"$f":"RS!AA168","v":""},{"$f":"RS!AB168","v":""},{"$f":"RS!AC168","v":""},null,null,null,null,null,null,null,null,null,null,null,null,null,null,null,null,null,null,null,null,null,null,null,null,null,null,null,null,"","","","","","","","","","","","","","","","","","","","","","",""]
[95,{"$f":"RS!D169","v":"29 Perstorpsbäcken, nedstr Perstorp"},{"$f":"RS!E169","v":""},{"$f":"RS!F169","v":""},{"$f":"RS!G169","v":""},{"$f":"RS!H169","v":""},{"$f":"RS!I169","v":""},{"$f":"RS!J169","v":""},{"$f":"RS!K169","v":""},{"$f":"RS!L169","v":""},{"$f":"RS!M169","v":""},{"$f":"RS!N169","v":""},{"$f":"RS!O169","v":""},{"$f":"RS!P169","v":""},{"$f":"RS!Q169","v":""},{"$f":"RS!R169","v":""},{"$f":"RS!S169","v":""},{"$f":"RS!T169","v":""},{"$f":"RS!U169","v":""},{"$f":"RS!V169","v":""},{"$f":"RS!W169","v":""},{"$f":"RS!X169","v":""},{"$f":"RS!Y169","v":""},{"$f":"RS!Z169","v":""},{"$f":"RS!AA169","v":""},{"$f":"RS!AB169","v":""},{"$f":"RS!AC169","v":""},null,null,null,null,null,null,null,null,null,null,null,null,null,null,null,null,null,null,null,null,null,null,null,null,null,null,null,null,"","","","","","","","","","","","","","","","","","","","","","",""]
[95,{"$f":"RS!D170","v":"29 Perstorpsbäcken, nedstr Perstorp"},{"$f":"RS!E170","v":""},{"$f":"RS!F170","v":""},{"$f":"RS!G170","v":""},{"$f":"RS!H170","v":""},{"$f":"RS!I170","v":""},{"$f":"RS!J170","v":""},{"$f":"RS!K170","v":""},{"$f":"RS!L170","v":""},{"$f":"RS!M170","v":""},{"$f":"RS!N170","v":""},{"$f":"RS!O170","v":""},{"$f":"RS!P170","v":""},{"$f":"RS!Q170","v":""},{"$f":"RS!R170","v":""},{"$f":"RS!S170","v":""},{"$f":"RS!T170","v":""},{"$f":"RS!U170","v":""},{"$f":"RS!V170","v":""},{"$f":"RS!W170","v":""},{"$f":"RS!X170","v":""},{"$f":"RS!Y170","v":""},{"$f":"RS!Z170","v":""},{"$f":"RS!AA170","v":""},{"$f":"RS!AB170","v":""},{"$f":"RS!AC170","v":""},null,null,null,null,null,null,null,null,null,null,null,null,null,null,null,null,null,null,null,null,null,null,null,null,null,null,null,null,"","","","","","","","","","","","","","","","","","","","","","",""]
[null,null,"Medel",{"$f":"AVERAGE(BD245:BD250)","v":2},{"$f":"AVERAGE(BE245:BE250)","v":13.4},{"$f":"AVERAGE(BF245:BF250)","v":97},{"$f":"AVERAGE(BG245:BG250)","v":7},{"$f":"AVERAGE(BH245:BH250)","v":0.33},{"$f":"AVERAGE(BI245:BI250)","v":14.1},{"$f":"AVERAGE(BJ245:BJ250)","v":220},{"$f":"AVERAGE(BK245:BK250)","v":9.6},{"$f":"AVERAGE(BL245:BL250)","v":0.35},{"$f":"AVERAGE(BM245:BM250)","v":1.1000000000000001},{"$f":"AVERAGE(BN245:BN250)","v":51.35},{"$f":"AVERAGE(BO245:BO250)","v":34},{"$f":"AVERAGE(BP245:BP250)","v":{"$error":"#DIV/0!"}},{"$f":"AVERAGE(BQ245:BQ250)","v":{"$error":"#DIV/0!"}},{"$f":"AVERAGE(BR245:BR250)","v":20},{"$f":"AVERAGE(BS245:BS250)","v":1400},{"$f":"AVERAGE(BT245:BT250)","v":280},{"$f":"AVERAGE(BU245:BU250)","v":2200},{"$f":"AVERAGE(BV245:BV250)","v":0.52},{"$f":"AVERAGE(BW245:BW250)","v":0.21},{"$f":"AVERAGE(BX245:BX250)","v":0.24},{"$f":"AVERAGE(BY245:BY250)","v":{"$error":"#DIV/0!"}},{"$f":"AVERAGE(BZ245:BZ250)","v":{"$error":"#DIV/0!"}},null,null,null,null,null,null,null,null,null,null,null,null,null,null,null,null,null,null,null,null,null,null,null,null,null,null,null,null,null,2,13.4,97,7,0.33,14.1,220,9.6,0.35,1.1000000000000001,51.35,34,{"$error":"#DIV/0!"},{"$error":"#DIV/0!"},20,1400,280,2200,0.52,0.21,0.24,{"$error":"#DIV/0!"},{"$error":"#DIV/0!"}]
[null,null,"Max",{"$f":"MAX(BD245:BD250)","v":2},{"$f":"MAX(BE245:BE250)","v":13.4},{"$f":"MAX(BF245:BF250)","v":97},{"$f":"MAX(BG245:BG250)","v":7},{"$f":"MAX(BH245:BH250)","v":0.33},{"$f":"MAX(BI245:BI250)","v":14.1},{"$f":"MAX(BJ245:BJ250)","v":220},{"$f":"MAX(BK245:BK250)","v":9.6},{"$f":"MAX(BL245:BL250)","v":0.35},{"$f":"MAX(BM245:BM250)","v":1.1000000000000001},{"$f":"MAX(BN245:BN250)","v":51.35},{"$f":"MAX(BO245:BO250)","v":34},{"$f":"MAX(BP245:BP250)","v":0},{"$f":"MAX(BQ245:BQ250)","v":0},{"$f":"MAX(BR245:BR250)","v":20},{"$f":"MAX(BS245:BS250)","v":1400},{"$f":"MAX(BT245:BT250)","v":280},{"$f":"MAX(BU245:BU250)","v":2200},{"$f":"MAX(BV245:BV250)","v":0.52},{"$f":"MAX(BW245:BW250)","v":0.21},{"$f":"MAX(BX245:BX250)","v":0.24},{"$f":"MAX(BY245:BY250)","v":0},{"$f":"MAX(BZ245:BZ250)","v":0},null,null,null,null,null,null,null,null,null,null,null,null,null,null,null,null,null,null,null,null,null,null,null,null,null,null,null,null,null,2,13.4,97,7,0.33,14.1,220,9.6,0.35,1.1000000000000001,51.35,34,0,0,20,1400,280,2200,0.52,0.21,0.24,0,0]
[null,null,"Min",{"$f":"MIN(BD245:BD250)","v":2},{"$f":"MIN(BE245:BE250)","v":13.4},{"$f":"MIN(BF245:BF250)","v":97},{"$f":"MIN(BG245:BG250)","v":7},{"$f":"MIN(BH245:BH250)","v":0.33},{"$f":"MIN(BI245:BI250)","v":14.1},{"$f":"MIN(BJ245:BJ250)","v":220},{"$f":"MIN(BK245:BK250)","v":9.6},{"$f":"MIN(BL245:BL250)","v":0.35},{"$f":"MIN(BM245:BM250)","v":1.1000000000000001},{"$f":"MIN(BN245:BN250)","v":51.35},{"$f":"MIN(BO245:BO250)","v":34},{"$f":"MIN(BP245:BP250)","v":0},{"$f":"MIN(BQ245:BQ250)","v":0},{"$f":"MIN(BR245:BR250)","v":20},{"$f":"MIN(BS245:BS250)","v":1400},{"$f":"MIN(BT245:BT250)","v":280},{"$f":"MIN(BU245:BU250)","v":2200},{"$f":"MIN(BV245:BV250)","v":0.52},{"$f":"MIN(BW245:BW250)","v":0.21},{"$f":"MIN(BX245:BX250)","v":0.24},{"$f":"MIN(BY245:BY250)","v":0},{"$f":"MIN(BZ245:BZ250)","v":0},null,null,null,null,null,null,null,null,null,null,null,null,null,null,null,null,null,null,null,null,null,null,null,null,null,null,null,null,null,2,13.4,97,7,0.33,14.1,220,9.6,0.35,1.1000000000000001,51.35,34,0,0,20,1400,280,2200,0.52,0.21,0.24,0,0]
[null,null,null,null,null,null,null,null,null,null,null,null,null,null,null,null,null,null,null,null,null,null,null,null,null,null,null,null,null,null,null,null,null,null,null,null,null,null,null,null,null,null,null,null,null,null,null,null,null,null,null,null,null,null,null,0,0,0,0,0,0,0,0,0,0,0,0,0,0,0,0,0,0,0,0,0,0,0]
[100,{"$f":"RS!D171","v":"76 Oderbäcken, uppstr Oderljunga ARV"},{"$f":"RS!E171","v":"2025-02-12"},{"$f":"RS!F171","v":1.3},{"$f":"RS!G171","v":13.5},{"$f":"RS!H171","v":96},{"$f":"RS!I171","v":6.4},{"$f":"RS!J171","v":0.16},{"$f":"RS!K171","v":9.69},{"$f":"RS!L171","v":150},{"$f":"RS!M171","v":7.3},{"$f":"RS!N171","v":0.3},{"$f":"RS!O171","v":1.4},{"$f":"RS!P171","v":59.25},{"$f":"RS!Q171","v":36},{"$f":"RS!R171","v":""},{"$f":"RS!S171","v":""},{"$f":"RS!T171","v":20},{"$f":"RS!U171","v":730},{"$f":"RS!V171","v":77},{"$f":"RS!W171","v":1100},{"$f":"RS!X171","v":0.34},{"$f":"RS!Y171","v":0.16},{"$f":"RS!Z171","v":0.21},{"$f":"RS!AA171","v":""},{"$f":"RS!AB171","v":""},{"$f":"RS!AC171","v":""},null,null,null,null,null,null,null,null,null,null,null,null,null,null,null,null,null,null,null,null,null,null,null,null,null,null,null,null,1.3,13.5,96,6.4,0.16,9.69,150,7.3,0.3,1.4,59.25,36,"","",20,730,77,1100,0.34,0.16,0.21,"",""]
[100,{"$f":"RS!D172","v":"76 Oderbäcken, uppstr Oderljunga ARV"},{"$f":"RS!E172","v":""},{"$f":"RS!F172","v":""},{"$f":"RS!G172","v":""},{"$f":"RS!H172","v":""},{"$f":"RS!I172","v":""},{"$f":"RS!J172","v":""},{"$f":"RS!K172","v":""},{"$f":"RS!L172","v":""},{"$f":"RS!M172","v":""},{"$f":"RS!N172","v":""},{"$f":"RS!O172","v":""},{"$f":"RS!P172","v":""},{"$f":"RS!Q172","v":""},{"$f":"RS!R172","v":""},{"$f":"RS!S172","v":""},{"$f":"RS!T172","v":""},{"$f":"RS!U172","v":""},{"$f":"RS!V172","v":""},{"$f":"RS!W172","v":""},{"$f":"RS!X172","v":""},{"$f":"RS!Y172","v":""},{"$f":"RS!Z172","v":""},{"$f":"RS!AA172","v":""},{"$f":"RS!AB172","v":""},{"$f":"RS!AC172","v":""},null,null,null,null,null,null,null,null,null,null,null,null,null,null,null,null,null,null,null,null,null,null,null,null,null,null,null,null,"","","","","","","","","","","","","","","","","","","","","","",""]
[100,{"$f":"RS!D173","v":"76 Oderbäcken, uppstr Oderljunga ARV"},{"$f":"RS!E173","v":""},{"$f":"RS!F173","v":""},{"$f":"RS!G173","v":""},{"$f":"RS!H173","v":""},{"$f":"RS!I173","v":""},{"$f":"RS!J173","v":""},{"$f":"RS!K173","v":""},{"$f":"RS!L173","v":""},{"$f":"RS!M173","v":""},{"$f":"RS!N173","v":""},{"$f":"RS!O173","v":""},{"$f":"RS!P173","v":""},{"$f":"RS!Q173","v":""},{"$f":"RS!R173","v":""},{"$f":"RS!S173","v":""},{"$f":"RS!T173","v":""},{"$f":"RS!U173","v":""},{"$f":"RS!V173","v":""},{"$f":"RS!W173","v":""},{"$f":"RS!X173","v":""},{"$f":"RS!Y173","v":""},{"$f":"RS!Z173","v":""},{"$f":"RS!AA173","v":""},{"$f":"RS!AB173","v":""},{"$f":"RS!AC173","v":""},null,null,null,null,null,null,null,null,null,null,null,null,null,null,null,null,null,null,null,null,null,null,null,null,null,null,null,null,"","","","","","","","","","","","","","","","","","","","","","",""]
[100,{"$f":"RS!D174","v":"76 Oderbäcken, uppstr Oderljunga ARV"},{"$f":"RS!E174","v":""},{"$f":"RS!F174","v":""},{"$f":"RS!G174","v":""},{"$f":"RS!H174","v":""},{"$f":"RS!I174","v":""},{"$f":"RS!J174","v":""},{"$f":"RS!K174","v":""},{"$f":"RS!L174","v":""},{"$f":"RS!M174","v":""},{"$f":"RS!N174","v":""},{"$f":"RS!O174","v":""},{"$f":"RS!P174","v":""},{"$f":"RS!Q174","v":""},{"$f":"RS!R174","v":""},{"$f":"RS!S174","v":""},{"$f":"RS!T174","v":""},{"$f":"RS!U174","v":""},{"$f":"RS!V174","v":""},{"$f":"RS!W174","v":""},{"$f":"RS!X174","v":""},{"$f":"RS!Y174","v":""},{"$f":"RS!Z174","v":""},{"$f":"RS!AA174","v":""},{"$f":"RS!AB174","v":""},{"$f":"RS!AC174","v":""},null,null,null,null,null,null,null,null,null,null,null,null,null,null,null,null,null,null,null,null,null,null,null,null,null,null,null,null,"","","","","","","","","","","","","","","","","","","","","","",""]
[100,{"$f":"RS!D175","v":"76 Oderbäcken, uppstr Oderljunga ARV"},{"$f":"RS!E175","v":""},{"$f":"RS!F175","v":""},{"$f":"RS!G175","v":""},{"$f":"RS!H175","v":""},{"$f":"RS!I175","v":""},{"$f":"RS!J175","v":""},{"$f":"RS!K175","v":""},{"$f":"RS!L175","v":""},{"$f":"RS!M175","v":""},{"$f":"RS!N175","v":""},{"$f":"RS!O175","v":""},{"$f":"RS!P175","v":""},{"$f":"RS!Q175","v":""},{"$f":"RS!R175","v":""},{"$f":"RS!S175","v":""},{"$f":"RS!T175","v":""},{"$f":"RS!U175","v":""},{"$f":"RS!V175","v":""},{"$f":"RS!W175","v":""},{"$f":"RS!X175","v":""},{"$f":"RS!Y175","v":""},{"$f":"RS!Z175","v":""},{"$f":"RS!AA175","v":""},{"$f":"RS!AB175","v":""},{"$f":"RS!AC175","v":""},null,null,null,null,null,null,null,null,null,null,null,null,null,null,null,null,null,null,null,null,null,null,null,null,null,null,null,null,"","","","","","","","","","","","","","","","","","","","","","",""]
[100,{"$f":"RS!D176","v":"76 Oderbäcken, uppstr Oderljunga ARV"},{"$f":"RS!E176","v":""},{"$f":"RS!F176","v":""},{"$f":"RS!G176","v":""},{"$f":"RS!H176","v":""},{"$f":"RS!I176","v":""},{"$f":"RS!J176","v":""},{"$f":"RS!K176","v":""},{"$f":"RS!L176","v":""},{"$f":"RS!M176","v":""},{"$f":"RS!N176","v":""},{"$f":"RS!O176","v":""},{"$f":"RS!P176","v":""},{"$f":"RS!Q176","v":""},{"$f":"RS!R176","v":""},{"$f":"RS!S176","v":""},{"$f":"RS!T176","v":""},{"$f":"RS!U176","v":""},{"$f":"RS!V176","v":""},{"$f":"RS!W176","v":""},{"$f":"RS!X176","v":""},{"$f":"RS!Y176","v":""},{"$f":"RS!Z176","v":""},{"$f":"RS!AA176","v":""},{"$f":"RS!AB176","v":""},{"$f":"RS!AC176","v":""},null,null,null,null,null,null,null,null,null,null,null,null,null,null,null,null,null,null,null,null,null,null,null,null,null,null,null,null,"","","","","","","","","","","","","","","","","","","","","","",""]
[null,null,"Medel",{"$f":"AVERAGE(BD255:BD260)","v":1.3},{"$f":"AVERAGE(BE255:BE260)","v":13.5},{"$f":"AVERAGE(BF255:BF260)","v":96},{"$f":"AVERAGE(BG255:BG260)","v":6.4},{"$f":"AVERAGE(BH255:BH260)","v":0.16},{"$f":"AVERAGE(BI255:BI260)","v":9.69},{"$f":"AVERAGE(BJ255:BJ260)","v":150},{"$f":"AVERAGE(BK255:BK260)","v":7.3},{"$f":"AVERAGE(BL255:BL260)","v":0.3},{"$f":"AVERAGE(BM255:BM260)","v":1.4},{"$f":"AVERAGE(BN255:BN260)","v":59.25},{"$f":"AVERAGE(BO255:BO260)","v":36},{"$f":"AVERAGE(BP255:BP260)","v":{"$error":"#DIV/0!"}},{"$f":"AVERAGE(BQ255:BQ260)","v":{"$error":"#DIV/0!"}},{"$f":"AVERAGE(BR255:BR260)","v":20},{"$f":"AVERAGE(BS255:BS260)","v":730},{"$f":"AVERAGE(BT255:BT260)","v":77},{"$f":"AVERAGE(BU255:BU260)","v":1100},{"$f":"AVERAGE(BV255:BV260)","v":0.34},{"$f":"AVERAGE(BW255:BW260)","v":0.16},{"$f":"AVERAGE(BX255:BX260)","v":0.21},{"$f":"AVERAGE(BY255:BY260)","v":{"$error":"#DIV/0!"}},{"$f":"AVERAGE(BZ255:BZ260)","v":{"$error":"#DIV/0!"}},null,null,null,null,null,null,null,null,null,null,null,null,null,null,null,null,null,null,null,null,null,null,null,null,null,null,null,null,null,1.3,13.5,96,6.4,0.16,9.69,150,7.3,0.3,1.4,59.25,36,{"$error":"#DIV/0!"},{"$error":"#DIV/0!"},20,730,77,1100,0.34,0.16,0.21,{"$error":"#DIV/0!"},{"$error":"#DIV/0!"}]
[null,null,"Max",{"$f":"MAX(BD255:BD260)","v":1.3},{"$f":"MAX(BE255:BE260)","v":13.5},{"$f":"MAX(BF255:BF260)","v":96},{"$f":"MAX(BG255:BG260)","v":6.4},{"$f":"MAX(BH255:BH260)","v":0.16},{"$f":"MAX(BI255:BI260)","v":9.69},{"$f":"MAX(BJ255:BJ260)","v":150},{"$f":"MAX(BK255:BK260)","v":7.3},{"$f":"MAX(BL255:BL260)","v":0.3},{"$f":"MAX(BM255:BM260)","v":1.4},{"$f":"MAX(BN255:BN260)","v":59.25},{"$f":"MAX(BO255:BO260)","v":36},{"$f":"MAX(BP255:BP260)","v":0},{"$f":"MAX(BQ255:BQ260)","v":0},{"$f":"MAX(BR255:BR260)","v":20},{"$f":"MAX(BS255:BS260)","v":730},{"$f":"MAX(BT255:BT260)","v":77},{"$f":"MAX(BU255:BU260)","v":1100},{"$f":"MAX(BV255:BV260)","v":0.34},{"$f":"MAX(BW255:BW260)","v":0.16},{"$f":"MAX(BX255:BX260)","v":0.21},{"$f":"MAX(BY255:BY260)","v":0},{"$f":"MAX(BZ255:BZ260)","v":0},null,null,null,null,null,null,null,null,null,null,null,null,null,null,null,null,null,null,null,null,null,null,null,null,null,null,null,null,null,1.3,13.5,96,6.4,0.16,9.69,150,7.3,0.3,1.4,59.25,36,0,0,20,730,77,1100,0.34,0.16,0.21,0,0]
[null,null,"Min",{"$f":"MIN(BD255:BD260)","v":1.3},{"$f":"MIN(BE255:BE260)","v":13.5},{"$f":"MIN(BF255:BF260)","v":96},{"$f":"MIN(BG255:BG260)","v":6.4},{"$f":"MIN(BH255:BH260)","v":0.16},{"$f":"MIN(BI255:BI260)","v":9.69},{"$f":"MIN(BJ255:BJ260)","v":150},{"$f":"MIN(BK255:BK260)","v":7.3},{"$f":"MIN(BL255:BL260)","v":0.3},{"$f":"MIN(BM255:BM260)","v":1.4},{"$f":"MIN(BN255:BN260)","v":59.25},{"$f":"MIN(BO255:BO260)","v":36},{"$f":"MIN(BP255:BP260)","v":0},{"$f":"MIN(BQ255:BQ260)","v":0},{"$f":"MIN(BR255:BR260)","v":20},{"$f":"MIN(BS255:BS260)","v":730},{"$f":"MIN(BT255:BT260)","v":77},{"$f":"MIN(BU255:BU260)","v":1100},{"$f":"MIN(BV255:BV260)","v":0.34},{"$f":"MIN(BW255:BW260)","v":0.16},{"$f":"MIN(BX255:BX260)","v":0.21},{"$f":"MIN(BY255:BY260)","v":0},{"$f":"MIN(BZ255:BZ260)","v":0},null,null,null,null,null,null,null,null,null,null,null,null,null,null,null,null,null,null,null,null,null,null,null,null,null,null,null,null,null,1.3,13.5,96,6.4,0.16,9.69,150,7.3,0.3,1.4,59.25,36,0,0,20,730,77,1100,0.34,0.16,0.21,0,0]
[null,null,null,null,null,null,null,null,null,null,null,null,null,null,null,null,null,null,null,null,null,null,null,null,null,null,null,null,null,null,null,null,null,null,null,null,null,null,null,null,null,null,null,null,null,null,null,null,null,null,null,null,null,null,null,{"$f":"IF(OR(LEFT(D264,1)=\"<\",LEFT(D264,1)=\">\"),VALUE(MID(D264,2,5)),D264)","v":0},{"$f":"IF(OR(LEFT(E264,1)=\"<\",LEFT(E264,1)=\">\"),VALUE(MID(E264,2,5)),E264)","v":0},{"$f":"IF(OR(LEFT(F264,1)=\"<\",LEFT(F264,1)=\">\"),VALUE(MID(F264,2,5)),F264)","v":0},{"$f":"IF(OR(LEFT(G264,1)=\"<\",LEFT(G264,1)=\">\"),VALUE(MID(G264,2,5)),G264)","v":0},{"$f":"IF(OR(LEFT(H264,1)=\"<\",LEFT(H264,1)=\">\"),VALUE(MID(H264,2,5)),H264)","v":0},{"$f":"IF(OR(LEFT(I264,1)=\"<\",LEFT(I264,1)=\">\"),VALUE(MID(I264,2,5)),I264)","v":0},{"$f":"IF(OR(LEFT(J264,1)=\"<\",LEFT(J264,1)=\">\"),VALUE(MID(J264,2,5)),J264)","v":0},{"$f":"IF(OR(LEFT(K264,1)=\"<\",LEFT(K264,1)=\">\"),VALUE(MID(K264,2,5)),K264)","v":0},{"$f":"IF(OR(LEFT(L264,1)=\"<\",LEFT(L264,1)=\">\"),VALUE(MID(L264,2,5)),L264)","v":0},{"$f":"IF(OR(LEFT(M264,1)=\"<\",LEFT(M264,1)=\">\"),VALUE(MID(M264,2,5)),M264)","v":0},{"$f":"IF(OR(LEFT(N264,1)=\"<\",LEFT(N264,1)=\">\"),VALUE(MID(N264,2,5)),N264)","v":0},{"$f":"IF(OR(LEFT(O264,1)=\"<\",LEFT(O264,1)=\">\"),VALUE(MID(O264,2,5)),O264)","v":0},{"$f":"IF(OR(LEFT(P264,1)=\"<\",LEFT(P264,1)=\">\"),VALUE(MID(P264,2,5)),P264)","v":0},{"$f":"IF(OR(LEFT(Q264,1)=\"<\",LEFT(Q264,1)=\">\"),VALUE(MID(Q264,2,5)),Q264)","v":0},{"$f":"IF(OR(LEFT(R264,1)=\"<\",LEFT(R264,1)=\">\"),VALUE(MID(R264,2,5)),R264)","v":0},{"$f":"IF(OR(LEFT(S264,1)=\"<\",LEFT(S264,1)=\">\"),VALUE(MID(S264,2,5)),S264)","v":0},{"$f":"IF(OR(LEFT(T264,1)=\"<\",LEFT(T264,1)=\">\"),VALUE(MID(T264,2,5)),T264)","v":0},{"$f":"IF(OR(LEFT(U264,1)=\"<\",LEFT(U264,1)=\">\"),VALUE(MID(U264,2,5)),U264)","v":0},{"$f":"IF(OR(LEFT(V264,1)=\"<\",LEFT(V264,1)=\">\"),VALUE(MID(V264,2,5)),V264)","v":0},{"$f":"IF(OR(LEFT(W264,1)=\"<\",LEFT(W264,1)=\">\"),VALUE(MID(W264,2,5)),W264)","v":0},{"$f":"IF(OR(LEFT(X264,1)=\"<\",LEFT(X264,1)=\">\"),VALUE(MID(X264,2,5)),X264)","v":0},{"$f":"IF(OR(LEFT(Y264,1)=\"<\",LEFT(Y264,1)=\">\"),VALUE(MID(Y264,2,5)),Y264)","v":0},{"$f":"IF(OR(LEFT(Z264,1)=\"<\",LEFT(Z264,1)=\">\"),VALUE(MID(Z264,2,5)),Z264)","v":0}]
[105,{"$f":"RS!D177","v":"30 Bäljaneå, vid Hyllstofta"},{"$f":"RS!E177","v":"2025-02-11"},{"$f":"RS!F177","v":1.7},{"$f":"RS!G177","v":14.1},{"$f":"RS!H177","v":101},{"$f":"RS!I177","v":6.9},{"$f":"RS!J177","v":0.23},{"$f":"RS!K177","v":11.4},{"$f":"RS!L177","v":150},{"$f":"RS!M177","v":9.3000000000000007},{"$f":"RS!N177","v":0.31},{"$f":"RS!O177","v":1.3},{"$f":"RS!P177","v":47.400000000000006},{"$f":"RS!Q177","v":33},{"$f":"RS!R177","v":""},{"$f":"RS!S177","v":""},{"$f":"RS!T177","v":20},{"$f":"RS!U177","v":1100},{"$f":"RS!V177","v":140},{"$f":"RS!W177","v":1600},{"$f":"RS!X177","v":0.41},{"$f":"RS!Y177","v":0.18},{"$f":"RS!Z177","v":0.21},{"$f":"RS!AA177","v":""},{"$f":"RS!AB177","v":""},{"$f":"RS!AC177","v":""},null,null,null,null,null,null,null,null,null,null,null,null,null,null,null,null,null,null,null,null,null,null,null,null,null,null,null,null,1.7,14.1,101,6.9,0.23,11.4,150,9.3000000000000007,0.31,1.3,47.400000000000006,33,"","",20,1100,140,1600,0.41,0.18,0.21,"",""]
[105,{"$f":"RS!D178","v":"30 Bäljaneå, vid Hyllstofta"},{"$f":"RS!E178","v":""},{"$f":"RS!F178","v":""},{"$f":"RS!G178","v":""},{"$f":"RS!H178","v":""},{"$f":"RS!I178","v":""},{"$f":"RS!J178","v":""},{"$f":"RS!K178","v":""},{"$f":"RS!L178","v":""},{"$f":"RS!M178","v":""},{"$f":"RS!N178","v":""},{"$f":"RS!O178","v":""},{"$f":"RS!P178","v":""},{"$f":"RS!Q178","v":""},{"$f":"RS!R178","v":""},{"$f":"RS!S178","v":""},{"$f":"RS!T178","v":""},{"$f":"RS!U178","v":""},{"$f":"RS!V178","v":""},{"$f":"RS!W178","v":""},{"$f":"RS!X178","v":""},{"$f":"RS!Y178","v":""},{"$f":"RS!Z178","v":""},{"$f":"RS!AA178","v":""},{"$f":"RS!AB178","v":""},{"$f":"RS!AC178","v":""},null,null,null,null,null,null,null,null,null,null,null,null,null,null,null,null,null,null,null,null,null,null,null,null,null,null,null,null,"","","","","","","","","","","","","","","","","","","","","","",""]
[105,{"$f":"RS!D179","v":"30 Bäljaneå, vid Hyllstofta"},{"$f":"RS!E179","v":""},{"$f":"RS!F179","v":""},{"$f":"RS!G179","v":""},{"$f":"RS!H179","v":""},{"$f":"RS!I179","v":""},{"$f":"RS!J179","v":""},{"$f":"RS!K179","v":""},{"$f":"RS!L179","v":""},{"$f":"RS!M179","v":""},{"$f":"RS!N179","v":""},{"$f":"RS!O179","v":""},{"$f":"RS!P179","v":""},{"$f":"RS!Q179","v":""},{"$f":"RS!R179","v":""},{"$f":"RS!S179","v":""},{"$f":"RS!T179","v":""},{"$f":"RS!U179","v":""},{"$f":"RS!V179","v":""},{"$f":"RS!W179","v":""},{"$f":"RS!X179","v":""},{"$f":"RS!Y179","v":""},{"$f":"RS!Z179","v":""},{"$f":"RS!AA179","v":""},{"$f":"RS!AB179","v":""},{"$f":"RS!AC179","v":""},null,null,null,null,null,null,null,null,null,null,null,null,null,null,null,null,null,null,null,null,null,null,null,null,null,null,null,null,"","","","","","","","","","","","","","","","","","","","","","",""]
[105,{"$f":"RS!D180","v":"30 Bäljaneå, vid Hyllstofta"},{"$f":"RS!E180","v":""},{"$f":"RS!F180","v":""},{"$f":"RS!G180","v":""},{"$f":"RS!H180","v":""},{"$f":"RS!I180","v":""},{"$f":"RS!J180","v":""},{"$f":"RS!K180","v":""},{"$f":"RS!L180","v":""},{"$f":"RS!M180","v":""},{"$f":"RS!N180","v":""},{"$f":"RS!O180","v":""},{"$f":"RS!P180","v":""},{"$f":"RS!Q180","v":""},{"$f":"RS!R180","v":""},{"$f":"RS!S180","v":""},{"$f":"RS!T180","v":""},{"$f":"RS!U180","v":""},{"$f":"RS!V180","v":""},{"$f":"RS!W180","v":""},{"$f":"RS!X180","v":""},{"$f":"RS!Y180","v":""},{"$f":"RS!Z180","v":""},{"$f":"RS!AA180","v":""},{"$f":"RS!AB180","v":""},{"$f":"RS!AC180","v":""},null,null,null,null,null,null,null,null,null,null,null,null,null,null,null,null,null,null,null,null,null,null,null,null,null,null,null,null,"","","","","","","","","","","","","","","","","","","","","","",""]
[105,{"$f":"RS!D181","v":"30 Bäljaneå, vid Hyllstofta"},{"$f":"RS!E181","v":""},{"$f":"RS!F181","v":""},{"$f":"RS!G181","v":""},{"$f":"RS!H181","v":""},{"$f":"RS!I181","v":""},{"$f":"RS!J181","v":""},{"$f":"RS!K181","v":""},{"$f":"RS!L181","v":""},{"$f":"RS!M181","v":""},{"$f":"RS!N181","v":""},{"$f":"RS!O181","v":""},{"$f":"RS!P181","v":""},{"$f":"RS!Q181","v":""},{"$f":"RS!R181","v":""},{"$f":"RS!S181","v":""},{"$f":"RS!T181","v":""},{"$f":"RS!U181","v":""},{"$f":"RS!V181","v":""},{"$f":"RS!W181","v":""},{"$f":"RS!X181","v":""},{"$f":"RS!Y181","v":""},{"$f":"RS!Z181","v":""},{"$f":"RS!AA181","v":""},{"$f":"RS!AB181","v":""},{"$f":"RS!AC181","v":""},null,null,null,null,null,null,null,null,null,null,null,null,null,null,null,null,null,null,null,null,null,null,null,null,null,null,null,null,"","","","","","","","","","","","","","","","","","","","","","",""]
[105,{"$f":"RS!D182","v":"30 Bäljaneå, vid Hyllstofta"},{"$f":"RS!E182","v":""},{"$f":"RS!F182","v":""},{"$f":"RS!G182","v":""},{"$f":"RS!H182","v":""},{"$f":"RS!I182","v":""},{"$f":"RS!J182","v":""},{"$f":"RS!K182","v":""},{"$f":"RS!L182","v":""},{"$f":"RS!M182","v":""},{"$f":"RS!N182","v":""},{"$f":"RS!O182","v":""},{"$f":"RS!P182","v":""},{"$f":"RS!Q182","v":""},{"$f":"RS!R182","v":""},{"$f":"RS!S182","v":""},{"$f":"RS!T182","v":""},{"$f":"RS!U182","v":""},{"$f":"RS!V182","v":""},{"$f":"RS!W182","v":""},{"$f":"RS!X182","v":""},{"$f":"RS!Y182","v":""},{"$f":"RS!Z182","v":""},{"$f":"RS!AA182","v":""},{"$f":"RS!AB182","v":""},{"$f":"RS!AC182","v":""},null,null,null,null,null,null,null,null,null,null,null,null,null,null,null,null,null,null,null,null,null,null,null,null,null,null,null,null,"","","","","","","","","","","","","","","","","","","","","","",""]
[null,null,"Medel",{"$f":"AVERAGE(BD265:BD270)","v":1.7},{"$f":"AVERAGE(BE265:BE270)","v":14.1},{"$f":"AVERAGE(BF265:BF270)","v":101},{"$f":"AVERAGE(BG265:BG270)","v":6.9},{"$f":"AVERAGE(BH265:BH270)","v":0.23},{"$f":"AVERAGE(BI265:BI270)","v":11.4},{"$f":"AVERAGE(BJ265:BJ270)","v":150},{"$f":"AVERAGE(BK265:BK270)","v":9.3000000000000007},{"$f":"AVERAGE(BL265:BL270)","v":0.31},{"$f":"AVERAGE(BM265:BM270)","v":1.3},{"$f":"AVERAGE(BN265:BN270)","v":47.400000000000006},{"$f":"AVERAGE(BO265:BO270)","v":33},{"$f":"AVERAGE(BP265:BP270)","v":{"$error":"#DIV/0!"}},{"$f":"AVERAGE(BQ265:BQ270)","v":{"$error":"#DIV/0!"}},{"$f":"AVERAGE(BR265:BR270)","v":20},{"$f":"AVERAGE(BS265:BS270)","v":1100},{"$f":"AVERAGE(BT265:BT270)","v":140},{"$f":"AVERAGE(BU265:BU270)","v":1600},{"$f":"AVERAGE(BV265:BV270)","v":0.41},{"$f":"AVERAGE(BW265:BW270)","v":0.18},{"$f":"AVERAGE(BX265:BX270)","v":0.21},{"$f":"AVERAGE(BY265:BY270)","v":{"$error":"#DIV/0!"}},{"$f":"AVERAGE(BZ265:BZ270)","v":{"$error":"#DIV/0!"}},null,null,null,null,null,null,null,null,null,null,null,null,null,null,null,null,null,null,null,null,null,null,null,null,null,null,null,null,null,1.7,14.1,101,6.9,0.23,11.4,150,9.3000000000000007,0.31,1.3,47.400000000000006,33,{"$error":"#DIV/0!"},{"$error":"#DIV/0!"},20,1100,140,1600,0.41,0.18,0.21,{"$error":"#DIV/0!"},{"$error":"#DIV/0!"}]
[null,null,"Max",{"$f":"MAX(BD265:BD270)","v":1.7},{"$f":"MAX(BE265:BE270)","v":14.1},{"$f":"MAX(BF265:BF270)","v":101},{"$f":"MAX(BG265:BG270)","v":6.9},{"$f":"MAX(BH265:BH270)","v":0.23},{"$f":"MAX(BI265:BI270)","v":11.4},{"$f":"MAX(BJ265:BJ270)","v":150},{"$f":"MAX(BK265:BK270)","v":9.3000000000000007},{"$f":"MAX(BL265:BL270)","v":0.31},{"$f":"MAX(BM265:BM270)","v":1.3},{"$f":"MAX(BN265:BN270)","v":47.400000000000006},{"$f":"MAX(BO265:BO270)","v":33},{"$f":"MAX(BP265:BP270)","v":0},{"$f":"MAX(BQ265:BQ270)","v":0},{"$f":"MAX(BR265:BR270)","v":20},{"$f":"MAX(BS265:BS270)","v":1100},{"$f":"MAX(BT265:BT270)","v":140},{"$f":"MAX(BU265:BU270)","v":1600},{"$f":"MAX(BV265:BV270)","v":0.41},{"$f":"MAX(BW265:BW270)","v":0.18},{"$f":"MAX(BX265:BX270)","v":0.21},{"$f":"MAX(BY265:BY270)","v":0},{"$f":"MAX(BZ265:BZ270)","v":0},null,null,null,null,null,null,null,null,null,null,null,null,null,null,null,null,null,null,null,null,null,null,null,null,null,null,null,null,null,1.7,14.1,101,6.9,0.23,11.4,150,9.3000000000000007,0.31,1.3,47.400000000000006,33,0,0,20,1100,140,1600,0.41,0.18,0.21,0,0]
[null,null,"Min",{"$f":"MIN(BD265:BD270)","v":1.7},{"$f":"MIN(BE265:BE270)","v":14.1},{"$f":"MIN(BF265:BF270)","v":101},{"$f":"MIN(BG265:BG270)","v":6.9},{"$f":"MIN(BH265:BH270)","v":0.23},{"$f":"MIN(BI265:BI270)","v":11.4},{"$f":"MIN(BJ265:BJ270)","v":150},{"$f":"MIN(BK265:BK270)","v":9.3000000000000007},{"$f":"MIN(BL265:BL270)","v":0.31},{"$f":"MIN(BM265:BM270)","v":1.3},{"$f":"MIN(BN265:BN270)","v":47.400000000000006},{"$f":"MIN(BO265:BO270)","v":33},{"$f":"MIN(BP265:BP270)","v":0},{"$f":"MIN(BQ265:BQ270)","v":0},{"$f":"MIN(BR265:BR270)","v":20},{"$f":"MIN(BS265:BS270)","v":1100},{"$f":"MIN(BT265:BT270)","v":140},{"$f":"MIN(BU265:BU270)","v":1600},{"$f":"MIN(BV265:BV270)","v":0.41},{"$f":"MIN(BW265:BW270)","v":0.18},{"$f":"MIN(BX265:BX270)","v":0.21},{"$f":"MIN(BY265:BY270)","v":0},{"$f":"MIN(BZ265:BZ270)","v":0},null,null,null,null,null,null,null,null,null,null,null,null,null,null,null,null,null,null,null,null,null,null,null,null,null,null,null,null,null,1.7,14.1,101,6.9,0.23,11.4,150,9.3000000000000007,0.31,1.3,47.400000000000006,33,0,0,20,1100,140,1600,0.41,0.18,0.21,0,0]
[null,null,null,null,null,null,null,null,null,null,null,null,null,null,null,null,null,null,null,null,null,null,null,null,null,null,null,null,null,null,null,null,null,null,null,null,null,null,null,null,null,null,null,null,null,null,null,null,null,null,null,null,null,null,null,0,0,0,0,0,0,0,0,0,0,0,0,0,0,0,0,0,0,0,0,0,0,0]
[110,{"$f":"RS!D183","v":"32 Bäljaneå, uppstr Klippan"},{"$f":"RS!E183","v":"2025-02-11"},{"$f":"RS!F183","v":2},{"$f":"RS!G183","v":14.1},{"$f":"RS!H183","v":102},{"$f":"RS!I183","v":7},{"$f":"RS!J183","v":0.25},{"$f":"RS!K183","v":12},{"$f":"RS!L183","v":150},{"$f":"RS!M183","v":7.9},{"$f":"RS!N183","v":0.3},{"$f":"RS!O183","v":1.4},{"$f":"RS!P183","v":47.400000000000006},{"$f":"RS!Q183","v":34},{"$f":"RS!R183","v":""},{"$f":"RS!S183","v":""},{"$f":"RS!T183","v":19},{"$f":"RS!U183","v":1000},{"$f":"RS!V183","v":110},{"$f":"RS!W183","v":1600},{"$f":"RS!X183","v":0.43},{"$f":"RS!Y183","v":0.2},{"$f":"RS!Z183","v":0.23},{"$f":"RS!AA183","v":""},{"$f":"RS!AB183","v":""},{"$f":"RS!AC183","v":""},null,null,null,null,null,null,null,null,null,null,null,null,null,null,null,null,null,null,null,null,null,null,null,null,null,null,null,null,2,14.1,102,7,0.25,12,150,7.9,0.3,1.4,47.400000000000006,34,"","",19,1000,110,1600,0.43,0.2,0.23,"",""]
[110,{"$f":"RS!D184","v":"32 Bäljaneå, uppstr Klippan"},{"$f":"RS!E184","v":""},{"$f":"RS!F184","v":""},{"$f":"RS!G184","v":""},{"$f":"RS!H184","v":""},{"$f":"RS!I184","v":""},{"$f":"RS!J184","v":""},{"$f":"RS!K184","v":""},{"$f":"RS!L184","v":""},{"$f":"RS!M184","v":""},{"$f":"RS!N184","v":""},{"$f":"RS!O184","v":""},{"$f":"RS!P184","v":""},{"$f":"RS!Q184","v":""},{"$f":"RS!R184","v":""},{"$f":"RS!S184","v":""},{"$f":"RS!T184","v":""},{"$f":"RS!U184","v":""},{"$f":"RS!V184","v":""},{"$f":"RS!W184","v":""},{"$f":"RS!X184","v":""},{"$f":"RS!Y184","v":""},{"$f":"RS!Z184","v":""},{"$f":"RS!AA184","v":""},{"$f":"RS!AB184","v":""},{"$f":"RS!AC184","v":""},null,null,null,null,null,null,null,null,null,null,null,null,null,null,null,null,null,null,null,null,null,null,null,null,null,null,null,null,"","","","","","","","","","","","","","","","","","","","","","",""]
[110,{"$f":"RS!D185","v":"32 Bäljaneå, uppstr Klippan"},{"$f":"RS!E185","v":""},{"$f":"RS!F185","v":""},{"$f":"RS!G185","v":""},{"$f":"RS!H185","v":""},{"$f":"RS!I185","v":""},{"$f":"RS!J185","v":""},{"$f":"RS!K185","v":""},{"$f":"RS!L185","v":""},{"$f":"RS!M185","v":""},{"$f":"RS!N185","v":""},{"$f":"RS!O185","v":""},{"$f":"RS!P185","v":""},{"$f":"RS!Q185","v":""},{"$f":"RS!R185","v":""},{"$f":"RS!S185","v":""},{"$f":"RS!T185","v":""},{"$f":"RS!U185","v":""},{"$f":"RS!V185","v":""},{"$f":"RS!W185","v":""},{"$f":"RS!X185","v":""},{"$f":"RS!Y185","v":""},{"$f":"RS!Z185","v":""},{"$f":"RS!AA185","v":""},{"$f":"RS!AB185","v":""},{"$f":"RS!AC185","v":""},null,null,null,null,null,null,null,null,null,null,null,null,null,null,null,null,null,null,null,null,null,null,null,null,null,null,null,null,"","","","","","","","","","","","","","","","","","","","","","",""]
[110,{"$f":"RS!D186","v":"32 Bäljaneå, uppstr Klippan"},{"$f":"RS!E186","v":""},{"$f":"RS!F186","v":""},{"$f":"RS!G186","v":""},{"$f":"RS!H186","v":""},{"$f":"RS!I186","v":""},{"$f":"RS!J186","v":""},{"$f":"RS!K186","v":""},{"$f":"RS!L186","v":""},{"$f":"RS!M186","v":""},{"$f":"RS!N186","v":""},{"$f":"RS!O186","v":""},{"$f":"RS!P186","v":""},{"$f":"RS!Q186","v":""},{"$f":"RS!R186","v":""},{"$f":"RS!S186","v":""},{"$f":"RS!T186","v":""},{"$f":"RS!U186","v":""},{"$f":"RS!V186","v":""},{"$f":"RS!W186","v":""},{"$f":"RS!X186","v":""},{"$f":"RS!Y186","v":""},{"$f":"RS!Z186","v":""},{"$f":"RS!AA186","v":""},{"$f":"RS!AB186","v":""},{"$f":"RS!AC186","v":""},null,null,null,null,null,null,null,null,null,null,null,null,null,null,null,null,null,null,null,null,null,null,null,null,null,null,null,null,"","","","","","","","","","","","","","","","","","","","","","",""]
[110,{"$f":"RS!D187","v":"32 Bäljaneå, uppstr Klippan"},{"$f":"RS!E187","v":""},{"$f":"RS!F187","v":""},{"$f":"RS!G187","v":""},{"$f":"RS!H187","v":""},{"$f":"RS!I187","v":""},{"$f":"RS!J187","v":""},{"$f":"RS!K187","v":""},{"$f":"RS!L187","v":""},{"$f":"RS!M187","v":""},{"$f":"RS!N187","v":""},{"$f":"RS!O187","v":""},{"$f":"RS!P187","v":""},{"$f":"RS!Q187","v":""},{"$f":"RS!R187","v":""},{"$f":"RS!S187","v":""},{"$f":"RS!T187","v":""},{"$f":"RS!U187","v":""},{"$f":"RS!V187","v":""},{"$f":"RS!W187","v":""},{"$f":"RS!X187","v":""},{"$f":"RS!Y187","v":""},{"$f":"RS!Z187","v":""},{"$f":"RS!AA187","v":""},{"$f":"RS!AB187","v":""},{"$f":"RS!AC187","v":""},null,null,null,null,null,null,null,null,null,null,null,null,null,null,null,null,null,null,null,null,null,null,null,null,null,null,null,null,"","","","","","","","","","","","","","","","","","","","","","",""]
[110,{"$f":"RS!D188","v":"32 Bäljaneå, uppstr Klippan"},{"$f":"RS!E188","v":""},{"$f":"RS!F188","v":""},{"$f":"RS!G188","v":""},{"$f":"RS!H188","v":""},{"$f":"RS!I188","v":""},{"$f":"RS!J188","v":""},{"$f":"RS!K188","v":""},{"$f":"RS!L188","v":""},{"$f":"RS!M188","v":""},{"$f":"RS!N188","v":""},{"$f":"RS!O188","v":""},{"$f":"RS!P188","v":""},{"$f":"RS!Q188","v":""},{"$f":"RS!R188","v":""},{"$f":"RS!S188","v":""},{"$f":"RS!T188","v":""},{"$f":"RS!U188","v":""},{"$f":"RS!V188","v":""},{"$f":"RS!W188","v":""},{"$f":"RS!X188","v":""},{"$f":"RS!Y188","v":""},{"$f":"RS!Z188","v":""},{"$f":"RS!AA188","v":""},{"$f":"RS!AB188","v":""},{"$f":"RS!AC188","v":""},null,null,null,null,null,null,null,null,null,null,null,null,null,null,null,null,null,null,null,null,null,null,null,null,null,null,null,null,"","","","","","","","","","","","","","","","","","","","","","",""]
[null,null,"Medel",{"$f":"AVERAGE(BD275:BD280)","v":2},{"$f":"AVERAGE(BE275:BE280)","v":14.1},{"$f":"AVERAGE(BF275:BF280)","v":102},{"$f":"AVERAGE(BG275:BG280)","v":7},{"$f":"AVERAGE(BH275:BH280)","v":0.25},{"$f":"AVERAGE(BI275:BI280)","v":12},{"$f":"AVERAGE(BJ275:BJ280)","v":150},{"$f":"AVERAGE(BK275:BK280)","v":7.9},{"$f":"AVERAGE(BL275:BL280)","v":0.3},{"$f":"AVERAGE(BM275:BM280)","v":1.4},{"$f":"AVERAGE(BN275:BN280)","v":47.400000000000006},{"$f":"AVERAGE(BO275:BO280)","v":34},{"$f":"AVERAGE(BP275:BP280)","v":{"$error":"#DIV/0!"}},{"$f":"AVERAGE(BQ275:BQ280)","v":{"$error":"#DIV/0!"}},{"$f":"AVERAGE(BR275:BR280)","v":19},{"$f":"AVERAGE(BS275:BS280)","v":1000},{"$f":"AVERAGE(BT275:BT280)","v":110},{"$f":"AVERAGE(BU275:BU280)","v":1600},{"$f":"AVERAGE(BV275:BV280)","v":0.43},{"$f":"AVERAGE(BW275:BW280)","v":0.2},{"$f":"AVERAGE(BX275:BX280)","v":0.23},{"$f":"AVERAGE(BY275:BY280)","v":{"$error":"#DIV/0!"}},{"$f":"AVERAGE(BZ275:BZ280)","v":{"$error":"#DIV/0!"}},null,null,null,null,null,null,null,null,null,null,null,null,null,null,null,null,null,null,null,null,null,null,null,null,null,null,null,null,null,2,14.1,102,7,0.25,12,150,7.9,0.3,1.4,47.400000000000006,34,{"$error":"#DIV/0!"},{"$error":"#DIV/0!"},19,1000,110,1600,0.43,0.2,0.23,{"$error":"#DIV/0!"},{"$error":"#DIV/0!"}]
[null,null,"Max",{"$f":"MAX(BD275:BD280)","v":2},{"$f":"MAX(BE275:BE280)","v":14.1},{"$f":"MAX(BF275:BF280)","v":102},{"$f":"MAX(BG275:BG280)","v":7},{"$f":"MAX(BH275:BH280)","v":0.25},{"$f":"MAX(BI275:BI280)","v":12},{"$f":"MAX(BJ275:BJ280)","v":150},{"$f":"MAX(BK275:BK280)","v":7.9},{"$f":"MAX(BL275:BL280)","v":0.3},{"$f":"MAX(BM275:BM280)","v":1.4},{"$f":"MAX(BN275:BN280)","v":47.400000000000006},{"$f":"MAX(BO275:BO280)","v":34},{"$f":"MAX(BP275:BP280)","v":0},{"$f":"MAX(BQ275:BQ280)","v":0},{"$f":"MAX(BR275:BR280)","v":19},{"$f":"MAX(BS275:BS280)","v":1000},{"$f":"MAX(BT275:BT280)","v":110},{"$f":"MAX(BU275:BU280)","v":1600},{"$f":"MAX(BV275:BV280)","v":0.43},{"$f":"MAX(BW275:BW280)","v":0.2},{"$f":"MAX(BX275:BX280)","v":0.23},{"$f":"MAX(BY275:BY280)","v":0},{"$f":"MAX(BZ275:BZ280)","v":0},null,null,null,null,null,null,null,null,null,null,null,null,null,null,null,null,null,null,null,null,null,null,null,null,null,null,null,null,null,2,14.1,102,7,0.25,12,150,7.9,0.3,1.4,47.400000000000006,34,0,0,19,1000,110,1600,0.43,0.2,0.23,0,0]
[null,null,"Min",{"$f":"MIN(BD275:BD280)","v":2},{"$f":"MIN(BE275:BE280)","v":14.1},{"$f":"MIN(BF275:BF280)","v":102},{"$f":"MIN(BG275:BG280)","v":7},{"$f":"MIN(BH275:BH280)","v":0.25},{"$f":"MIN(BI275:BI280)","v":12},{"$f":"MIN(BJ275:BJ280)","v":150},{"$f":"MIN(BK275:BK280)","v":7.9},{"$f":"MIN(BL275:BL280)","v":0.3},{"$f":"MIN(BM275:BM280)","v":1.4},{"$f":"MIN(BN275:BN280)","v":47.400000000000006},{"$f":"MIN(BO275:BO280)","v":34},{"$f":"MIN(BP275:BP280)","v":0},{"$f":"MIN(BQ275:BQ280)","v":0},{"$f":"MIN(BR275:BR280)","v":19},{"$f":"MIN(BS275:BS280)","v":1000},{"$f":"MIN(BT275:BT280)","v":110},{"$f":"MIN(BU275:BU280)","v":1600},{"$f":"MIN(BV275:BV280)","v":0.43},{"$f":"MIN(BW275:BW280)","v":0.2},{"$f":"MIN(BX275:BX280)","v":0.23},{"$f":"MIN(BY275:BY280)","v":0},{"$f":"MIN(BZ275:BZ280)","v":0},null,null,null,null,null,null,null,null,null,null,null,null,null,null,null,null,null,null,null,null,null,null,null,null,null,null,null,null,null,2,14.1,102,7,0.25,12,150,7.9,0.3,1.4,47.400000000000006,34,0,0,19,1000,110,1600,0.43,0.2,0.23,0,0]
[null,null,null,null,null,null,null,null,null,null,null,null,null,null,null,null,null,null,null,null,null,null,null,null,null,null,null,null,null,null,null,null,null,null,null,null,null,null,null,null,null,null,null,null,null,null,null,null,null,null,null,null,null,null,null,0,0,0,0,0,0,0,0,0,0,0,0,0,0,0,0,0,0,0,0,0,0,0]
[115,{"$f":"RS!D189","v":"78 Bäljaneå, nedstr Klippans ARV"},{"$f":"RS!E189","v":"2025-02-11"},{"$f":"RS!F189","v":2.2000000000000002},{"$f":"RS!G189","v":13.9},{"$f":"RS!H189","v":101},{"$f":"RS!I189","v":7.1},{"$f":"RS!J189","v":0.26},{"$f":"RS!K189","v":13.2},{"$f":"RS!L189","v":150},{"$f":"RS!M189","v":8},{"$f":"RS!N189","v":0.28999999999999998},{"$f":"RS!O189","v":1.5},{"$f":"RS!P189","v":51.35},{"$f":"RS!Q189","v":34},{"$f":"RS!R189","v":""},{"$f":"RS!S189","v":""},{"$f":"RS!T189","v":23},{"$f":"RS!U189","v":1200},{"$f":"RS!V189","v":110},{"$f":"RS!W189","v":1800},{"$f":"RS!X189","v":0.48},{"$f":"RS!Y189","v":0.21},{"$f":"RS!Z189","v":0.27},{"$f":"RS!AA189","v":""},{"$f":"RS!AB189","v":""},{"$f":"RS!AC189","v":""},null,null,null,null,null,null,null,null,null,null,null,null,null,null,null,null,null,null,null,null,null,null,null,null,null,null,null,null,2.2000000000000002,13.9,101,7.1,0.26,13.2,150,8,0.28999999999999998,1.5,51.35,34,"","",23,1200,110,1800,0.48,0.21,0.27,"",""]
[115,{"$f":"RS!D190","v":"78 Bäljaneå, nedstr Klippans ARV"},{"$f":"RS!E190","v":""},{"$f":"RS!F190","v":""},{"$f":"RS!G190","v":""},{"$f":"RS!H190","v":""},{"$f":"RS!I190","v":""},{"$f":"RS!J190","v":""},{"$f":"RS!K190","v":""},{"$f":"RS!L190","v":""},{"$f":"RS!M190","v":""},{"$f":"RS!N190","v":""},{"$f":"RS!O190","v":""},{"$f":"RS!P190","v":""},{"$f":"RS!Q190","v":""},{"$f":"RS!R190","v":""},{"$f":"RS!S190","v":""},{"$f":"RS!T190","v":""},{"$f":"RS!U190","v":""},{"$f":"RS!V190","v":""},{"$f":"RS!W190","v":""},{"$f":"RS!X190","v":""},{"$f":"RS!Y190","v":""},{"$f":"RS!Z190","v":""},{"$f":"RS!AA190","v":""},{"$f":"RS!AB190","v":""},{"$f":"RS!AC190","v":""},null,null,null,null,null,null,null,null,null,null,null,null,null,null,null,null,null,null,null,null,null,null,null,null,null,null,null,null,"","","","","","","","","","","","","","","","","","","","","","",""]
[115,{"$f":"RS!D191","v":"78 Bäljaneå, nedstr Klippans ARV"},{"$f":"RS!E191","v":""},{"$f":"RS!F191","v":""},{"$f":"RS!G191","v":""},{"$f":"RS!H191","v":""},{"$f":"RS!I191","v":""},{"$f":"RS!J191","v":""},{"$f":"RS!K191","v":""},{"$f":"RS!L191","v":""},{"$f":"RS!M191","v":""},{"$f":"RS!N191","v":""},{"$f":"RS!O191","v":""},{"$f":"RS!P191","v":""},{"$f":"RS!Q191","v":""},{"$f":"RS!R191","v":""},{"$f":"RS!S191","v":""},{"$f":"RS!T191","v":""},{"$f":"RS!U191","v":""},{"$f":"RS!V191","v":""},{"$f":"RS!W191","v":""},{"$f":"RS!X191","v":""},{"$f":"RS!Y191","v":""},{"$f":"RS!Z191","v":""},{"$f":"RS!AA191","v":""},{"$f":"RS!AB191","v":""},{"$f":"RS!AC191","v":""},null,null,null,null,null,null,null,null,null,null,null,null,null,null,null,null,null,null,null,null,null,null,null,null,null,null,null,null,"","","","","","","","","","","","","","","","","","","","","","",""]
[115,{"$f":"RS!D192","v":"78 Bäljaneå, nedstr Klippans ARV"},{"$f":"RS!E192","v":""},{"$f":"RS!F192","v":""},{"$f":"RS!G192","v":""},{"$f":"RS!H192","v":""},{"$f":"RS!I192","v":""},{"$f":"RS!J192","v":""},{"$f":"RS!K192","v":""},{"$f":"RS!L192","v":""},{"$f":"RS!M192","v":""},{"$f":"RS!N192","v":""},{"$f":"RS!O192","v":""},{"$f":"RS!P192","v":""},{"$f":"RS!Q192","v":""},{"$f":"RS!R192","v":""},{"$f":"RS!S192","v":""},{"$f":"RS!T192","v":""},{"$f":"RS!U192","v":""},{"$f":"RS!V192","v":""},{"$f":"RS!W192","v":""},{"$f":"RS!X192","v":""},{"$f":"RS!Y192","v":""},{"$f":"RS!Z192","v":""},{"$f":"RS!AA192","v":""},{"$f":"RS!AB192","v":""},{"$f":"RS!AC192","v":""},null,null,null,null,null,null,null,null,null,null,null,null,null,null,null,null,null,null,null,null,null,null,null,null,null,null,null,null,"","","","","","","","","","","","","","","","","","","","","","",""]
[115,{"$f":"RS!D193","v":"78 Bäljaneå, nedstr Klippans ARV"},{"$f":"RS!E193","v":""},{"$f":"RS!F193","v":""},{"$f":"RS!G193","v":""},{"$f":"RS!H193","v":""},{"$f":"RS!I193","v":""},{"$f":"RS!J193","v":""},{"$f":"RS!K193","v":""},{"$f":"RS!L193","v":""},{"$f":"RS!M193","v":""},{"$f":"RS!N193","v":""},{"$f":"RS!O193","v":""},{"$f":"RS!P193","v":""},{"$f":"RS!Q193","v":""},{"$f":"RS!R193","v":""},{"$f":"RS!S193","v":""},{"$f":"RS!T193","v":""},{"$f":"RS!U193","v":""},{"$f":"RS!V193","v":""},{"$f":"RS!W193","v":""},{"$f":"RS!X193","v":""},{"$f":"RS!Y193","v":""},{"$f":"RS!Z193","v":""},{"$f":"RS!AA193","v":""},{"$f":"RS!AB193","v":""},{"$f":"RS!AC193","v":""},null,null,null,null,null,null,null,null,null,null,null,null,null,null,null,null,null,null,null,null,null,null,null,null,null,null,null,null,"","","","","","","","","","","","","","","","","","","","","","",""]
[115,{"$f":"RS!D194","v":"78 Bäljaneå, nedstr Klippans ARV"},{"$f":"RS!E194","v":""},{"$f":"RS!F194","v":""},{"$f":"RS!G194","v":""},{"$f":"RS!H194","v":""},{"$f":"RS!I194","v":""},{"$f":"RS!J194","v":""},{"$f":"RS!K194","v":""},{"$f":"RS!L194","v":""},{"$f":"RS!M194","v":""},{"$f":"RS!N194","v":""},{"$f":"RS!O194","v":""},{"$f":"RS!P194","v":""},{"$f":"RS!Q194","v":""},{"$f":"RS!R194","v":""},{"$f":"RS!S194","v":""},{"$f":"RS!T194","v":""},{"$f":"RS!U194","v":""},{"$f":"RS!V194","v":""},{"$f":"RS!W194","v":""},{"$f":"RS!X194","v":""},{"$f":"RS!Y194","v":""},{"$f":"RS!Z194","v":""},{"$f":"RS!AA194","v":""},{"$f":"RS!AB194","v":""},{"$f":"RS!AC194","v":""},null,null,null,null,null,null,null,null,null,null,null,null,null,null,null,null,null,null,null,null,null,null,null,null,null,null,null,null,"","","","","","","","","","","","","","","","","","","","","","",""]
[null,null,"Medel",{"$f":"AVERAGE(BD285:BD290)","v":2.2000000000000002},{"$f":"AVERAGE(BE285:BE290)","v":13.9},{"$f":"AVERAGE(BF285:BF290)","v":101},{"$f":"AVERAGE(BG285:BG290)","v":7.1},{"$f":"AVERAGE(BH285:BH290)","v":0.26},{"$f":"AVERAGE(BI285:BI290)","v":13.2},{"$f":"AVERAGE(BJ285:BJ290)","v":150},{"$f":"AVERAGE(BK285:BK290)","v":8},{"$f":"AVERAGE(BL285:BL290)","v":0.28999999999999998},{"$f":"AVERAGE(BM285:BM290)","v":1.5},{"$f":"AVERAGE(BN285:BN290)","v":51.35},{"$f":"AVERAGE(BO285:BO290)","v":34},{"$f":"AVERAGE(BP285:BP290)","v":{"$error":"#DIV/0!"}},{"$f":"AVERAGE(BQ285:BQ290)","v":{"$error":"#DIV/0!"}},{"$f":"AVERAGE(BR285:BR290)","v":23},{"$f":"AVERAGE(BS285:BS290)","v":1200},{"$f":"AVERAGE(BT285:BT290)","v":110},{"$f":"AVERAGE(BU285:BU290)","v":1800},{"$f":"AVERAGE(BV285:BV290)","v":0.48},{"$f":"AVERAGE(BW285:BW290)","v":0.21},{"$f":"AVERAGE(BX285:BX290)","v":0.27},{"$f":"AVERAGE(BY285:BY290)","v":{"$error":"#DIV/0!"}},{"$f":"AVERAGE(BZ285:BZ290)","v":{"$error":"#DIV/0!"}},null,null,null,null,null,null,null,null,null,null,null,null,null,null,null,null,null,null,null,null,null,null,null,null,null,null,null,null,null,2.2000000000000002,13.9,101,7.1,0.26,13.2,150,8,0.28999999999999998,1.5,51.35,34,{"$error":"#DIV/0!"},{"$error":"#DIV/0!"},23,1200,110,1800,0.48,0.21,0.27,{"$error":"#DIV/0!"},{"$error":"#DIV/0!"}]
[null,null,"Max",{"$f":"MAX(BD285:BD290)","v":2.2000000000000002},{"$f":"MAX(BE285:BE290)","v":13.9},{"$f":"MAX(BF285:BF290)","v":101},{"$f":"MAX(BG285:BG290)","v":7.1},{"$f":"MAX(BH285:BH290)","v":0.26},{"$f":"MAX(BI285:BI290)","v":13.2},{"$f":"MAX(BJ285:BJ290)","v":150},{"$f":"MAX(BK285:BK290)","v":8},{"$f":"MAX(BL285:BL290)","v":0.28999999999999998},{"$f":"MAX(BM285:BM290)","v":1.5},{"$f":"MAX(BN285:BN290)","v":51.35},{"$f":"MAX(BO285:BO290)","v":34},{"$f":"MAX(BP285:BP290)","v":0},{"$f":"MAX(BQ285:BQ290)","v":0},{"$f":"MAX(BR285:BR290)","v":23},{"$f":"MAX(BS285:BS290)","v":1200},{"$f":"MAX(BT285:BT290)","v":110},{"$f":"MAX(BU285:BU290)","v":1800},{"$f":"MAX(BV285:BV290)","v":0.48},{"$f":"MAX(BW285:BW290)","v":0.21},{"$f":"MAX(BX285:BX290)","v":0.27},{"$f":"MAX(BY285:BY290)","v":0},{"$f":"MAX(BZ285:BZ290)","v":0},null,null,null,null,null,null,null,null,null,null,null,null,null,null,null,null,null,null,null,null,null,null,null,null,null,null,null,null,null,2.2000000000000002,13.9,101,7.1,0.26,13.2,150,8,0.28999999999999998,1.5,51.35,34,0,0,23,1200,110,1800,0.48,0.21,0.27,0,0]
[null,null,"Min",{"$f":"MIN(BD285:BD290)","v":2.2000000000000002},{"$f":"MIN(BE285:BE290)","v":13.9},{"$f":"MIN(BF285:BF290)","v":101},{"$f":"MIN(BG285:BG290)","v":7.1},{"$f":"MIN(BH285:BH290)","v":0.26},{"$f":"MIN(BI285:BI290)","v":13.2},{"$f":"MIN(BJ285:BJ290)","v":150},{"$f":"MIN(BK285:BK290)","v":8},{"$f":"MIN(BL285:BL290)","v":0.28999999999999998},{"$f":"MIN(BM285:BM290)","v":1.5},{"$f":"MIN(BN285:BN290)","v":51.35},{"$f":"MIN(BO285:BO290)","v":34},{"$f":"MIN(BP285:BP290)","v":0},{"$f":"MIN(BQ285:BQ290)","v":0},{"$f":"MIN(BR285:BR290)","v":23},{"$f":"MIN(BS285:BS290)","v":1200},{"$f":"MIN(BT285:BT290)","v":110},{"$f":"MIN(BU285:BU290)","v":1800},{"$f":"MIN(BV285:BV290)","v":0.48},{"$f":"MIN(BW285:BW290)","v":0.21},{"$f":"MIN(BX285:BX290)","v":0.27},{"$f":"MIN(BY285:BY290)","v":0},{"$f":"MIN(BZ285:BZ290)","v":0},null,null,null,null,null,null,null,null,null,null,null,null,null,null,null,null,null,null,null,null,null,null,null,null,null,null,null,null,null,2.2000000000000002,13.9,101,7.1,0.26,13.2,150,8,0.28999999999999998,1.5,51.35,34,0,0,23,1200,110,1800,0.48,0.21,0.27,0,0]
[null,null,null,null,null,null,null,null,null,null,null,null,null,null,null,null,null,null,null,null,null,null,null,null,null,null,null,null,null,null,null,null,null,null,null,null,null,null,null,null,null,null,null,null,null,null,null,null,null,null,null,null,null,null,null,0,0,0,0,0,0,0,0,0,0,0,0,0,0,0,0,0,0,0,0,0,0,0]
[120,{"$f":"RS!D195","v":"33 Bäljaneå, nedstr Klippan"},{"$f":"RS!E195","v":"2025-01-15"},{"$f":"RS!F195","v":2.5},{"$f":"RS!G195","v":13.5},{"$f":"RS!H195","v":99},{"$f":"RS!I195","v":6.6},{"$f":"RS!J195","v":0.13},{"$f":"RS!K195","v":10.5},{"$f":"RS!L195","v":180},{"$f":"RS!M195","v":5.5},{"$f":"RS!N195","v":0.36},{"$f":"RS!O195","v":""},{"$f":"RS!P195","v":67.150000000000006},{"$f":"RS!Q195","v":""},{"$f":"RS!R195","v":""},{"$f":"RS!S195","v":""},{"$f":"RS!T195","v":28},{"$f":"RS!U195","v":1100},{"$f":"RS!V195","v":""},{"$f":"RS!W195","v":1600},{"$f":"RS!X195","v":0.34},{"$f":"RS!Y195","v":0.16},{"$f":"RS!Z195","v":0.22},{"$f":"RS!AA195","v":""},{"$f":"RS!AB195","v":""},{"$f":"RS!AC195","v":""},null,null,null,null,null,null,null,null,null,null,null,null,null,null,null,null,null,null,null,null,null,null,null,null,null,null,null,null,2.5,13.5,99,6.6,0.13,10.5,180,5.5,0.36,"",67.150000000000006,"","","",28,1100,"",1600,0.34,0.16,0.22,"",""]
[120,{"$f":"RS!D196","v":"33 Bäljaneå, nedstr Klippan"},{"$f":"RS!E196","v":"2025-02-11"},{"$f":"RS!F196","v":2},{"$f":"RS!G196","v":14},{"$f":"RS!H196","v":101},{"$f":"RS!I196","v":6.9},{"$f":"RS!J196","v":0.26},{"$f":"RS!K196","v":12},{"$f":"RS!L196","v":250},{"$f":"RS!M196","v":8.3000000000000007},{"$f":"RS!N196","v":0.32},{"$f":"RS!O196","v":""},{"$f":"RS!P196","v":43.45},{"$f":"RS!Q196","v":""},{"$f":"RS!R196","v":""},{"$f":"RS!S196","v":""},{"$f":"RS!T196","v":23},{"$f":"RS!U196","v":1100},{"$f":"RS!V196","v":""},{"$f":"RS!W196","v":1700},{"$f":"RS!X196","v":0.45},{"$f":"RS!Y196","v":0.2},{"$f":"RS!Z196","v":0.24},{"$f":"RS!AA196","v":""},{"$f":"RS!AB196","v":""},{"$f":"RS!AC196","v":""},null,null,null,null,null,null,null,null,null,null,null,null,null,null,null,null,null,null,null,null,null,null,null,null,null,null,null,null,2,14,101,6.9,0.26,12,250,8.3000000000000007,0.32,"",43.45,"","","",23,1100,"",1700,0.45,0.2,0.24,"",""]
[120,{"$f":"RS!D197","v":"33 Bäljaneå, nedstr Klippan"},{"$f":"RS!E197","v":""},{"$f":"RS!F197","v":""},{"$f":"RS!G197","v":""},{"$f":"RS!H197","v":""},{"$f":"RS!I197","v":""},{"$f":"RS!J197","v":""},{"$f":"RS!K197","v":""},{"$f":"RS!L197","v":""},{"$f":"RS!M197","v":""},{"$f":"RS!N197","v":""},{"$f":"RS!O197","v":""},{"$f":"RS!P197","v":""},{"$f":"RS!Q197","v":""},{"$f":"RS!R197","v":""},{"$f":"RS!S197","v":""},{"$f":"RS!T197","v":""},{"$f":"RS!U197","v":""},{"$f":"RS!V197","v":""},{"$f":"RS!W197","v":""},{"$f":"RS!X197","v":""},{"$f":"RS!Y197","v":""},{"$f":"RS!Z197","v":""},{"$f":"RS!AA197","v":""},{"$f":"RS!AB197","v":""},{"$f":"RS!AC197","v":""},null,null,null,null,null,null,null,null,null,null,null,null,null,null,null,null,null,null,null,null,null,null,null,null,null,null,null,null,"","","","","","","","","","","","","","","","","","","","","","",""]
[120,{"$f":"RS!D198","v":"33 Bäljaneå, nedstr Klippan"},{"$f":"RS!E198","v":""},{"$f":"RS!F198","v":""},{"$f":"RS!G198","v":""},{"$f":"RS!H198","v":""},{"$f":"RS!I198","v":""},{"$f":"RS!J198","v":""},{"$f":"RS!K198","v":""},{"$f":"RS!L198","v":""},{"$f":"RS!M198","v":""},{"$f":"RS!N198","v":""},{"$f":"RS!O198","v":""},{"$f":"RS!P198","v":""},{"$f":"RS!Q198","v":""},{"$f":"RS!R198","v":""},{"$f":"RS!S198","v":""},{"$f":"RS!T198","v":""},{"$f":"RS!U198","v":""},{"$f":"RS!V198","v":""},{"$f":"RS!W198","v":""},{"$f":"RS!X198","v":""},{"$f":"RS!Y198","v":""},{"$f":"RS!Z198","v":""},{"$f":"RS!AA198","v":""},{"$f":"RS!AB198","v":""},{"$f":"RS!AC198","v":""},null,null,null,null,null,null,null,null,null,null,null,null,null,null,null,null,null,null,null,null,null,null,null,null,null,null,null,null,"","","","","","","","","","","","","","","","","","","","","","",""]
[120,{"$f":"RS!D199","v":"33 Bäljaneå, nedstr Klippan"},{"$f":"RS!E199","v":""},{"$f":"RS!F199","v":""},{"$f":"RS!G199","v":""},{"$f":"RS!H199","v":""},{"$f":"RS!I199","v":""},{"$f":"RS!J199","v":""},{"$f":"RS!K199","v":""},{"$f":"RS!L199","v":""},{"$f":"RS!M199","v":""},{"$f":"RS!N199","v":""},{"$f":"RS!O199","v":""},{"$f":"RS!P199","v":""},{"$f":"RS!Q199","v":""},{"$f":"RS!R199","v":""},{"$f":"RS!S199","v":""},{"$f":"RS!T199","v":""},{"$f":"RS!U199","v":""},{"$f":"RS!V199","v":""},{"$f":"RS!W199","v":""},{"$f":"RS!X199","v":""},{"$f":"RS!Y199","v":""},{"$f":"RS!Z199","v":""},{"$f":"RS!AA199","v":""},{"$f":"RS!AB199","v":""},{"$f":"RS!AC199","v":""},null,null,null,null,null,null,null,null,null,null,null,null,null,null,null,null,null,null,null,null,null,null,null,null,null,null,null,null,"","","","","","","","","","","","","","","","","","","","","","",""]
[120,{"$f":"RS!D200","v":"33 Bäljaneå, nedstr Klippan"},{"$f":"RS!E200","v":""},{"$f":"RS!F200","v":""},{"$f":"RS!G200","v":""},{"$f":"RS!H200","v":""},{"$f":"RS!I200","v":""},{"$f":"RS!J200","v":""},{"$f":"RS!K200","v":""},{"$f":"RS!L200","v":""},{"$f":"RS!M200","v":""},{"$f":"RS!N200","v":""},{"$f":"RS!O200","v":""},{"$f":"RS!P200","v":""},{"$f":"RS!Q200","v":""},{"$f":"RS!R200","v":""},{"$f":"RS!S200","v":""},{"$f":"RS!T200","v":""},{"$f":"RS!U200","v":""},{"$f":"RS!V200","v":""},{"$f":"RS!W200","v":""},{"$f":"RS!X200","v":""},{"$f":"RS!Y200","v":""},{"$f":"RS!Z200","v":""},{"$f":"RS!AA200","v":""},{"$f":"RS!AB200","v":""},{"$f":"RS!AC200","v":""},null,null,null,null,null,null,null,null,null,null,null,null,null,null,null,null,null,null,null,null,null,null,null,null,null,null,null,null,"","","","","","","","","","","","","","","","","","","","","","",""]
[120,{"$f":"RS!D201","v":"33 Bäljaneå, nedstr Klippan"},{"$f":"RS!E201","v":""},{"$f":"RS!F201","v":""},{"$f":"RS!G201","v":""},{"$f":"RS!H201","v":""},{"$f":"RS!I201","v":""},{"$f":"RS!J201","v":""},{"$f":"RS!K201","v":""},{"$f":"RS!L201","v":""},{"$f":"RS!M201","v":""},{"$f":"RS!N201","v":""},{"$f":"RS!O201","v":""},{"$f":"RS!P201","v":""},{"$f":"RS!Q201","v":""},{"$f":"RS!R201","v":""},{"$f":"RS!S201","v":""},{"$f":"RS!T201","v":""},{"$f":"RS!U201","v":""},{"$f":"RS!V201","v":""},{"$f":"RS!W201","v":""},{"$f":"RS!X201","v":""},{"$f":"RS!Y201","v":""},{"$f":"RS!Z201","v":""},{"$f":"RS!AA201","v":""},{"$f":"RS!AB201","v":""},{"$f":"RS!AC201","v":""},null,null,null,null,null,null,null,null,null,null,null,null,null,null,null,null,null,null,null,null,null,null,null,null,null,null,null,null,"","","","","","","","","","","","","","","","","","","","","","",""]
[120,{"$f":"RS!D202","v":"33 Bäljaneå, nedstr Klippan"},{"$f":"RS!E202","v":""},{"$f":"RS!F202","v":""},{"$f":"RS!G202","v":""},{"$f":"RS!H202","v":""},{"$f":"RS!I202","v":""},{"$f":"RS!J202","v":""},{"$f":"RS!K202","v":""},{"$f":"RS!L202","v":""},{"$f":"RS!M202","v":""},{"$f":"RS!N202","v":""},{"$f":"RS!O202","v":""},{"$f":"RS!P202","v":""},{"$f":"RS!Q202","v":""},{"$f":"RS!R202","v":""},{"$f":"RS!S202","v":""},{"$f":"RS!T202","v":""},{"$f":"RS!U202","v":""},{"$f":"RS!V202","v":""},{"$f":"RS!W202","v":""},{"$f":"RS!X202","v":""},{"$f":"RS!Y202","v":""},{"$f":"RS!Z202","v":""},{"$f":"RS!AA202","v":""},{"$f":"RS!AB202","v":""},{"$f":"RS!AC202","v":""},null,null,null,null,null,null,null,null,null,null,null,null,null,null,null,null,null,null,null,null,null,null,null,null,null,null,null,null,"","","","","","","","","","","","","","","","","","","","","","",""]
[120,{"$f":"RS!D203","v":"33 Bäljaneå, nedstr Klippan"},{"$f":"RS!E203","v":""},{"$f":"RS!F203","v":""},{"$f":"RS!G203","v":""},{"$f":"RS!H203","v":""},{"$f":"RS!I203","v":""},{"$f":"RS!J203","v":""},{"$f":"RS!K203","v":""},{"$f":"RS!L203","v":""},{"$f":"RS!M203","v":""},{"$f":"RS!N203","v":""},{"$f":"RS!O203","v":""},{"$f":"RS!P203","v":""},{"$f":"RS!Q203","v":""},{"$f":"RS!R203","v":""},{"$f":"RS!S203","v":""},{"$f":"RS!T203","v":""},{"$f":"RS!U203","v":""},{"$f":"RS!V203","v":""},{"$f":"RS!W203","v":""},{"$f":"RS!X203","v":""},{"$f":"RS!Y203","v":""},{"$f":"RS!Z203","v":""},{"$f":"RS!AA203","v":""},{"$f":"RS!AB203","v":""},{"$f":"RS!AC203","v":""},null,null,null,null,null,null,null,null,null,null,null,null,null,null,null,null,null,null,null,null,null,null,null,null,null,null,null,null,"","","","","","","","","","","","","","","","","","","","","","",""]
[120,{"$f":"RS!D204","v":"33 Bäljaneå, nedstr Klippan"},{"$f":"RS!E204","v":""},{"$f":"RS!F204","v":""},{"$f":"RS!G204","v":""},{"$f":"RS!H204","v":""},{"$f":"RS!I204","v":""},{"$f":"RS!J204","v":""},{"$f":"RS!K204","v":""},{"$f":"RS!L204","v":""},{"$f":"RS!M204","v":""},{"$f":"RS!N204","v":""},{"$f":"RS!O204","v":""},{"$f":"RS!P204","v":""},{"$f":"RS!Q204","v":""},{"$f":"RS!R204","v":""},{"$f":"RS!S204","v":""},{"$f":"RS!T204","v":""},{"$f":"RS!U204","v":""},{"$f":"RS!V204","v":""},{"$f":"RS!W204","v":""},{"$f":"RS!X204","v":""},{"$f":"RS!Y204","v":""},{"$f":"RS!Z204","v":""},{"$f":"RS!AA204","v":""},{"$f":"RS!AB204","v":""},{"$f":"RS!AC204","v":""},null,null,null,null,null,null,null,null,null,null,null,null,null,null,null,null,null,null,null,null,null,null,null,null,null,null,null,null,"","","","","","","","","","","","","","","","","","","","","","",""]
[120,{"$f":"RS!D205","v":"33 Bäljaneå, nedstr Klippan"},{"$f":"RS!E205","v":""},{"$f":"RS!F205","v":""},{"$f":"RS!G205","v":""},{"$f":"RS!H205","v":""},{"$f":"RS!I205","v":""},{"$f":"RS!J205","v":""},{"$f":"RS!K205","v":""},{"$f":"RS!L205","v":""},{"$f":"RS!M205","v":""},{"$f":"RS!N205","v":""},{"$f":"RS!O205","v":""},{"$f":"RS!P205","v":""},{"$f":"RS!Q205","v":""},{"$f":"RS!R205","v":""},{"$f":"RS!S205","v":""},{"$f":"RS!T205","v":""},{"$f":"RS!U205","v":""},{"$f":"RS!V205","v":""},{"$f":"RS!W205","v":""},{"$f":"RS!X205","v":""},{"$f":"RS!Y205","v":""},{"$f":"RS!Z205","v":""},{"$f":"RS!AA205","v":""},{"$f":"RS!AB205","v":""},{"$f":"RS!AC205","v":""},null,null,null,null,null,null,null,null,null,null,null,null,null,null,null,null,null,null,null,null,null,null,null,null,null,null,null,null,"","","","","","","","","","","","","","","","","","","","","","",""]
[120,{"$f":"RS!D206","v":"33 Bäljaneå, nedstr Klippan"},{"$f":"RS!E206","v":""},{"$f":"RS!F206","v":""},{"$f":"RS!G206","v":""},{"$f":"RS!H206","v":""},{"$f":"RS!I206","v":""},{"$f":"RS!J206","v":""},{"$f":"RS!K206","v":""},{"$f":"RS!L206","v":""},{"$f":"RS!M206","v":""},{"$f":"RS!N206","v":""},{"$f":"RS!O206","v":""},{"$f":"RS!P206","v":""},{"$f":"RS!Q206","v":""},{"$f":"RS!R206","v":""},{"$f":"RS!S206","v":""},{"$f":"RS!T206","v":""},{"$f":"RS!U206","v":""},{"$f":"RS!V206","v":""},{"$f":"RS!W206","v":""},{"$f":"RS!X206","v":""},{"$f":"RS!Y206","v":""},{"$f":"RS!Z206","v":""},{"$f":"RS!AA206","v":""},{"$f":"RS!AB206","v":""},{"$f":"RS!AC206","v":""},null,null,null,null,null,null,null,null,null,null,null,null,null,null,null,null,null,null,null,null,null,null,null,null,null,null,null,null,"","","","","","","","","","","","","","","","","","","","","","",""]
[null,null,"Medel",{"$f":"AVERAGE(BD295:BD306)","v":2.25},{"$f":"AVERAGE(BE295:BE306)","v":13.75},{"$f":"AVERAGE(BF295:BF306)","v":100},{"$f":"AVERAGE(BG295:BG306)","v":6.75},{"$f":"AVERAGE(BH295:BH306)","v":0.19500000000000001},{"$f":"AVERAGE(BI295:BI306)","v":11.25},{"$f":"AVERAGE(BJ295:BJ306)","v":215},{"$f":"AVERAGE(BK295:BK306)","v":6.9},{"$f":"AVERAGE(BL295:BL306)","v":0.33999999999999997},{"$f":"AVERAGE(BM295:BM306)","v":{"$error":"#DIV/0!"}},{"$f":"AVERAGE(BN295:BN306)","v":55.300000000000004},{"$f":"AVERAGE(BO295:BO306)","v":{"$error":"#DIV/0!"}},{"$f":"AVERAGE(BP295:BP306)","v":{"$error":"#DIV/0!"}},{"$f":"AVERAGE(BQ295:BQ306)","v":{"$error":"#DIV/0!"}},{"$f":"AVERAGE(BR295:BR306)","v":25.5},{"$f":"AVERAGE(BS295:BS306)","v":1100},{"$f":"AVERAGE(BT295:BT306)","v":{"$error":"#DIV/0!"}},{"$f":"AVERAGE(BU295:BU306)","v":1650},{"$f":"AVERAGE(BV295:BV306)","v":0.39500000000000002},{"$f":"AVERAGE(BW295:BW306)","v":0.18},{"$f":"AVERAGE(BX295:BX306)","v":0.22999999999999998},{"$f":"AVERAGE(BY295:BY306)","v":{"$error":"#DIV/0!"}},{"$f":"AVERAGE(BZ295:BZ306)","v":{"$error":"#DIV/0!"}},null,null,null,null,null,null,null,null,null,null,null,null,null,null,null,null,null,null,null,null,null,null,null,null,null,null,null,null,null,2.25,13.75,100,6.75,0.19500000000000001,11.25,215,6.9,0.33999999999999997,{"$error":"#DIV/0!"},55.300000000000004,{"$error":"#DIV/0!"},{"$error":"#DIV/0!"},{"$error":"#DIV/0!"},25.5,1100,{"$error":"#DIV/0!"},1650,0.39500000000000002,0.18,0.22999999999999998,{"$error":"#DIV/0!"},{"$error":"#DIV/0!"}]
[null,null,"Max",{"$f":"MAX(BD295:BD306)","v":2.5},{"$f":"MAX(BE295:BE306)","v":14},{"$f":"MAX(BF295:BF306)","v":101},{"$f":"MAX(BG295:BG306)","v":6.9},{"$f":"MAX(BH295:BH306)","v":0.26},{"$f":"MAX(BI295:BI306)","v":12},{"$f":"MAX(BJ295:BJ306)","v":250},{"$f":"MAX(BK295:BK306)","v":8.3000000000000007},{"$f":"MAX(BL295:BL306)","v":0.36},{"$f":"MAX(BM295:BM306)","v":0},{"$f":"MAX(BN295:BN306)","v":67.150000000000006},{"$f":"MAX(BO295:BO306)","v":0},{"$f":"MAX(BP295:BP306)","v":0},{"$f":"MAX(BQ295:BQ306)","v":0},{"$f":"MAX(BR295:BR306)","v":28},{"$f":"MAX(BS295:BS306)","v":1100},{"$f":"MAX(BT295:BT306)","v":0},{"$f":"MAX(BU295:BU306)","v":1700},{"$f":"MAX(BV295:BV306)","v":0.45},{"$f":"MAX(BW295:BW306)","v":0.2},{"$f":"MAX(BX295:BX306)","v":0.24},{"$f":"MAX(BY295:BY306)","v":0},{"$f":"MAX(BZ295:BZ306)","v":0},null,null,null,null,null,null,null,null,null,null,null,null,null,null,null,null,null,null,null,null,null,null,null,null,null,null,null,null,null,2.5,14,101,6.9,0.26,12,250,8.3000000000000007,0.36,0,67.150000000000006,0,0,0,28,1100,0,1700,0.45,0.2,0.24,0,0]
[null,null,"Min",{"$f":"MIN(BD295:BD306)","v":2},{"$f":"MIN(BE295:BE306)","v":13.5},{"$f":"MIN(BF295:BF306)","v":99},{"$f":"MIN(BG295:BG306)","v":6.6},{"$f":"MIN(BH295:BH306)","v":0.13},{"$f":"MIN(BI295:BI306)","v":10.5},{"$f":"MIN(BJ295:BJ306)","v":180},{"$f":"MIN(BK295:BK306)","v":5.5},{"$f":"MIN(BL295:BL306)","v":0.32},{"$f":"MIN(BM295:BM306)","v":0},{"$f":"MIN(BN295:BN306)","v":43.45},{"$f":"MIN(BO295:BO306)","v":0},{"$f":"MIN(BP295:BP306)","v":0},{"$f":"MIN(BQ295:BQ306)","v":0},{"$f":"MIN(BR295:BR306)","v":23},{"$f":"MIN(BS295:BS306)","v":1100},{"$f":"MIN(BT295:BT306)","v":0},{"$f":"MIN(BU295:BU306)","v":1600},{"$f":"MIN(BV295:BV306)","v":0.34},{"$f":"MIN(BW295:BW306)","v":0.16},{"$f":"MIN(BX295:BX306)","v":0.22},{"$f":"MIN(BY295:BY306)","v":0},{"$f":"MIN(BZ295:BZ306)","v":0},null,null,null,null,null,null,null,null,null,null,null,null,null,null,null,null,null,null,null,null,null,null,null,null,null,null,null,null,null,2,13.5,99,6.6,0.13,10.5,180,5.5,0.32,0,43.45,0,0,0,23,1100,0,1600,0.34,0.16,0.22,0,0]
[null,null,null,null,null,null,null,null,null,null,null,null,null,null,null,null,null,null,null,null,null,null,null,null,null,null,null,null,null,null,null,null,null,null,null,null,null,null,null,null,null,null,null,null,null,null,null,null,null,null,null,null,null,null,null,0,0,0,0,0,0,0,0,0,0,0,0,0,0,0,0,0,0,0,0,0,0,0]
[125,{"$f":"RS!D207","v":"77 Biflöde till Rönneå, uppstr Kvidinge ARV"},{"$f":"RS!E207","v":"2025-02-11"},{"$f":"RS!F207","v":2.5},{"$f":"RS!G207","v":13.5},{"$f":"RS!H207","v":99},{"$f":"RS!I207","v":7.5},{"$f":"RS!J207","v":1.4},{"$f":"RS!K207","v":38.4},{"$f":"RS!L207","v":100},{"$f":"RS!M207","v":17},{"$f":"RS!N207","v":0.14000000000000001},{"$f":"RS!O207","v":1.4},{"$f":"RS!P207","v":30.810000000000002},{"$f":"RS!Q207","v":"<30"},{"$f":"RS!R207","v":""},{"$f":"RS!S207","v":""},{"$f":"RS!T207","v":91},{"$f":"RS!U207","v":8800},{"$f":"RS!V207","v":92},{"$f":"RS!W207","v":8800},{"$f":"RS!X207","v":2.2000000000000002},{"$f":"RS!Y207","v":0.59},{"$f":"RS!Z207","v":0.83},{"$f":"RS!AA207","v":""},{"$f":"RS!AB207","v":""},{"$f":"RS!AC207","v":""},null,null,null,null,null,null,null,null,null,null,null,null,null,null,null,null,null,null,null,null,null,null,null,null,null,null,null,null,2.5,13.5,99,7.5,1.4,38.4,100,17,0.14000000000000001,1.4,30.810000000000002,30,"","",91,8800,92,8800,2.2000000000000002,0.59,0.83,"",""]
[125,{"$f":"RS!D208","v":"77 Biflöde till Rönneå, uppstr Kvidinge ARV"},{"$f":"RS!E208","v":""},{"$f":"RS!F208","v":""},{"$f":"RS!G208","v":""},{"$f":"RS!H208","v":""},{"$f":"RS!I208","v":""},{"$f":"RS!J208","v":""},{"$f":"RS!K208","v":""},{"$f":"RS!L208","v":""},{"$f":"RS!M208","v":""},{"$f":"RS!N208","v":""},{"$f":"RS!O208","v":""},{"$f":"RS!P208","v":""},{"$f":"RS!Q208","v":""},{"$f":"RS!R208","v":""},{"$f":"RS!S208","v":""},{"$f":"RS!T208","v":""},{"$f":"RS!U208","v":""},{"$f":"RS!V208","v":""},{"$f":"RS!W208","v":""},{"$f":"RS!X208","v":""},{"$f":"RS!Y208","v":""},{"$f":"RS!Z208","v":""},{"$f":"RS!AA208","v":""},{"$f":"RS!AB208","v":""},{"$f":"RS!AC208","v":""},null,null,null,null,null,null,null,null,null,null,null,null,null,null,null,null,null,null,null,null,null,null,null,null,null,null,null,null,"","","","","","","","","","","","","","","","","","","","","","",""]
[125,{"$f":"RS!D209","v":"77 Biflöde till Rönneå, uppstr Kvidinge ARV"},{"$f":"RS!E209","v":""},{"$f":"RS!F209","v":""},{"$f":"RS!G209","v":""},{"$f":"RS!H209","v":""},{"$f":"RS!I209","v":""},{"$f":"RS!J209","v":""},{"$f":"RS!K209","v":""},{"$f":"RS!L209","v":""},{"$f":"RS!M209","v":""},{"$f":"RS!N209","v":""},{"$f":"RS!O209","v":""},{"$f":"RS!P209","v":""},{"$f":"RS!Q209","v":""},{"$f":"RS!R209","v":""},{"$f":"RS!S209","v":""},{"$f":"RS!T209","v":""},{"$f":"RS!U209","v":""},{"$f":"RS!V209","v":""},{"$f":"RS!W209","v":""},{"$f":"RS!X209","v":""},{"$f":"RS!Y209","v":""},{"$f":"RS!Z209","v":""},{"$f":"RS!AA209","v":""},{"$f":"RS!AB209","v":""},{"$f":"RS!AC209","v":""},null,null,null,null,null,null,null,null,null,null,null,null,null,null,null,null,null,null,null,null,null,null,null,null,null,null,null,null,"","","","","","","","","","","","","","","","","","","","","","",""]
[125,{"$f":"RS!D210","v":"77 Biflöde till Rönneå, uppstr Kvidinge ARV"},{"$f":"RS!E210","v":""},{"$f":"RS!F210","v":""},{"$f":"RS!G210","v":""},{"$f":"RS!H210","v":""},{"$f":"RS!I210","v":""},{"$f":"RS!J210","v":""},{"$f":"RS!K210","v":""},{"$f":"RS!L210","v":""},{"$f":"RS!M210","v":""},{"$f":"RS!N210","v":""},{"$f":"RS!O210","v":""},{"$f":"RS!P210","v":""},{"$f":"RS!Q210","v":""},{"$f":"RS!R210","v":""},{"$f":"RS!S210","v":""},{"$f":"RS!T210","v":""},{"$f":"RS!U210","v":""},{"$f":"RS!V210","v":""},{"$f":"RS!W210","v":""},{"$f":"RS!X210","v":""},{"$f":"RS!Y210","v":""},{"$f":"RS!Z210","v":""},{"$f":"RS!AA210","v":""},{"$f":"RS!AB210","v":""},{"$f":"RS!AC210","v":""},null,null,null,null,null,null,null,null,null,null,null,null,null,null,null,null,null,null,null,null,null,null,null,null,null,null,null,null,"","","","","","","","","","","","","","","","","","","","","","",""]
[125,{"$f":"RS!D211","v":"77 Biflöde till Rönneå, uppstr Kvidinge ARV"},{"$f":"RS!E211","v":""},{"$f":"RS!F211","v":""},{"$f":"RS!G211","v":""},{"$f":"RS!H211","v":""},{"$f":"RS!I211","v":""},{"$f":"RS!J211","v":""},{"$f":"RS!K211","v":""},{"$f":"RS!L211","v":""},{"$f":"RS!M211","v":""},{"$f":"RS!N211","v":""},{"$f":"RS!O211","v":""},{"$f":"RS!P211","v":""},{"$f":"RS!Q211","v":""},{"$f":"RS!R211","v":""},{"$f":"RS!S211","v":""},{"$f":"RS!T211","v":""},{"$f":"RS!U211","v":""},{"$f":"RS!V211","v":""},{"$f":"RS!W211","v":""},{"$f":"RS!X211","v":""},{"$f":"RS!Y211","v":""},{"$f":"RS!Z211","v":""},{"$f":"RS!AA211","v":""},{"$f":"RS!AB211","v":""},{"$f":"RS!AC211","v":""},null,null,null,null,null,null,null,null,null,null,null,null,null,null,null,null,null,null,null,null,null,null,null,null,null,null,null,null,"","","","","","","","","","","","","","","","","","","","","","",""]
[125,{"$f":"RS!D212","v":"77 Biflöde till Rönneå, uppstr Kvidinge ARV"},{"$f":"RS!E212","v":""},{"$f":"RS!F212","v":""},{"$f":"RS!G212","v":""},{"$f":"RS!H212","v":""},{"$f":"RS!I212","v":""},{"$f":"RS!J212","v":""},{"$f":"RS!K212","v":""},{"$f":"RS!L212","v":""},{"$f":"RS!M212","v":""},{"$f":"RS!N212","v":""},{"$f":"RS!O212","v":""},{"$f":"RS!P212","v":""},{"$f":"RS!Q212","v":""},{"$f":"RS!R212","v":""},{"$f":"RS!S212","v":""},{"$f":"RS!T212","v":""},{"$f":"RS!U212","v":""},{"$f":"RS!V212","v":""},{"$f":"RS!W212","v":""},{"$f":"RS!X212","v":""},{"$f":"RS!Y212","v":""},{"$f":"RS!Z212","v":""},{"$f":"RS!AA212","v":""},{"$f":"RS!AB212","v":""},{"$f":"RS!AC212","v":""},null,null,null,null,null,null,null,null,null,null,null,null,null,null,null,null,null,null,null,null,null,null,null,null,null,null,null,null,"","","","","","","","","","","","","","","","","","","","","","",""]
[null,null,"Medel",{"$f":"AVERAGE(BD311:BD316)","v":2.5},{"$f":"AVERAGE(BE311:BE316)","v":13.5},{"$f":"AVERAGE(BF311:BF316)","v":99},{"$f":"AVERAGE(BG311:BG316)","v":7.5},{"$f":"AVERAGE(BH311:BH316)","v":1.4},{"$f":"AVERAGE(BI311:BI316)","v":38.4},{"$f":"AVERAGE(BJ311:BJ316)","v":100},{"$f":"AVERAGE(BK311:BK316)","v":17},{"$f":"AVERAGE(BL311:BL316)","v":0.14000000000000001},{"$f":"AVERAGE(BM311:BM316)","v":1.4},{"$f":"AVERAGE(BN311:BN316)","v":30.810000000000002},{"$f":"AVERAGE(BO311:BO316)","v":30},{"$f":"AVERAGE(BP311:BP316)","v":{"$error":"#DIV/0!"}},{"$f":"AVERAGE(BQ311:BQ316)","v":{"$error":"#DIV/0!"}},{"$f":"AVERAGE(BR311:BR316)","v":91},{"$f":"AVERAGE(BS311:BS316)","v":8800},{"$f":"AVERAGE(BT311:BT316)","v":92},{"$f":"AVERAGE(BU311:BU316)","v":8800},{"$f":"AVERAGE(BV311:BV316)","v":2.2000000000000002},{"$f":"AVERAGE(BW311:BW316)","v":0.59},{"$f":"AVERAGE(BX311:BX316)","v":0.83},{"$f":"AVERAGE(BY311:BY316)","v":{"$error":"#DIV/0!"}},{"$f":"AVERAGE(BZ311:BZ316)","v":{"$error":"#DIV/0!"}},null,null,null,null,null,null,null,null,null,null,null,null,null,null,null,null,null,null,null,null,null,null,null,null,null,null,null,null,null,2.5,13.5,99,7.5,1.4,38.4,100,17,0.14000000000000001,1.4,30.810000000000002,30,{"$error":"#DIV/0!"},{"$error":"#DIV/0!"},91,8800,92,8800,2.2000000000000002,0.59,0.83,{"$error":"#DIV/0!"},{"$error":"#DIV/0!"}]
[null,null,"Max",{"$f":"MAX(BD311:BD316)","v":2.5},{"$f":"MAX(BE311:BE316)","v":13.5},{"$f":"MAX(BF311:BF316)","v":99},{"$f":"MAX(BG311:BG316)","v":7.5},{"$f":"MAX(BH311:BH316)","v":1.4},{"$f":"MAX(BI311:BI316)","v":38.4},{"$f":"MAX(BJ311:BJ316)","v":100},{"$f":"MAX(BK311:BK316)","v":17},{"$f":"MAX(BL311:BL316)","v":0.14000000000000001},{"$f":"MAX(BM311:BM316)","v":1.4},{"$f":"MAX(BN311:BN316)","v":30.810000000000002},{"$f":"MAX(BO311:BO316)","v":30},{"$f":"MAX(BP311:BP316)","v":0},{"$f":"MAX(BQ311:BQ316)","v":0},{"$f":"MAX(BR311:BR316)","v":91},{"$f":"MAX(BS311:BS316)","v":8800},{"$f":"MAX(BT311:BT316)","v":92},{"$f":"MAX(BU311:BU316)","v":8800},{"$f":"MAX(BV311:BV316)","v":2.2000000000000002},{"$f":"MAX(BW311:BW316)","v":0.59},{"$f":"MAX(BX311:BX316)","v":0.83},{"$f":"MAX(BY311:BY316)","v":0},{"$f":"MAX(BZ311:BZ316)","v":0},null,null,null,null,null,null,null,null,null,null,null,null,null,null,null,null,null,null,null,null,null,null,null,null,null,null,null,null,null,2.5,13.5,99,7.5,1.4,38.4,100,17,0.14000000000000001,1.4,30.810000000000002,30,0,0,91,8800,92,8800,2.2000000000000002,0.59,0.83,0,0]
[null,null,"Min",{"$f":"MIN(BD311:BD316)","v":2.5},{"$f":"MIN(BE311:BE316)","v":13.5},{"$f":"MIN(BF311:BF316)","v":99},{"$f":"MIN(BG311:BG316)","v":7.5},{"$f":"MIN(BH311:BH316)","v":1.4},{"$f":"MIN(BI311:BI316)","v":38.4},{"$f":"MIN(BJ311:BJ316)","v":100},{"$f":"MIN(BK311:BK316)","v":17},{"$f":"MIN(BL311:BL316)","v":0.14000000000000001},{"$f":"MIN(BM311:BM316)","v":1.4},{"$f":"MIN(BN311:BN316)","v":30.810000000000002},{"$f":"MIN(BO311:BO316)","v":30},{"$f":"MIN(BP311:BP316)","v":0},{"$f":"MIN(BQ311:BQ316)","v":0},{"$f":"MIN(BR311:BR316)","v":91},{"$f":"MIN(BS311:BS316)","v":8800},{"$f":"MIN(BT311:BT316)","v":92},{"$f":"MIN(BU311:BU316)","v":8800},{"$f":"MIN(BV311:BV316)","v":2.2000000000000002},{"$f":"MIN(BW311:BW316)","v":0.59},{"$f":"MIN(BX311:BX316)","v":0.83},{"$f":"MIN(BY311:BY316)","v":0},{"$f":"MIN(BZ311:BZ316)","v":0},null,null,null,null,null,null,null,null,null,null,null,null,null,null,null,null,null,null,null,null,null,null,null,null,null,null,null,null,null,2.5,13.5,99,7.5,1.4,38.4,100,17,0.14000000000000001,1.4,30.810000000000002,30,0,0,91,8800,92,8800,2.2000000000000002,0.59,0.83,0,0]
[null,null,null,null,null,null,null,null,null,null,null,null,null,null,null,null,null,null,null,null,null,null,null,null,null,null,null,null,null,null,null,null,null,null,null,null,null,null,null,null,null,null,null,null,null,null,null,null,null,null,null,null,null,null,null,0,0,0,0,0,0,0,0,0,0,0,0,0,0,0,0,0,0,0,0,0,0,0]
[130,{"$f":"RS!D213","v":"36 Pinnån, nedstr Åsljungasjön"},{"$f":"RS!E213","v":"2025-02-12"},{"$f":"RS!F213","v":1.1000000000000001},{"$f":"RS!G213","v":12.5},{"$f":"RS!H213","v":88},{"$f":"RS!I213","v":6.3},{"$f":"RS!J213","v":0.11},{"$f":"RS!K213","v":8.9600000000000009},{"$f":"RS!L213","v":300},{"$f":"RS!M213","v":4.8},{"$f":"RS!N213","v":0.46},{"$f":"RS!O213","v":1.7},{"$f":"RS!P213","v":86.9},{"$f":"RS!Q213","v":48},{"$f":"RS!R213","v":""},{"$f":"RS!S213","v":""},{"$f":"RS!T213","v":29},{"$f":"RS!U213","v":370},{"$f":"RS!V213","v":35},{"$f":"RS!W213","v":940},{"$f":"RS!X213","v":0.25},{"$f":"RS!Y213","v":0.12},{"$f":"RS!Z213","v":0.12},{"$f":"RS!AA213","v":""},{"$f":"RS!AB213","v":""},{"$f":"RS!AC213","v":""},null,null,null,null,null,null,null,null,null,null,null,null,null,null,null,null,null,null,null,null,null,null,null,null,null,null,null,null,1.1000000000000001,12.5,88,6.3,0.11,8.9600000000000009,300,4.8,0.46,1.7,86.9,48,"","",29,370,35,940,0.25,0.12,0.12,"",""]
[130,{"$f":"RS!D214","v":"36 Pinnån, nedstr Åsljungasjön"},{"$f":"RS!E214","v":""},{"$f":"RS!F214","v":""},{"$f":"RS!G214","v":""},{"$f":"RS!H214","v":""},{"$f":"RS!I214","v":""},{"$f":"RS!J214","v":""},{"$f":"RS!K214","v":""},{"$f":"RS!L214","v":""},{"$f":"RS!M214","v":""},{"$f":"RS!N214","v":""},{"$f":"RS!O214","v":""},{"$f":"RS!P214","v":""},{"$f":"RS!Q214","v":""},{"$f":"RS!R214","v":""},{"$f":"RS!S214","v":""},{"$f":"RS!T214","v":""},{"$f":"RS!U214","v":""},{"$f":"RS!V214","v":""},{"$f":"RS!W214","v":""},{"$f":"RS!X214","v":""},{"$f":"RS!Y214","v":""},{"$f":"RS!Z214","v":""},{"$f":"RS!AA214","v":""},{"$f":"RS!AB214","v":""},{"$f":"RS!AC214","v":""},null,null,null,null,null,null,null,null,null,null,null,null,null,null,null,null,null,null,null,null,null,null,null,null,null,null,null,null,"","","","","","","","","","","","","","","","","","","","","","",""]
[130,{"$f":"RS!D215","v":"36 Pinnån, nedstr Åsljungasjön"},{"$f":"RS!E215","v":""},{"$f":"RS!F215","v":""},{"$f":"RS!G215","v":""},{"$f":"RS!H215","v":""},{"$f":"RS!I215","v":""},{"$f":"RS!J215","v":""},{"$f":"RS!K215","v":""},{"$f":"RS!L215","v":""},{"$f":"RS!M215","v":""},{"$f":"RS!N215","v":""},{"$f":"RS!O215","v":""},{"$f":"RS!P215","v":""},{"$f":"RS!Q215","v":""},{"$f":"RS!R215","v":""},{"$f":"RS!S215","v":""},{"$f":"RS!T215","v":""},{"$f":"RS!U215","v":""},{"$f":"RS!V215","v":""},{"$f":"RS!W215","v":""},{"$f":"RS!X215","v":""},{"$f":"RS!Y215","v":""},{"$f":"RS!Z215","v":""},{"$f":"RS!AA215","v":""},{"$f":"RS!AB215","v":""},{"$f":"RS!AC215","v":""},null,null,null,null,null,null,null,null,null,null,null,null,null,null,null,null,null,null,null,null,null,null,null,null,null,null,null,null,"","","","","","","","","","","","","","","","","","","","","","",""]
[130,{"$f":"RS!D216","v":"36 Pinnån, nedstr Åsljungasjön"},{"$f":"RS!E216","v":""},{"$f":"RS!F216","v":""},{"$f":"RS!G216","v":""},{"$f":"RS!H216","v":""},{"$f":"RS!I216","v":""},{"$f":"RS!J216","v":""},{"$f":"RS!K216","v":""},{"$f":"RS!L216","v":""},{"$f":"RS!M216","v":""},{"$f":"RS!N216","v":""},{"$f":"RS!O216","v":""},{"$f":"RS!P216","v":""},{"$f":"RS!Q216","v":""},{"$f":"RS!R216","v":""},{"$f":"RS!S216","v":""},{"$f":"RS!T216","v":""},{"$f":"RS!U216","v":""},{"$f":"RS!V216","v":""},{"$f":"RS!W216","v":""},{"$f":"RS!X216","v":""},{"$f":"RS!Y216","v":""},{"$f":"RS!Z216","v":""},{"$f":"RS!AA216","v":""},{"$f":"RS!AB216","v":""},{"$f":"RS!AC216","v":""},null,null,null,null,null,null,null,null,null,null,null,null,null,null,null,null,null,null,null,null,null,null,null,null,null,null,null,null,"","","","","","","","","","","","","","","","","","","","","","",""]
[130,{"$f":"RS!D217","v":"36 Pinnån, nedstr Åsljungasjön"},{"$f":"RS!E217","v":""},{"$f":"RS!F217","v":""},{"$f":"RS!G217","v":""},{"$f":"RS!H217","v":""},{"$f":"RS!I217","v":""},{"$f":"RS!J217","v":""},{"$f":"RS!K217","v":""},{"$f":"RS!L217","v":""},{"$f":"RS!M217","v":""},{"$f":"RS!N217","v":""},{"$f":"RS!O217","v":""},{"$f":"RS!P217","v":""},{"$f":"RS!Q217","v":""},{"$f":"RS!R217","v":""},{"$f":"RS!S217","v":""},{"$f":"RS!T217","v":""},{"$f":"RS!U217","v":""},{"$f":"RS!V217","v":""},{"$f":"RS!W217","v":""},{"$f":"RS!X217","v":""},{"$f":"RS!Y217","v":""},{"$f":"RS!Z217","v":""},{"$f":"RS!AA217","v":""},{"$f":"RS!AB217","v":""},{"$f":"RS!AC217","v":""},null,null,null,null,null,null,null,null,null,null,null,null,null,null,null,null,null,null,null,null,null,null,null,null,null,null,null,null,"","","","","","","","","","","","","","","","","","","","","","",""]
[130,{"$f":"RS!D218","v":"36 Pinnån, nedstr Åsljungasjön"},{"$f":"RS!E218","v":""},{"$f":"RS!F218","v":""},{"$f":"RS!G218","v":""},{"$f":"RS!H218","v":""},{"$f":"RS!I218","v":""},{"$f":"RS!J218","v":""},{"$f":"RS!K218","v":""},{"$f":"RS!L218","v":""},{"$f":"RS!M218","v":""},{"$f":"RS!N218","v":""},{"$f":"RS!O218","v":""},{"$f":"RS!P218","v":""},{"$f":"RS!Q218","v":""},{"$f":"RS!R218","v":""},{"$f":"RS!S218","v":""},{"$f":"RS!T218","v":""},{"$f":"RS!U218","v":""},{"$f":"RS!V218","v":""},{"$f":"RS!W218","v":""},{"$f":"RS!X218","v":""},{"$f":"RS!Y218","v":""},{"$f":"RS!Z218","v":""},{"$f":"RS!AA218","v":""},{"$f":"RS!AB218","v":""},{"$f":"RS!AC218","v":""},null,null,null,null,null,null,null,null,null,null,null,null,null,null,null,null,null,null,null,null,null,null,null,null,null,null,null,null,"","","","","","","","","","","","","","","","","","","","","","",""]
[null,null,"Medel",{"$f":"AVERAGE(BD321:BD326)","v":1.1000000000000001},{"$f":"AVERAGE(BE321:BE326)","v":12.5},{"$f":"AVERAGE(BF321:BF326)","v":88},{"$f":"AVERAGE(BG321:BG326)","v":6.3},{"$f":"AVERAGE(BH321:BH326)","v":0.11},{"$f":"AVERAGE(BI321:BI326)","v":8.9600000000000009},{"$f":"AVERAGE(BJ321:BJ326)","v":300},{"$f":"AVERAGE(BK321:BK326)","v":4.8},{"$f":"AVERAGE(BL321:BL326)","v":0.46},{"$f":"AVERAGE(BM321:BM326)","v":1.7},{"$f":"AVERAGE(BN321:BN326)","v":86.9},{"$f":"AVERAGE(BO321:BO326)","v":48},{"$f":"AVERAGE(BP321:BP326)","v":{"$error":"#DIV/0!"}},{"$f":"AVERAGE(BQ321:BQ326)","v":{"$error":"#DIV/0!"}},{"$f":"AVERAGE(BR321:BR326)","v":29},{"$f":"AVERAGE(BS321:BS326)","v":370},{"$f":"AVERAGE(BT321:BT326)","v":35},{"$f":"AVERAGE(BU321:BU326)","v":940},{"$f":"AVERAGE(BV321:BV326)","v":0.25},{"$f":"AVERAGE(BW321:BW326)","v":0.12},{"$f":"AVERAGE(BX321:BX326)","v":0.12},{"$f":"AVERAGE(BY321:BY326)","v":{"$error":"#DIV/0!"}},{"$f":"AVERAGE(BZ321:BZ326)","v":{"$error":"#DIV/0!"}},null,null,null,null,null,null,null,null,null,null,null,null,null,null,null,null,null,null,null,null,null,null,null,null,null,null,null,null,null,1.1000000000000001,12.5,88,6.3,0.11,8.9600000000000009,300,4.8,0.46,1.7,86.9,48,{"$error":"#DIV/0!"},{"$error":"#DIV/0!"},29,370,35,940,0.25,0.12,0.12,{"$error":"#DIV/0!"},{"$error":"#DIV/0!"}]
[null,null,"Max",{"$f":"MAX(BD321:BD326)","v":1.1000000000000001},{"$f":"MAX(BE321:BE326)","v":12.5},{"$f":"MAX(BF321:BF326)","v":88},{"$f":"MAX(BG321:BG326)","v":6.3},{"$f":"MAX(BH321:BH326)","v":0.11},{"$f":"MAX(BI321:BI326)","v":8.9600000000000009},{"$f":"MAX(BJ321:BJ326)","v":300},{"$f":"MAX(BK321:BK326)","v":4.8},{"$f":"MAX(BL321:BL326)","v":0.46},{"$f":"MAX(BM321:BM326)","v":1.7},{"$f":"MAX(BN321:BN326)","v":86.9},{"$f":"MAX(BO321:BO326)","v":48},{"$f":"MAX(BP321:BP326)","v":0},{"$f":"MAX(BQ321:BQ326)","v":0},{"$f":"MAX(BR321:BR326)","v":29},{"$f":"MAX(BS321:BS326)","v":370},{"$f":"MAX(BT321:BT326)","v":35},{"$f":"MAX(BU321:BU326)","v":940},{"$f":"MAX(BV321:BV326)","v":0.25},{"$f":"MAX(BW321:BW326)","v":0.12},{"$f":"MAX(BX321:BX326)","v":0.12},{"$f":"MAX(BY321:BY326)","v":0},{"$f":"MAX(BZ321:BZ326)","v":0},null,null,null,null,null,null,null,null,null,null,null,null,null,null,null,null,null,null,null,null,null,null,null,null,null,null,null,null,null,{"$f":"IF(OR(LEFT(D328,1)=\"<\",LEFT(D328,1)=\">\"),VALUE(MID(D328,2,5)),D328)","v":1.1000000000000001},{"$f":"IF(OR(LEFT(E328,1)=\"<\",LEFT(E328,1)=\">\"),VALUE(MID(E328,2,5)),E328)","v":12.5},{"$f":"IF(OR(LEFT(F328,1)=\"<\",LEFT(F328,1)=\">\"),VALUE(MID(F328,2,5)),F328)","v":88},{"$f":"IF(OR(LEFT(G328,1)=\"<\",LEFT(G328,1)=\">\"),VALUE(MID(G328,2,5)),G328)","v":6.3},{"$f":"IF(OR(LEFT(H328,1)=\"<\",LEFT(H328,1)=\">\"),VALUE(MID(H328,2,5)),H328)","v":0.11},{"$f":"IF(OR(LEFT(I328,1)=\"<\",LEFT(I328,1)=\">\"),VALUE(MID(I328,2,5)),I328)","v":8.9600000000000009},{"$f":"IF(OR(LEFT(J328,1)=\"<\",LEFT(J328,1)=\">\"),VALUE(MID(J328,2,5)),J328)","v":300},{"$f":"IF(OR(LEFT(K328,1)=\"<\",LEFT(K328,1)=\">\"),VALUE(MID(K328,2,5)),K328)","v":4.8},{"$f":"IF(OR(LEFT(L328,1)=\"<\",LEFT(L328,1)=\">\"),VALUE(MID(L328,2,5)),L328)","v":0.46},{"$f":"IF(OR(LEFT(M328,1)=\"<\",LEFT(M328,1)=\">\"),VALUE(MID(M328,2,5)),M328)","v":1.7},{"$f":"IF(OR(LEFT(N328,1)=\"<\",LEFT(N328,1)=\">\"),VALUE(MID(N328,2,5)),N328)","v":86.9},{"$f":"IF(OR(LEFT(O328,1)=\"<\",LEFT(O328,1)=\">\"),VALUE(MID(O328,2,5)),O328)","v":48},{"$f":"IF(OR(LEFT(P328,1)=\"<\",LEFT(P328,1)=\">\"),VALUE(MID(P328,2,5)),P328)","v":0},{"$f":"IF(OR(LEFT(Q328,1)=\"<\",LEFT(Q328,1)=\">\"),VALUE(MID(Q328,2,5)),Q328)","v":0},{"$f":"IF(OR(LEFT(R328,1)=\"<\",LEFT(R328,1)=\">\"),VALUE(MID(R328,2,5)),R328)","v":29},{"$f":"IF(OR(LEFT(S328,1)=\"<\",LEFT(S328,1)=\">\"),VALUE(MID(S328,2,5)),S328)","v":370},{"$f":"IF(OR(LEFT(T328,1)=\"<\",LEFT(T328,1)=\">\"),VALUE(MID(T328,2,5)),T328)","v":35},{"$f":"IF(OR(LEFT(U328,1)=\"<\",LEFT(U328,1)=\">\"),VALUE(MID(U328,2,5)),U328)","v":940},{"$f":"IF(OR(LEFT(V328,1)=\"<\",LEFT(V328,1)=\">\"),VALUE(MID(V328,2,5)),V328)","v":0.25},{"$f":"IF(OR(LEFT(W328,1)=\"<\",LEFT(W328,1)=\">\"),VALUE(MID(W328,2,5)),W328)","v":0.12},{"$f":"IF(OR(LEFT(X328,1)=\"<\",LEFT(X328,1)=\">\"),VALUE(MID(X328,2,5)),X328)","v":0.12},{"$f":"IF(OR(LEFT(Y328,1)=\"<\",LEFT(Y328,1)=\">\"),VALUE(MID(Y328,2,5)),Y328)","v":0},{"$f":"IF(OR(LEFT(Z328,1)=\"<\",LEFT(Z328,1)=\">\"),VALUE(MID(Z328,2,5)),Z328)","v":0}]
[null,null,"Min",{"$f":"MIN(BD321:BD326)","v":1.1000000000000001},{"$f":"MIN(BE321:BE326)","v":12.5},{"$f":"MIN(BF321:BF326)","v":88},{"$f":"MIN(BG321:BG326)","v":6.3},{"$f":"MIN(BH321:BH326)","v":0.11},{"$f":"MIN(BI321:BI326)","v":8.9600000000000009},{"$f":"MIN(BJ321:BJ326)","v":300},{"$f":"MIN(BK321:BK326)","v":4.8},{"$f":"MIN(BL321:BL326)","v":0.46},{"$f":"MIN(BM321:BM326)","v":1.7},{"$f":"MIN(BN321:BN326)","v":86.9},{"$f":"MIN(BO321:BO326)","v":48},{"$f":"MIN(BP321:BP326)","v":0},{"$f":"MIN(BQ321:BQ326)","v":0},{"$f":"MIN(BR321:BR326)","v":29},{"$f":"MIN(BS321:BS326)","v":370},{"$f":"MIN(BT321:BT326)","v":35},{"$f":"MIN(BU321:BU326)","v":940},{"$f":"MIN(BV321:BV326)","v":0.25},{"$f":"MIN(BW321:BW326)","v":0.12},{"$f":"MIN(BX321:BX326)","v":0.12},{"$f":"MIN(BY321:BY326)","v":0},{"$f":"MIN(BZ321:BZ326)","v":0},null,null,null,null,null,null,null,null,null,null,null,null,null,null,null,null,null,null,null,null,null,null,null,null,null,null,null,null,null,1.1000000000000001,12.5,88,6.3,0.11,8.9600000000000009,300,4.8,0.46,1.7,86.9,48,0,0,29,370,35,940,0.25,0.12,0.12,0,0]
[null,null,null,null,null,null,null,null,null,null,null,null,null,null,null,null,null,null,null,null,null,null,null,null,null,null,null,null,null,null,null,null,null,null,null,null,null,null,null,null,null,null,null,null,null,null,null,null,null,null,null,null,null,null,null,0,0,0,0,0,0,0,0,0,0,0,0,0,0,0,0,0,0,0,0,0,0,0]
[135,{"$f":"RS!D219","v":"40 Pinnån, nedstr Örkelljunga"},{"$f":"RS!E219","v":"2025-02-12"},{"$f":"RS!F219","v":1.6},{"$f":"RS!G219","v":13.7},{"$f":"RS!H219","v":98},{"$f":"RS!I219","v":6.6},{"$f":"RS!J219","v":0.15},{"$f":"RS!K219","v":10.7},{"$f":"RS!L219","v":150},{"$f":"RS!M219","v":3.1},{"$f":"RS!N219","v":0.41},{"$f":"RS!O219","v":2.6},{"$f":"RS!P219","v":75.05},{"$f":"RS!Q219","v":45},{"$f":"RS!R219","v":""},{"$f":"RS!S219","v":""},{"$f":"RS!T219","v":28},{"$f":"RS!U219","v":940},{"$f":"RS!V219","v":240},{"$f":"RS!W219","v":1500},{"$f":"RS!X219","v":0.3},{"$f":"RS!Y219","v":0.15},{"$f":"RS!Z219","v":0.15},{"$f":"RS!AA219","v":""},{"$f":"RS!AB219","v":""},{"$f":"RS!AC219","v":""},null,null,null,null,null,null,null,null,null,null,null,null,null,null,null,null,null,null,null,null,null,null,null,null,null,null,null,null,1.6,13.7,98,6.6,0.15,10.7,150,3.1,0.41,2.6,75.05,45,"","",28,940,240,1500,0.3,0.15,0.15,"",""]
[135,{"$f":"RS!D220","v":"40 Pinnån, nedstr Örkelljunga"},{"$f":"RS!E220","v":""},{"$f":"RS!F220","v":""},{"$f":"RS!G220","v":""},{"$f":"RS!H220","v":""},{"$f":"RS!I220","v":""},{"$f":"RS!J220","v":""},{"$f":"RS!K220","v":""},{"$f":"RS!L220","v":""},{"$f":"RS!M220","v":""},{"$f":"RS!N220","v":""},{"$f":"RS!O220","v":""},{"$f":"RS!P220","v":""},{"$f":"RS!Q220","v":""},{"$f":"RS!R220","v":""},{"$f":"RS!S220","v":""},{"$f":"RS!T220","v":""},{"$f":"RS!U220","v":""},{"$f":"RS!V220","v":""},{"$f":"RS!W220","v":""},{"$f":"RS!X220","v":""},{"$f":"RS!Y220","v":""},{"$f":"RS!Z220","v":""},{"$f":"RS!AA220","v":""},{"$f":"RS!AB220","v":""},{"$f":"RS!AC220","v":""},null,null,null,null,null,null,null,null,null,null,null,null,null,null,null,null,null,null,null,null,null,null,null,null,null,null,null,null,"","","","","","","","","","","","","","","","","","","","","","",""]
[135,{"$f":"RS!D221","v":"40 Pinnån, nedstr Örkelljunga"},{"$f":"RS!E221","v":""},{"$f":"RS!F221","v":""},{"$f":"RS!G221","v":""},{"$f":"RS!H221","v":""},{"$f":"RS!I221","v":""},{"$f":"RS!J221","v":""},{"$f":"RS!K221","v":""},{"$f":"RS!L221","v":""},{"$f":"RS!M221","v":""},{"$f":"RS!N221","v":""},{"$f":"RS!O221","v":""},{"$f":"RS!P221","v":""},{"$f":"RS!Q221","v":""},{"$f":"RS!R221","v":""},{"$f":"RS!S221","v":""},{"$f":"RS!T221","v":""},{"$f":"RS!U221","v":""},{"$f":"RS!V221","v":""},{"$f":"RS!W221","v":""},{"$f":"RS!X221","v":""},{"$f":"RS!Y221","v":""},{"$f":"RS!Z221","v":""},{"$f":"RS!AA221","v":""},{"$f":"RS!AB221","v":""},{"$f":"RS!AC221","v":""},null,null,null,null,null,null,null,null,null,null,null,null,null,null,null,null,null,null,null,null,null,null,null,null,null,null,null,null,"","","","","","","","","","","","","","","","","","","","","","",""]
[135,{"$f":"RS!D222","v":"40 Pinnån, nedstr Örkelljunga"},{"$f":"RS!E222","v":""},{"$f":"RS!F222","v":""},{"$f":"RS!G222","v":""},{"$f":"RS!H222","v":""},{"$f":"RS!I222","v":""},{"$f":"RS!J222","v":""},{"$f":"RS!K222","v":""},{"$f":"RS!L222","v":""},{"$f":"RS!M222","v":""},{"$f":"RS!N222","v":""},{"$f":"RS!O222","v":""},{"$f":"RS!P222","v":""},{"$f":"RS!Q222","v":""},{"$f":"RS!R222","v":""},{"$f":"RS!S222","v":""},{"$f":"RS!T222","v":""},{"$f":"RS!U222","v":""},{"$f":"RS!V222","v":""},{"$f":"RS!W222","v":""},{"$f":"RS!X222","v":""},{"$f":"RS!Y222","v":""},{"$f":"RS!Z222","v":""},{"$f":"RS!AA222","v":""},{"$f":"RS!AB222","v":""},{"$f":"RS!AC222","v":""},null,null,null,null,null,null,null,null,null,null,null,null,null,null,null,null,null,null,null,null,null,null,null,null,null,null,null,null,"","","","","","","","","","","","","","","","","","","","","","",""]
[135,{"$f":"RS!D223","v":"40 Pinnån, nedstr Örkelljunga"},{"$f":"RS!E223","v":""},{"$f":"RS!F223","v":""},{"$f":"RS!G223","v":""},{"$f":"RS!H223","v":""},{"$f":"RS!I223","v":""},{"$f":"RS!J223","v":""},{"$f":"RS!K223","v":""},{"$f":"RS!L223","v":""},{"$f":"RS!M223","v":""},{"$f":"RS!N223","v":""},{"$f":"RS!O223","v":""},{"$f":"RS!P223","v":""},{"$f":"RS!Q223","v":""},{"$f":"RS!R223","v":""},{"$f":"RS!S223","v":""},{"$f":"RS!T223","v":""},{"$f":"RS!U223","v":""},{"$f":"RS!V223","v":""},{"$f":"RS!W223","v":""},{"$f":"RS!X223","v":""},{"$f":"RS!Y223","v":""},{"$f":"RS!Z223","v":""},{"$f":"RS!AA223","v":""},{"$f":"RS!AB223","v":""},{"$f":"RS!AC223","v":""},null,null,null,null,null,null,null,null,null,null,null,null,null,null,null,null,null,null,null,null,null,null,null,null,null,null,null,null,"","","","","","","","","","","","","","","","","","","","","","",""]
[135,{"$f":"RS!D224","v":"40 Pinnån, nedstr Örkelljunga"},{"$f":"RS!E224","v":""},{"$f":"RS!F224","v":""},{"$f":"RS!G224","v":""},{"$f":"RS!H224","v":""},{"$f":"RS!I224","v":""},{"$f":"RS!J224","v":""},{"$f":"RS!K224","v":""},{"$f":"RS!L224","v":""},{"$f":"RS!M224","v":""},{"$f":"RS!N224","v":""},{"$f":"RS!O224","v":""},{"$f":"RS!P224","v":""},{"$f":"RS!Q224","v":""},{"$f":"RS!R224","v":""},{"$f":"RS!S224","v":""},{"$f":"RS!T224","v":""},{"$f":"RS!U224","v":""},{"$f":"RS!V224","v":""},{"$f":"RS!W224","v":""},{"$f":"RS!X224","v":""},{"$f":"RS!Y224","v":""},{"$f":"RS!Z224","v":""},{"$f":"RS!AA224","v":""},{"$f":"RS!AB224","v":""},{"$f":"RS!AC224","v":""},null,null,null,null,null,null,null,null,null,null,null,null,null,null,null,null,null,null,null,null,null,null,null,null,null,null,null,null,"","","","","","","","","","","","","","","","","","","","","","",""]
[null,null,"Medel",{"$f":"AVERAGE(BD331:BD336)","v":1.6},{"$f":"AVERAGE(BE331:BE336)","v":13.7},{"$f":"AVERAGE(BF331:BF336)","v":98},{"$f":"AVERAGE(BG331:BG336)","v":6.6},{"$f":"AVERAGE(BH331:BH336)","v":0.15},{"$f":"AVERAGE(BI331:BI336)","v":10.7},{"$f":"AVERAGE(BJ331:BJ336)","v":150},{"$f":"AVERAGE(BK331:BK336)","v":3.1},{"$f":"AVERAGE(BL331:BL336)","v":0.41},{"$f":"AVERAGE(BM331:BM336)","v":2.6},{"$f":"AVERAGE(BN331:BN336)","v":75.05},{"$f":"AVERAGE(BO331:BO336)","v":45},{"$f":"AVERAGE(BP331:BP336)","v":{"$error":"#DIV/0!"}},{"$f":"AVERAGE(BQ331:BQ336)","v":{"$error":"#DIV/0!"}},{"$f":"AVERAGE(BR331:BR336)","v":28},{"$f":"AVERAGE(BS331:BS336)","v":940},{"$f":"AVERAGE(BT331:BT336)","v":240},{"$f":"AVERAGE(BU331:BU336)","v":1500},{"$f":"AVERAGE(BV331:BV336)","v":0.3},{"$f":"AVERAGE(BW331:BW336)","v":0.15},{"$f":"AVERAGE(BX331:BX336)","v":0.15},{"$f":"AVERAGE(BY331:BY336)","v":{"$error":"#DIV/0!"}},{"$f":"AVERAGE(BZ331:BZ336)","v":{"$error":"#DIV/0!"}},null,null,null,null,null,null,null,null,null,null,null,null,null,null,null,null,null,null,null,null,null,null,null,null,null,null,null,null,null,1.6,13.7,98,6.6,0.15,10.7,150,3.1,0.41,2.6,75.05,45,{"$error":"#DIV/0!"},{"$error":"#DIV/0!"},28,940,240,1500,0.3,0.15,0.15,{"$error":"#DIV/0!"},{"$error":"#DIV/0!"}]
[null,null,"Max",{"$f":"MAX(BD331:BD336)","v":1.6},{"$f":"MAX(BE331:BE336)","v":13.7},{"$f":"MAX(BF331:BF336)","v":98},{"$f":"MAX(BG331:BG336)","v":6.6},{"$f":"MAX(BH331:BH336)","v":0.15},{"$f":"MAX(BI331:BI336)","v":10.7},{"$f":"MAX(BJ331:BJ336)","v":150},{"$f":"MAX(BK331:BK336)","v":3.1},{"$f":"MAX(BL331:BL336)","v":0.41},{"$f":"MAX(BM331:BM336)","v":2.6},{"$f":"MAX(BN331:BN336)","v":75.05},{"$f":"MAX(BO331:BO336)","v":45},{"$f":"MAX(BP331:BP336)","v":0},{"$f":"MAX(BQ331:BQ336)","v":0},{"$f":"MAX(BR331:BR336)","v":28},{"$f":"MAX(BS331:BS336)","v":940},{"$f":"MAX(BT331:BT336)","v":240},{"$f":"MAX(BU331:BU336)","v":1500},{"$f":"MAX(BV331:BV336)","v":0.3},{"$f":"MAX(BW331:BW336)","v":0.15},{"$f":"MAX(BX331:BX336)","v":0.15},{"$f":"MAX(BY331:BY336)","v":0},{"$f":"MAX(BZ331:BZ336)","v":0},null,null,null,null,null,null,null,null,null,null,null,null,null,null,null,null,null,null,null,null,null,null,null,null,null,null,null,null,null,1.6,13.7,98,6.6,0.15,10.7,150,3.1,0.41,2.6,75.05,45,0,0,28,940,240,1500,0.3,0.15,0.15,0,0]
[null,null,"Min",{"$f":"MIN(BD331:BD336)","v":1.6},{"$f":"MIN(BE331:BE336)","v":13.7},{"$f":"MIN(BF331:BF336)","v":98},{"$f":"MIN(BG331:BG336)","v":6.6},{"$f":"MIN(BH331:BH336)","v":0.15},{"$f":"MIN(BI331:BI336)","v":10.7},{"$f":"MIN(BJ331:BJ336)","v":150},{"$f":"MIN(BK331:BK336)","v":3.1},{"$f":"MIN(BL331:BL336)","v":0.41},{"$f":"MIN(BM331:BM336)","v":2.6},{"$f":"MIN(BN331:BN336)","v":75.05},{"$f":"MIN(BO331:BO336)","v":45},{"$f":"MIN(BP331:BP336)","v":0},{"$f":"MIN(BQ331:BQ336)","v":0},{"$f":"MIN(BR331:BR336)","v":28},{"$f":"MIN(BS331:BS336)","v":940},{"$f":"MIN(BT331:BT336)","v":240},{"$f":"MIN(BU331:BU336)","v":1500},{"$f":"MIN(BV331:BV336)","v":0.3},{"$f":"MIN(BW331:BW336)","v":0.15},{"$f":"MIN(BX331:BX336)","v":0.15},{"$f":"MIN(BY331:BY336)","v":0},{"$f":"MIN(BZ331:BZ336)","v":0},null,null,null,null,null,null,null,null,null,null,null,null,null,null,null,null,null,null,null,null,null,null,null,null,null,null,null,null,null,1.6,13.7,98,6.6,0.15,10.7,150,3.1,0.41,2.6,75.05,45,0,0,28,940,240,1500,0.3,0.15,0.15,0,0]
[null,null,null,null,null,null,null,null,null,null,null,null,null,null,null,null,null,null,null,null,null,null,null,null,null,null,null,null,null,null,null,null,null,null,null,null,null,null,null,null,null,null,null,null,null,null,null,null,null,null,null,null,null,null,null,0,0,0,0,0,0,0,0,0,0,0,0,0,0,0,0,0,0,0,0,0,0,0]
[140,{"$f":"RS!D225","v":"42 Pinnån, uppstr Gelita"},{"$f":"RS!E225","v":"2025-02-11"},{"$f":"RS!F225","v":1.8},{"$f":"RS!G225","v":13.8},{"$f":"RS!H225","v":99},{"$f":"RS!I225","v":6.5},{"$f":"RS!J225","v":0.18},{"$f":"RS!K225","v":10.4},{"$f":"RS!L225","v":220},{"$f":"RS!M225","v":3.8},{"$f":"RS!N225","v":0.39},{"$f":"RS!O225","v":""},{"$f":"RS!P225","v":63.2},{"$f":"RS!Q225","v":""},{"$f":"RS!R225","v":""},{"$f":"RS!S225","v":""},{"$f":"RS!T225","v":26},{"$f":"RS!U225","v":790},{"$f":"RS!V225","v":""},{"$f":"RS!W225","v":1400},{"$f":"RS!X225","v":0.32},{"$f":"RS!Y225","v":0.16},{"$f":"RS!Z225","v":0.15},{"$f":"RS!AA225","v":""},{"$f":"RS!AB225","v":""},{"$f":"RS!AC225","v":""},null,null,null,null,null,null,null,null,null,null,null,null,null,null,null,null,null,null,null,null,null,null,null,null,null,null,null,null,1.8,13.8,99,6.5,0.18,10.4,220,3.8,0.39,"",63.2,"","","",26,790,"",1400,0.32,0.16,0.15,"",""]
[140,{"$f":"RS!D226","v":"42 Pinnån, uppstr Gelita"},{"$f":"RS!E226","v":""},{"$f":"RS!F226","v":""},{"$f":"RS!G226","v":""},{"$f":"RS!H226","v":""},{"$f":"RS!I226","v":""},{"$f":"RS!J226","v":""},{"$f":"RS!K226","v":""},{"$f":"RS!L226","v":""},{"$f":"RS!M226","v":""},{"$f":"RS!N226","v":""},{"$f":"RS!O226","v":""},{"$f":"RS!P226","v":""},{"$f":"RS!Q226","v":""},{"$f":"RS!R226","v":""},{"$f":"RS!S226","v":""},{"$f":"RS!T226","v":""},{"$f":"RS!U226","v":""},{"$f":"RS!V226","v":""},{"$f":"RS!W226","v":""},{"$f":"RS!X226","v":""},{"$f":"RS!Y226","v":""},{"$f":"RS!Z226","v":""},{"$f":"RS!AA226","v":""},{"$f":"RS!AB226","v":""},{"$f":"RS!AC226","v":""},null,null,null,null,null,null,null,null,null,null,null,null,null,null,null,null,null,null,null,null,null,null,null,null,null,null,null,null,"","","","","","","","","","","","","","","","","","","","","","",""]
[140,{"$f":"RS!D227","v":"42 Pinnån, uppstr Gelita"},{"$f":"RS!E227","v":""},{"$f":"RS!F227","v":""},{"$f":"RS!G227","v":""},{"$f":"RS!H227","v":""},{"$f":"RS!I227","v":""},{"$f":"RS!J227","v":""},{"$f":"RS!K227","v":""},{"$f":"RS!L227","v":""},{"$f":"RS!M227","v":""},{"$f":"RS!N227","v":""},{"$f":"RS!O227","v":""},{"$f":"RS!P227","v":""},{"$f":"RS!Q227","v":""},{"$f":"RS!R227","v":""},{"$f":"RS!S227","v":""},{"$f":"RS!T227","v":""},{"$f":"RS!U227","v":""},{"$f":"RS!V227","v":""},{"$f":"RS!W227","v":""},{"$f":"RS!X227","v":""},{"$f":"RS!Y227","v":""},{"$f":"RS!Z227","v":""},{"$f":"RS!AA227","v":""},{"$f":"RS!AB227","v":""},{"$f":"RS!AC227","v":""},null,null,null,null,null,null,null,null,null,null,null,null,null,null,null,null,null,null,null,null,null,null,null,null,null,null,null,null,"","","","","","","","","","","","","","","","","","","","","","",""]
[140,{"$f":"RS!D228","v":"42 Pinnån, uppstr Gelita"},{"$f":"RS!E228","v":""},{"$f":"RS!F228","v":""},{"$f":"RS!G228","v":""},{"$f":"RS!H228","v":""},{"$f":"RS!I228","v":""},{"$f":"RS!J228","v":""},{"$f":"RS!K228","v":""},{"$f":"RS!L228","v":""},{"$f":"RS!M228","v":""},{"$f":"RS!N228","v":""},{"$f":"RS!O228","v":""},{"$f":"RS!P228","v":""},{"$f":"RS!Q228","v":""},{"$f":"RS!R228","v":""},{"$f":"RS!S228","v":""},{"$f":"RS!T228","v":""},{"$f":"RS!U228","v":""},{"$f":"RS!V228","v":""},{"$f":"RS!W228","v":""},{"$f":"RS!X228","v":""},{"$f":"RS!Y228","v":""},{"$f":"RS!Z228","v":""},{"$f":"RS!AA228","v":""},{"$f":"RS!AB228","v":""},{"$f":"RS!AC228","v":""},null,null,null,null,null,null,null,null,null,null,null,null,null,null,null,null,null,null,null,null,null,null,null,null,null,null,null,null,"","","","","","","","","","","","","","","","","","","","","","",""]
[140,{"$f":"RS!D229","v":"42 Pinnån, uppstr Gelita"},{"$f":"RS!E229","v":""},{"$f":"RS!F229","v":""},{"$f":"RS!G229","v":""},{"$f":"RS!H229","v":""},{"$f":"RS!I229","v":""},{"$f":"RS!J229","v":""},{"$f":"RS!K229","v":""},{"$f":"RS!L229","v":""},{"$f":"RS!M229","v":""},{"$f":"RS!N229","v":""},{"$f":"RS!O229","v":""},{"$f":"RS!P229","v":""},{"$f":"RS!Q229","v":""},{"$f":"RS!R229","v":""},{"$f":"RS!S229","v":""},{"$f":"RS!T229","v":""},{"$f":"RS!U229","v":""},{"$f":"RS!V229","v":""},{"$f":"RS!W229","v":""},{"$f":"RS!X229","v":""},{"$f":"RS!Y229","v":""},{"$f":"RS!Z229","v":""},{"$f":"RS!AA229","v":""},{"$f":"RS!AB229","v":""},{"$f":"RS!AC229","v":""},null,null,null,null,null,null,null,null,null,null,null,null,null,null,null,null,null,null,null,null,null,null,null,null,null,null,null,null,"","","","","","","","","","","","","","","","","","","","","","",""]
[140,{"$f":"RS!D230","v":"42 Pinnån, uppstr Gelita"},{"$f":"RS!E230","v":""},{"$f":"RS!F230","v":""},{"$f":"RS!G230","v":""},{"$f":"RS!H230","v":""},{"$f":"RS!I230","v":""},{"$f":"RS!J230","v":""},{"$f":"RS!K230","v":""},{"$f":"RS!L230","v":""},{"$f":"RS!M230","v":""},{"$f":"RS!N230","v":""},{"$f":"RS!O230","v":""},{"$f":"RS!P230","v":""},{"$f":"RS!Q230","v":""},{"$f":"RS!R230","v":""},{"$f":"RS!S230","v":""},{"$f":"RS!T230","v":""},{"$f":"RS!U230","v":""},{"$f":"RS!V230","v":""},{"$f":"RS!W230","v":""},{"$f":"RS!X230","v":""},{"$f":"RS!Y230","v":""},{"$f":"RS!Z230","v":""},{"$f":"RS!AA230","v":""},{"$f":"RS!AB230","v":""},{"$f":"RS!AC230","v":""},null,null,null,null,null,null,null,null,null,null,null,null,null,null,null,null,null,null,null,null,null,null,null,null,null,null,null,null,"","","","","","","","","","","","","","","","","","","","","","",""]
[null,null,"Medel",{"$f":"AVERAGE(BD341:BD346)","v":1.8},{"$f":"AVERAGE(BE341:BE346)","v":13.8},{"$f":"AVERAGE(BF341:BF346)","v":99},{"$f":"AVERAGE(BG341:BG346)","v":6.5},{"$f":"AVERAGE(BH341:BH346)","v":0.18},{"$f":"AVERAGE(BI341:BI346)","v":10.4},{"$f":"AVERAGE(BJ341:BJ346)","v":220},{"$f":"AVERAGE(BK341:BK346)","v":3.8},{"$f":"AVERAGE(BL341:BL346)","v":0.39},{"$f":"AVERAGE(BM341:BM346)","v":{"$error":"#DIV/0!"}},{"$f":"AVERAGE(BN341:BN346)","v":63.2},{"$f":"AVERAGE(BO341:BO346)","v":{"$error":"#DIV/0!"}},{"$f":"AVERAGE(BP341:BP346)","v":{"$error":"#DIV/0!"}},{"$f":"AVERAGE(BQ341:BQ346)","v":{"$error":"#DIV/0!"}},{"$f":"AVERAGE(BR341:BR346)","v":26},{"$f":"AVERAGE(BS341:BS346)","v":790},{"$f":"AVERAGE(BT341:BT346)","v":{"$error":"#DIV/0!"}},{"$f":"AVERAGE(BU341:BU346)","v":1400},{"$f":"AVERAGE(BV341:BV346)","v":0.32},{"$f":"AVERAGE(BW341:BW346)","v":0.16},{"$f":"AVERAGE(BX341:BX346)","v":0.15},{"$f":"AVERAGE(BY341:BY346)","v":{"$error":"#DIV/0!"}},{"$f":"AVERAGE(BZ341:BZ346)","v":{"$error":"#DIV/0!"}},null,null,null,null,null,null,null,null,null,null,null,null,null,null,null,null,null,null,null,null,null,null,null,null,null,null,null,null,null,1.8,13.8,99,6.5,0.18,10.4,220,3.8,0.39,{"$error":"#DIV/0!"},63.2,{"$error":"#DIV/0!"},{"$error":"#DIV/0!"},{"$error":"#DIV/0!"},26,790,{"$error":"#DIV/0!"},1400,0.32,0.16,0.15,{"$error":"#DIV/0!"},{"$error":"#DIV/0!"}]
[null,null,"Max",{"$f":"MAX(BD341:BD346)","v":1.8},{"$f":"MAX(BE341:BE346)","v":13.8},{"$f":"MAX(BF341:BF346)","v":99},{"$f":"MAX(BG341:BG346)","v":6.5},{"$f":"MAX(BH341:BH346)","v":0.18},{"$f":"MAX(BI341:BI346)","v":10.4},{"$f":"MAX(BJ341:BJ346)","v":220},{"$f":"MAX(BK341:BK346)","v":3.8},{"$f":"MAX(BL341:BL346)","v":0.39},{"$f":"MAX(BM341:BM346)","v":0},{"$f":"MAX(BN341:BN346)","v":63.2},{"$f":"MAX(BO341:BO346)","v":0},{"$f":"MAX(BP341:BP346)","v":0},{"$f":"MAX(BQ341:BQ346)","v":0},{"$f":"MAX(BR341:BR346)","v":26},{"$f":"MAX(BS341:BS346)","v":790},{"$f":"MAX(BT341:BT346)","v":0},{"$f":"MAX(BU341:BU346)","v":1400},{"$f":"MAX(BV341:BV346)","v":0.32},{"$f":"MAX(BW341:BW346)","v":0.16},{"$f":"MAX(BX341:BX346)","v":0.15},{"$f":"MAX(BY341:BY346)","v":0},{"$f":"MAX(BZ341:BZ346)","v":0},null,null,null,null,null,null,null,null,null,null,null,null,null,null,null,null,null,null,null,null,null,null,null,null,null,null,null,null,null,1.8,13.8,99,6.5,0.18,10.4,220,3.8,0.39,0,63.2,0,0,0,26,790,0,1400,0.32,0.16,0.15,0,0]
[null,null,"Min",{"$f":"MIN(BD341:BD346)","v":1.8},{"$f":"MIN(BE341:BE346)","v":13.8},{"$f":"MIN(BF341:BF346)","v":99},{"$f":"MIN(BG341:BG346)","v":6.5},{"$f":"MIN(BH341:BH346)","v":0.18},{"$f":"MIN(BI341:BI346)","v":10.4},{"$f":"MIN(BJ341:BJ346)","v":220},{"$f":"MIN(BK341:BK346)","v":3.8},{"$f":"MIN(BL341:BL346)","v":0.39},{"$f":"MIN(BM341:BM346)","v":0},{"$f":"MIN(BN341:BN346)","v":63.2},{"$f":"MIN(BO341:BO346)","v":0},{"$f":"MIN(BP341:BP346)","v":0},{"$f":"MIN(BQ341:BQ346)","v":0},{"$f":"MIN(BR341:BR346)","v":26},{"$f":"MIN(BS341:BS346)","v":790},{"$f":"MIN(BT341:BT346)","v":0},{"$f":"MIN(BU341:BU346)","v":1400},{"$f":"MIN(BV341:BV346)","v":0.32},{"$f":"MIN(BW341:BW346)","v":0.16},{"$f":"MIN(BX341:BX346)","v":0.15},{"$f":"MIN(BY341:BY346)","v":0},{"$f":"MIN(BZ341:BZ346)","v":0},null,null,null,null,null,null,null,null,null,null,null,null,null,null,null,null,null,null,null,null,null,null,null,null,null,null,null,null,null,1.8,13.8,99,6.5,0.18,10.4,220,3.8,0.39,0,63.2,0,0,0,26,790,0,1400,0.32,0.16,0.15,0,0]
[null,null,null,null,null,null,null,null,null,null,null,null,null,null,null,null,null,null,null,null,null,null,null,null,null,null,null,null,null,null,null,null,null,null,null,null,null,null,null,null,null,null,null,null,null,null,null,null,null,null,null,null,null,null,null,0,0,0,0,0,0,0,0,0,0,0,0,0,0,0,0,0,0,0,0,0,0,0]
[145,{"$f":"RS!D231","v":"44 Pinnån, utfl ur Kopparmölledamm"},{"$f":"RS!E231","v":"2025-01-15"},{"$f":"RS!F231","v":1.9},{"$f":"RS!G231","v":13.8},{"$f":"RS!H231","v":99},{"$f":"RS!I231","v":6.5},{"$f":"RS!J231","v":0.14000000000000001},{"$f":"RS!K231","v":12.5},{"$f":"RS!L231","v":250},{"$f":"RS!M231","v":3},{"$f":"RS!N231","v":0.43},{"$f":"RS!O231","v":""},{"$f":"RS!P231","v":75.05},{"$f":"RS!Q231","v":""},{"$f":"RS!R231","v":""},{"$f":"RS!S231","v":""},{"$f":"RS!T231","v":28},{"$f":"RS!U231","v":800},{"$f":"RS!V231","v":""},{"$f":"RS!W231","v":1300},{"$f":"RS!X231","v":0.28000000000000003},{"$f":"RS!Y231","v":0.14000000000000001},{"$f":"RS!Z231","v":0.32},{"$f":"RS!AA231","v":""},{"$f":"RS!AB231","v":""},{"$f":"RS!AC231","v":""},null,null,null,null,null,null,null,null,null,null,null,null,null,null,null,null,null,null,null,null,null,null,null,null,null,null,null,null,1.9,13.8,99,6.5,0.14000000000000001,12.5,250,3,0.43,"",75.05,"","","",28,800,"",1300,0.28000000000000003,0.14000000000000001,0.32,"",""]
[145,{"$f":"RS!D232","v":"44 Pinnån, utfl ur Kopparmölledamm"},{"$f":"RS!E232","v":"2025-02-11"},{"$f":"RS!F232","v":2.4},{"$f":"RS!G232","v":13.8},{"$f":"RS!H232","v":101},{"$f":"RS!I232","v":6.8},{"$f":"RS!J232","v":0.26},{"$f":"RS!K232","v":19.100000000000001},{"$f":"RS!L232","v":150},{"$f":"RS!M232","v":4.3},{"$f":"RS!N232","v":0.38},{"$f":"RS!O232","v":""},{"$f":"RS!P232","v":67.150000000000006},{"$f":"RS!Q232","v":""},{"$f":"RS!R232","v":""},{"$f":"RS!S232","v":""},{"$f":"RS!T232","v":36},{"$f":"RS!U232","v":920},{"$f":"RS!V232","v":""},{"$f":"RS!W232","v":1600},{"$f":"RS!X232","v":0.35},{"$f":"RS!Y232","v":0.16},{"$f":"RS!Z232","v":0.68},{"$f":"RS!AA232","v":""},{"$f":"RS!AB232","v":""},{"$f":"RS!AC232","v":""},null,null,null,null,null,null,null,null,null,null,null,null,null,null,null,null,null,null,null,null,null,null,null,null,null,null,null,null,2.4,13.8,101,6.8,0.26,19.100000000000001,150,4.3,0.38,"",67.150000000000006,"","","",36,920,"",1600,0.35,0.16,0.68,"",""]
[145,{"$f":"RS!D233","v":"44 Pinnån, utfl ur Kopparmölledamm"},{"$f":"RS!E233","v":""},{"$f":"RS!F233","v":""},{"$f":"RS!G233","v":""},{"$f":"RS!H233","v":""},{"$f":"RS!I233","v":""},{"$f":"RS!J233","v":""},{"$f":"RS!K233","v":""},{"$f":"RS!L233","v":""},{"$f":"RS!M233","v":""},{"$f":"RS!N233","v":""},{"$f":"RS!O233","v":""},{"$f":"RS!P233","v":""},{"$f":"RS!Q233","v":""},{"$f":"RS!R233","v":""},{"$f":"RS!S233","v":""},{"$f":"RS!T233","v":""},{"$f":"RS!U233","v":""},{"$f":"RS!V233","v":""},{"$f":"RS!W233","v":""},{"$f":"RS!X233","v":""},{"$f":"RS!Y233","v":""},{"$f":"RS!Z233","v":""},{"$f":"RS!AA233","v":""},{"$f":"RS!AB233","v":""},{"$f":"RS!AC233","v":""},null,null,null,null,null,null,null,null,null,null,null,null,null,null,null,null,null,null,null,null,null,null,null,null,null,null,null,null,"","","","","","","","","","","","","","","","","","","","","","",""]
[145,{"$f":"RS!D234","v":"44 Pinnån, utfl ur Kopparmölledamm"},{"$f":"RS!E234","v":""},{"$f":"RS!F234","v":""},{"$f":"RS!G234","v":""},{"$f":"RS!H234","v":""},{"$f":"RS!I234","v":""},{"$f":"RS!J234","v":""},{"$f":"RS!K234","v":""},{"$f":"RS!L234","v":""},{"$f":"RS!M234","v":""},{"$f":"RS!N234","v":""},{"$f":"RS!O234","v":""},{"$f":"RS!P234","v":""},{"$f":"RS!Q234","v":""},{"$f":"RS!R234","v":""},{"$f":"RS!S234","v":""},{"$f":"RS!T234","v":""},{"$f":"RS!U234","v":""},{"$f":"RS!V234","v":""},{"$f":"RS!W234","v":""},{"$f":"RS!X234","v":""},{"$f":"RS!Y234","v":""},{"$f":"RS!Z234","v":""},{"$f":"RS!AA234","v":""},{"$f":"RS!AB234","v":""},{"$f":"RS!AC234","v":""},null,null,null,null,null,null,null,null,null,null,null,null,null,null,null,null,null,null,null,null,null,null,null,null,null,null,null,null,"","","","","","","","","","","","","","","","","","","","","","",""]
[145,{"$f":"RS!D235","v":"44 Pinnån, utfl ur Kopparmölledamm"},{"$f":"RS!E235","v":""},{"$f":"RS!F235","v":""},{"$f":"RS!G235","v":""},{"$f":"RS!H235","v":""},{"$f":"RS!I235","v":""},{"$f":"RS!J235","v":""},{"$f":"RS!K235","v":""},{"$f":"RS!L235","v":""},{"$f":"RS!M235","v":""},{"$f":"RS!N235","v":""},{"$f":"RS!O235","v":""},{"$f":"RS!P235","v":""},{"$f":"RS!Q235","v":""},{"$f":"RS!R235","v":""},{"$f":"RS!S235","v":""},{"$f":"RS!T235","v":""},{"$f":"RS!U235","v":""},{"$f":"RS!V235","v":""},{"$f":"RS!W235","v":""},{"$f":"RS!X235","v":""},{"$f":"RS!Y235","v":""},{"$f":"RS!Z235","v":""},{"$f":"RS!AA235","v":""},{"$f":"RS!AB235","v":""},{"$f":"RS!AC235","v":""},null,null,null,null,null,null,null,null,null,null,null,null,null,null,null,null,null,null,null,null,null,null,null,null,null,null,null,null,"","","","","","","","","","","","","","","","","","","","","","",""]
[145,{"$f":"RS!D236","v":"44 Pinnån, utfl ur Kopparmölledamm"},{"$f":"RS!E236","v":""},{"$f":"RS!F236","v":""},{"$f":"RS!G236","v":""},{"$f":"RS!H236","v":""},{"$f":"RS!I236","v":""},{"$f":"RS!J236","v":""},{"$f":"RS!K236","v":""},{"$f":"RS!L236","v":""},{"$f":"RS!M236","v":""},{"$f":"RS!N236","v":""},{"$f":"RS!O236","v":""},{"$f":"RS!P236","v":""},{"$f":"RS!Q236","v":""},{"$f":"RS!R236","v":""},{"$f":"RS!S236","v":""},{"$f":"RS!T236","v":""},{"$f":"RS!U236","v":""},{"$f":"RS!V236","v":""},{"$f":"RS!W236","v":""},{"$f":"RS!X236","v":""},{"$f":"RS!Y236","v":""},{"$f":"RS!Z236","v":""},{"$f":"RS!AA236","v":""},{"$f":"RS!AB236","v":""},{"$f":"RS!AC236","v":""},null,null,null,null,null,null,null,null,null,null,null,null,null,null,null,null,null,null,null,null,null,null,null,null,null,null,null,null,"","","","","","","","","","","","","","","","","","","","","","",""]
[145,{"$f":"RS!D237","v":"44 Pinnån, utfl ur Kopparmölledamm"},{"$f":"RS!E237","v":""},{"$f":"RS!F237","v":""},{"$f":"RS!G237","v":""},{"$f":"RS!H237","v":""},{"$f":"RS!I237","v":""},{"$f":"RS!J237","v":""},{"$f":"RS!K237","v":""},{"$f":"RS!L237","v":""},{"$f":"RS!M237","v":""},{"$f":"RS!N237","v":""},{"$f":"RS!O237","v":""},{"$f":"RS!P237","v":""},{"$f":"RS!Q237","v":""},{"$f":"RS!R237","v":""},{"$f":"RS!S237","v":""},{"$f":"RS!T237","v":""},{"$f":"RS!U237","v":""},{"$f":"RS!V237","v":""},{"$f":"RS!W237","v":""},{"$f":"RS!X237","v":""},{"$f":"RS!Y237","v":""},{"$f":"RS!Z237","v":""},{"$f":"RS!AA237","v":""},{"$f":"RS!AB237","v":""},{"$f":"RS!AC237","v":""},null,null,null,null,null,null,null,null,null,null,null,null,null,null,null,null,null,null,null,null,null,null,null,null,null,null,null,null,"","","","","","","","","","","","","","","","","","","","","","",""]
[145,{"$f":"RS!D238","v":"44 Pinnån, utfl ur Kopparmölledamm"},{"$f":"RS!E238","v":""},{"$f":"RS!F238","v":""},{"$f":"RS!G238","v":""},{"$f":"RS!H238","v":""},{"$f":"RS!I238","v":""},{"$f":"RS!J238","v":""},{"$f":"RS!K238","v":""},{"$f":"RS!L238","v":""},{"$f":"RS!M238","v":""},{"$f":"RS!N238","v":""},{"$f":"RS!O238","v":""},{"$f":"RS!P238","v":""},{"$f":"RS!Q238","v":""},{"$f":"RS!R238","v":""},{"$f":"RS!S238","v":""},{"$f":"RS!T238","v":""},{"$f":"RS!U238","v":""},{"$f":"RS!V238","v":""},{"$f":"RS!W238","v":""},{"$f":"RS!X238","v":""},{"$f":"RS!Y238","v":""},{"$f":"RS!Z238","v":""},{"$f":"RS!AA238","v":""},{"$f":"RS!AB238","v":""},{"$f":"RS!AC238","v":""},null,null,null,null,null,null,null,null,null,null,null,null,null,null,null,null,null,null,null,null,null,null,null,null,null,null,null,null,"","","","","","","","","","","","","","","","","","","","","","",""]
[145,{"$f":"RS!D239","v":"44 Pinnån, utfl ur Kopparmölledamm"},{"$f":"RS!E239","v":""},{"$f":"RS!F239","v":""},{"$f":"RS!G239","v":""},{"$f":"RS!H239","v":""},{"$f":"RS!I239","v":""},{"$f":"RS!J239","v":""},{"$f":"RS!K239","v":""},{"$f":"RS!L239","v":""},{"$f":"RS!M239","v":""},{"$f":"RS!N239","v":""},{"$f":"RS!O239","v":""},{"$f":"RS!P239","v":""},{"$f":"RS!Q239","v":""},{"$f":"RS!R239","v":""},{"$f":"RS!S239","v":""},{"$f":"RS!T239","v":""},{"$f":"RS!U239","v":""},{"$f":"RS!V239","v":""},{"$f":"RS!W239","v":""},{"$f":"RS!X239","v":""},{"$f":"RS!Y239","v":""},{"$f":"RS!Z239","v":""},{"$f":"RS!AA239","v":""},{"$f":"RS!AB239","v":""},{"$f":"RS!AC239","v":""},null,null,null,null,null,null,null,null,null,null,null,null,null,null,null,null,null,null,null,null,null,null,null,null,null,null,null,null,"","","","","","","","","","","","","","","","","","","","","","",""]
[145,{"$f":"RS!D240","v":"44 Pinnån, utfl ur Kopparmölledamm"},{"$f":"RS!E240","v":""},{"$f":"RS!F240","v":""},{"$f":"RS!G240","v":""},{"$f":"RS!H240","v":""},{"$f":"RS!I240","v":""},{"$f":"RS!J240","v":""},{"$f":"RS!K240","v":""},{"$f":"RS!L240","v":""},{"$f":"RS!M240","v":""},{"$f":"RS!N240","v":""},{"$f":"RS!O240","v":""},{"$f":"RS!P240","v":""},{"$f":"RS!Q240","v":""},{"$f":"RS!R240","v":""},{"$f":"RS!S240","v":""},{"$f":"RS!T240","v":""},{"$f":"RS!U240","v":""},{"$f":"RS!V240","v":""},{"$f":"RS!W240","v":""},{"$f":"RS!X240","v":""},{"$f":"RS!Y240","v":""},{"$f":"RS!Z240","v":""},{"$f":"RS!AA240","v":""},{"$f":"RS!AB240","v":""},{"$f":"RS!AC240","v":""},null,null,null,null,null,null,null,null,null,null,null,null,null,null,null,null,null,null,null,null,null,null,null,null,null,null,null,null,"","","","","","","","","","","","","","","","","","","","","","",""]
[145,{"$f":"RS!D241","v":"44 Pinnån, utfl ur Kopparmölledamm"},{"$f":"RS!E241","v":""},{"$f":"RS!F241","v":""},{"$f":"RS!G241","v":""},{"$f":"RS!H241","v":""},{"$f":"RS!I241","v":""},{"$f":"RS!J241","v":""},{"$f":"RS!K241","v":""},{"$f":"RS!L241","v":""},{"$f":"RS!M241","v":""},{"$f":"RS!N241","v":""},{"$f":"RS!O241","v":""},{"$f":"RS!P241","v":""},{"$f":"RS!Q241","v":""},{"$f":"RS!R241","v":""},{"$f":"RS!S241","v":""},{"$f":"RS!T241","v":""},{"$f":"RS!U241","v":""},{"$f":"RS!V241","v":""},{"$f":"RS!W241","v":""},{"$f":"RS!X241","v":""},{"$f":"RS!Y241","v":""},{"$f":"RS!Z241","v":""},{"$f":"RS!AA241","v":""},{"$f":"RS!AB241","v":""},{"$f":"RS!AC241","v":""},null,null,null,null,null,null,null,null,null,null,null,null,null,null,null,null,null,null,null,null,null,null,null,null,null,null,null,null,"","","","","","","","","","","","","","","","","","","","","","",""]
[145,{"$f":"RS!D242","v":"44 Pinnån, utfl ur Kopparmölledamm"},{"$f":"RS!E242","v":""},{"$f":"RS!F242","v":""},{"$f":"RS!G242","v":""},{"$f":"RS!H242","v":""},{"$f":"RS!I242","v":""},{"$f":"RS!J242","v":""},{"$f":"RS!K242","v":""},{"$f":"RS!L242","v":""},{"$f":"RS!M242","v":""},{"$f":"RS!N242","v":""},{"$f":"RS!O242","v":""},{"$f":"RS!P242","v":""},{"$f":"RS!Q242","v":""},{"$f":"RS!R242","v":""},{"$f":"RS!S242","v":""},{"$f":"RS!T242","v":""},{"$f":"RS!U242","v":""},{"$f":"RS!V242","v":""},{"$f":"RS!W242","v":""},{"$f":"RS!X242","v":""},{"$f":"RS!Y242","v":""},{"$f":"RS!Z242","v":""},{"$f":"RS!AA242","v":""},{"$f":"RS!AB242","v":""},{"$f":"RS!AC242","v":""},null,null,null,null,null,null,null,null,null,null,null,null,null,null,null,null,null,null,null,null,null,null,null,null,null,null,null,null,"","","","","","","","","","","","","","","","","","","","","","",""]
[null,null,"Medel",{"$f":"AVERAGE(BD351:BD362)","v":2.15},{"$f":"AVERAGE(BE351:BE362)","v":13.8},{"$f":"AVERAGE(BF351:BF362)","v":100},{"$f":"AVERAGE(BG351:BG362)","v":6.65},{"$f":"AVERAGE(BH351:BH362)","v":0.2},{"$f":"AVERAGE(BI351:BI362)","v":15.8},{"$f":"AVERAGE(BJ351:BJ362)","v":200},{"$f":"AVERAGE(BK351:BK362)","v":3.65},{"$f":"AVERAGE(BL351:BL362)","v":0.40500000000000003},{"$f":"AVERAGE(BM351:BM362)","v":{"$error":"#DIV/0!"}},{"$f":"AVERAGE(BN351:BN362)","v":71.099999999999994},{"$f":"AVERAGE(BO351:BO362)","v":{"$error":"#DIV/0!"}},{"$f":"AVERAGE(BP351:BP362)","v":{"$error":"#DIV/0!"}},{"$f":"AVERAGE(BQ351:BQ362)","v":{"$error":"#DIV/0!"}},{"$f":"AVERAGE(BR351:BR362)","v":32},{"$f":"AVERAGE(BS351:BS362)","v":860},{"$f":"AVERAGE(BT351:BT362)","v":{"$error":"#DIV/0!"}},{"$f":"AVERAGE(BU351:BU362)","v":1450},{"$f":"AVERAGE(BV351:BV362)","v":0.315},{"$f":"AVERAGE(BW351:BW362)","v":0.15000000000000002},{"$f":"AVERAGE(BX351:BX362)","v":0.5},{"$f":"AVERAGE(BY351:BY362)","v":{"$error":"#DIV/0!"}},{"$f":"AVERAGE(BZ351:BZ362)","v":{"$error":"#DIV/0!"}},null,null,null,null,null,null,null,null,null,null,null,null,null,null,null,null,null,null,null,null,null,null,null,null,null,null,null,null,null,2.15,13.8,100,6.65,0.2,15.8,200,3.65,0.40500000000000003,{"$error":"#DIV/0!"},71.099999999999994,{"$error":"#DIV/0!"},{"$error":"#DIV/0!"},{"$error":"#DIV/0!"},32,860,{"$error":"#DIV/0!"},1450,0.315,0.15000000000000002,0.5,{"$error":"#DIV/0!"},{"$error":"#DIV/0!"}]
[null,null,"Max",{"$f":"MAX(BD351:BD362)","v":2.4},{"$f":"MAX(BE351:BE362)","v":13.8},{"$f":"MAX(BF351:BF362)","v":101},{"$f":"MAX(BG351:BG362)","v":6.8},{"$f":"MAX(BH351:BH362)","v":0.26},{"$f":"MAX(BI351:BI362)","v":19.100000000000001},{"$f":"MAX(BJ351:BJ362)","v":250},{"$f":"MAX(BK351:BK362)","v":4.3},{"$f":"MAX(BL351:BL362)","v":0.43},{"$f":"MAX(BM351:BM362)","v":0},{"$f":"MAX(BN351:BN362)","v":75.05},{"$f":"MAX(BO351:BO362)","v":0},{"$f":"MAX(BP351:BP362)","v":0},{"$f":"MAX(BQ351:BQ362)","v":0},{"$f":"MAX(BR351:BR362)","v":36},{"$f":"MAX(BS351:BS362)","v":920},{"$f":"MAX(BT351:BT362)","v":0},{"$f":"MAX(BU351:BU362)","v":1600},{"$f":"MAX(BV351:BV362)","v":0.35},{"$f":"MAX(BW351:BW362)","v":0.16},{"$f":"MAX(BX351:BX362)","v":0.68},{"$f":"MAX(BY351:BY362)","v":0},{"$f":"MAX(BZ351:BZ362)","v":0},null,null,null,null,null,null,null,null,null,null,null,null,null,null,null,null,null,null,null,null,null,null,null,null,null,null,null,null,null,2.4,13.8,101,6.8,0.26,19.100000000000001,250,4.3,0.43,0,75.05,0,0,0,36,920,0,1600,0.35,0.16,0.68,0,0]
[null,null,"Min",{"$f":"MIN(BD351:BD362)","v":1.9},{"$f":"MIN(BE351:BE362)","v":13.8},{"$f":"MIN(BF351:BF362)","v":99},{"$f":"MIN(BG351:BG362)","v":6.5},{"$f":"MIN(BH351:BH362)","v":0.14000000000000001},{"$f":"MIN(BI351:BI362)","v":12.5},{"$f":"MIN(BJ351:BJ362)","v":150},{"$f":"MIN(BK351:BK362)","v":3},{"$f":"MIN(BL351:BL362)","v":0.38},{"$f":"MIN(BM351:BM362)","v":0},{"$f":"MIN(BN351:BN362)","v":67.150000000000006},{"$f":"MIN(BO351:BO362)","v":0},{"$f":"MIN(BP351:BP362)","v":0},{"$f":"MIN(BQ351:BQ362)","v":0},{"$f":"MIN(BR351:BR362)","v":28},{"$f":"MIN(BS351:BS362)","v":800},{"$f":"MIN(BT351:BT362)","v":0},{"$f":"MIN(BU351:BU362)","v":1300},{"$f":"MIN(BV351:BV362)","v":0.28000000000000003},{"$f":"MIN(BW351:BW362)","v":0.14000000000000001},{"$f":"MIN(BX351:BX362)","v":0.32},{"$f":"MIN(BY351:BY362)","v":0},{"$f":"MIN(BZ351:BZ362)","v":0},null,null,null,null,null,null,null,null,null,null,null,null,null,null,null,null,null,null,null,null,null,null,null,null,null,null,null,null,null,1.9,13.8,99,6.5,0.14000000000000001,12.5,150,3,0.38,0,67.150000000000006,0,0,0,28,800,0,1300,0.28000000000000003,0.14000000000000001,0.32,0,0]
[null,null,null,null,null,null,null,null,null,null,null,null,null,null,null,null,null,null,null,null,null,null,null,null,null,null,null,null,null,null,null,null,null,null,null,null,null,null,null,null,null,null,null,null,null,null,null,null,null,null,null,null,null,null,null,0,0,0,0,0,0,0,0,0,0,0,0,0,0,0,0,0,0,0,0,0,0,0]
[150,{"$f":"RS!D243","v":"58 Pinnån, vid utfl t Rönneå"},{"$f":"RS!E243","v":"2025-01-15"},{"$f":"RS!F243","v":2.4},{"$f":"RS!G243","v":13.2},{"$f":"RS!H243","v":96},{"$f":"RS!I243","v":6.7},{"$f":"RS!J243","v":0.2},{"$f":"RS!K243","v":13.9},{"$f":"RS!L243","v":400},{"$f":"RS!M243","v":4.7},{"$f":"RS!N243","v":0.41},{"$f":"RS!O243","v":""},{"$f":"RS!P243","v":71.100000000000009},{"$f":"RS!Q243","v":""},{"$f":"RS!R243","v":""},{"$f":"RS!S243","v":""},{"$f":"RS!T243","v":32},{"$f":"RS!U243","v":1000},{"$f":"RS!V243","v":""},{"$f":"RS!W243","v":1500},{"$f":"RS!X243","v":0.35},{"$f":"RS!Y243","v":0.16},{"$f":"RS!Z243","v":0.33},{"$f":"RS!AA243","v":""},{"$f":"RS!AB243","v":""},{"$f":"RS!AC243","v":""},null,null,null,null,null,null,null,null,null,null,null,null,null,null,null,null,null,null,null,null,null,null,null,null,null,null,null,null,2.4,13.2,96,6.7,0.2,13.9,400,4.7,0.41,"",71.100000000000009,"","","",32,1000,"",1500,0.35,0.16,0.33,"",""]
[150,{"$f":"RS!D244","v":"58 Pinnån, vid utfl t Rönneå"},{"$f":"RS!E244","v":"2025-02-11"},{"$f":"RS!F244","v":2.8},{"$f":"RS!G244","v":13.7},{"$f":"RS!H244","v":101},{"$f":"RS!I244","v":7},{"$f":"RS!J244","v":0.38},{"$f":"RS!K244","v":19.899999999999999},{"$f":"RS!L244","v":250},{"$f":"RS!M244","v":5.5},{"$f":"RS!N244","v":0.42},{"$f":"RS!O244","v":""},{"$f":"RS!P244","v":59.25},{"$f":"RS!Q244","v":""},{"$f":"RS!R244","v":""},{"$f":"RS!S244","v":""},{"$f":"RS!T244","v":29},{"$f":"RS!U244","v":1100},{"$f":"RS!V244","v":""},{"$f":"RS!W244","v":1700},{"$f":"RS!X244","v":0.48},{"$f":"RS!Y244","v":0.21},{"$f":"RS!Z244","v":0.7},{"$f":"RS!AA244","v":""},{"$f":"RS!AB244","v":""},{"$f":"RS!AC244","v":""},null,null,null,null,null,null,null,null,null,null,null,null,null,null,null,null,null,null,null,null,null,null,null,null,null,null,null,null,2.8,13.7,101,7,0.38,19.899999999999999,250,5.5,0.42,"",59.25,"","","",29,1100,"",1700,0.48,0.21,0.7,"",""]
[150,{"$f":"RS!D245","v":"58 Pinnån, vid utfl t Rönneå"},{"$f":"RS!E245","v":""},{"$f":"RS!F245","v":""},{"$f":"RS!G245","v":""},{"$f":"RS!H245","v":""},{"$f":"RS!I245","v":""},{"$f":"RS!J245","v":""},{"$f":"RS!K245","v":""},{"$f":"RS!L245","v":""},{"$f":"RS!M245","v":""},{"$f":"RS!N245","v":""},{"$f":"RS!O245","v":""},{"$f":"RS!P245","v":""},{"$f":"RS!Q245","v":""},{"$f":"RS!R245","v":""},{"$f":"RS!S245","v":""},{"$f":"RS!T245","v":""},{"$f":"RS!U245","v":""},{"$f":"RS!V245","v":""},{"$f":"RS!W245","v":""},{"$f":"RS!X245","v":""},{"$f":"RS!Y245","v":""},{"$f":"RS!Z245","v":""},{"$f":"RS!AA245","v":""},{"$f":"RS!AB245","v":""},{"$f":"RS!AC245","v":""},null,null,null,null,null,null,null,null,null,null,null,null,null,null,null,null,null,null,null,null,null,null,null,null,null,null,null,null,"","","","","","","","","","","","","","","","","","","","","","",""]
[150,{"$f":"RS!D246","v":"58 Pinnån, vid utfl t Rönneå"},{"$f":"RS!E246","v":""},{"$f":"RS!F246","v":""},{"$f":"RS!G246","v":""},{"$f":"RS!H246","v":""},{"$f":"RS!I246","v":""},{"$f":"RS!J246","v":""},{"$f":"RS!K246","v":""},{"$f":"RS!L246","v":""},{"$f":"RS!M246","v":""},{"$f":"RS!N246","v":""},{"$f":"RS!O246","v":""},{"$f":"RS!P246","v":""},{"$f":"RS!Q246","v":""},{"$f":"RS!R246","v":""},{"$f":"RS!S246","v":""},{"$f":"RS!T246","v":""},{"$f":"RS!U246","v":""},{"$f":"RS!V246","v":""},{"$f":"RS!W246","v":""},{"$f":"RS!X246","v":""},{"$f":"RS!Y246","v":""},{"$f":"RS!Z246","v":""},{"$f":"RS!AA246","v":""},{"$f":"RS!AB246","v":""},{"$f":"RS!AC246","v":""},null,null,null,null,null,null,null,null,null,null,null,null,null,null,null,null,null,null,null,null,null,null,null,null,null,null,null,null,"","","","","","","","","","","","","","","","","","","","","","",""]
[150,{"$f":"RS!D247","v":"58 Pinnån, vid utfl t Rönneå"},{"$f":"RS!E247","v":""},{"$f":"RS!F247","v":""},{"$f":"RS!G247","v":""},{"$f":"RS!H247","v":""},{"$f":"RS!I247","v":""},{"$f":"RS!J247","v":""},{"$f":"RS!K247","v":""},{"$f":"RS!L247","v":""},{"$f":"RS!M247","v":""},{"$f":"RS!N247","v":""},{"$f":"RS!O247","v":""},{"$f":"RS!P247","v":""},{"$f":"RS!Q247","v":""},{"$f":"RS!R247","v":""},{"$f":"RS!S247","v":""},{"$f":"RS!T247","v":""},{"$f":"RS!U247","v":""},{"$f":"RS!V247","v":""},{"$f":"RS!W247","v":""},{"$f":"RS!X247","v":""},{"$f":"RS!Y247","v":""},{"$f":"RS!Z247","v":""},{"$f":"RS!AA247","v":""},{"$f":"RS!AB247","v":""},{"$f":"RS!AC247","v":""},null,null,null,null,null,null,null,null,null,null,null,null,null,null,null,null,null,null,null,null,null,null,null,null,null,null,null,null,"","","","","","","","","","","","","","","","","","","","","","",""]
[150,{"$f":"RS!D248","v":"58 Pinnån, vid utfl t Rönneå"},{"$f":"RS!E248","v":""},{"$f":"RS!F248","v":""},{"$f":"RS!G248","v":""},{"$f":"RS!H248","v":""},{"$f":"RS!I248","v":""},{"$f":"RS!J248","v":""},{"$f":"RS!K248","v":""},{"$f":"RS!L248","v":""},{"$f":"RS!M248","v":""},{"$f":"RS!N248","v":""},{"$f":"RS!O248","v":""},{"$f":"RS!P248","v":""},{"$f":"RS!Q248","v":""},{"$f":"RS!R248","v":""},{"$f":"RS!S248","v":""},{"$f":"RS!T248","v":""},{"$f":"RS!U248","v":""},{"$f":"RS!V248","v":""},{"$f":"RS!W248","v":""},{"$f":"RS!X248","v":""},{"$f":"RS!Y248","v":""},{"$f":"RS!Z248","v":""},{"$f":"RS!AA248","v":""},{"$f":"RS!AB248","v":""},{"$f":"RS!AC248","v":""},null,null,null,null,null,null,null,null,null,null,null,null,null,null,null,null,null,null,null,null,null,null,null,null,null,null,null,null,"","","","","","","","","","","","","","","","","","","","","","",""]
[150,{"$f":"RS!D249","v":"58 Pinnån, vid utfl t Rönneå"},{"$f":"RS!E249","v":""},{"$f":"RS!F249","v":""},{"$f":"RS!G249","v":""},{"$f":"RS!H249","v":""},{"$f":"RS!I249","v":""},{"$f":"RS!J249","v":""},{"$f":"RS!K249","v":""},{"$f":"RS!L249","v":""},{"$f":"RS!M249","v":""},{"$f":"RS!N249","v":""},{"$f":"RS!O249","v":""},{"$f":"RS!P249","v":""},{"$f":"RS!Q249","v":""},{"$f":"RS!R249","v":""},{"$f":"RS!S249","v":""},{"$f":"RS!T249","v":""},{"$f":"RS!U249","v":""},{"$f":"RS!V249","v":""},{"$f":"RS!W249","v":""},{"$f":"RS!X249","v":""},{"$f":"RS!Y249","v":""},{"$f":"RS!Z249","v":""},{"$f":"RS!AA249","v":""},{"$f":"RS!AB249","v":""},{"$f":"RS!AC249","v":""},null,null,null,null,null,null,null,null,null,null,null,null,null,null,null,null,null,null,null,null,null,null,null,null,null,null,null,null,"","","","","","","","","","","","","","","","","","","","","","",""]
[150,{"$f":"RS!D250","v":"58 Pinnån, vid utfl t Rönneå"},{"$f":"RS!E250","v":""},{"$f":"RS!F250","v":""},{"$f":"RS!G250","v":""},{"$f":"RS!H250","v":""},{"$f":"RS!I250","v":""},{"$f":"RS!J250","v":""},{"$f":"RS!K250","v":""},{"$f":"RS!L250","v":""},{"$f":"RS!M250","v":""},{"$f":"RS!N250","v":""},{"$f":"RS!O250","v":""},{"$f":"RS!P250","v":""},{"$f":"RS!Q250","v":""},{"$f":"RS!R250","v":""},{"$f":"RS!S250","v":""},{"$f":"RS!T250","v":""},{"$f":"RS!U250","v":""},{"$f":"RS!V250","v":""},{"$f":"RS!W250","v":""},{"$f":"RS!X250","v":""},{"$f":"RS!Y250","v":""},{"$f":"RS!Z250","v":""},{"$f":"RS!AA250","v":""},{"$f":"RS!AB250","v":""},{"$f":"RS!AC250","v":""},null,null,null,null,null,null,null,null,null,null,null,null,null,null,null,null,null,null,null,null,null,null,null,null,null,null,null,null,"","","","","","","","","","","","","","","","","","","","","","",""]
[150,{"$f":"RS!D251","v":"58 Pinnån, vid utfl t Rönneå"},{"$f":"RS!E251","v":""},{"$f":"RS!F251","v":""},{"$f":"RS!G251","v":""},{"$f":"RS!H251","v":""},{"$f":"RS!I251","v":""},{"$f":"RS!J251","v":""},{"$f":"RS!K251","v":""},{"$f":"RS!L251","v":""},{"$f":"RS!M251","v":""},{"$f":"RS!N251","v":""},{"$f":"RS!O251","v":""},{"$f":"RS!P251","v":""},{"$f":"RS!Q251","v":""},{"$f":"RS!R251","v":""},{"$f":"RS!S251","v":""},{"$f":"RS!T251","v":""},{"$f":"RS!U251","v":""},{"$f":"RS!V251","v":""},{"$f":"RS!W251","v":""},{"$f":"RS!X251","v":""},{"$f":"RS!Y251","v":""},{"$f":"RS!Z251","v":""},{"$f":"RS!AA251","v":""},{"$f":"RS!AB251","v":""},{"$f":"RS!AC251","v":""},null,null,null,null,null,null,null,null,null,null,null,null,null,null,null,null,null,null,null,null,null,null,null,null,null,null,null,null,"","","","","","","","","","","","","","","","","","","","","","",""]
[150,{"$f":"RS!D252","v":"58 Pinnån, vid utfl t Rönneå"},{"$f":"RS!E252","v":""},{"$f":"RS!F252","v":""},{"$f":"RS!G252","v":""},{"$f":"RS!H252","v":""},{"$f":"RS!I252","v":""},{"$f":"RS!J252","v":""},{"$f":"RS!K252","v":""},{"$f":"RS!L252","v":""},{"$f":"RS!M252","v":""},{"$f":"RS!N252","v":""},{"$f":"RS!O252","v":""},{"$f":"RS!P252","v":""},{"$f":"RS!Q252","v":""},{"$f":"RS!R252","v":""},{"$f":"RS!S252","v":""},{"$f":"RS!T252","v":""},{"$f":"RS!U252","v":""},{"$f":"RS!V252","v":""},{"$f":"RS!W252","v":""},{"$f":"RS!X252","v":""},{"$f":"RS!Y252","v":""},{"$f":"RS!Z252","v":""},{"$f":"RS!AA252","v":""},{"$f":"RS!AB252","v":""},{"$f":"RS!AC252","v":""},null,null,null,null,null,null,null,null,null,null,null,null,null,null,null,null,null,null,null,null,null,null,null,null,null,null,null,null,"","","","","","","","","","","","","","","","","","","","","","",""]
[150,{"$f":"RS!D253","v":"58 Pinnån, vid utfl t Rönneå"},{"$f":"RS!E253","v":""},{"$f":"RS!F253","v":""},{"$f":"RS!G253","v":""},{"$f":"RS!H253","v":""},{"$f":"RS!I253","v":""},{"$f":"RS!J253","v":""},{"$f":"RS!K253","v":""},{"$f":"RS!L253","v":""},{"$f":"RS!M253","v":""},{"$f":"RS!N253","v":""},{"$f":"RS!O253","v":""},{"$f":"RS!P253","v":""},{"$f":"RS!Q253","v":""},{"$f":"RS!R253","v":""},{"$f":"RS!S253","v":""},{"$f":"RS!T253","v":""},{"$f":"RS!U253","v":""},{"$f":"RS!V253","v":""},{"$f":"RS!W253","v":""},{"$f":"RS!X253","v":""},{"$f":"RS!Y253","v":""},{"$f":"RS!Z253","v":""},{"$f":"RS!AA253","v":""},{"$f":"RS!AB253","v":""},{"$f":"RS!AC253","v":""},null,null,null,null,null,null,null,null,null,null,null,null,null,null,null,null,null,null,null,null,null,null,null,null,null,null,null,null,"","","","","","","","","","","","","","","","","","","","","","",""]
[150,{"$f":"RS!D254","v":"58 Pinnån, vid utfl t Rönneå"},{"$f":"RS!E254","v":""},{"$f":"RS!F254","v":""},{"$f":"RS!G254","v":""},{"$f":"RS!H254","v":""},{"$f":"RS!I254","v":""},{"$f":"RS!J254","v":""},{"$f":"RS!K254","v":""},{"$f":"RS!L254","v":""},{"$f":"RS!M254","v":""},{"$f":"RS!N254","v":""},{"$f":"RS!O254","v":""},{"$f":"RS!P254","v":""},{"$f":"RS!Q254","v":""},{"$f":"RS!R254","v":""},{"$f":"RS!S254","v":""},{"$f":"RS!T254","v":""},{"$f":"RS!U254","v":""},{"$f":"RS!V254","v":""},{"$f":"RS!W254","v":""},{"$f":"RS!X254","v":""},{"$f":"RS!Y254","v":""},{"$f":"RS!Z254","v":""},{"$f":"RS!AA254","v":""},{"$f":"RS!AB254","v":""},{"$f":"RS!AC254","v":""},null,null,null,null,null,null,null,null,null,null,null,null,null,null,null,null,null,null,null,null,null,null,null,null,null,null,null,null,"","","","","","","","","","","","","","","","","","","","","","",""]
[null,null,"Medel",{"$f":"AVERAGE(BD367:BD378)","v":2.5999999999999996},{"$f":"AVERAGE(BE367:BE378)","v":13.45},{"$f":"AVERAGE(BF367:BF378)","v":98.5},{"$f":"AVERAGE(BG367:BG378)","v":6.85},{"$f":"AVERAGE(BH367:BH378)","v":0.29000000000000004},{"$f":"AVERAGE(BI367:BI378)","v":16.899999999999999},{"$f":"AVERAGE(BJ367:BJ378)","v":325},{"$f":"AVERAGE(BK367:BK378)","v":5.0999999999999996},{"$f":"AVERAGE(BL367:BL378)","v":0.41499999999999998},{"$f":"AVERAGE(BM367:BM378)","v":{"$error":"#DIV/0!"}},{"$f":"AVERAGE(BN367:BN378)","v":65.175000000000011},{"$f":"AVERAGE(BO367:BO378)","v":{"$error":"#DIV/0!"}},{"$f":"AVERAGE(BP367:BP378)","v":{"$error":"#DIV/0!"}},{"$f":"AVERAGE(BQ367:BQ378)","v":{"$error":"#DIV/0!"}},{"$f":"AVERAGE(BR367:BR378)","v":30.5},{"$f":"AVERAGE(BS367:BS378)","v":1050},{"$f":"AVERAGE(BT367:BT378)","v":{"$error":"#DIV/0!"}},{"$f":"AVERAGE(BU367:BU378)","v":1600},{"$f":"AVERAGE(BV367:BV378)","v":0.41499999999999998},{"$f":"AVERAGE(BW367:BW378)","v":0.185},{"$f":"AVERAGE(BX367:BX378)","v":0.51500000000000001},{"$f":"AVERAGE(BY367:BY378)","v":{"$error":"#DIV/0!"}},{"$f":"AVERAGE(BZ367:BZ378)","v":{"$error":"#DIV/0!"}},null,null,null,null,null,null,null,null,null,null,null,null,null,null,null,null,null,null,null,null,null,null,null,null,null,null,null,null,null,2.5999999999999996,13.45,98.5,6.85,0.29000000000000004,16.899999999999999,325,5.0999999999999996,0.41499999999999998,{"$error":"#DIV/0!"},65.175000000000011,{"$error":"#DIV/0!"},{"$error":"#DIV/0!"},{"$error":"#DIV/0!"},30.5,1050,{"$error":"#DIV/0!"},1600,0.41499999999999998,0.185,0.51500000000000001,{"$error":"#DIV/0!"},{"$error":"#DIV/0!"}]
[null,null,"Max",{"$f":"MAX(BD367:BD378)","v":2.8},{"$f":"MAX(BE367:BE378)","v":13.7},{"$f":"MAX(BF367:BF378)","v":101},{"$f":"MAX(BG367:BG378)","v":7},{"$f":"MAX(BH367:BH378)","v":0.38},{"$f":"MAX(BI367:BI378)","v":19.899999999999999},{"$f":"MAX(BJ367:BJ378)","v":400},{"$f":"MAX(BK367:BK378)","v":5.5},{"$f":"MAX(BL367:BL378)","v":0.42},{"$f":"MAX(BM367:BM378)","v":0},{"$f":"MAX(BN367:BN378)","v":71.100000000000009},{"$f":"MAX(BO367:BO378)","v":0},{"$f":"MAX(BP367:BP378)","v":0},{"$f":"MAX(BQ367:BQ378)","v":0},{"$f":"MAX(BR367:BR378)","v":32},{"$f":"MAX(BS367:BS378)","v":1100},{"$f":"MAX(BT367:BT378)","v":0},{"$f":"MAX(BU367:BU378)","v":1700},{"$f":"MAX(BV367:BV378)","v":0.48},{"$f":"MAX(BW367:BW378)","v":0.21},{"$f":"MAX(BX367:BX378)","v":0.7},{"$f":"MAX(BY367:BY378)","v":0},{"$f":"MAX(BZ367:BZ378)","v":0},null,null,null,null,null,null,null,null,null,null,null,null,null,null,null,null,null,null,null,null,null,null,null,null,null,null,null,null,null,2.8,13.7,101,7,0.38,19.899999999999999,400,5.5,0.42,0,71.100000000000009,0,0,0,32,1100,0,1700,0.48,0.21,0.7,0,0]
[null,null,"Min",{"$f":"MIN(BD367:BD378)","v":2.4},{"$f":"MIN(BE367:BE378)","v":13.2},{"$f":"MIN(BF367:BF378)","v":96},{"$f":"MIN(BG367:BG378)","v":6.7},{"$f":"MIN(BH367:BH378)","v":0.2},{"$f":"MIN(BI367:BI378)","v":13.9},{"$f":"MIN(BJ367:BJ378)","v":250},{"$f":"MIN(BK367:BK378)","v":4.7},{"$f":"MIN(BL367:BL378)","v":0.41},{"$f":"MIN(BM367:BM378)","v":0},{"$f":"MIN(BN367:BN378)","v":59.25},{"$f":"MIN(BO367:BO378)","v":0},{"$f":"MIN(BP367:BP378)","v":0},{"$f":"MIN(BQ367:BQ378)","v":0},{"$f":"MIN(BR367:BR378)","v":29},{"$f":"MIN(BS367:BS378)","v":1000},{"$f":"MIN(BT367:BT378)","v":0},{"$f":"MIN(BU367:BU378)","v":1500},{"$f":"MIN(BV367:BV378)","v":0.35},{"$f":"MIN(BW367:BW378)","v":0.16},{"$f":"MIN(BX367:BX378)","v":0.33},{"$f":"MIN(BY367:BY378)","v":0},{"$f":"MIN(BZ367:BZ378)","v":0},null,null,null,null,null,null,null,null,null,null,null,null,null,null,null,null,null,null,null,null,null,null,null,null,null,null,null,null,null,2.4,13.2,96,6.7,0.2,13.9,250,4.7,0.41,0,59.25,0,0,0,29,1000,0,1500,0.35,0.16,0.33,0,0]
[null,null,null,null,null,null,null,null,null,null,null,null,null,null,null,null,null,null,null,null,null,null,null,null,null,null,null,null,null,null,null,null,null,null,null,null,null,null,null,null,null,null,null,null,null,null,null,null,null,null,null,null,null,null,null,0,0,0,0,0,0,0,0,0,0,0,0,0,0,0,0,0,0,0,0,0,0,0]
[155,{"$f":"RS!D255","v":"70 Kägleån, vid Ängeltofta"},{"$f":"RS!E255","v":"2025-02-11"},{"$f":"RS!F255","v":2.2000000000000002},{"$f":"RS!G255","v":14},{"$f":"RS!H255","v":102},{"$f":"RS!I255","v":7.6},{"$f":"RS!J255","v":1.2},{"$f":"RS!K255","v":21},{"$f":"RS!L255","v":100},{"$f":"RS!M255","v":6},{"$f":"RS!N255","v":0.17},{"$f":"RS!O255","v":""},{"$f":"RS!P255","v":23.305000000000003},{"$f":"RS!Q255","v":""},{"$f":"RS!R255","v":""},{"$f":"RS!S255","v":""},{"$f":"RS!T255","v":32},{"$f":"RS!U255","v":1500},{"$f":"RS!V255","v":""},{"$f":"RS!W255","v":1900},{"$f":"RS!X255","v":1.2},{"$f":"RS!Y255","v":0.36},{"$f":"RS!Z255","v":0.25},{"$f":"RS!AA255","v":""},{"$f":"RS!AB255","v":""},{"$f":"RS!AC255","v":""},null,null,null,null,null,null,null,null,null,null,null,null,null,null,null,null,null,null,null,null,null,null,null,null,null,null,null,null,2.2000000000000002,14,102,7.6,1.2,21,100,6,0.17,"",23.305000000000003,"","","",32,1500,"",1900,1.2,0.36,0.25,"",""]
[155,{"$f":"RS!D256","v":"70 Kägleån, vid Ängeltofta"},{"$f":"RS!E256","v":""},{"$f":"RS!F256","v":""},{"$f":"RS!G256","v":""},{"$f":"RS!H256","v":""},{"$f":"RS!I256","v":""},{"$f":"RS!J256","v":""},{"$f":"RS!K256","v":""},{"$f":"RS!L256","v":""},{"$f":"RS!M256","v":""},{"$f":"RS!N256","v":""},{"$f":"RS!O256","v":""},{"$f":"RS!P256","v":""},{"$f":"RS!Q256","v":""},{"$f":"RS!R256","v":""},{"$f":"RS!S256","v":""},{"$f":"RS!T256","v":""},{"$f":"RS!U256","v":""},{"$f":"RS!V256","v":""},{"$f":"RS!W256","v":""},{"$f":"RS!X256","v":""},{"$f":"RS!Y256","v":""},{"$f":"RS!Z256","v":""},{"$f":"RS!AA256","v":""},{"$f":"RS!AB256","v":""},{"$f":"RS!AC256","v":""},null,null,null,null,null,null,null,null,null,null,null,null,null,null,null,null,null,null,null,null,null,null,null,null,null,null,null,null,"","","","","","","","","","","","","","","","","","","","","","",""]
[155,{"$f":"RS!D257","v":"70 Kägleån, vid Ängeltofta"},{"$f":"RS!E257","v":""},{"$f":"RS!F257","v":""},{"$f":"RS!G257","v":""},{"$f":"RS!H257","v":""},{"$f":"RS!I257","v":""},{"$f":"RS!J257","v":""},{"$f":"RS!K257","v":""},{"$f":"RS!L257","v":""},{"$f":"RS!M257","v":""},{"$f":"RS!N257","v":""},{"$f":"RS!O257","v":""},{"$f":"RS!P257","v":""},{"$f":"RS!Q257","v":""},{"$f":"RS!R257","v":""},{"$f":"RS!S257","v":""},{"$f":"RS!T257","v":""},{"$f":"RS!U257","v":""},{"$f":"RS!V257","v":""},{"$f":"RS!W257","v":""},{"$f":"RS!X257","v":""},{"$f":"RS!Y257","v":""},{"$f":"RS!Z257","v":""},{"$f":"RS!AA257","v":""},{"$f":"RS!AB257","v":""},{"$f":"RS!AC257","v":""},null,null,null,null,null,null,null,null,null,null,null,null,null,null,null,null,null,null,null,null,null,null,null,null,null,null,null,null,"","","","","","","","","","","","","","","","","","","","","","",""]
[155,{"$f":"RS!D258","v":"70 Kägleån, vid Ängeltofta"},{"$f":"RS!E258","v":""},{"$f":"RS!F258","v":""},{"$f":"RS!G258","v":""},{"$f":"RS!H258","v":""},{"$f":"RS!I258","v":""},{"$f":"RS!J258","v":""},{"$f":"RS!K258","v":""},{"$f":"RS!L258","v":""},{"$f":"RS!M258","v":""},{"$f":"RS!N258","v":""},{"$f":"RS!O258","v":""},{"$f":"RS!P258","v":""},{"$f":"RS!Q258","v":""},{"$f":"RS!R258","v":""},{"$f":"RS!S258","v":""},{"$f":"RS!T258","v":""},{"$f":"RS!U258","v":""},{"$f":"RS!V258","v":""},{"$f":"RS!W258","v":""},{"$f":"RS!X258","v":""},{"$f":"RS!Y258","v":""},{"$f":"RS!Z258","v":""},{"$f":"RS!AA258","v":""},{"$f":"RS!AB258","v":""},{"$f":"RS!AC258","v":""},null,null,null,null,null,null,null,null,null,null,null,null,null,null,null,null,null,null,null,null,null,null,null,null,null,null,null,null,"","","","","","","","","","","","","","","","","","","","","","",""]
[155,{"$f":"RS!D259","v":"70 Kägleån, vid Ängeltofta"},{"$f":"RS!E259","v":""},{"$f":"RS!F259","v":""},{"$f":"RS!G259","v":""},{"$f":"RS!H259","v":""},{"$f":"RS!I259","v":""},{"$f":"RS!J259","v":""},{"$f":"RS!K259","v":""},{"$f":"RS!L259","v":""},{"$f":"RS!M259","v":""},{"$f":"RS!N259","v":""},{"$f":"RS!O259","v":""},{"$f":"RS!P259","v":""},{"$f":"RS!Q259","v":""},{"$f":"RS!R259","v":""},{"$f":"RS!S259","v":""},{"$f":"RS!T259","v":""},{"$f":"RS!U259","v":""},{"$f":"RS!V259","v":""},{"$f":"RS!W259","v":""},{"$f":"RS!X259","v":""},{"$f":"RS!Y259","v":""},{"$f":"RS!Z259","v":""},{"$f":"RS!AA259","v":""},{"$f":"RS!AB259","v":""},{"$f":"RS!AC259","v":""},null,null,null,null,null,null,null,null,null,null,null,null,null,null,null,null,null,null,null,null,null,null,null,null,null,null,null,null,"","","","","","","","","","","","","","","","","","","","","","",""]
[155,{"$f":"RS!D260","v":"70 Kägleån, vid Ängeltofta"},{"$f":"RS!E260","v":""},{"$f":"RS!F260","v":""},{"$f":"RS!G260","v":""},{"$f":"RS!H260","v":""},{"$f":"RS!I260","v":""},{"$f":"RS!J260","v":""},{"$f":"RS!K260","v":""},{"$f":"RS!L260","v":""},{"$f":"RS!M260","v":""},{"$f":"RS!N260","v":""},{"$f":"RS!O260","v":""},{"$f":"RS!P260","v":""},{"$f":"RS!Q260","v":""},{"$f":"RS!R260","v":""},{"$f":"RS!S260","v":""},{"$f":"RS!T260","v":""},{"$f":"RS!U260","v":""},{"$f":"RS!V260","v":""},{"$f":"RS!W260","v":""},{"$f":"RS!X260","v":""},{"$f":"RS!Y260","v":""},{"$f":"RS!Z260","v":""},{"$f":"RS!AA260","v":""},{"$f":"RS!AB260","v":""},{"$f":"RS!AC260","v":""},null,null,null,null,null,null,null,null,null,null,null,null,null,null,null,null,null,null,null,null,null,null,null,null,null,null,null,null,"","","","","","","","","","","","","","","","","","","","","","",""]
[null,null,"Medel",{"$f":"AVERAGE(BD383:BD388)","v":2.2000000000000002},{"$f":"AVERAGE(BE383:BE388)","v":14},{"$f":"AVERAGE(BF383:BF388)","v":102},{"$f":"AVERAGE(BG383:BG388)","v":7.6},{"$f":"AVERAGE(BH383:BH388)","v":1.2},{"$f":"AVERAGE(BI383:BI388)","v":21},{"$f":"AVERAGE(BJ383:BJ388)","v":100},{"$f":"AVERAGE(BK383:BK388)","v":6},{"$f":"AVERAGE(BL383:BL388)","v":0.17},{"$f":"AVERAGE(BM383:BM388)","v":{"$error":"#DIV/0!"}},{"$f":"AVERAGE(BN383:BN388)","v":23.305000000000003},{"$f":"AVERAGE(BO383:BO388)","v":{"$error":"#DIV/0!"}},{"$f":"AVERAGE(BP383:BP388)","v":{"$error":"#DIV/0!"}},{"$f":"AVERAGE(BQ383:BQ388)","v":{"$error":"#DIV/0!"}},{"$f":"AVERAGE(BR383:BR388)","v":32},{"$f":"AVERAGE(BS383:BS388)","v":1500},{"$f":"AVERAGE(BT383:BT388)","v":{"$error":"#DIV/0!"}},{"$f":"AVERAGE(BU383:BU388)","v":1900},{"$f":"AVERAGE(BV383:BV388)","v":1.2},{"$f":"AVERAGE(BW383:BW388)","v":0.36},{"$f":"AVERAGE(BX383:BX388)","v":0.25},{"$f":"AVERAGE(BY383:BY388)","v":{"$error":"#DIV/0!"}},{"$f":"AVERAGE(BZ383:BZ388)","v":{"$error":"#DIV/0!"}},null,null,null,null,null,null,null,null,null,null,null,null,null,null,null,null,null,null,null,null,null,null,null,null,null,null,null,null,null,2.2000000000000002,14,102,7.6,1.2,21,100,6,0.17,{"$error":"#DIV/0!"},23.305000000000003,{"$error":"#DIV/0!"},{"$error":"#DIV/0!"},{"$error":"#DIV/0!"},32,1500,{"$error":"#DIV/0!"},1900,1.2,0.36,0.25,{"$error":"#DIV/0!"},{"$error":"#DIV/0!"}]
[null,null,"Max",{"$f":"MAX(BD383:BD388)","v":2.2000000000000002},{"$f":"MAX(BE383:BE388)","v":14},{"$f":"MAX(BF383:BF388)","v":102},{"$f":"MAX(BG383:BG388)","v":7.6},{"$f":"MAX(BH383:BH388)","v":1.2},{"$f":"MAX(BI383:BI388)","v":21},{"$f":"MAX(BJ383:BJ388)","v":100},{"$f":"MAX(BK383:BK388)","v":6},{"$f":"MAX(BL383:BL388)","v":0.17},{"$f":"MAX(BM383:BM388)","v":0},{"$f":"MAX(BN383:BN388)","v":23.305000000000003},{"$f":"MAX(BO383:BO388)","v":0},{"$f":"MAX(BP383:BP388)","v":0},{"$f":"MAX(BQ383:BQ388)","v":0},{"$f":"MAX(BR383:BR388)","v":32},{"$f":"MAX(BS383:BS388)","v":1500},{"$f":"MAX(BT383:BT388)","v":0},{"$f":"MAX(BU383:BU388)","v":1900},{"$f":"MAX(BV383:BV388)","v":1.2},{"$f":"MAX(BW383:BW388)","v":0.36},{"$f":"MAX(BX383:BX388)","v":0.25},{"$f":"MAX(BY383:BY388)","v":0},{"$f":"MAX(BZ383:BZ388)","v":0},null,null,null,null,null,null,null,null,null,null,null,null,null,null,null,null,null,null,null,null,null,null,null,null,null,null,null,null,null,2.2000000000000002,14,102,7.6,1.2,21,100,6,0.17,0,23.305000000000003,0,0,0,32,1500,0,1900,1.2,0.36,0.25,0,0]
[null,null,"Min",{"$f":"MIN(BD383:BD388)","v":2.2000000000000002},{"$f":"MIN(BE383:BE388)","v":14},{"$f":"MIN(BF383:BF388)","v":102},{"$f":"MIN(BG383:BG388)","v":7.6},{"$f":"MIN(BH383:BH388)","v":1.2},{"$f":"MIN(BI383:BI388)","v":21},{"$f":"MIN(BJ383:BJ388)","v":100},{"$f":"MIN(BK383:BK388)","v":6},{"$f":"MIN(BL383:BL388)","v":0.17},{"$f":"MIN(BM383:BM388)","v":0},{"$f":"MIN(BN383:BN388)","v":23.305000000000003},{"$f":"MIN(BO383:BO388)","v":0},{"$f":"MIN(BP383:BP388)","v":0},{"$f":"MIN(BQ383:BQ388)","v":0},{"$f":"MIN(BR383:BR388)","v":32},{"$f":"MIN(BS383:BS388)","v":1500},{"$f":"MIN(BT383:BT388)","v":0},{"$f":"MIN(BU383:BU388)","v":1900},{"$f":"MIN(BV383:BV388)","v":1.2},{"$f":"MIN(BW383:BW388)","v":0.36},{"$f":"MIN(BX383:BX388)","v":0.25},{"$f":"MIN(BY383:BY388)","v":0},{"$f":"MIN(BZ383:BZ388)","v":0},null,null,null,null,null,null,null,null,null,null,null,null,null,null,null,null,null,null,null,null,null,null,null,null,null,null,null,null,null,2.2000000000000002,14,102,7.6,1.2,21,100,6,0.17,0,23.305000000000003,0,0,0,32,1500,0,1900,1.2,0.36,0.25,0,0]
[null,null,null,null,null,null,null,null,null,null,null,null,null,null,null,null,null,null,null,null,null,null,null,null,null,null,null,null,null,null,null,null,null,null,null,null,null,null,null,null,null,null,null,null,null,null,null,null,null,null,null,null,null,null,null,{"$f":"IF(OR(LEFT(D392,1)=\"<\",LEFT(D392,1)=\">\"),VALUE(MID(D392,2,5)),D392)","v":0},{"$f":"IF(OR(LEFT(E392,1)=\"<\",LEFT(E392,1)=\">\"),VALUE(MID(E392,2,5)),E392)","v":0},{"$f":"IF(OR(LEFT(F392,1)=\"<\",LEFT(F392,1)=\">\"),VALUE(MID(F392,2,5)),F392)","v":0},{"$f":"IF(OR(LEFT(G392,1)=\"<\",LEFT(G392,1)=\">\"),VALUE(MID(G392,2,5)),G392)","v":0},{"$f":"IF(OR(LEFT(H392,1)=\"<\",LEFT(H392,1)=\">\"),VALUE(MID(H392,2,5)),H392)","v":0},{"$f":"IF(OR(LEFT(I392,1)=\"<\",LEFT(I392,1)=\">\"),VALUE(MID(I392,2,5)),I392)","v":0},{"$f":"IF(OR(LEFT(J392,1)=\"<\",LEFT(J392,1)=\">\"),VALUE(MID(J392,2,5)),J392)","v":0},{"$f":"IF(OR(LEFT(K392,1)=\"<\",LEFT(K392,1)=\">\"),VALUE(MID(K392,2,5)),K392)","v":0},{"$f":"IF(OR(LEFT(L392,1)=\"<\",LEFT(L392,1)=\">\"),VALUE(MID(L392,2,5)),L392)","v":0},{"$f":"IF(OR(LEFT(M392,1)=\"<\",LEFT(M392,1)=\">\"),VALUE(MID(M392,2,5)),M392)","v":0},{"$f":"IF(OR(LEFT(N392,1)=\"<\",LEFT(N392,1)=\">\"),VALUE(MID(N392,2,5)),N392)","v":0},{"$f":"IF(OR(LEFT(O392,1)=\"<\",LEFT(O392,1)=\">\"),VALUE(MID(O392,2,5)),O392)","v":0},{"$f":"IF(OR(LEFT(P392,1)=\"<\",LEFT(P392,1)=\">\"),VALUE(MID(P392,2,5)),P392)","v":0},{"$f":"IF(OR(LEFT(Q392,1)=\"<\",LEFT(Q392,1)=\">\"),VALUE(MID(Q392,2,5)),Q392)","v":0},{"$f":"IF(OR(LEFT(R392,1)=\"<\",LEFT(R392,1)=\">\"),VALUE(MID(R392,2,5)),R392)","v":0},{"$f":"IF(OR(LEFT(S392,1)=\"<\",LEFT(S392,1)=\">\"),VALUE(MID(S392,2,5)),S392)","v":0},{"$f":"IF(OR(LEFT(T392,1)=\"<\",LEFT(T392,1)=\">\"),VALUE(MID(T392,2,5)),T392)","v":0},{"$f":"IF(OR(LEFT(U392,1)=\"<\",LEFT(U392,1)=\">\"),VALUE(MID(U392,2,5)),U392)","v":0},{"$f":"IF(OR(LEFT(V392,1)=\"<\",LEFT(V392,1)=\">\"),VALUE(MID(V392,2,5)),V392)","v":0},{"$f":"IF(OR(LEFT(W392,1)=\"<\",LEFT(W392,1)=\">\"),VALUE(MID(W392,2,5)),W392)","v":0},{"$f":"IF(OR(LEFT(X392,1)=\"<\",LEFT(X392,1)=\">\"),VALUE(MID(X392,2,5)),X392)","v":0},{"$f":"IF(OR(LEFT(Y392,1)=\"<\",LEFT(Y392,1)=\">\"),VALUE(MID(Y392,2,5)),Y392)","v":0},{"$f":"IF(OR(LEFT(Z392,1)=\"<\",LEFT(Z392,1)=\">\"),VALUE(MID(Z392,2,5)),Z392)","v":0}]
[160,{"$f":"RS!D261","v":"55 Kägleån, vägbro Åkersholm"},{"$f":"RS!E261","v":"2025-02-11"},{"$f":"RS!F261","v":2.2000000000000002},{"$f":"RS!G261","v":13.9},{"$f":"RS!H261","v":101},{"$f":"RS!I261","v":7.7},{"$f":"RS!J261","v":1.5},{"$f":"RS!K261","v":24.5},{"$f":"RS!L261","v":100},{"$f":"RS!M261","v":7.8},{"$f":"RS!N261","v":0.19},{"$f":"RS!O261","v":""},{"$f":"RS!P261","v":25.28},{"$f":"RS!Q261","v":""},{"$f":"RS!R261","v":""},{"$f":"RS!S261","v":""},{"$f":"RS!T261","v":40},{"$f":"RS!U261","v":1400},{"$f":"RS!V261","v":""},{"$f":"RS!W261","v":1700},{"$f":"RS!X261","v":1.3},{"$f":"RS!Y261","v":0.45},{"$f":"RS!Z261","v":0.28000000000000003},{"$f":"RS!AA261","v":""},{"$f":"RS!AB261","v":""},{"$f":"RS!AC261","v":""},null,null,null,null,null,null,null,null,null,null,null,null,null,null,null,null,null,null,null,null,null,null,null,null,null,null,null,null,2.2000000000000002,13.9,101,7.7,1.5,24.5,100,7.8,0.19,"",25.28,"","","",40,1400,"",1700,1.3,0.45,0.28000000000000003,"",""]
[160,{"$f":"RS!D262","v":"55 Kägleån, vägbro Åkersholm"},{"$f":"RS!E262","v":""},{"$f":"RS!F262","v":""},{"$f":"RS!G262","v":""},{"$f":"RS!H262","v":""},{"$f":"RS!I262","v":""},{"$f":"RS!J262","v":""},{"$f":"RS!K262","v":""},{"$f":"RS!L262","v":""},{"$f":"RS!M262","v":""},{"$f":"RS!N262","v":""},{"$f":"RS!O262","v":""},{"$f":"RS!P262","v":""},{"$f":"RS!Q262","v":""},{"$f":"RS!R262","v":""},{"$f":"RS!S262","v":""},{"$f":"RS!T262","v":""},{"$f":"RS!U262","v":""},{"$f":"RS!V262","v":""},{"$f":"RS!W262","v":""},{"$f":"RS!X262","v":""},{"$f":"RS!Y262","v":""},{"$f":"RS!Z262","v":""},{"$f":"RS!AA262","v":""},{"$f":"RS!AB262","v":""},{"$f":"RS!AC262","v":""},null,null,null,null,null,null,null,null,null,null,null,null,null,null,null,null,null,null,null,null,null,null,null,null,null,null,null,null,"","","","","","","","","","","","","","","","","","","","","","",""]
[160,{"$f":"RS!D263","v":"55 Kägleån, vägbro Åkersholm"},{"$f":"RS!E263","v":""},{"$f":"RS!F263","v":""},{"$f":"RS!G263","v":""},{"$f":"RS!H263","v":""},{"$f":"RS!I263","v":""},{"$f":"RS!J263","v":""},{"$f":"RS!K263","v":""},{"$f":"RS!L263","v":""},{"$f":"RS!M263","v":""},{"$f":"RS!N263","v":""},{"$f":"RS!O263","v":""},{"$f":"RS!P263","v":""},{"$f":"RS!Q263","v":""},{"$f":"RS!R263","v":""},{"$f":"RS!S263","v":""},{"$f":"RS!T263","v":""},{"$f":"RS!U263","v":""},{"$f":"RS!V263","v":""},{"$f":"RS!W263","v":""},{"$f":"RS!X263","v":""},{"$f":"RS!Y263","v":""},{"$f":"RS!Z263","v":""},{"$f":"RS!AA263","v":""},{"$f":"RS!AB263","v":""},{"$f":"RS!AC263","v":""},null,null,null,null,null,null,null,null,null,null,null,null,null,null,null,null,null,null,null,null,null,null,null,null,null,null,null,null,"","","","","","","","","","","","","","","","","","","","","","",""]
[160,{"$f":"RS!D264","v":"55 Kägleån, vägbro Åkersholm"},{"$f":"RS!E264","v":""},{"$f":"RS!F264","v":""},{"$f":"RS!G264","v":""},{"$f":"RS!H264","v":""},{"$f":"RS!I264","v":""},{"$f":"RS!J264","v":""},{"$f":"RS!K264","v":""},{"$f":"RS!L264","v":""},{"$f":"RS!M264","v":""},{"$f":"RS!N264","v":""},{"$f":"RS!O264","v":""},{"$f":"RS!P264","v":""},{"$f":"RS!Q264","v":""},{"$f":"RS!R264","v":""},{"$f":"RS!S264","v":""},{"$f":"RS!T264","v":""},{"$f":"RS!U264","v":""},{"$f":"RS!V264","v":""},{"$f":"RS!W264","v":""},{"$f":"RS!X264","v":""},{"$f":"RS!Y264","v":""},{"$f":"RS!Z264","v":""},{"$f":"RS!AA264","v":""},{"$f":"RS!AB264","v":""},{"$f":"RS!AC264","v":""},null,null,null,null,null,null,null,null,null,null,null,null,null,null,null,null,null,null,null,null,null,null,null,null,null,null,null,null,"","","","","","","","","","","","","","","","","","","","","","",""]
[160,{"$f":"RS!D265","v":"55 Kägleån, vägbro Åkersholm"},{"$f":"RS!E265","v":""},{"$f":"RS!F265","v":""},{"$f":"RS!G265","v":""},{"$f":"RS!H265","v":""},{"$f":"RS!I265","v":""},{"$f":"RS!J265","v":""},{"$f":"RS!K265","v":""},{"$f":"RS!L265","v":""},{"$f":"RS!M265","v":""},{"$f":"RS!N265","v":""},{"$f":"RS!O265","v":""},{"$f":"RS!P265","v":""},{"$f":"RS!Q265","v":""},{"$f":"RS!R265","v":""},{"$f":"RS!S265","v":""},{"$f":"RS!T265","v":""},{"$f":"RS!U265","v":""},{"$f":"RS!V265","v":""},{"$f":"RS!W265","v":""},{"$f":"RS!X265","v":""},{"$f":"RS!Y265","v":""},{"$f":"RS!Z265","v":""},{"$f":"RS!AA265","v":""},{"$f":"RS!AB265","v":""},{"$f":"RS!AC265","v":""},null,null,null,null,null,null,null,null,null,null,null,null,null,null,null,null,null,null,null,null,null,null,null,null,null,null,null,null,"","","","","","","","","","","","","","","","","","","","","","",""]
[160,{"$f":"RS!D266","v":"55 Kägleån, vägbro Åkersholm"},{"$f":"RS!E266","v":""},{"$f":"RS!F266","v":""},{"$f":"RS!G266","v":""},{"$f":"RS!H266","v":""},{"$f":"RS!I266","v":""},{"$f":"RS!J266","v":""},{"$f":"RS!K266","v":""},{"$f":"RS!L266","v":""},{"$f":"RS!M266","v":""},{"$f":"RS!N266","v":""},{"$f":"RS!O266","v":""},{"$f":"RS!P266","v":""},{"$f":"RS!Q266","v":""},{"$f":"RS!R266","v":""},{"$f":"RS!S266","v":""},{"$f":"RS!T266","v":""},{"$f":"RS!U266","v":""},{"$f":"RS!V266","v":""},{"$f":"RS!W266","v":""},{"$f":"RS!X266","v":""},{"$f":"RS!Y266","v":""},{"$f":"RS!Z266","v":""},{"$f":"RS!AA266","v":""},{"$f":"RS!AB266","v":""},{"$f":"RS!AC266","v":""},null,null,null,null,null,null,null,null,null,null,null,null,null,null,null,null,null,null,null,null,null,null,null,null,null,null,null,null,"","","","","","","","","","","","","","","","","","","","","","",""]
[null,null,"Medel",{"$f":"AVERAGE(BD393:BD398)","v":2.2000000000000002},{"$f":"AVERAGE(BE393:BE398)","v":13.9},{"$f":"AVERAGE(BF393:BF398)","v":101},{"$f":"AVERAGE(BG393:BG398)","v":7.7},{"$f":"AVERAGE(BH393:BH398)","v":1.5},{"$f":"AVERAGE(BI393:BI398)","v":24.5},{"$f":"AVERAGE(BJ393:BJ398)","v":100},{"$f":"AVERAGE(BK393:BK398)","v":7.8},{"$f":"AVERAGE(BL393:BL398)","v":0.19},{"$f":"AVERAGE(BM393:BM398)","v":{"$error":"#DIV/0!"}},{"$f":"AVERAGE(BN393:BN398)","v":25.28},{"$f":"AVERAGE(BO393:BO398)","v":{"$error":"#DIV/0!"}},{"$f":"AVERAGE(BP393:BP398)","v":{"$error":"#DIV/0!"}},{"$f":"AVERAGE(BQ393:BQ398)","v":{"$error":"#DIV/0!"}},{"$f":"AVERAGE(BR393:BR398)","v":40},{"$f":"AVERAGE(BS393:BS398)","v":1400},{"$f":"AVERAGE(BT393:BT398)","v":{"$error":"#DIV/0!"}},{"$f":"AVERAGE(BU393:BU398)","v":1700},{"$f":"AVERAGE(BV393:BV398)","v":1.3},{"$f":"AVERAGE(BW393:BW398)","v":0.45},{"$f":"AVERAGE(BX393:BX398)","v":0.28000000000000003},{"$f":"AVERAGE(BY393:BY398)","v":{"$error":"#DIV/0!"}},{"$f":"AVERAGE(BZ393:BZ398)","v":{"$error":"#DIV/0!"}},null,null,null,null,null,null,null,null,null,null,null,null,null,null,null,null,null,null,null,null,null,null,null,null,null,null,null,null,null,2.2000000000000002,13.9,101,7.7,1.5,24.5,100,7.8,0.19,{"$error":"#DIV/0!"},25.28,{"$error":"#DIV/0!"},{"$error":"#DIV/0!"},{"$error":"#DIV/0!"},40,1400,{"$error":"#DIV/0!"},1700,1.3,0.45,0.28000000000000003,{"$error":"#DIV/0!"},{"$error":"#DIV/0!"}]
[null,null,"Max",{"$f":"MAX(BD393:BD398)","v":2.2000000000000002},{"$f":"MAX(BE393:BE398)","v":13.9},{"$f":"MAX(BF393:BF398)","v":101},{"$f":"MAX(BG393:BG398)","v":7.7},{"$f":"MAX(BH393:BH398)","v":1.5},{"$f":"MAX(BI393:BI398)","v":24.5},{"$f":"MAX(BJ393:BJ398)","v":100},{"$f":"MAX(BK393:BK398)","v":7.8},{"$f":"MAX(BL393:BL398)","v":0.19},{"$f":"MAX(BM393:BM398)","v":0},{"$f":"MAX(BN393:BN398)","v":25.28},{"$f":"MAX(BO393:BO398)","v":0},{"$f":"MAX(BP393:BP398)","v":0},{"$f":"MAX(BQ393:BQ398)","v":0},{"$f":"MAX(BR393:BR398)","v":40},{"$f":"MAX(BS393:BS398)","v":1400},{"$f":"MAX(BT393:BT398)","v":0},{"$f":"MAX(BU393:BU398)","v":1700},{"$f":"MAX(BV393:BV398)","v":1.3},{"$f":"MAX(BW393:BW398)","v":0.45},{"$f":"MAX(BX393:BX398)","v":0.28000000000000003},{"$f":"MAX(BY393:BY398)","v":0},{"$f":"MAX(BZ393:BZ398)","v":0},null,null,null,null,null,null,null,null,null,null,null,null,null,null,null,null,null,null,null,null,null,null,null,null,null,null,null,null,null,2.2000000000000002,13.9,101,7.7,1.5,24.5,100,7.8,0.19,0,25.28,0,0,0,40,1400,0,1700,1.3,0.45,0.28000000000000003,0,0]
[null,null,"Min",{"$f":"MIN(BD393:BD398)","v":2.2000000000000002},{"$f":"MIN(BE393:BE398)","v":13.9},{"$f":"MIN(BF393:BF398)","v":101},{"$f":"MIN(BG393:BG398)","v":7.7},{"$f":"MIN(BH393:BH398)","v":1.5},{"$f":"MIN(BI393:BI398)","v":24.5},{"$f":"MIN(BJ393:BJ398)","v":100},{"$f":"MIN(BK393:BK398)","v":7.8},{"$f":"MIN(BL393:BL398)","v":0.19},{"$f":"MIN(BM393:BM398)","v":0},{"$f":"MIN(BN393:BN398)","v":25.28},{"$f":"MIN(BO393:BO398)","v":0},{"$f":"MIN(BP393:BP398)","v":0},{"$f":"MIN(BQ393:BQ398)","v":0},{"$f":"MIN(BR393:BR398)","v":40},{"$f":"MIN(BS393:BS398)","v":1400},{"$f":"MIN(BT393:BT398)","v":0},{"$f":"MIN(BU393:BU398)","v":1700},{"$f":"MIN(BV393:BV398)","v":1.3},{"$f":"MIN(BW393:BW398)","v":0.45},{"$f":"MIN(BX393:BX398)","v":0.28000000000000003},{"$f":"MIN(BY393:BY398)","v":0},{"$f":"MIN(BZ393:BZ398)","v":0},null,null,null,null,null,null,null,null,null,null,null,null,null,null,null,null,null,null,null,null,null,null,null,null,null,null,null,null,null,2.2000000000000002,13.9,101,7.7,1.5,24.5,100,7.8,0.19,0,25.28,0,0,0,40,1400,0,1700,1.3,0.45,0.28000000000000003,0,0]
[null,null,null,null,null,null,null,null,null,null,null,null,null,null,null,null,null,null,null,null,null,null,null,null,null,null,null,null,null,null,null,null,null,null,null,null,null,null,null,null,null,null,null,null,null,null,null,null,null,null,null,null,null,null,null,0,0,0,0,0,0,0,0,0,0,0,0,0,0,0,0,0,0,0,0,0,0,0]
[165,{"$f":"RS!D267","v":"56 Rössjöholmsån, f utfl t Rönneå"},{"$f":"RS!E267","v":"2025-01-15"},{"$f":"RS!F267","v":2.4},{"$f":"RS!G267","v":13.6},{"$f":"RS!H267","v":99},{"$f":"RS!I267","v":7.3},{"$f":"RS!J267","v":0.56999999999999995},{"$f":"RS!K267","v":13.8},{"$f":"RS!L267","v":120},{"$f":"RS!M267","v":9.8000000000000007},{"$f":"RS!N267","v":0.23},{"$f":"RS!O267","v":1.9},{"$f":"RS!P267","v":43.45},{"$f":"RS!Q267","v":32},{"$f":"RS!R267","v":""},{"$f":"RS!S267","v":""},{"$f":"RS!T267","v":40},{"$f":"RS!U267","v":870},{"$f":"RS!V267","v":11},{"$f":"RS!W267","v":1200},{"$f":"RS!X267","v":0.59},{"$f":"RS!Y267","v":0.23},{"$f":"RS!Z267","v":0.16},{"$f":"RS!AA267","v":""},{"$f":"RS!AB267","v":""},{"$f":"RS!AC267","v":""},null,null,null,null,null,null,null,null,null,null,null,null,null,null,null,null,null,null,null,null,null,null,null,null,null,null,null,null,2.4,13.6,99,7.3,0.56999999999999995,13.8,120,9.8000000000000007,0.23,1.9,43.45,32,"","",40,870,11,1200,0.59,0.23,0.16,"",""]
[165,{"$f":"RS!D268","v":"56 Rössjöholmsån, f utfl t Rönneå"},{"$f":"RS!E268","v":"2025-02-11"},{"$f":"RS!F268","v":1.9},{"$f":"RS!G268","v":14.1},{"$f":"RS!H268","v":102},{"$f":"RS!I268","v":7.5},{"$f":"RS!J268","v":0.87},{"$f":"RS!K268","v":17},{"$f":"RS!L268","v":150},{"$f":"RS!M268","v":7.2},{"$f":"RS!N268","v":0.22},{"$f":"RS!O268","v":1.3},{"$f":"RS!P268","v":35.945},{"$f":"RS!Q268","v":"<30"},{"$f":"RS!R268","v":""},{"$f":"RS!S268","v":""},{"$f":"RS!T268","v":32},{"$f":"RS!U268","v":1000},{"$f":"RS!V268","v":34},{"$f":"RS!W268","v":1300},{"$f":"RS!X268","v":0.83},{"$f":"RS!Y268","v":0.31},{"$f":"RS!Z268","v":0.21},{"$f":"RS!AA268","v":""},{"$f":"RS!AB268","v":""},{"$f":"RS!AC268","v":""},null,null,null,null,null,null,null,null,null,null,null,null,null,null,null,null,null,null,null,null,null,null,null,null,null,null,null,null,1.9,14.1,102,7.5,0.87,17,150,7.2,0.22,1.3,35.945,30,"","",32,1000,34,1300,0.83,0.31,0.21,"",""]
[165,{"$f":"RS!D269","v":"56 Rössjöholmsån, f utfl t Rönneå"},{"$f":"RS!E269","v":""},{"$f":"RS!F269","v":""},{"$f":"RS!G269","v":""},{"$f":"RS!H269","v":""},{"$f":"RS!I269","v":""},{"$f":"RS!J269","v":""},{"$f":"RS!K269","v":""},{"$f":"RS!L269","v":""},{"$f":"RS!M269","v":""},{"$f":"RS!N269","v":""},{"$f":"RS!O269","v":""},{"$f":"RS!P269","v":""},{"$f":"RS!Q269","v":""},{"$f":"RS!R269","v":""},{"$f":"RS!S269","v":""},{"$f":"RS!T269","v":""},{"$f":"RS!U269","v":""},{"$f":"RS!V269","v":""},{"$f":"RS!W269","v":""},{"$f":"RS!X269","v":""},{"$f":"RS!Y269","v":""},{"$f":"RS!Z269","v":""},{"$f":"RS!AA269","v":""},{"$f":"RS!AB269","v":""},{"$f":"RS!AC269","v":""},null,null,null,null,null,null,null,null,null,null,null,null,null,null,null,null,null,null,null,null,null,null,null,null,null,null,null,null,"","","","","","","","","","","","","","","","","","","","","","",""]
[165,{"$f":"RS!D270","v":"56 Rössjöholmsån, f utfl t Rönneå"},{"$f":"RS!E270","v":""},{"$f":"RS!F270","v":""},{"$f":"RS!G270","v":""},{"$f":"RS!H270","v":""},{"$f":"RS!I270","v":""},{"$f":"RS!J270","v":""},{"$f":"RS!K270","v":""},{"$f":"RS!L270","v":""},{"$f":"RS!M270","v":""},{"$f":"RS!N270","v":""},{"$f":"RS!O270","v":""},{"$f":"RS!P270","v":""},{"$f":"RS!Q270","v":""},{"$f":"RS!R270","v":""},{"$f":"RS!S270","v":""},{"$f":"RS!T270","v":""},{"$f":"RS!U270","v":""},{"$f":"RS!V270","v":""},{"$f":"RS!W270","v":""},{"$f":"RS!X270","v":""},{"$f":"RS!Y270","v":""},{"$f":"RS!Z270","v":""},{"$f":"RS!AA270","v":""},{"$f":"RS!AB270","v":""},{"$f":"RS!AC270","v":""},null,null,null,null,null,null,null,null,null,null,null,null,null,null,null,null,null,null,null,null,null,null,null,null,null,null,null,null,"","","","","","","","","","","","","","","","","","","","","","",""]
[165,{"$f":"RS!D271","v":"56 Rössjöholmsån, f utfl t Rönneå"},{"$f":"RS!E271","v":""},{"$f":"RS!F271","v":""},{"$f":"RS!G271","v":""},{"$f":"RS!H271","v":""},{"$f":"RS!I271","v":""},{"$f":"RS!J271","v":""},{"$f":"RS!K271","v":""},{"$f":"RS!L271","v":""},{"$f":"RS!M271","v":""},{"$f":"RS!N271","v":""},{"$f":"RS!O271","v":""},{"$f":"RS!P271","v":""},{"$f":"RS!Q271","v":""},{"$f":"RS!R271","v":""},{"$f":"RS!S271","v":""},{"$f":"RS!T271","v":""},{"$f":"RS!U271","v":""},{"$f":"RS!V271","v":""},{"$f":"RS!W271","v":""},{"$f":"RS!X271","v":""},{"$f":"RS!Y271","v":""},{"$f":"RS!Z271","v":""},{"$f":"RS!AA271","v":""},{"$f":"RS!AB271","v":""},{"$f":"RS!AC271","v":""},null,null,null,null,null,null,null,null,null,null,null,null,null,null,null,null,null,null,null,null,null,null,null,null,null,null,null,null,"","","","","","","","","","","","","","","","","","","","","","",""]
[165,{"$f":"RS!D272","v":"56 Rössjöholmsån, f utfl t Rönneå"},{"$f":"RS!E272","v":""},{"$f":"RS!F272","v":""},{"$f":"RS!G272","v":""},{"$f":"RS!H272","v":""},{"$f":"RS!I272","v":""},{"$f":"RS!J272","v":""},{"$f":"RS!K272","v":""},{"$f":"RS!L272","v":""},{"$f":"RS!M272","v":""},{"$f":"RS!N272","v":""},{"$f":"RS!O272","v":""},{"$f":"RS!P272","v":""},{"$f":"RS!Q272","v":""},{"$f":"RS!R272","v":""},{"$f":"RS!S272","v":""},{"$f":"RS!T272","v":""},{"$f":"RS!U272","v":""},{"$f":"RS!V272","v":""},{"$f":"RS!W272","v":""},{"$f":"RS!X272","v":""},{"$f":"RS!Y272","v":""},{"$f":"RS!Z272","v":""},{"$f":"RS!AA272","v":""},{"$f":"RS!AB272","v":""},{"$f":"RS!AC272","v":""},null,null,null,null,null,null,null,null,null,null,null,null,null,null,null,null,null,null,null,null,null,null,null,null,null,null,null,null,"","","","","","","","","","","","","","","","","","","","","","",""]
[165,{"$f":"RS!D273","v":"56 Rössjöholmsån, f utfl t Rönneå"},{"$f":"RS!E273","v":""},{"$f":"RS!F273","v":""},{"$f":"RS!G273","v":""},{"$f":"RS!H273","v":""},{"$f":"RS!I273","v":""},{"$f":"RS!J273","v":""},{"$f":"RS!K273","v":""},{"$f":"RS!L273","v":""},{"$f":"RS!M273","v":""},{"$f":"RS!N273","v":""},{"$f":"RS!O273","v":""},{"$f":"RS!P273","v":""},{"$f":"RS!Q273","v":""},{"$f":"RS!R273","v":""},{"$f":"RS!S273","v":""},{"$f":"RS!T273","v":""},{"$f":"RS!U273","v":""},{"$f":"RS!V273","v":""},{"$f":"RS!W273","v":""},{"$f":"RS!X273","v":""},{"$f":"RS!Y273","v":""},{"$f":"RS!Z273","v":""},{"$f":"RS!AA273","v":""},{"$f":"RS!AB273","v":""},{"$f":"RS!AC273","v":""},null,null,null,null,null,null,null,null,null,null,null,null,null,null,null,null,null,null,null,null,null,null,null,null,null,null,null,null,"","","","","","","","","","","","","","","","","","","","","","",""]
[165,{"$f":"RS!D274","v":"56 Rössjöholmsån, f utfl t Rönneå"},{"$f":"RS!E274","v":""},{"$f":"RS!F274","v":""},{"$f":"RS!G274","v":""},{"$f":"RS!H274","v":""},{"$f":"RS!I274","v":""},{"$f":"RS!J274","v":""},{"$f":"RS!K274","v":""},{"$f":"RS!L274","v":""},{"$f":"RS!M274","v":""},{"$f":"RS!N274","v":""},{"$f":"RS!O274","v":""},{"$f":"RS!P274","v":""},{"$f":"RS!Q274","v":""},{"$f":"RS!R274","v":""},{"$f":"RS!S274","v":""},{"$f":"RS!T274","v":""},{"$f":"RS!U274","v":""},{"$f":"RS!V274","v":""},{"$f":"RS!W274","v":""},{"$f":"RS!X274","v":""},{"$f":"RS!Y274","v":""},{"$f":"RS!Z274","v":""},{"$f":"RS!AA274","v":""},{"$f":"RS!AB274","v":""},{"$f":"RS!AC274","v":""},null,null,null,null,null,null,null,null,null,null,null,null,null,null,null,null,null,null,null,null,null,null,null,null,null,null,null,null,"","","","","","","","","","","","","","","","","","","","","","",""]
[165,{"$f":"RS!D275","v":"56 Rössjöholmsån, f utfl t Rönneå"},{"$f":"RS!E275","v":""},{"$f":"RS!F275","v":""},{"$f":"RS!G275","v":""},{"$f":"RS!H275","v":""},{"$f":"RS!I275","v":""},{"$f":"RS!J275","v":""},{"$f":"RS!K275","v":""},{"$f":"RS!L275","v":""},{"$f":"RS!M275","v":""},{"$f":"RS!N275","v":""},{"$f":"RS!O275","v":""},{"$f":"RS!P275","v":""},{"$f":"RS!Q275","v":""},{"$f":"RS!R275","v":""},{"$f":"RS!S275","v":""},{"$f":"RS!T275","v":""},{"$f":"RS!U275","v":""},{"$f":"RS!V275","v":""},{"$f":"RS!W275","v":""},{"$f":"RS!X275","v":""},{"$f":"RS!Y275","v":""},{"$f":"RS!Z275","v":""},{"$f":"RS!AA275","v":""},{"$f":"RS!AB275","v":""},{"$f":"RS!AC275","v":""},null,null,null,null,null,null,null,null,null,null,null,null,null,null,null,null,null,null,null,null,null,null,null,null,null,null,null,null,"","","","","","","","","","","","","","","","","","","","","","",""]
[165,{"$f":"RS!D276","v":"56 Rössjöholmsån, f utfl t Rönneå"},{"$f":"RS!E276","v":""},{"$f":"RS!F276","v":""},{"$f":"RS!G276","v":""},{"$f":"RS!H276","v":""},{"$f":"RS!I276","v":""},{"$f":"RS!J276","v":""},{"$f":"RS!K276","v":""},{"$f":"RS!L276","v":""},{"$f":"RS!M276","v":""},{"$f":"RS!N276","v":""},{"$f":"RS!O276","v":""},{"$f":"RS!P276","v":""},{"$f":"RS!Q276","v":""},{"$f":"RS!R276","v":""},{"$f":"RS!S276","v":""},{"$f":"RS!T276","v":""},{"$f":"RS!U276","v":""},{"$f":"RS!V276","v":""},{"$f":"RS!W276","v":""},{"$f":"RS!X276","v":""},{"$f":"RS!Y276","v":""},{"$f":"RS!Z276","v":""},{"$f":"RS!AA276","v":""},{"$f":"RS!AB276","v":""},{"$f":"RS!AC276","v":""},null,null,null,null,null,null,null,null,null,null,null,null,null,null,null,null,null,null,null,null,null,null,null,null,null,null,null,null,"","","","","","","","","","","","","","","","","","","","","","",""]
[165,{"$f":"RS!D277","v":"56 Rössjöholmsån, f utfl t Rönneå"},{"$f":"RS!E277","v":""},{"$f":"RS!F277","v":""},{"$f":"RS!G277","v":""},{"$f":"RS!H277","v":""},{"$f":"RS!I277","v":""},{"$f":"RS!J277","v":""},{"$f":"RS!K277","v":""},{"$f":"RS!L277","v":""},{"$f":"RS!M277","v":""},{"$f":"RS!N277","v":""},{"$f":"RS!O277","v":""},{"$f":"RS!P277","v":""},{"$f":"RS!Q277","v":""},{"$f":"RS!R277","v":""},{"$f":"RS!S277","v":""},{"$f":"RS!T277","v":""},{"$f":"RS!U277","v":""},{"$f":"RS!V277","v":""},{"$f":"RS!W277","v":""},{"$f":"RS!X277","v":""},{"$f":"RS!Y277","v":""},{"$f":"RS!Z277","v":""},{"$f":"RS!AA277","v":""},{"$f":"RS!AB277","v":""},{"$f":"RS!AC277","v":""},null,null,null,null,null,null,null,null,null,null,null,null,null,null,null,null,null,null,null,null,null,null,null,null,null,null,null,null,"","","","","","","","","","","","","","","","","","","","","","",""]
[165,{"$f":"RS!D278","v":"56 Rössjöholmsån, f utfl t Rönneå"},{"$f":"RS!E278","v":""},{"$f":"RS!F278","v":""},{"$f":"RS!G278","v":""},{"$f":"RS!H278","v":""},{"$f":"RS!I278","v":""},{"$f":"RS!J278","v":""},{"$f":"RS!K278","v":""},{"$f":"RS!L278","v":""},{"$f":"RS!M278","v":""},{"$f":"RS!N278","v":""},{"$f":"RS!O278","v":""},{"$f":"RS!P278","v":""},{"$f":"RS!Q278","v":""},{"$f":"RS!R278","v":""},{"$f":"RS!S278","v":""},{"$f":"RS!T278","v":""},{"$f":"RS!U278","v":""},{"$f":"RS!V278","v":""},{"$f":"RS!W278","v":""},{"$f":"RS!X278","v":""},{"$f":"RS!Y278","v":""},{"$f":"RS!Z278","v":""},{"$f":"RS!AA278","v":""},{"$f":"RS!AB278","v":""},{"$f":"RS!AC278","v":""},null,null,null,null,null,null,null,null,null,null,null,null,null,null,null,null,null,null,null,null,null,null,null,null,null,null,null,null,"","","","","","","","","","","","","","","","","","","","","","",""]
[null,null,"Medel",{"$f":"AVERAGE(BD403:BD414)","v":2.15},{"$f":"AVERAGE(BE403:BE414)","v":13.85},{"$f":"AVERAGE(BF403:BF414)","v":100.5},{"$f":"AVERAGE(BG403:BG414)","v":7.4},{"$f":"AVERAGE(BH403:BH414)","v":0.72},{"$f":"AVERAGE(BI403:BI414)","v":15.4},{"$f":"AVERAGE(BJ403:BJ414)","v":135},{"$f":"AVERAGE(BK403:BK414)","v":8.5},{"$f":"AVERAGE(BL403:BL414)","v":0.22500000000000001},{"$f":"AVERAGE(BM403:BM414)","v":1.6},{"$f":"AVERAGE(BN403:BN414)","v":39.697500000000005},{"$f":"AVERAGE(BO403:BO414)","v":31},{"$f":"AVERAGE(BP403:BP414)","v":{"$error":"#DIV/0!"}},{"$f":"AVERAGE(BQ403:BQ414)","v":{"$error":"#DIV/0!"}},{"$f":"AVERAGE(BR403:BR414)","v":36},{"$f":"AVERAGE(BS403:BS414)","v":935},{"$f":"AVERAGE(BT403:BT414)","v":22.5},{"$f":"AVERAGE(BU403:BU414)","v":1250},{"$f":"AVERAGE(BV403:BV414)","v":0.71},{"$f":"AVERAGE(BW403:BW414)","v":0.27},{"$f":"AVERAGE(BX403:BX414)","v":0.185},{"$f":"AVERAGE(BY403:BY414)","v":{"$error":"#DIV/0!"}},{"$f":"AVERAGE(BZ403:BZ414)","v":{"$error":"#DIV/0!"}},null,null,null,null,null,null,null,null,null,null,null,null,null,null,null,null,null,null,null,null,null,null,null,null,null,null,null,null,null,2.15,13.85,100.5,7.4,0.72,15.4,135,8.5,0.22500000000000001,1.6,39.697500000000005,31,{"$error":"#DIV/0!"},{"$error":"#DIV/0!"},36,935,22.5,1250,0.71,0.27,0.185,{"$error":"#DIV/0!"},{"$error":"#DIV/0!"}]
[null,null,"Max",{"$f":"MAX(BD403:BD414)","v":2.4},{"$f":"MAX(BE403:BE414)","v":14.1},{"$f":"MAX(BF403:BF414)","v":102},{"$f":"MAX(BG403:BG414)","v":7.5},{"$f":"MAX(BH403:BH414)","v":0.87},{"$f":"MAX(BI403:BI414)","v":17},{"$f":"MAX(BJ403:BJ414)","v":150},{"$f":"MAX(BK403:BK414)","v":9.8000000000000007},{"$f":"MAX(BL403:BL414)","v":0.23},{"$f":"MAX(BM403:BM414)","v":1.9},{"$f":"MAX(BN403:BN414)","v":43.45},{"$f":"MAX(BO403:BO414)","v":32},{"$f":"MAX(BP403:BP414)","v":0},{"$f":"MAX(BQ403:BQ414)","v":0},{"$f":"MAX(BR403:BR414)","v":40},{"$f":"MAX(BS403:BS414)","v":1000},{"$f":"MAX(BT403:BT414)","v":34},{"$f":"MAX(BU403:BU414)","v":1300},{"$f":"MAX(BV403:BV414)","v":0.83},{"$f":"MAX(BW403:BW414)","v":0.31},{"$f":"MAX(BX403:BX414)","v":0.21},{"$f":"MAX(BY403:BY414)","v":0},{"$f":"MAX(BZ403:BZ414)","v":0},null,null,null,null,null,null,null,null,null,null,null,null,null,null,null,null,null,null,null,null,null,null,null,null,null,null,null,null,null,2.4,14.1,102,7.5,0.87,17,150,9.8000000000000007,0.23,1.9,43.45,32,0,0,40,1000,34,1300,0.83,0.31,0.21,0,0]
[null,null,"Min",{"$f":"MIN(BD403:BD414)","v":1.9},{"$f":"MIN(BE403:BE414)","v":13.6},{"$f":"MIN(BF403:BF414)","v":99},{"$f":"MIN(BG403:BG414)","v":7.3},{"$f":"MIN(BH403:BH414)","v":0.56999999999999995},{"$f":"MIN(BI403:BI414)","v":13.8},{"$f":"MIN(BJ403:BJ414)","v":120},{"$f":"MIN(BK403:BK414)","v":7.2},{"$f":"MIN(BL403:BL414)","v":0.22},{"$f":"MIN(BM403:BM414)","v":1.3},{"$f":"MIN(BN403:BN414)","v":35.945},{"$f":"MIN(BO403:BO414)","v":30},{"$f":"MIN(BP403:BP414)","v":0},{"$f":"MIN(BQ403:BQ414)","v":0},{"$f":"MIN(BR403:BR414)","v":32},{"$f":"MIN(BS403:BS414)","v":870},{"$f":"MIN(BT403:BT414)","v":11},{"$f":"MIN(BU403:BU414)","v":1200},{"$f":"MIN(BV403:BV414)","v":0.59},{"$f":"MIN(BW403:BW414)","v":0.23},{"$f":"MIN(BX403:BX414)","v":0.16},{"$f":"MIN(BY403:BY414)","v":0},{"$f":"MIN(BZ403:BZ414)","v":0},null,null,null,null,null,null,null,null,null,null,null,null,null,null,null,null,null,null,null,null,null,null,null,null,null,null,null,null,null,1.9,13.6,99,7.3,0.56999999999999995,13.8,120,7.2,0.22,1.3,35.945,30,0,0,32,870,11,1200,0.59,0.23,0.16,0,0]
[null,null,null,null,null,null,null,null,null,null,null,null,null,null,null,null,null,null,null,null,null,null,null,null,null,null,null,null,null,null,null,null,null,null,null,null,null,null,null,null,null,null,null,null,null,null,null,null,null,null,null,null,null,null,null,0,0,0,0,0,0,0,0,0,0,0,0,0,0,0,0,0,0,0,0,0,0,0]
[170,{"$f":"RS!D279","v":"60 Storarydsdammen yta"},{"$f":"RS!E279","v":"2025-02-12"},{"$f":"RS!F279","v":1.7},{"$f":"RS!G279","v":13.3},{"$f":"RS!H279","v":95},{"$f":"RS!I279","v":7},{"$f":"RS!J279","v":0.34},{"$f":"RS!K279","v":20.8},{"$f":"RS!L279","v":150},{"$f":"RS!M279","v":""},{"$f":"RS!N279","v":0.28000000000000003},{"$f":"RS!O279","v":""},{"$f":"RS!P279","v":51.35},{"$f":"RS!Q279","v":""},{"$f":"RS!R279","v":4.3},{"$f":"RS!S279","v":13},{"$f":"RS!T279","v":23},{"$f":"RS!U279","v":770},{"$f":"RS!V279","v":""},{"$f":"RS!W279","v":1200},{"$f":"RS!X279","v":""},{"$f":"RS!Y279","v":0.21},{"$f":"RS!Z279","v":0.49},{"$f":"RS!AA279","v":""},{"$f":"RS!AB279","v":1.3},{"$f":"RS!AC279","v":""},null,null,null,null,null,null,null,null,null,null,null,null,null,null,null,null,null,null,null,null,null,null,null,null,null,null,null,null,1.7,13.3,95,7,0.34,20.8,150,"",0.28000000000000003,"",51.35,"",4.3,13,23,770,"",1200,"",0.21,0.49,"",1.3]
[170,{"$f":"RS!D280","v":"60 Storarydsdammen yta"},{"$f":"RS!E280","v":""},{"$f":"RS!F280","v":""},{"$f":"RS!G280","v":""},{"$f":"RS!H280","v":""},{"$f":"RS!I280","v":""},{"$f":"RS!J280","v":""},{"$f":"RS!K280","v":""},{"$f":"RS!L280","v":""},{"$f":"RS!M280","v":""},{"$f":"RS!N280","v":""},{"$f":"RS!O280","v":""},{"$f":"RS!P280","v":""},{"$f":"RS!Q280","v":""},{"$f":"RS!R280","v":""},{"$f":"RS!S280","v":""},{"$f":"RS!T280","v":""},{"$f":"RS!U280","v":""},{"$f":"RS!V280","v":""},{"$f":"RS!W280","v":""},{"$f":"RS!X280","v":""},{"$f":"RS!Y280","v":""},{"$f":"RS!Z280","v":""},{"$f":"RS!AA280","v":""},{"$f":"RS!AB280","v":""},{"$f":"RS!AC280","v":""},null,null,null,null,null,null,null,null,null,null,null,null,null,null,null,null,null,null,null,null,null,null,null,null,null,null,null,null,"","","","","","","","","","","","","","","","","","","","","","",""]
[null,null,"Medel",{"$f":"AVERAGE(BD419:BD420)","v":1.7},13.3,95,7,0.34,20.8,150,{"$error":"#DIV/0!"},0.28000000000000003,{"$error":"#DIV/0!"},51.35,{"$error":"#DIV/0!"},{"$f":"AVERAGE(BP419:BP420)","v":4.3},13,23,770,{"$error":"#DIV/0!"},1200,{"$f":"AVERAGE(BV419:BV420)","v":{"$error":"#DIV/0!"}},{"$f":"AVERAGE(BW419:BW420)","v":0.21},{"$f":"AVERAGE(BX419:BX420)","v":0.49},{"$f":"AVERAGE(BY419:BY420)","v":{"$error":"#DIV/0!"}},{"$f":"AVERAGE(BZ419:BZ420)","v":1.3},null,null,null,null,null,null,null,null,null,null,null,null,null,null,null,null,null,null,null,null,null,null,null,null,null,null,null,null,null,1.7,13.3,95,7,0.34,20.8,150,{"$error":"#DIV/0!"},0.28000000000000003,{"$error":"#DIV/0!"},51.35,{"$error":"#DIV/0!"},4.3,13,23,770,{"$error":"#DIV/0!"},1200,{"$error":"#DIV/0!"},0.21,0.49,{"$error":"#DIV/0!"},1.3]
[null,null,"Max",{"$f":"MAX(BD419:BD420)","v":1.7},13.3,95,7,0.34,20.8,150,0,0.28000000000000003,0,51.35,0,{"$f":"MAX(BP419:BP420)","v":4.3},13,23,770,0,1200,{"$f":"MAX(BV419:BV420)","v":0},{"$f":"MAX(BW419:BW420)","v":0.21},{"$f":"MAX(BX419:BX420)","v":0.49},{"$f":"MAX(BY419:BY420)","v":0},{"$f":"MAX(BZ419:BZ420)","v":1.3},null,null,null,null,null,null,null,null,null,null,null,null,null,null,null,null,null,null,null,null,null,null,null,null,null,null,null,null,null,1.7,13.3,95,7,0.34,20.8,150,0,0.28000000000000003,0,51.35,0,4.3,13,23,770,0,1200,0,0.21,0.49,0,1.3]
[null,null,"Min",{"$f":"MIN(BD419:BD420)","v":1.7},13.3,95,7,0.34,20.8,150,0,0.28000000000000003,0,51.35,0,{"$f":"MIN(BP419:BP420)","v":4.3},13,23,770,0,1200,{"$f":"MIN(BV419:BV420)","v":0},{"$f":"MIN(BW419:BW420)","v":0.21},{"$f":"MIN(BX419:BX420)","v":0.49},{"$f":"MIN(BY419:BY420)","v":0},{"$f":"MIN(BZ419:BZ420)","v":1.3},null,null,null,null,null,null,null,null,null,null,null,null,null,null,null,null,null,null,null,null,null,null,null,null,null,null,null,null,null,1.7,13.3,95,7,0.34,20.8,150,0,0.28000000000000003,0,51.35,0,4.3,13,23,770,0,1200,0,0.21,0.49,0,1.3]
[null,null,null,null,null,null,null,null,null,null,null,null,null,null,null,null,null,null,null,null,null,null,null,null,null,null,null,null,null,null,null,null,null,null,null,null,null,null,null,null,null,null,null,null,null,null,null,null,null,null,null,null,null,null,null,0,0,0,0,0,0,0,0,0,0,0,0,0,0,0,0,0,0,0,0,0,0,0]
[175,{"$f":"RS!D281","v":"60 Storarydsdammen 4 m"},{"$f":"RS!E281","v":"2025-02-12"},{"$f":"RS!F281","v":1.6},{"$f":"RS!G281","v":13.2},{"$f":"RS!H281","v":94},{"$f":"RS!I281","v":""},{"$f":"RS!J281","v":""},{"$f":"RS!K281","v":""},{"$f":"RS!L281","v":""},{"$f":"RS!M281","v":""},{"$f":"RS!N281","v":""},{"$f":"RS!O281","v":""},{"$f":"RS!P281","v":""},{"$f":"RS!Q281","v":""},{"$f":"RS!R281","v":""},{"$f":"RS!S281","v":""},{"$f":"RS!T281","v":""},{"$f":"RS!U281","v":""},{"$f":"RS!V281","v":""},{"$f":"RS!W281","v":""},{"$f":"RS!X281","v":""},{"$f":"RS!Y281","v":""},{"$f":"RS!Z281","v":""},{"$f":"RS!AA281","v":""},{"$f":"RS!AB281","v":""},{"$f":"RS!AC281","v":""},null,null,null,null,null,null,null,null,null,null,null,null,null,null,null,null,null,null,null,null,null,null,null,null,null,null,null,null,1.6,13.2,94,"","","","","","","","","","","","","","","","","","","",""]
[175,{"$f":"RS!D282","v":"60 Storarydsdammen 4 m"},{"$f":"RS!E282","v":""},{"$f":"RS!F282","v":""},{"$f":"RS!G282","v":""},{"$f":"RS!H282","v":""},{"$f":"RS!I282","v":""},{"$f":"RS!J282","v":""},{"$f":"RS!K282","v":""},{"$f":"RS!L282","v":""},{"$f":"RS!M282","v":""},{"$f":"RS!N282","v":""},{"$f":"RS!O282","v":""},{"$f":"RS!P282","v":""},{"$f":"RS!Q282","v":""},{"$f":"RS!R282","v":""},{"$f":"RS!S282","v":""},{"$f":"RS!T282","v":""},{"$f":"RS!U282","v":""},{"$f":"RS!V282","v":""},{"$f":"RS!W282","v":""},{"$f":"RS!X282","v":""},{"$f":"RS!Y282","v":""},{"$f":"RS!Z282","v":""},{"$f":"RS!AA282","v":""},{"$f":"RS!AB282","v":""},{"$f":"RS!AC282","v":""},null,null,null,null,null,null,null,null,null,null,null,null,null,null,null,null,null,null,null,null,null,null,null,null,null,null,null,null,"","","","","","","","","","","","","","","","","","","","","","",""]
[null,null,"Medel",{"$f":"AVERAGE(BD425:BD426)","v":1.6},13.2,94,{"$error":"#DIV/0!"},{"$error":"#DIV/0!"},{"$error":"#DIV/0!"},{"$error":"#DIV/0!"},{"$error":"#DIV/0!"},{"$error":"#DIV/0!"},{"$error":"#DIV/0!"},{"$error":"#DIV/0!"},{"$error":"#DIV/0!"},{"$f":"AVERAGE(BP425:BP426)","v":{"$error":"#DIV/0!"}},{"$error":"#DIV/0!"},{"$error":"#DIV/0!"},{"$error":"#DIV/0!"},{"$error":"#DIV/0!"},{"$error":"#DIV/0!"},{"$f":"AVERAGE(BV425:BV426)","v":{"$error":"#DIV/0!"}},{"$f":"AVERAGE(BW425:BW426)","v":{"$error":"#DIV/0!"}},{"$f":"AVERAGE(BX425:BX426)","v":{"$error":"#DIV/0!"}},{"$f":"AVERAGE(BY425:BY426)","v":{"$error":"#DIV/0!"}},{"$f":"AVERAGE(BZ425:BZ426)","v":{"$error":"#DIV/0!"}},null,null,null,null,null,null,null,null,null,null,null,null,null,null,null,null,null,null,null,null,null,null,null,null,null,null,null,null,null,1.6,13.2,94,{"$error":"#DIV/0!"},{"$error":"#DIV/0!"},{"$error":"#DIV/0!"},{"$error":"#DIV/0!"},{"$error":"#DIV/0!"},{"$error":"#DIV/0!"},{"$error":"#DIV/0!"},{"$error":"#DIV/0!"},{"$error":"#DIV/0!"},{"$error":"#DIV/0!"},{"$error":"#DIV/0!"},{"$error":"#DIV/0!"},{"$error":"#DIV/0!"},{"$error":"#DIV/0!"},{"$error":"#DIV/0!"},{"$error":"#DIV/0!"},{"$error":"#DIV/0!"},{"$error":"#DIV/0!"},{"$error":"#DIV/0!"},{"$error":"#DIV/0!"}]
[null,null,"Max",{"$f":"MAX(BD425:BD426)","v":1.6},13.2,94,0,0,0,0,0,0,0,0,0,{"$f":"MAX(BP425:BP426)","v":0},0,0,0,0,0,{"$f":"MAX(BV425:BV426)","v":0},{"$f":"MAX(BW425:BW426)","v":0},{"$f":"MAX(BX425:BX426)","v":0},{"$f":"MAX(BY425:BY426)","v":0},{"$f":"MAX(BZ425:BZ426)","v":0},null,null,null,null,null,null,null,null,null,null,null,null,null,null,null,null,null,null,null,null,null,null,null,null,null,null,null,null,null,1.6,13.2,94,0,0,0,0,0,0,0,0,0,0,0,0,0,0,0,0,0,0,0,0]
[null,null,"Min",{"$f":"MIN(BD425:BD426)","v":1.6},13.2,94,0,0,0,0,0,0,0,0,0,{"$f":"MIN(BP425:BP426)","v":0},0,0,0,0,0,{"$f":"MIN(BV425:BV426)","v":0},{"$f":"MIN(BW425:BW426)","v":0},{"$f":"MIN(BX425:BX426)","v":0},{"$f":"MIN(BY425:BY426)","v":0},{"$f":"MIN(BZ425:BZ426)","v":0},null,null,null,null,null,null,null,null,null,null,null,null,null,null,null,null,null,null,null,null,null,null,null,null,null,null,null,null,null,1.6,13.2,94,0,0,0,0,0,0,0,0,0,0,0,0,0,0,0,0,0,0,0,0]
[null,null,null,null,null,null,null,null,null,null,null,null,null,null,null,null,null,null,null,null,null,null,null,null,null,null,null,null,null,null,null,null,null,null,null,null,null,null,null,null,null,null,null,null,null,null,null,null,null,null,null,null,null,null,null,0,0,0,0,0,0,0,0,0,0,0,0,0,0,0,0,0,0,0,0,0,0,0]
[180,{"$f":"RS!D283","v":"19 Ö Sorrödssjön, ytan"},{"$f":"RS!E283","v":"2025-02-12"},{"$f":"RS!F283","v":1.5},{"$f":"RS!G283","v":13.2},{"$f":"RS!H283","v":94},{"$f":"RS!I283","v":7},{"$f":"RS!J283","v":0.3},{"$f":"RS!K283","v":18.899999999999999},{"$f":"RS!L283","v":150},{"$f":"RS!M283","v":""},{"$f":"RS!N283","v":0.3},{"$f":"RS!O283","v":""},{"$f":"RS!P283","v":59.25},{"$f":"RS!Q283","v":""},{"$f":"RS!R283","v":3.5},{"$f":"RS!S283","v":11},{"$f":"RS!T283","v":22},{"$f":"RS!U283","v":990},{"$f":"RS!V283","v":""},{"$f":"RS!W283","v":1300},{"$f":"RS!X283","v":""},{"$f":"RS!Y283","v":0.2},{"$f":"RS!Z283","v":0.44},{"$f":"RS!AA283","v":""},{"$f":"RS!AB283","v":1.1000000000000001},{"$f":"RS!AC283","v":""},null,null,null,null,null,null,null,null,null,null,null,null,null,null,null,null,null,null,null,null,null,null,null,null,null,null,null,null,1.5,13.2,94,7,0.3,18.899999999999999,150,"",0.3,"",59.25,"",3.5,11,22,990,"",1300,"",0.2,0.44,"",1.1000000000000001]
[180,{"$f":"RS!D284","v":"19 Ö Sorrödssjön, ytan"},{"$f":"RS!E284","v":""},{"$f":"RS!F284","v":""},{"$f":"RS!G284","v":""},{"$f":"RS!H284","v":""},{"$f":"RS!I284","v":""},{"$f":"RS!J284","v":""},{"$f":"RS!K284","v":""},{"$f":"RS!L284","v":""},{"$f":"RS!M284","v":""},{"$f":"RS!N284","v":""},{"$f":"RS!O284","v":""},{"$f":"RS!P284","v":""},{"$f":"RS!Q284","v":""},{"$f":"RS!R284","v":""},{"$f":"RS!S284","v":""},{"$f":"RS!T284","v":""},{"$f":"RS!U284","v":""},{"$f":"RS!V284","v":""},{"$f":"RS!W284","v":""},{"$f":"RS!X284","v":""},{"$f":"RS!Y284","v":""},{"$f":"RS!Z284","v":""},{"$f":"RS!AA284","v":""},{"$f":"RS!AB284","v":""},{"$f":"RS!AC284","v":""},null,null,null,null,null,null,null,null,null,null,null,null,null,null,null,null,null,null,null,null,null,null,null,null,null,null,null,null,"","","","","","","","","","","","","","","","","","","","","","",""]
[null,null,"Medel",{"$f":"AVERAGE(BD431:BD432)","v":1.5},13.2,94,7,0.3,18.899999999999999,150,{"$error":"#DIV/0!"},0.3,{"$error":"#DIV/0!"},59.25,{"$error":"#DIV/0!"},{"$f":"AVERAGE(BP431:BP432)","v":3.5},11,22,990,{"$error":"#DIV/0!"},1300,{"$f":"AVERAGE(BV431:BV432)","v":{"$error":"#DIV/0!"}},{"$f":"AVERAGE(BW431:BW432)","v":0.2},{"$f":"AVERAGE(BX431:BX432)","v":0.44},{"$f":"AVERAGE(BY431:BY432)","v":{"$error":"#DIV/0!"}},{"$f":"AVERAGE(BZ431:BZ432)","v":1.1000000000000001},null,null,null,null,null,null,null,null,null,null,null,null,null,null,null,null,null,null,null,null,null,null,null,null,null,null,null,null,null,1.5,13.2,94,7,0.3,18.899999999999999,150,{"$error":"#DIV/0!"},0.3,{"$error":"#DIV/0!"},59.25,{"$error":"#DIV/0!"},3.5,11,22,990,{"$error":"#DIV/0!"},1300,{"$error":"#DIV/0!"},0.2,0.44,{"$error":"#DIV/0!"},1.1000000000000001]
[null,null,"Max",{"$f":"MAX(BD431:BD432)","v":1.5},13.2,94,7,0.3,18.899999999999999,150,0,0.3,0,59.25,0,{"$f":"MAX(BP431:BP432)","v":3.5},11,22,990,0,1300,{"$f":"MAX(BV431:BV432)","v":0},{"$f":"MAX(BW431:BW432)","v":0.2},{"$f":"MAX(BX431:BX432)","v":0.44},{"$f":"MAX(BY431:BY432)","v":0},{"$f":"MAX(BZ431:BZ432)","v":1.1000000000000001},null,null,null,null,null,null,null,null,null,null,null,null,null,null,null,null,null,null,null,null,null,null,null,null,null,null,null,null,null,1.5,13.2,94,7,0.3,18.899999999999999,150,0,0.3,0,59.25,0,3.5,11,22,990,0,1300,0,0.2,0.44,0,1.1000000000000001]
[null,null,"Min",{"$f":"MIN(BD431:BD432)","v":1.5},13.2,94,7,0.3,18.899999999999999,150,0,0.3,0,59.25,0,{"$f":"MIN(BP431:BP432)","v":3.5},11,22,990,0,1300,{"$f":"MIN(BV431:BV432)","v":0},{"$f":"MIN(BW431:BW432)","v":0.2},{"$f":"MIN(BX431:BX432)","v":0.44},{"$f":"MIN(BY431:BY432)","v":0},{"$f":"MIN(BZ431:BZ432)","v":1.1000000000000001},null,null,null,null,null,null,null,null,null,null,null,null,null,null,null,null,null,null,null,null,null,null,null,null,null,null,null,null,null,1.5,13.2,94,7,0.3,18.899999999999999,150,0,0.3,0,59.25,0,3.5,11,22,990,0,1300,0,0.2,0.44,0,1.1000000000000001]
[null,null,null,null,null,null,null,null,null,null,null,null,null,null,null,null,null,null,null,null,null,null,null,null,null,null,null,null,null,null,null,null,null,null,null,null,null,null,null,null,null,null,null,null,null,null,null,null,null,null,null,null,null,null,null,0,0,0,0,0,0,0,0,0,0,0,0,0,0,0,0,0,0,0,0,0,0,0]
[185,{"$f":"RS!D285","v":"19 Ö Sorrödssjön,  4 m"},{"$f":"RS!E285","v":"2025-02-12"},{"$f":"RS!F285","v":1.2},{"$f":"RS!G285","v":13.5},{"$f":"RS!H285","v":95},{"$f":"RS!I285","v":""},{"$f":"RS!J285","v":""},{"$f":"RS!K285","v":""},{"$f":"RS!L285","v":""},{"$f":"RS!M285","v":""},{"$f":"RS!N285","v":""},{"$f":"RS!O285","v":""},{"$f":"RS!P285","v":""},{"$f":"RS!Q285","v":""},{"$f":"RS!R285","v":3.4},{"$f":"RS!S285","v":11},{"$f":"RS!T285","v":55},{"$f":"RS!U285","v":990},{"$f":"RS!V285","v":44},{"$f":"RS!W285","v":1300},{"$f":"RS!X285","v":""},{"$f":"RS!Y285","v":""},{"$f":"RS!Z285","v":""},{"$f":"RS!AA285","v":""},{"$f":"RS!AB285","v":""},{"$f":"RS!AC285","v":""},null,null,null,null,null,null,null,null,null,null,null,null,null,null,null,null,null,null,null,null,null,null,null,null,null,null,null,null,1.2,13.5,95,"","","","","","","","","",3.4,11,55,990,44,1300,"","","","",""]
[185,{"$f":"RS!D286","v":"19 Ö Sorrödssjön,  4 m"},{"$f":"RS!E286","v":""},{"$f":"RS!F286","v":""},{"$f":"RS!G286","v":""},{"$f":"RS!H286","v":""},{"$f":"RS!I286","v":""},{"$f":"RS!J286","v":""},{"$f":"RS!K286","v":""},{"$f":"RS!L286","v":""},{"$f":"RS!M286","v":""},{"$f":"RS!N286","v":""},{"$f":"RS!O286","v":""},{"$f":"RS!P286","v":""},{"$f":"RS!Q286","v":""},{"$f":"RS!R286","v":""},{"$f":"RS!S286","v":""},{"$f":"RS!T286","v":""},{"$f":"RS!U286","v":""},{"$f":"RS!V286","v":""},{"$f":"RS!W286","v":""},{"$f":"RS!X286","v":""},{"$f":"RS!Y286","v":""},{"$f":"RS!Z286","v":""},{"$f":"RS!AA286","v":""},{"$f":"RS!AB286","v":""},{"$f":"RS!AC286","v":""},null,null,null,null,null,null,null,null,null,null,null,null,null,null,null,null,null,null,null,null,null,null,null,null,null,null,null,null,"","","","","","","","","","","","","","","","","","","","","","",""]
[null,null,"Medel",{"$f":"AVERAGE(BD437:BD438)","v":1.2},13.5,95,{"$error":"#DIV/0!"},{"$error":"#DIV/0!"},{"$error":"#DIV/0!"},{"$error":"#DIV/0!"},{"$error":"#DIV/0!"},{"$error":"#DIV/0!"},{"$error":"#DIV/0!"},{"$error":"#DIV/0!"},{"$error":"#DIV/0!"},{"$f":"AVERAGE(BP437:BP438)","v":3.4},11,55,990,44,1300,{"$f":"AVERAGE(BV437:BV438)","v":{"$error":"#DIV/0!"}},{"$f":"AVERAGE(BW437:BW438)","v":{"$error":"#DIV/0!"}},{"$f":"AVERAGE(BX437:BX438)","v":{"$error":"#DIV/0!"}},{"$f":"AVERAGE(BY437:BY438)","v":{"$error":"#DIV/0!"}},{"$f":"AVERAGE(BZ437:BZ438)","v":{"$error":"#DIV/0!"}},null,null,null,null,null,null,null,null,null,null,null,null,null,null,null,null,null,null,null,null,null,null,null,null,null,null,null,null,null,1.2,13.5,95,{"$error":"#DIV/0!"},{"$error":"#DIV/0!"},{"$error":"#DIV/0!"},{"$error":"#DIV/0!"},{"$error":"#DIV/0!"},{"$error":"#DIV/0!"},{"$error":"#DIV/0!"},{"$error":"#DIV/0!"},{"$error":"#DIV/0!"},3.4,11,55,990,44,1300,{"$error":"#DIV/0!"},{"$error":"#DIV/0!"},{"$error":"#DIV/0!"},{"$error":"#DIV/0!"},{"$error":"#DIV/0!"}]
[null,null,"Max",{"$f":"MAX(BD437:BD438)","v":1.2},13.5,95,0,0,0,0,0,0,0,0,0,{"$f":"MAX(BP437:BP438)","v":3.4},11,55,990,44,1300,{"$f":"MAX(BV437:BV438)","v":0},{"$f":"MAX(BW437:BW438)","v":0},{"$f":"MAX(BX437:BX438)","v":0},{"$f":"MAX(BY437:BY438)","v":0},{"$f":"MAX(BZ437:BZ438)","v":0},null,null,null,null,null,null,null,null,null,null,null,null,null,null,null,null,null,null,null,null,null,null,null,null,null,null,null,null,null,1.2,13.5,95,0,0,0,0,0,0,0,0,0,3.4,11,55,990,44,1300,0,0,0,0,0]
[null,null,"Min",{"$f":"MIN(BD437:BD438)","v":1.2},13.5,95,0,0,0,0,0,0,0,0,0,{"$f":"MIN(BP437:BP438)","v":3.4},11,55,990,44,1300,{"$f":"MIN(BV437:BV438)","v":0},{"$f":"MIN(BW437:BW438)","v":0},{"$f":"MIN(BX437:BX438)","v":0},{"$f":"MIN(BY437:BY438)","v":0},{"$f":"MIN(BZ437:BZ438)","v":0},null,null,null,null,null,null,null,null,null,null,null,null,null,null,null,null,null,null,null,null,null,null,null,null,null,null,null,null,null,1.2,13.5,95,0,0,0,0,0,0,0,0,0,3.4,11,55,990,44,1300,0,0,0,0,0]
[null,null,null,null,null,null,null,null,null,null,null,null,null,null,null,null,null,null,null,null,null,null,null,null,null,null,null,null,null,null,null,null,null,null,null,null,null,null,null,null,null,null,null,null,null,null,null,null,null,null,null,null,null,null,null,0,0,0,0,0,0,0,0,0,0,0,0,0,0,0,0,0,0,0,0,0,0,0]
[190,{"$f":"RS!D287","v":"37 Hjälmsjön, ytan"},{"$f":"RS!E287","v":"2025-02-12"},{"$f":"RS!F287","v":1.4},{"$f":"RS!G287","v":13.3},{"$f":"RS!H287","v":95},{"$f":"RS!I287","v":6.4},{"$f":"RS!J287","v":9.7000000000000003E-2},{"$f":"RS!K287","v":8.69},{"$f":"RS!L287","v":200},{"$f":"RS!M287","v":""},{"$f":"RS!N287","v":0.46},{"$f":"RS!O287","v":""},{"$f":"RS!P287","v":82.95},{"$f":"RS!Q287","v":""},{"$f":"RS!R287","v":2.9},{"$f":"RS!S287","v":12},{"$f":"RS!T287","v":24},{"$f":"RS!U287","v":550},{"$f":"RS!V287","v":""},{"$f":"RS!W287","v":1000},{"$f":"RS!X287","v":""},{"$f":"RS!Y287","v":0.13},{"$f":"RS!Z287","v":0.12},{"$f":"RS!AA287","v":""},{"$f":"RS!AB287","v":1.1000000000000001},{"$f":"RS!AC287","v":""},null,null,null,null,null,null,null,null,null,null,null,null,null,null,null,null,null,null,null,null,null,null,null,null,null,null,null,null,1.4,13.3,95,6.4,9.7000000000000003E-2,8.69,200,"",0.46,"",82.95,"",2.9,12,24,550,"",1000,"",0.13,0.12,"",1.1000000000000001]
[190,{"$f":"RS!D288","v":"37 Hjälmsjön, ytan"},{"$f":"RS!E288","v":""},{"$f":"RS!F288","v":""},{"$f":"RS!G288","v":""},{"$f":"RS!H288","v":""},{"$f":"RS!I288","v":""},{"$f":"RS!J288","v":""},{"$f":"RS!K288","v":""},{"$f":"RS!L288","v":""},{"$f":"RS!M288","v":""},{"$f":"RS!N288","v":""},{"$f":"RS!O288","v":""},{"$f":"RS!P288","v":""},{"$f":"RS!Q288","v":""},{"$f":"RS!R288","v":""},{"$f":"RS!S288","v":""},{"$f":"RS!T288","v":""},{"$f":"RS!U288","v":""},{"$f":"RS!V288","v":""},{"$f":"RS!W288","v":""},{"$f":"RS!X288","v":""},{"$f":"RS!Y288","v":""},{"$f":"RS!Z288","v":""},{"$f":"RS!AA288","v":""},{"$f":"RS!AB288","v":""},{"$f":"RS!AC288","v":""},null,null,null,null,null,null,null,null,null,null,null,null,null,null,null,null,null,null,null,null,null,null,null,null,null,null,null,null,"","","","","","","","","","","","","","","","","","","","","","",""]
[null,null,"Medel",{"$f":"AVERAGE(BD443:BD444)","v":1.4},13.3,95,6.4,9.7000000000000003E-2,8.69,200,{"$error":"#DIV/0!"},0.46,{"$error":"#DIV/0!"},82.95,{"$error":"#DIV/0!"},{"$f":"AVERAGE(BP443:BP444)","v":2.9},12,24,550,{"$error":"#DIV/0!"},1000,{"$f":"AVERAGE(BV443:BV444)","v":{"$error":"#DIV/0!"}},{"$f":"AVERAGE(BW443:BW444)","v":0.13},{"$f":"AVERAGE(BX443:BX444)","v":0.12},{"$f":"AVERAGE(BY443:BY444)","v":{"$error":"#DIV/0!"}},{"$f":"AVERAGE(BZ443:BZ444)","v":1.1000000000000001},null,null,null,null,null,null,null,null,null,null,null,null,null,null,null,null,null,null,null,null,null,null,null,null,null,null,null,null,null,1.4,13.3,95,6.4,9.7000000000000003E-2,8.69,200,{"$error":"#DIV/0!"},0.46,{"$error":"#DIV/0!"},82.95,{"$error":"#DIV/0!"},2.9,12,24,550,{"$error":"#DIV/0!"},1000,{"$error":"#DIV/0!"},0.13,0.12,{"$error":"#DIV/0!"},1.1000000000000001]
[null,null,"Max",{"$f":"MAX(BD443:BD444)","v":1.4},13.3,95,6.4,9.7000000000000003E-2,8.69,200,0,0.46,0,82.95,0,{"$f":"MAX(BP443:BP444)","v":2.9},12,24,550,0,1000,{"$f":"MAX(BV443:BV444)","v":0},{"$f":"MAX(BW443:BW444)","v":0.13},{"$f":"MAX(BX443:BX444)","v":0.12},{"$f":"MAX(BY443:BY444)","v":0},{"$f":"MAX(BZ443:BZ444)","v":1.1000000000000001},null,null,null,null,null,null,null,null,null,null,null,null,null,null,null,null,null,null,null,null,null,null,null,null,null,null,null,null,null,1.4,13.3,95,6.4,9.7000000000000003E-2,8.69,200,0,0.46,0,82.95,0,2.9,12,24,550,0,1000,0,0.13,0.12,0,1.1000000000000001]
[null,null,"Min",{"$f":"MIN(BD443:BD444)","v":1.4},13.3,95,6.4,9.7000000000000003E-2,8.69,200,0,0.46,0,82.95,0,{"$f":"MIN(BP443:BP444)","v":2.9},12,24,550,0,1000,{"$f":"MIN(BV443:BV444)","v":0},{"$f":"MIN(BW443:BW444)","v":0.13},{"$f":"MIN(BX443:BX444)","v":0.12},{"$f":"MIN(BY443:BY444)","v":0},{"$f":"MIN(BZ443:BZ444)","v":1.1000000000000001},null,null,null,null,null,null,null,null,null,null,null,null,null,null,null,null,null,null,null,null,null,null,null,null,null,null,null,null,null,1.4,13.3,95,6.4,9.7000000000000003E-2,8.69,200,0,0.46,0,82.95,0,2.9,12,24,550,0,1000,0,0.13,0.12,0,1.1000000000000001]
[null,null,null,null,null,null,null,null,null,null,null,null,null,null,null,null,null,null,null,null,null,null,null,null,null,null,null,null,null,null,null,null,null,null,null,null,null,null,null,null,null,null,null,null,null,null,null,null,null,null,null,null,null,null,null,0,0,0,0,0,0,0,0,0,0,0,0,0,0,0,0,0,0,0,0,0,0,0]
[195,{"$f":"RS!D289","v":"37 Hjälmsjön, 6,5 m"},{"$f":"RS!E289","v":"2025-02-12"},{"$f":"RS!F289","v":1.1000000000000001},{"$f":"RS!G289","v":13.4},{"$f":"RS!H289","v":94},{"$f":"RS!I289","v":""},{"$f":"RS!J289","v":""},{"$f":"RS!K289","v":""},{"$f":"RS!L289","v":""},{"$f":"RS!M289","v":""},{"$f":"RS!N289","v":""},{"$f":"RS!O289","v":""},{"$f":"RS!P289","v":""},{"$f":"RS!Q289","v":""},{"$f":"RS!R289","v":2.7},{"$f":"RS!S289","v":8.1999999999999993},{"$f":"RS!T289","v":13},{"$f":"RS!U289","v":540},{"$f":"RS!V289","v":"<10"},{"$f":"RS!W289","v":1000},{"$f":"RS!X289","v":""},{"$f":"RS!Y289","v":""},{"$f":"RS!Z289","v":""},{"$f":"RS!AA289","v":""},{"$f":"RS!AB289","v":""},{"$f":"RS!AC289","v":""},null,null,null,null,null,null,null,null,null,null,null,null,null,null,null,null,null,null,null,null,null,null,null,null,null,null,null,null,1.1000000000000001,13.4,94,"","","","","","","","","",2.7,8.1999999999999993,13,540,10,1000,"","","","",""]
[195,{"$f":"RS!D290","v":"37 Hjälmsjön, 6,5 m"},{"$f":"RS!E290","v":""},{"$f":"RS!F290","v":""},{"$f":"RS!G290","v":""},{"$f":"RS!H290","v":""},{"$f":"RS!I290","v":""},{"$f":"RS!J290","v":""},{"$f":"RS!K290","v":""},{"$f":"RS!L290","v":""},{"$f":"RS!M290","v":""},{"$f":"RS!N290","v":""},{"$f":"RS!O290","v":""},{"$f":"RS!P290","v":""},{"$f":"RS!Q290","v":""},{"$f":"RS!R290","v":""},{"$f":"RS!S290","v":""},{"$f":"RS!T290","v":""},{"$f":"RS!U290","v":""},{"$f":"RS!V290","v":""},{"$f":"RS!W290","v":""},{"$f":"RS!X290","v":""},{"$f":"RS!Y290","v":""},{"$f":"RS!Z290","v":""},{"$f":"RS!AA290","v":""},{"$f":"RS!AB290","v":""},{"$f":"RS!AC290","v":""},null,null,null,null,null,null,null,null,null,null,null,null,null,null,null,null,null,null,null,null,null,null,null,null,null,null,null,null,"","","","","","","","","","","","","","","","","","","","","","",""]
[null,null,"Medel",{"$f":"AVERAGE(BD449:BD450)","v":1.1000000000000001},13.4,94,{"$error":"#DIV/0!"},{"$error":"#DIV/0!"},{"$error":"#DIV/0!"},{"$error":"#DIV/0!"},{"$error":"#DIV/0!"},{"$error":"#DIV/0!"},{"$error":"#DIV/0!"},{"$error":"#DIV/0!"},{"$error":"#DIV/0!"},{"$f":"AVERAGE(BP449:BP450)","v":2.7},8.1999999999999993,13,540,10,1000,{"$f":"AVERAGE(BV449:BV450)","v":{"$error":"#DIV/0!"}},{"$f":"AVERAGE(BW449:BW450)","v":{"$error":"#DIV/0!"}},{"$f":"AVERAGE(BX449:BX450)","v":{"$error":"#DIV/0!"}},{"$f":"AVERAGE(BY449:BY450)","v":{"$error":"#DIV/0!"}},{"$f":"AVERAGE(BZ449:BZ450)","v":{"$error":"#DIV/0!"}},null,null,null,null,null,null,null,null,null,null,null,null,null,null,null,null,null,null,null,null,null,null,null,null,null,null,null,null,null,1.1000000000000001,13.4,94,{"$error":"#DIV/0!"},{"$error":"#DIV/0!"},{"$error":"#DIV/0!"},{"$error":"#DIV/0!"},{"$error":"#DIV/0!"},{"$error":"#DIV/0!"},{"$error":"#DIV/0!"},{"$error":"#DIV/0!"},{"$error":"#DIV/0!"},2.7,8.1999999999999993,13,540,10,1000,{"$error":"#DIV/0!"},{"$error":"#DIV/0!"},{"$error":"#DIV/0!"},{"$error":"#DIV/0!"},{"$error":"#DIV/0!"}]
[null,null,"Max",{"$f":"MAX(BD449:BD450)","v":1.1000000000000001},13.4,94,0,0,0,0,0,0,0,0,0,{"$f":"MAX(BP449:BP450)","v":2.7},8.1999999999999993,13,540,10,1000,{"$f":"MAX(BV449:BV450)","v":0},{"$f":"MAX(BW449:BW450)","v":0},{"$f":"MAX(BX449:BX450)","v":0},{"$f":"MAX(BY449:BY450)","v":0},{"$f":"MAX(BZ449:BZ450)","v":0},null,null,null,null,null,null,null,null,null,null,null,null,null,null,null,null,null,null,null,null,null,null,null,null,null,null,null,null,null,1.1000000000000001,13.4,94,0,0,0,0,0,0,0,0,0,2.7,8.1999999999999993,13,540,10,1000,0,0,0,0,0]
[null,null,"Min",{"$f":"MIN(BD449:BD450)","v":1.1000000000000001},13.4,94,0,0,0,0,0,0,0,0,0,{"$f":"MIN(BP449:BP450)","v":2.7},8.1999999999999993,13,540,10,1000,{"$f":"MIN(BV449:BV450)","v":0},{"$f":"MIN(BW449:BW450)","v":0},{"$f":"MIN(BX449:BX450)","v":0},{"$f":"MIN(BY449:BY450)","v":0},{"$f":"MIN(BZ449:BZ450)","v":0},null,null,null,null,null,null,null,null,null,null,null,null,null,null,null,null,null,null,null,null,null,null,null,null,null,null,null,null,null,1.1000000000000001,13.4,94,0,0,0,0,0,0,0,0,0,2.7,8.1999999999999993,13,540,10,1000,0,0,0,0,0]
[null,null,null,null,null,null,null,null,null,null,null,null,null,null,null,null,null,null,null,null,null,null,null,null,null,null,null,null,null,null,null,null,null,null,null,null,null,null,null,null,null,null,null,null,null,null,null,null,null,null,null,null,null,null,null,0,0,0,0,0,0,0,0,0,0,0,0,0,0,0,0,0,0,0,0,0,0,0]
[200,{"$f":"RS!D291","v":"50 Västersjön, ytan"},{"$f":"RS!E291","v":"2025-02-12"},{"$f":"RS!F291","v":1.1000000000000001},{"$f":"RS!G291","v":13.9},{"$f":"RS!H291","v":98},{"$f":"RS!I291","v":6.9},{"$f":"RS!J291","v":0.15},{"$f":"RS!K291","v":6.86},{"$f":"RS!L291","v":100},{"$f":"RS!M291","v":""},{"$f":"RS!N291","v":0.24},{"$f":"RS!O291","v":""},{"$f":"RS!P291","v":51.35},{"$f":"RS!Q291","v":""},{"$f":"RS!R291","v":"<2"},{"$f":"RS!S291","v":8.1},{"$f":"RS!T291","v":15},{"$f":"RS!U291","v":170},{"$f":"RS!V291","v":""},{"$f":"RS!W291","v":550},{"$f":"RS!X291","v":""},{"$f":"RS!Y291","v":0.12},{"$f":"RS!Z291","v":9.1999999999999998E-2},{"$f":"RS!AA291","v":""},{"$f":"RS!AB291","v":1.9},{"$f":"RS!AC291","v":""},null,null,null,null,null,null,null,null,null,null,null,null,null,null,null,null,null,null,null,null,null,null,null,null,null,null,null,null,1.1000000000000001,13.9,98,6.9,0.15,6.86,100,"",0.24,"",51.35,"",2,8.1,15,170,"",550,"",0.12,9.1999999999999998E-2,"",1.9]
[200,{"$f":"RS!D292","v":"50 Västersjön, ytan"},{"$f":"RS!E292","v":""},{"$f":"RS!F292","v":""},{"$f":"RS!G292","v":""},{"$f":"RS!H292","v":""},{"$f":"RS!I292","v":""},{"$f":"RS!J292","v":""},{"$f":"RS!K292","v":""},{"$f":"RS!L292","v":""},{"$f":"RS!M292","v":""},{"$f":"RS!N292","v":""},{"$f":"RS!O292","v":""},{"$f":"RS!P292","v":""},{"$f":"RS!Q292","v":""},{"$f":"RS!R292","v":""},{"$f":"RS!S292","v":""},{"$f":"RS!T292","v":""},{"$f":"RS!U292","v":""},{"$f":"RS!V292","v":""},{"$f":"RS!W292","v":""},{"$f":"RS!X292","v":""},{"$f":"RS!Y292","v":""},{"$f":"RS!Z292","v":""},{"$f":"RS!AA292","v":""},{"$f":"RS!AB292","v":""},{"$f":"RS!AC292","v":""},null,null,null,null,null,null,null,null,null,null,null,null,null,null,null,null,null,null,null,null,null,null,null,null,null,null,null,null,{"$f":"IF(OR(LEFT(D456,1)=\"<\",LEFT(D456,1)=\">\"),VALUE(MID(D456,2,5)),D456)","v":""},{"$f":"IF(OR(LEFT(E456,1)=\"<\",LEFT(E456,1)=\">\"),VALUE(MID(E456,2,5)),E456)","v":""},{"$f":"IF(OR(LEFT(F456,1)=\"<\",LEFT(F456,1)=\">\"),VALUE(MID(F456,2,5)),F456)","v":""},{"$f":"IF(OR(LEFT(G456,1)=\"<\",LEFT(G456,1)=\">\"),VALUE(MID(G456,2,5)),G456)","v":""},{"$f":"IF(OR(LEFT(H456,1)=\"<\",LEFT(H456,1)=\">\"),VALUE(MID(H456,2,5)),H456)","v":""},{"$f":"IF(OR(LEFT(I456,1)=\"<\",LEFT(I456,1)=\">\"),VALUE(MID(I456,2,5)),I456)","v":""},{"$f":"IF(OR(LEFT(J456,1)=\"<\",LEFT(J456,1)=\">\"),VALUE(MID(J456,2,5)),J456)","v":""},{"$f":"IF(OR(LEFT(K456,1)=\"<\",LEFT(K456,1)=\">\"),VALUE(MID(K456,2,5)),K456)","v":""},{"$f":"IF(OR(LEFT(L456,1)=\"<\",LEFT(L456,1)=\">\"),VALUE(MID(L456,2,5)),L456)","v":""},{"$f":"IF(OR(LEFT(M456,1)=\"<\",LEFT(M456,1)=\">\"),VALUE(MID(M456,2,5)),M456)","v":""},{"$f":"IF(OR(LEFT(N456,1)=\"<\",LEFT(N456,1)=\">\"),VALUE(MID(N456,2,5)),N456)","v":""},{"$f":"IF(OR(LEFT(O456,1)=\"<\",LEFT(O456,1)=\">\"),VALUE(MID(O456,2,5)),O456)","v":""},{"$f":"IF(OR(LEFT(P456,1)=\"<\",LEFT(P456,1)=\">\"),VALUE(MID(P456,2,5)),P456)","v":""},{"$f":"IF(OR(LEFT(Q456,1)=\"<\",LEFT(Q456,1)=\">\"),VALUE(MID(Q456,2,5)),Q456)","v":""},{"$f":"IF(OR(LEFT(R456,1)=\"<\",LEFT(R456,1)=\">\"),VALUE(MID(R456,2,5)),R456)","v":""},{"$f":"IF(OR(LEFT(S456,1)=\"<\",LEFT(S456,1)=\">\"),VALUE(MID(S456,2,5)),S456)","v":""},{"$f":"IF(OR(LEFT(T456,1)=\"<\",LEFT(T456,1)=\">\"),VALUE(MID(T456,2,5)),T456)","v":""},{"$f":"IF(OR(LEFT(U456,1)=\"<\",LEFT(U456,1)=\">\"),VALUE(MID(U456,2,5)),U456)","v":""},{"$f":"IF(OR(LEFT(V456,1)=\"<\",LEFT(V456,1)=\">\"),VALUE(MID(V456,2,5)),V456)","v":""},{"$f":"IF(OR(LEFT(W456,1)=\"<\",LEFT(W456,1)=\">\"),VALUE(MID(W456,2,5)),W456)","v":""},{"$f":"IF(OR(LEFT(X456,1)=\"<\",LEFT(X456,1)=\">\"),VALUE(MID(X456,2,5)),X456)","v":""},{"$f":"IF(OR(LEFT(Y456,1)=\"<\",LEFT(Y456,1)=\">\"),VALUE(MID(Y456,2,5)),Y456)","v":""},{"$f":"IF(OR(LEFT(Z456,1)=\"<\",LEFT(Z456,1)=\">\"),VALUE(MID(Z456,2,5)),Z456)","v":""}]
[null,null,"Medel",{"$f":"AVERAGE(BD455:BD456)","v":1.1000000000000001},13.9,98,6.9,0.15,6.86,100,{"$error":"#DIV/0!"},0.24,{"$error":"#DIV/0!"},51.35,{"$error":"#DIV/0!"},{"$f":"AVERAGE(BP455:BP456)","v":2},8.1,15,170,{"$error":"#DIV/0!"},550,{"$f":"AVERAGE(BV455:BV456)","v":{"$error":"#DIV/0!"}},{"$f":"AVERAGE(BW455:BW456)","v":0.12},{"$f":"AVERAGE(BX455:BX456)","v":9.1999999999999998E-2},{"$f":"AVERAGE(BY455:BY456)","v":{"$error":"#DIV/0!"}},{"$f":"AVERAGE(BZ455:BZ456)","v":1.9},null,null,null,null,null,null,null,null,null,null,null,null,null,null,null,null,null,null,null,null,null,null,null,null,null,null,null,null,null,1.1000000000000001,13.9,98,6.9,0.15,6.86,100,{"$error":"#DIV/0!"},0.24,{"$error":"#DIV/0!"},51.35,{"$error":"#DIV/0!"},2,8.1,15,170,{"$error":"#DIV/0!"},550,{"$error":"#DIV/0!"},0.12,9.1999999999999998E-2,{"$error":"#DIV/0!"},1.9]
[null,null,"Max",{"$f":"MAX(BD455:BD456)","v":1.1000000000000001},13.9,98,6.9,0.15,6.86,100,0,0.24,0,51.35,0,{"$f":"MAX(BP455:BP456)","v":2},8.1,15,170,0,550,{"$f":"MAX(BV455:BV456)","v":0},{"$f":"MAX(BW455:BW456)","v":0.12},{"$f":"MAX(BX455:BX456)","v":9.1999999999999998E-2},{"$f":"MAX(BY455:BY456)","v":0},{"$f":"MAX(BZ455:BZ456)","v":1.9},null,null,null,null,null,null,null,null,null,null,null,null,null,null,null,null,null,null,null,null,null,null,null,null,null,null,null,null,null,1.1000000000000001,13.9,98,6.9,0.15,6.86,100,0,0.24,0,51.35,0,2,8.1,15,170,0,550,0,0.12,9.1999999999999998E-2,0,1.9]
[null,null,"Min",{"$f":"MIN(BD455:BD456)","v":1.1000000000000001},13.9,98,6.9,0.15,6.86,100,0,0.24,0,51.35,0,{"$f":"MIN(BP455:BP456)","v":2},8.1,15,170,0,550,{"$f":"MIN(BV455:BV456)","v":0},{"$f":"MIN(BW455:BW456)","v":0.12},{"$f":"MIN(BX455:BX456)","v":9.1999999999999998E-2},{"$f":"MIN(BY455:BY456)","v":0},{"$f":"MIN(BZ455:BZ456)","v":1.9},null,null,null,null,null,null,null,null,null,null,null,null,null,null,null,null,null,null,null,null,null,null,null,null,null,null,null,null,null,1.1000000000000001,13.9,98,6.9,0.15,6.86,100,0,0.24,0,51.35,0,2,8.1,15,170,0,550,0,0.12,9.1999999999999998E-2,0,1.9]
[null,null,null,null,null,null,null,null,null,null,null,null,null,null,null,null,null,null,null,null,null,null,null,null,null,null,null,null,null,null,null,null,null,null,null,null,null,null,null,null,null,null,null,null,null,null,null,null,null,null,null,null,null,null,null,0,0,0,0,0,0,0,0,0,0,0,0,0,0,0,0,0,0,0,0,0,0,0]
[205,{"$f":"RS!D293","v":"50 Västersjön, 10 m"},{"$f":"RS!E293","v":"2025-02-12"},{"$f":"RS!F293","v":0.6},{"$f":"RS!G293","v":14},{"$f":"RS!H293","v":97},{"$f":"RS!I293","v":""},{"$f":"RS!J293","v":""},{"$f":"RS!K293","v":""},{"$f":"RS!L293","v":""},{"$f":"RS!M293","v":""},{"$f":"RS!N293","v":""},{"$f":"RS!O293","v":""},{"$f":"RS!P293","v":""},{"$f":"RS!Q293","v":""},{"$f":"RS!R293","v":"<2"},{"$f":"RS!S293","v":8.9},{"$f":"RS!T293","v":15},{"$f":"RS!U293","v":170},{"$f":"RS!V293","v":12},{"$f":"RS!W293","v":560},{"$f":"RS!X293","v":""},{"$f":"RS!Y293","v":""},{"$f":"RS!Z293","v":""},{"$f":"RS!AA293","v":""},{"$f":"RS!AB293","v":""},{"$f":"RS!AC293","v":""},null,null,null,null,null,null,null,null,null,null,null,null,null,null,null,null,null,null,null,null,null,null,null,null,null,null,null,null,0.6,14,97,"","","","","","","","","",2,8.9,15,170,12,560,"","","","",""]
[205,{"$f":"RS!D294","v":"50 Västersjön, 10 m"},{"$f":"RS!E294","v":""},{"$f":"RS!F294","v":""},{"$f":"RS!G294","v":""},{"$f":"RS!H294","v":""},{"$f":"RS!I294","v":""},{"$f":"RS!J294","v":""},{"$f":"RS!K294","v":""},{"$f":"RS!L294","v":""},{"$f":"RS!M294","v":""},{"$f":"RS!N294","v":""},{"$f":"RS!O294","v":""},{"$f":"RS!P294","v":""},{"$f":"RS!Q294","v":""},{"$f":"RS!R294","v":""},{"$f":"RS!S294","v":""},{"$f":"RS!T294","v":""},{"$f":"RS!U294","v":""},{"$f":"RS!V294","v":""},{"$f":"RS!W294","v":""},{"$f":"RS!X294","v":""},{"$f":"RS!Y294","v":""},{"$f":"RS!Z294","v":""},{"$f":"RS!AA294","v":""},{"$f":"RS!AB294","v":""},{"$f":"RS!AC294","v":""},null,null,null,null,null,null,null,null,null,null,null,null,null,null,null,null,null,null,null,null,null,null,null,null,null,null,null,null,"","","","","","","","","","","","","","","","","","","","","","",""]
[null,null,"Medel",{"$f":"AVERAGE(BD461:BD462)","v":0.6},14,97,{"$error":"#DIV/0!"},{"$error":"#DIV/0!"},{"$error":"#DIV/0!"},{"$error":"#DIV/0!"},{"$error":"#DIV/0!"},{"$error":"#DIV/0!"},{"$error":"#DIV/0!"},{"$error":"#DIV/0!"},{"$error":"#DIV/0!"},{"$f":"AVERAGE(BP461:BP462)","v":2},8.9,15,170,12,560,{"$f":"AVERAGE(BV461:BV462)","v":{"$error":"#DIV/0!"}},{"$f":"AVERAGE(BW461:BW462)","v":{"$error":"#DIV/0!"}},{"$f":"AVERAGE(BX461:BX462)","v":{"$error":"#DIV/0!"}},{"$f":"AVERAGE(BY461:BY462)","v":{"$error":"#DIV/0!"}},{"$f":"AVERAGE(BZ461:BZ462)","v":{"$error":"#DIV/0!"}},null,null,null,null,null,null,null,null,null,null,null,null,null,null,null,null,null,null,null,null,null,null,null,null,null,null,null,null,null,0.6,14,97,{"$error":"#DIV/0!"},{"$error":"#DIV/0!"},{"$error":"#DIV/0!"},{"$error":"#DIV/0!"},{"$error":"#DIV/0!"},{"$error":"#DIV/0!"},{"$error":"#DIV/0!"},{"$error":"#DIV/0!"},{"$error":"#DIV/0!"},2,8.9,15,170,12,560,{"$error":"#DIV/0!"},{"$error":"#DIV/0!"},{"$error":"#DIV/0!"},{"$error":"#DIV/0!"},{"$error":"#DIV/0!"}]
[null,null,"Max",{"$f":"MAX(BD461:BD462)","v":0.6},14,97,0,0,0,0,0,0,0,0,0,{"$f":"MAX(BP461:BP462)","v":2},8.9,15,170,12,560,{"$f":"MAX(BV461:BV462)","v":0},{"$f":"MAX(BW461:BW462)","v":0},{"$f":"MAX(BX461:BX462)","v":0},{"$f":"MAX(BY461:BY462)","v":0},{"$f":"MAX(BZ461:BZ462)","v":0},null,null,null,null,null,null,null,null,null,null,null,null,null,null,null,null,null,null,null,null,null,null,null,null,null,null,null,null,null,0.6,14,97,0,0,0,0,0,0,0,0,0,2,8.9,15,170,12,560,0,0,0,0,0]
[null,null,"Min",{"$f":"MIN(BD461:BD462)","v":0.6},14,97,0,0,0,0,0,0,0,0,0,{"$f":"MIN(BP461:BP462)","v":2},8.9,15,170,12,560,{"$f":"MIN(BV461:BV462)","v":0},{"$f":"MIN(BW461:BW462)","v":0},{"$f":"MIN(BX461:BX462)","v":0},{"$f":"MIN(BY461:BY462)","v":0},{"$f":"MIN(BZ461:BZ462)","v":0},null,null,null,null,null,null,null,null,null,null,null,null,null,null,null,null,null,null,null,null,null,null,null,null,null,null,null,null,null,0.6,14,97,0,0,0,0,0,0,0,0,0,2,8.9,15,170,12,560,0,0,0,0,0]
[null,null,null,null,null,null,null,null,null,null,null,null,null,null,null,null,null,null,null,null,null,null,null,null,null,null,null,null,null,null,null,null,null,null,null,null,null,null,null,null,null,null,null,null,null,null,null,null,null,null,null,null,null,null,null,0,0,0,0,0,0,0,0,0,0,0,0,0,0,0,0,0,0,0,0,0,0,0]
[210,{"$f":"RS!D295","v":"51 Rössjön, ytan"},{"$f":"RS!E295","v":"2025-02-12"},{"$f":"RS!F295","v":1.5},{"$f":"RS!G295","v":13.6},{"$f":"RS!H295","v":97},{"$f":"RS!I295","v":6.9},{"$f":"RS!J295","v":0.16},{"$f":"RS!K295","v":7.66},{"$f":"RS!L295","v":100},{"$f":"RS!M295","v":""},{"$f":"RS!N295","v":0.18},{"$f":"RS!O295","v":""},{"$f":"RS!P295","v":39.5},{"$f":"RS!Q295","v":""},{"$f":"RS!R295","v":"<2"},{"$f":"RS!S295","v":8.8000000000000007},{"$f":"RS!T295","v":13},{"$f":"RS!U295","v":360},{"$f":"RS!V295","v":""},{"$f":"RS!W295","v":630},{"$f":"RS!X295","v":""},{"$f":"RS!Y295","v":0.14000000000000001},{"$f":"RS!Z295","v":0.11},{"$f":"RS!AA295","v":""},{"$f":"RS!AB295","v":2.2000000000000002},{"$f":"RS!AC295","v":""},null,null,null,null,null,null,null,null,null,null,null,null,null,null,null,null,null,null,null,null,null,null,null,null,null,null,null,null,1.5,13.6,97,6.9,0.16,7.66,100,"",0.18,"",39.5,"",2,8.8000000000000007,13,360,"",630,"",0.14000000000000001,0.11,"",2.2000000000000002]
[210,{"$f":"RS!D296","v":"51 Rössjön, ytan"},{"$f":"RS!E296","v":""},{"$f":"RS!F296","v":""},{"$f":"RS!G296","v":""},{"$f":"RS!H296","v":""},{"$f":"RS!I296","v":""},{"$f":"RS!J296","v":""},{"$f":"RS!K296","v":""},{"$f":"RS!L296","v":""},{"$f":"RS!M296","v":""},{"$f":"RS!N296","v":""},{"$f":"RS!O296","v":""},{"$f":"RS!P296","v":""},{"$f":"RS!Q296","v":""},{"$f":"RS!R296","v":""},{"$f":"RS!S296","v":""},{"$f":"RS!T296","v":""},{"$f":"RS!U296","v":""},{"$f":"RS!V296","v":""},{"$f":"RS!W296","v":""},{"$f":"RS!X296","v":""},{"$f":"RS!Y296","v":""},{"$f":"RS!Z296","v":""},{"$f":"RS!AA296","v":""},{"$f":"RS!AB296","v":""},{"$f":"RS!AC296","v":""},null,null,null,null,null,null,null,null,null,null,null,null,null,null,null,null,null,null,null,null,null,null,null,null,null,null,null,null,"","","","","","","","","","","","","","","","","","","","","","",""]
[null,null,"Medel",{"$f":"AVERAGE(BD467:BD468)","v":1.5},13.6,97,6.9,0.16,7.66,100,{"$error":"#DIV/0!"},0.18,{"$error":"#DIV/0!"},39.5,{"$error":"#DIV/0!"},{"$f":"AVERAGE(BP467:BP468)","v":2},8.8000000000000007,13,360,{"$error":"#DIV/0!"},630,{"$f":"AVERAGE(BV467:BV468)","v":{"$error":"#DIV/0!"}},{"$f":"AVERAGE(BW467:BW468)","v":0.14000000000000001},{"$f":"AVERAGE(BX467:BX468)","v":0.11},{"$f":"AVERAGE(BY467:BY468)","v":{"$error":"#DIV/0!"}},{"$f":"AVERAGE(BZ467:BZ468)","v":2.2000000000000002},null,null,null,null,null,null,null,null,null,null,null,null,null,null,null,null,null,null,null,null,null,null,null,null,null,null,null,null,null,1.5,13.6,97,6.9,0.16,7.66,100,{"$error":"#DIV/0!"},0.18,{"$error":"#DIV/0!"},39.5,{"$error":"#DIV/0!"},2,8.8000000000000007,13,360,{"$error":"#DIV/0!"},630,{"$error":"#DIV/0!"},0.14000000000000001,0.11,{"$error":"#DIV/0!"},2.2000000000000002]
[null,null,"Max",{"$f":"MAX(BD467:BD468)","v":1.5},13.6,97,6.9,0.16,7.66,100,0,0.18,0,39.5,0,{"$f":"MAX(BP467:BP468)","v":2},8.8000000000000007,13,360,0,630,{"$f":"MAX(BV467:BV468)","v":0},{"$f":"MAX(BW467:BW468)","v":0.14000000000000001},{"$f":"MAX(BX467:BX468)","v":0.11},{"$f":"MAX(BY467:BY468)","v":0},{"$f":"MAX(BZ467:BZ468)","v":2.2000000000000002},null,null,null,null,null,null,null,null,null,null,null,null,null,null,null,null,null,null,null,null,null,null,null,null,null,null,null,null,null,1.5,13.6,97,6.9,0.16,7.66,100,0,0.18,0,39.5,0,2,8.8000000000000007,13,360,0,630,0,0.14000000000000001,0.11,0,2.2000000000000002]
[null,null,"Min",{"$f":"MIN(BD467:BD468)","v":1.5},13.6,97,6.9,0.16,7.66,100,0,0.18,0,39.5,0,{"$f":"MIN(BP467:BP468)","v":2},8.8000000000000007,13,360,0,630,{"$f":"MIN(BV467:BV468)","v":0},{"$f":"MIN(BW467:BW468)","v":0.14000000000000001},{"$f":"MIN(BX467:BX468)","v":0.11},{"$f":"MIN(BY467:BY468)","v":0},{"$f":"MIN(BZ467:BZ468)","v":2.2000000000000002},null,null,null,null,null,null,null,null,null,null,null,null,null,null,null,null,null,null,null,null,null,null,null,null,null,null,null,null,null,1.5,13.6,97,6.9,0.16,7.66,100,0,0.18,0,39.5,0,2,8.8000000000000007,13,360,0,630,0,0.14000000000000001,0.11,0,2.2000000000000002]
[null,null,null,null,null,null,null,null,null,null,null,null,null,null,null,null,null,null,null,null,null,null,null,null,null,null,null,null,null,null,null,null,null,null,null,null,null,null,null,null,null,null,null,null,null,null,null,null,null,null,null,null,null,null,null,0,0,0,0,0,0,0,0,0,0,0,0,0,0,0,0,0,0,0,0,0,0,0]
[215,{"$f":"RS!D297","v":"51 Rössjön, 18 m"},{"$f":"RS!E297","v":"2025-02-12"},{"$f":"RS!F297","v":""},{"$f":"RS!G297","v":""},{"$f":"RS!H297","v":""},{"$f":"RS!I297","v":""},{"$f":"RS!J297","v":""},{"$f":"RS!K297","v":""},{"$f":"RS!L297","v":""},{"$f":"RS!M297","v":""},{"$f":"RS!N297","v":""},{"$f":"RS!O297","v":""},{"$f":"RS!P297","v":""},{"$f":"RS!Q297","v":""},{"$f":"RS!R297","v":""},{"$f":"RS!S297","v":""},{"$f":"RS!T297","v":""},{"$f":"RS!U297","v":""},{"$f":"RS!V297","v":""},{"$f":"RS!W297","v":""},{"$f":"RS!X297","v":""},{"$f":"RS!Y297","v":""},{"$f":"RS!Z297","v":""},{"$f":"RS!AA297","v":""},{"$f":"RS!AB297","v":""},{"$f":"RS!AC297","v":"Inget prov pga stark vind"},null,null,null,null,null,null,null,null,null,null,null,null,null,null,null,null,null,null,null,null,null,null,null,null,null,null,null,null,"","","","","","","","","","","","","","","","","","","","","","",""]
[215,{"$f":"RS!D298","v":"51 Rössjön, 18 m"},{"$f":"RS!E298","v":""},{"$f":"RS!F298","v":""},{"$f":"RS!G298","v":""},{"$f":"RS!H298","v":""},{"$f":"RS!I298","v":""},{"$f":"RS!J298","v":""},{"$f":"RS!K298","v":""},{"$f":"RS!L298","v":""},{"$f":"RS!M298","v":""},{"$f":"RS!N298","v":""},{"$f":"RS!O298","v":""},{"$f":"RS!P298","v":""},{"$f":"RS!Q298","v":""},{"$f":"RS!R298","v":""},{"$f":"RS!S298","v":""},{"$f":"RS!T298","v":""},{"$f":"RS!U298","v":""},{"$f":"RS!V298","v":""},{"$f":"RS!W298","v":""},{"$f":"RS!X298","v":""},{"$f":"RS!Y298","v":""},{"$f":"RS!Z298","v":""},{"$f":"RS!AA298","v":""},{"$f":"RS!AB298","v":""},{"$f":"RS!AC298","v":""},null,null,null,null,null,null,null,null,null,null,null,null,null,null,null,null,null,null,null,null,null,null,null,null,null,null,null,null,"","","","","","","","","","","","","","","","","","","","","","",""]
[null,null,"Medel",{"$f":"AVERAGE(BD473:BD474)","v":{"$error":"#DIV/0!"}},{"$error":"#DIV/0!"},{"$error":"#DIV/0!"},{"$error":"#DIV/0!"},{"$error":"#DIV/0!"},{"$error":"#DIV/0!"},{"$error":"#DIV/0!"},{"$error":"#DIV/0!"},{"$error":"#DIV/0!"},{"$error":"#DIV/0!"},{"$error":"#DIV/0!"},{"$error":"#DIV/0!"},{"$f":"AVERAGE(BP473:BP474)","v":{"$error":"#DIV/0!"}},{"$error":"#DIV/0!"},{"$error":"#DIV/0!"},{"$error":"#DIV/0!"},{"$error":"#DIV/0!"},{"$error":"#DIV/0!"},{"$f":"AVERAGE(BV473:BV474)","v":{"$error":"#DIV/0!"}},{"$f":"AVERAGE(BW473:BW474)","v":{"$error":"#DIV/0!"}},{"$f":"AVERAGE(BX473:BX474)","v":{"$error":"#DIV/0!"}},{"$f":"AVERAGE(BY473:BY474)","v":{"$error":"#DIV/0!"}},{"$f":"AVERAGE(BZ473:BZ474)","v":{"$error":"#DIV/0!"}},null,null,null,null,null,null,null,null,null,null,null,null,null,null,null,null,null,null,null,null,null,null,null,null,null,null,null,null,null,{"$error":"#DIV/0!"},{"$error":"#DIV/0!"},{"$error":"#DIV/0!"},{"$error":"#DIV/0!"},{"$error":"#DIV/0!"},{"$error":"#DIV/0!"},{"$error":"#DIV/0!"},{"$error":"#DIV/0!"},{"$error":"#DIV/0!"},{"$error":"#DIV/0!"},{"$error":"#DIV/0!"},{"$error":"#DIV/0!"},{"$error":"#DIV/0!"},{"$error":"#DIV/0!"},{"$error":"#DIV/0!"},{"$error":"#DIV/0!"},{"$error":"#DIV/0!"},{"$error":"#DIV/0!"},{"$error":"#DIV/0!"},{"$error":"#DIV/0!"},{"$error":"#DIV/0!"},{"$error":"#DIV/0!"},{"$error":"#DIV/0!"}]
[null,null,"Max",{"$f":"MAX(BD473:BD474)","v":0},0,0,0,0,0,0,0,0,0,0,0,{"$f":"MAX(BP473:BP474)","v":0},0,0,0,0,0,{"$f":"MAX(BV473:BV474)","v":0},{"$f":"MAX(BW473:BW474)","v":0},{"$f":"MAX(BX473:BX474)","v":0},{"$f":"MAX(BY473:BY474)","v":0},{"$f":"MAX(BZ473:BZ474)","v":0},null,null,null,null,null,null,null,null,null,null,null,null,null,null,null,null,null,null,null,null,null,null,null,null,null,null,null,null,null,0,0,0,0,0,0,0,0,0,0,0,0,0,0,0,0,0,0,0,0,0,0,0]
[null,null,"Min",{"$f":"MIN(BD473:BD474)","v":0},0,0,0,0,0,0,0,0,0,0,0,{"$f":"MIN(BP473:BP474)","v":0},0,0,0,0,0,{"$f":"MIN(BV473:BV474)","v":0},{"$f":"MIN(BW473:BW474)","v":0},{"$f":"MIN(BX473:BX474)","v":0},{"$f":"MIN(BY473:BY474)","v":0},{"$f":"MIN(BZ473:BZ474)","v":0},null,null,null,null,null,null,null,null,null,null,null,null,null,null,null,null,null,null,null,null,null,null,null,null,null,null,null,null,null,0,0,0,0,0,0,0,0,0,0,0,0,0,0,0,0,0,0,0,0,0,0,0]
[null,null,null,null,null,null,null,null,null,null,null,null,null,null,null,null,null,null,null,null,null,null,null,null,null,null,null,null,null,null,null,null,null,null,null,null,null,null,null,null,null,null,null,null,null,null,null,null,null,null,null,null,null,null,null,0,0,0,0,0,0,0,0,0,0,0,0,0,0,0,0,0,0,0,0,0,0,0]
[220,{"$f":"RS!D299","v":"Ri5 Sätoftasjön, ytan"},{"$f":"RS!E299","v":"2025-01-15"},{"$f":"RS!F299","v":0.7},{"$f":"RS!G299","v":13.8},{"$f":"RS!H299","v":96},{"$f":"RS!I299","v":7.9},{"$f":"RS!J299","v":1.3},{"$f":"RS!K299","v":21.5},{"$f":"RS!L299","v":75},{"$f":"RS!M299","v":""},{"$f":"RS!N299","v":0.14000000000000001},{"$f":"RS!O299","v":""},{"$f":"RS!P299","v":35.550000000000004},{"$f":"RS!Q299","v":""},{"$f":"RS!R299","v":"<2"},{"$f":"RS!S299","v":11},{"$f":"RS!T299","v":34},{"$f":"RS!U299","v":690},{"$f":"RS!V299","v":""},{"$f":"RS!W299","v":1200},{"$f":"RS!X299","v":""},{"$f":"RS!Y299","v":0.24},{"$f":"RS!Z299","v":0.3},{"$f":"RS!AA299","v":20},{"$f":"RS!AB299","v":1.1000000000000001},{"$f":"RS!AC299","v":""},null,null,null,null,null,null,null,null,null,null,null,null,null,null,null,null,null,null,null,null,null,null,null,null,null,null,null,null,0.7,13.8,96,7.9,1.3,21.5,75,"",0.14000000000000001,"",35.550000000000004,"",2,11,34,690,"",1200,"",0.24,0.3,20,1.1000000000000001]
[220,{"$f":"RS!D300","v":"Ri5 Sätoftasjön, ytan"},{"$f":"RS!E300","v":"2025-02-10"},{"$f":"RS!F300","v":1.7},{"$f":"RS!G300","v":14.1},{"$f":"RS!H300","v":101},{"$f":"RS!I300","v":7.9},{"$f":"RS!J300","v":1.2},{"$f":"RS!K300","v":21.1},{"$f":"RS!L300","v":90},{"$f":"RS!M300","v":""},{"$f":"RS!N300","v":0.16},{"$f":"RS!O300","v":""},{"$f":"RS!P300","v":37.130000000000003},{"$f":"RS!Q300","v":""},{"$f":"RS!R300","v":"<2"},{"$f":"RS!S300","v":8.1},{"$f":"RS!T300","v":33},{"$f":"RS!U300","v":720},{"$f":"RS!V300","v":""},{"$f":"RS!W300","v":1400},{"$f":"RS!X300","v":""},{"$f":"RS!Y300","v":0.22},{"$f":"RS!Z300","v":0.3},{"$f":"RS!AA300","v":33},{"$f":"RS!AB300","v":1.1000000000000001},{"$f":"RS!AC300","v":"Siktdjup osäkert pga stark vind"},null,null,null,null,null,null,null,null,null,null,null,null,null,null,null,null,null,null,null,null,null,null,null,null,null,null,null,null,1.7,14.1,101,7.9,1.2,21.1,90,"",0.16,"",37.130000000000003,"",2,8.1,33,720,"",1400,"",0.22,0.3,33,1.1000000000000001]
[220,{"$f":"RS!D301","v":"Ri5 Sätoftasjön, ytan"},{"$f":"RS!E301","v":""},{"$f":"RS!F301","v":""},{"$f":"RS!G301","v":""},{"$f":"RS!H301","v":""},{"$f":"RS!I301","v":""},{"$f":"RS!J301","v":""},{"$f":"RS!K301","v":""},{"$f":"RS!L301","v":""},{"$f":"RS!M301","v":""},{"$f":"RS!N301","v":""},{"$f":"RS!O301","v":""},{"$f":"RS!P301","v":""},{"$f":"RS!Q301","v":""},{"$f":"RS!R301","v":""},{"$f":"RS!S301","v":""},{"$f":"RS!T301","v":""},{"$f":"RS!U301","v":""},{"$f":"RS!V301","v":""},{"$f":"RS!W301","v":""},{"$f":"RS!X301","v":""},{"$f":"RS!Y301","v":""},{"$f":"RS!Z301","v":""},{"$f":"RS!AA301","v":""},{"$f":"RS!AB301","v":""},{"$f":"RS!AC301","v":""},null,null,null,null,null,null,null,null,null,null,null,null,null,null,null,null,null,null,null,null,null,null,null,null,null,null,null,null,"","","","","","","","","","","","","","","","","","","","","","",""]
[220,{"$f":"RS!D302","v":"Ri5 Sätoftasjön, ytan"},{"$f":"RS!E302","v":""},{"$f":"RS!F302","v":""},{"$f":"RS!G302","v":""},{"$f":"RS!H302","v":""},{"$f":"RS!I302","v":""},{"$f":"RS!J302","v":""},{"$f":"RS!K302","v":""},{"$f":"RS!L302","v":""},{"$f":"RS!M302","v":""},{"$f":"RS!N302","v":""},{"$f":"RS!O302","v":""},{"$f":"RS!P302","v":""},{"$f":"RS!Q302","v":""},{"$f":"RS!R302","v":""},{"$f":"RS!S302","v":""},{"$f":"RS!T302","v":""},{"$f":"RS!U302","v":""},{"$f":"RS!V302","v":""},{"$f":"RS!W302","v":""},{"$f":"RS!X302","v":""},{"$f":"RS!Y302","v":""},{"$f":"RS!Z302","v":""},{"$f":"RS!AA302","v":""},{"$f":"RS!AB302","v":""},{"$f":"RS!AC302","v":""},null,null,null,null,null,null,null,null,null,null,null,null,null,null,null,null,null,null,null,null,null,null,null,null,null,null,null,null,"","","","","","","","","","","","","","","","","","","","","","",""]
[220,{"$f":"RS!D303","v":"Ri5 Sätoftasjön, ytan"},{"$f":"RS!E303","v":""},{"$f":"RS!F303","v":""},{"$f":"RS!G303","v":""},{"$f":"RS!H303","v":""},{"$f":"RS!I303","v":""},{"$f":"RS!J303","v":""},{"$f":"RS!K303","v":""},{"$f":"RS!L303","v":""},{"$f":"RS!M303","v":""},{"$f":"RS!N303","v":""},{"$f":"RS!O303","v":""},{"$f":"RS!P303","v":""},{"$f":"RS!Q303","v":""},{"$f":"RS!R303","v":""},{"$f":"RS!S303","v":""},{"$f":"RS!T303","v":""},{"$f":"RS!U303","v":""},{"$f":"RS!V303","v":""},{"$f":"RS!W303","v":""},{"$f":"RS!X303","v":""},{"$f":"RS!Y303","v":""},{"$f":"RS!Z303","v":""},{"$f":"RS!AA303","v":""},{"$f":"RS!AB303","v":""},{"$f":"RS!AC303","v":""},null,null,null,null,null,null,null,null,null,null,null,null,null,null,null,null,null,null,null,null,null,null,null,null,null,null,null,null,"","","","","","","","","","","","","","","","","","","","","","",""]
[220,{"$f":"RS!D304","v":"Ri5 Sätoftasjön, ytan"},{"$f":"RS!E304","v":""},{"$f":"RS!F304","v":""},{"$f":"RS!G304","v":""},{"$f":"RS!H304","v":""},{"$f":"RS!I304","v":""},{"$f":"RS!J304","v":""},{"$f":"RS!K304","v":""},{"$f":"RS!L304","v":""},{"$f":"RS!M304","v":""},{"$f":"RS!N304","v":""},{"$f":"RS!O304","v":""},{"$f":"RS!P304","v":""},{"$f":"RS!Q304","v":""},{"$f":"RS!R304","v":""},{"$f":"RS!S304","v":""},{"$f":"RS!T304","v":""},{"$f":"RS!U304","v":""},{"$f":"RS!V304","v":""},{"$f":"RS!W304","v":""},{"$f":"RS!X304","v":""},{"$f":"RS!Y304","v":""},{"$f":"RS!Z304","v":""},{"$f":"RS!AA304","v":""},{"$f":"RS!AB304","v":""},{"$f":"RS!AC304","v":""},null,null,null,null,null,null,null,null,null,null,null,null,null,null,null,null,null,null,null,null,null,null,null,null,null,null,null,null,"","","","","","","","","","","","","","","","","","","","","","",""]
[220,{"$f":"RS!D305","v":"Ri5 Sätoftasjön, ytan"},{"$f":"RS!E305","v":""},{"$f":"RS!F305","v":""},{"$f":"RS!G305","v":""},{"$f":"RS!H305","v":""},{"$f":"RS!I305","v":""},{"$f":"RS!J305","v":""},{"$f":"RS!K305","v":""},{"$f":"RS!L305","v":""},{"$f":"RS!M305","v":""},{"$f":"RS!N305","v":""},{"$f":"RS!O305","v":""},{"$f":"RS!P305","v":""},{"$f":"RS!Q305","v":""},{"$f":"RS!R305","v":""},{"$f":"RS!S305","v":""},{"$f":"RS!T305","v":""},{"$f":"RS!U305","v":""},{"$f":"RS!V305","v":""},{"$f":"RS!W305","v":""},{"$f":"RS!X305","v":""},{"$f":"RS!Y305","v":""},{"$f":"RS!Z305","v":""},{"$f":"RS!AA305","v":""},{"$f":"RS!AB305","v":""},{"$f":"RS!AC305","v":""},null,null,null,null,null,null,null,null,null,null,null,null,null,null,null,null,null,null,null,null,null,null,null,null,null,null,null,null,"","","","","","","","","","","","","","","","","","","","","","",""]
[220,{"$f":"RS!D306","v":"Ri5 Sätoftasjön, ytan"},{"$f":"RS!E306","v":""},{"$f":"RS!F306","v":""},{"$f":"RS!G306","v":""},{"$f":"RS!H306","v":""},{"$f":"RS!I306","v":""},{"$f":"RS!J306","v":""},{"$f":"RS!K306","v":""},{"$f":"RS!L306","v":""},{"$f":"RS!M306","v":""},{"$f":"RS!N306","v":""},{"$f":"RS!O306","v":""},{"$f":"RS!P306","v":""},{"$f":"RS!Q306","v":""},{"$f":"RS!R306","v":""},{"$f":"RS!S306","v":""},{"$f":"RS!T306","v":""},{"$f":"RS!U306","v":""},{"$f":"RS!V306","v":""},{"$f":"RS!W306","v":""},{"$f":"RS!X306","v":""},{"$f":"RS!Y306","v":""},{"$f":"RS!Z306","v":""},{"$f":"RS!AA306","v":""},{"$f":"RS!AB306","v":""},{"$f":"RS!AC306","v":""},null,null,null,null,null,null,null,null,null,null,null,null,null,null,null,null,null,null,null,null,null,null,null,null,null,null,null,null,"","","","","","","","","","","","","","","","","","","","","","",""]
[220,{"$f":"RS!D307","v":"Ri5 Sätoftasjön, ytan"},{"$f":"RS!E307","v":""},{"$f":"RS!F307","v":""},{"$f":"RS!G307","v":""},{"$f":"RS!H307","v":""},{"$f":"RS!I307","v":""},{"$f":"RS!J307","v":""},{"$f":"RS!K307","v":""},{"$f":"RS!L307","v":""},{"$f":"RS!M307","v":""},{"$f":"RS!N307","v":""},{"$f":"RS!O307","v":""},{"$f":"RS!P307","v":""},{"$f":"RS!Q307","v":""},{"$f":"RS!R307","v":""},{"$f":"RS!S307","v":""},{"$f":"RS!T307","v":""},{"$f":"RS!U307","v":""},{"$f":"RS!V307","v":""},{"$f":"RS!W307","v":""},{"$f":"RS!X307","v":""},{"$f":"RS!Y307","v":""},{"$f":"RS!Z307","v":""},{"$f":"RS!AA307","v":""},{"$f":"RS!AB307","v":""},{"$f":"RS!AC307","v":""},null,null,null,null,null,null,null,null,null,null,null,null,null,null,null,null,null,null,null,null,null,null,null,null,null,null,null,null,"","","","","","","","","","","","","","","","","","","","","","",""]
[220,{"$f":"RS!D308","v":"Ri5 Sätoftasjön, ytan"},{"$f":"RS!E308","v":""},{"$f":"RS!F308","v":""},{"$f":"RS!G308","v":""},{"$f":"RS!H308","v":""},{"$f":"RS!I308","v":""},{"$f":"RS!J308","v":""},{"$f":"RS!K308","v":""},{"$f":"RS!L308","v":""},{"$f":"RS!M308","v":""},{"$f":"RS!N308","v":""},{"$f":"RS!O308","v":""},{"$f":"RS!P308","v":""},{"$f":"RS!Q308","v":""},{"$f":"RS!R308","v":""},{"$f":"RS!S308","v":""},{"$f":"RS!T308","v":""},{"$f":"RS!U308","v":""},{"$f":"RS!V308","v":""},{"$f":"RS!W308","v":""},{"$f":"RS!X308","v":""},{"$f":"RS!Y308","v":""},{"$f":"RS!Z308","v":""},{"$f":"RS!AA308","v":""},{"$f":"RS!AB308","v":""},{"$f":"RS!AC308","v":""},null,null,null,null,null,null,null,null,null,null,null,null,null,null,null,null,null,null,null,null,null,null,null,null,null,null,null,null,"","","","","","","","","","","","","","","","","","","","","","",""]
[220,{"$f":"RS!D309","v":"Ri5 Sätoftasjön, ytan"},{"$f":"RS!E309","v":""},{"$f":"RS!F309","v":""},{"$f":"RS!G309","v":""},{"$f":"RS!H309","v":""},{"$f":"RS!I309","v":""},{"$f":"RS!J309","v":""},{"$f":"RS!K309","v":""},{"$f":"RS!L309","v":""},{"$f":"RS!M309","v":""},{"$f":"RS!N309","v":""},{"$f":"RS!O309","v":""},{"$f":"RS!P309","v":""},{"$f":"RS!Q309","v":""},{"$f":"RS!R309","v":""},{"$f":"RS!S309","v":""},{"$f":"RS!T309","v":""},{"$f":"RS!U309","v":""},{"$f":"RS!V309","v":""},{"$f":"RS!W309","v":""},{"$f":"RS!X309","v":""},{"$f":"RS!Y309","v":""},{"$f":"RS!Z309","v":""},{"$f":"RS!AA309","v":""},{"$f":"RS!AB309","v":""},{"$f":"RS!AC309","v":""},null,null,null,null,null,null,null,null,null,null,null,null,null,null,null,null,null,null,null,null,null,null,null,null,null,null,null,null,"","","","","","","","","","","","","","","","","","","","","","",""]
[220,{"$f":"RS!D310","v":"Ri5 Sätoftasjön, ytan"},{"$f":"RS!E310","v":""},{"$f":"RS!F310","v":""},{"$f":"RS!G310","v":""},{"$f":"RS!H310","v":""},{"$f":"RS!I310","v":""},{"$f":"RS!J310","v":""},{"$f":"RS!K310","v":""},{"$f":"RS!L310","v":""},{"$f":"RS!M310","v":""},{"$f":"RS!N310","v":""},{"$f":"RS!O310","v":""},{"$f":"RS!P310","v":""},{"$f":"RS!Q310","v":""},{"$f":"RS!R310","v":""},{"$f":"RS!S310","v":""},{"$f":"RS!T310","v":""},{"$f":"RS!U310","v":""},{"$f":"RS!V310","v":""},{"$f":"RS!W310","v":""},{"$f":"RS!X310","v":""},{"$f":"RS!Y310","v":""},{"$f":"RS!Z310","v":""},{"$f":"RS!AA310","v":""},{"$f":"RS!AB310","v":""},{"$f":"RS!AC310","v":""},null,null,null,null,null,null,null,null,null,null,null,null,null,null,null,null,null,null,null,null,null,null,null,null,null,null,null,null,"","","","","","","","","","","","","","","","","","","","","","",""]
[null,null,"Medel",{"$f":"AVERAGE(BD479:BD490)","v":1.2},{"$f":"AVERAGE(BE479:BE490)","v":13.95},{"$f":"AVERAGE(BF479:BF490)","v":98.5},{"$f":"AVERAGE(BG479:BG490)","v":7.9},{"$f":"AVERAGE(BH479:BH490)","v":1.25},{"$f":"AVERAGE(BI479:BI490)","v":21.3},{"$f":"AVERAGE(BJ479:BJ490)","v":82.5},{"$f":"AVERAGE(BK479:BK490)","v":{"$error":"#DIV/0!"}},{"$f":"AVERAGE(BL479:BL490)","v":0.15000000000000002},{"$f":"AVERAGE(BM479:BM490)","v":{"$error":"#DIV/0!"}},{"$f":"AVERAGE(BN479:BN490)","v":36.340000000000003},{"$f":"AVERAGE(BO479:BO490)","v":{"$error":"#DIV/0!"}},{"$f":"AVERAGE(BP479:BP490)","v":2},{"$f":"AVERAGE(BQ479:BQ490)","v":9.5500000000000007},{"$f":"AVERAGE(BR479:BR490)","v":33.5},{"$f":"AVERAGE(BS479:BS490)","v":705},{"$f":"AVERAGE(BT479:BT490)","v":{"$error":"#DIV/0!"}},{"$f":"AVERAGE(BU479:BU490)","v":1300},{"$f":"AVERAGE(BV479:BV490)","v":{"$error":"#DIV/0!"}},{"$f":"AVERAGE(BW479:BW490)","v":0.22999999999999998},{"$f":"AVERAGE(BX479:BX490)","v":0.3},{"$f":"AVERAGE(BY479:BY490)","v":26.5},{"$f":"AVERAGE(BZ479:BZ490)","v":1.1000000000000001},null,null,null,null,null,null,null,null,null,null,null,null,null,null,null,null,null,null,null,null,null,null,null,null,null,null,null,null,null,1.2,13.95,98.5,7.9,1.25,21.3,82.5,{"$error":"#DIV/0!"},0.15000000000000002,{"$error":"#DIV/0!"},36.340000000000003,{"$error":"#DIV/0!"},2,9.5500000000000007,33.5,705,{"$error":"#DIV/0!"},1300,{"$error":"#DIV/0!"},0.22999999999999998,0.3,26.5,1.1000000000000001]
[null,null,"Max",{"$f":"MAX(BD479:BD490)","v":1.7},{"$f":"MAX(BE479:BE490)","v":14.1},{"$f":"MAX(BF479:BF490)","v":101},{"$f":"MAX(BG479:BG490)","v":7.9},{"$f":"MAX(BH479:BH490)","v":1.3},{"$f":"MAX(BI479:BI490)","v":21.5},{"$f":"MAX(BJ479:BJ490)","v":90},{"$f":"MAX(BK479:BK490)","v":0},{"$f":"MAX(BL479:BL490)","v":0.16},{"$f":"MAX(BM479:BM490)","v":0},{"$f":"MAX(BN479:BN490)","v":37.130000000000003},{"$f":"MAX(BO479:BO490)","v":0},{"$f":"MAX(BP479:BP490)","v":2},{"$f":"MAX(BQ479:BQ490)","v":11},{"$f":"MAX(BR479:BR490)","v":34},{"$f":"MAX(BS479:BS490)","v":720},{"$f":"MAX(BT479:BT490)","v":0},{"$f":"MAX(BU479:BU490)","v":1400},{"$f":"MAX(BV479:BV490)","v":0},{"$f":"MAX(BW479:BW490)","v":0.24},{"$f":"MAX(BX479:BX490)","v":0.3},{"$f":"MAX(BY479:BY490)","v":33},{"$f":"MAX(BZ479:BZ490)","v":1.1000000000000001},null,null,null,null,null,null,null,null,null,null,null,null,null,null,null,null,null,null,null,null,null,null,null,null,null,null,null,null,null,1.7,14.1,101,7.9,1.3,21.5,90,0,0.16,0,37.130000000000003,0,2,11,34,720,0,1400,0,0.24,0.3,33,1.1000000000000001]
[null,null,"Min",{"$f":"MIN(BD479:BD490)","v":0.7},{"$f":"MIN(BE479:BE490)","v":13.8},{"$f":"MIN(BF479:BF490)","v":96},{"$f":"MIN(BG479:BG490)","v":7.9},{"$f":"MIN(BH479:BH490)","v":1.2},{"$f":"MIN(BI479:BI490)","v":21.1},{"$f":"MIN(BJ479:BJ490)","v":75},{"$f":"MIN(BK479:BK490)","v":0},{"$f":"MIN(BL479:BL490)","v":0.14000000000000001},{"$f":"MIN(BM479:BM490)","v":0},{"$f":"MIN(BN479:BN490)","v":35.550000000000004},{"$f":"MIN(BO479:BO490)","v":0},{"$f":"MIN(BP479:BP490)","v":2},{"$f":"MIN(BQ479:BQ490)","v":8.1},{"$f":"MIN(BR479:BR490)","v":33},{"$f":"MIN(BS479:BS490)","v":690},{"$f":"MIN(BT479:BT490)","v":0},{"$f":"MIN(BU479:BU490)","v":1200},{"$f":"MIN(BV479:BV490)","v":0},{"$f":"MIN(BW479:BW490)","v":0.22},{"$f":"MIN(BX479:BX490)","v":0.3},{"$f":"MIN(BY479:BY490)","v":20},{"$f":"MIN(BZ479:BZ490)","v":1.1000000000000001},null,null,null,null,null,null,null,null,null,null,null,null,null,null,null,null,null,null,null,null,null,null,null,null,null,null,null,null,null,0.7,13.8,96,7.9,1.2,21.1,75,0,0.14000000000000001,0,35.550000000000004,0,2,8.1,33,690,0,1200,0,0.22,0.3,20,1.1000000000000001]
[null,null,null,null,null,null,null,null,null,null,null,null,null,null,null,null,null,null,null,null,null,null,null,null,null,null,null,null,null,null,null,null,null,null,null,null,null,null,null,null,null,null,null,null,null,null,null,null,null,null,null,null,null,null,null,0,0,0,0,0,0,0,0,0,0,0,0,0,0,0,0,0,0,0,0,0,0,0]
[225,{"$f":"RS!D311","v":"Ri5 Sätoftasjön, 15 m"},{"$f":"RS!E311","v":""},{"$f":"RS!F311","v":""},{"$f":"RS!G311","v":""},{"$f":"RS!H311","v":""},{"$f":"RS!I311","v":""},{"$f":"RS!J311","v":""},{"$f":"RS!K311","v":""},{"$f":"RS!L311","v":""},{"$f":"RS!M311","v":""},{"$f":"RS!N311","v":""},{"$f":"RS!O311","v":""},{"$f":"RS!P311","v":""},{"$f":"RS!Q311","v":""},{"$f":"RS!R311","v":""},{"$f":"RS!S311","v":""},{"$f":"RS!T311","v":""},{"$f":"RS!U311","v":""},{"$f":"RS!V311","v":""},{"$f":"RS!W311","v":""},{"$f":"RS!X311","v":""},{"$f":"RS!Y311","v":""},{"$f":"RS!Z311","v":""},{"$f":"RS!AA311","v":""},{"$f":"RS!AB311","v":""},{"$f":"RS!AC311","v":""},null,null,null,null,null,null,null,null,null,null,null,null,null,null,null,null,null,null,null,null,null,null,null,null,null,null,null,null,"","","","","","","","","","","","","","","","","","","","","","",""]
[225,{"$f":"RS!D312","v":"Ri5 Sätoftasjön, 15 m"},{"$f":"RS!E312","v":""},{"$f":"RS!F312","v":""},{"$f":"RS!G312","v":""},{"$f":"RS!H312","v":""},{"$f":"RS!I312","v":""},{"$f":"RS!J312","v":""},{"$f":"RS!K312","v":""},{"$f":"RS!L312","v":""},{"$f":"RS!M312","v":""},{"$f":"RS!N312","v":""},{"$f":"RS!O312","v":""},{"$f":"RS!P312","v":""},{"$f":"RS!Q312","v":""},{"$f":"RS!R312","v":""},{"$f":"RS!S312","v":""},{"$f":"RS!T312","v":""},{"$f":"RS!U312","v":""},{"$f":"RS!V312","v":""},{"$f":"RS!W312","v":""},{"$f":"RS!X312","v":""},{"$f":"RS!Y312","v":""},{"$f":"RS!Z312","v":""},{"$f":"RS!AA312","v":""},{"$f":"RS!AB312","v":""},{"$f":"RS!AC312","v":""},null,null,null,null,null,null,null,null,null,null,null,null,null,null,null,null,null,null,null,null,null,null,null,null,null,null,null,null,"","","","","","","","","","","","","","","","","","","","","","",""]
[225,{"$f":"RS!D313","v":"Ri5 Sätoftasjön, 15 m"},{"$f":"RS!E313","v":""},{"$f":"RS!F313","v":""},{"$f":"RS!G313","v":""},{"$f":"RS!H313","v":""},{"$f":"RS!I313","v":""},{"$f":"RS!J313","v":""},{"$f":"RS!K313","v":""},{"$f":"RS!L313","v":""},{"$f":"RS!M313","v":""},{"$f":"RS!N313","v":""},{"$f":"RS!O313","v":""},{"$f":"RS!P313","v":""},{"$f":"RS!Q313","v":""},{"$f":"RS!R313","v":""},{"$f":"RS!S313","v":""},{"$f":"RS!T313","v":""},{"$f":"RS!U313","v":""},{"$f":"RS!V313","v":""},{"$f":"RS!W313","v":""},{"$f":"RS!X313","v":""},{"$f":"RS!Y313","v":""},{"$f":"RS!Z313","v":""},{"$f":"RS!AA313","v":""},{"$f":"RS!AB313","v":""},{"$f":"RS!AC313","v":""},null,null,null,null,null,null,null,null,null,null,null,null,null,null,null,null,null,null,null,null,null,null,null,null,null,null,null,null,"","","","","","","","","","","","","","","","","","","","","","",""]
[225,{"$f":"RS!D314","v":"Ri5 Sätoftasjön, 15 m"},{"$f":"RS!E314","v":""},{"$f":"RS!F314","v":""},{"$f":"RS!G314","v":""},{"$f":"RS!H314","v":""},{"$f":"RS!I314","v":""},{"$f":"RS!J314","v":""},{"$f":"RS!K314","v":""},{"$f":"RS!L314","v":""},{"$f":"RS!M314","v":""},{"$f":"RS!N314","v":""},{"$f":"RS!O314","v":""},{"$f":"RS!P314","v":""},{"$f":"RS!Q314","v":""},{"$f":"RS!R314","v":""},{"$f":"RS!S314","v":""},{"$f":"RS!T314","v":""},{"$f":"RS!U314","v":""},{"$f":"RS!V314","v":""},{"$f":"RS!W314","v":""},{"$f":"RS!X314","v":""},{"$f":"RS!Y314","v":""},{"$f":"RS!Z314","v":""},{"$f":"RS!AA314","v":""},{"$f":"RS!AB314","v":""},{"$f":"RS!AC314","v":""},null,null,null,null,null,null,null,null,null,null,null,null,null,null,null,null,null,null,null,null,null,null,null,null,null,null,null,null,"","","","","","","","","","","","","","","","","","","","","","",""]
[null,null,"Medel",{"$f":"AVERAGE(BD495:BD498)","v":{"$error":"#DIV/0!"}},{"$error":"#DIV/0!"},{"$error":"#DIV/0!"},{"$error":"#DIV/0!"},{"$error":"#DIV/0!"},{"$error":"#DIV/0!"},{"$error":"#DIV/0!"},{"$error":"#DIV/0!"},{"$error":"#DIV/0!"},{"$error":"#DIV/0!"},{"$error":"#DIV/0!"},{"$error":"#DIV/0!"},{"$f":"AVERAGE(BP495:BP498)","v":{"$error":"#DIV/0!"}},{"$error":"#DIV/0!"},{"$error":"#DIV/0!"},{"$error":"#DIV/0!"},{"$error":"#DIV/0!"},{"$error":"#DIV/0!"},{"$f":"AVERAGE(BV495:BV498)","v":{"$error":"#DIV/0!"}},{"$f":"AVERAGE(BW495:BW498)","v":{"$error":"#DIV/0!"}},{"$f":"AVERAGE(BX495:BX498)","v":{"$error":"#DIV/0!"}},{"$f":"AVERAGE(BY495:BY498)","v":{"$error":"#DIV/0!"}},{"$f":"AVERAGE(BZ495:BZ498)","v":{"$error":"#DIV/0!"}},null,null,null,null,null,null,null,null,null,null,null,null,null,null,null,null,null,null,null,null,null,null,null,null,null,null,null,null,null,{"$error":"#DIV/0!"},{"$error":"#DIV/0!"},{"$error":"#DIV/0!"},{"$error":"#DIV/0!"},{"$error":"#DIV/0!"},{"$error":"#DIV/0!"},{"$error":"#DIV/0!"},{"$error":"#DIV/0!"},{"$error":"#DIV/0!"},{"$error":"#DIV/0!"},{"$error":"#DIV/0!"},{"$error":"#DIV/0!"},{"$error":"#DIV/0!"},{"$error":"#DIV/0!"},{"$error":"#DIV/0!"},{"$error":"#DIV/0!"},{"$error":"#DIV/0!"},{"$error":"#DIV/0!"},{"$error":"#DIV/0!"},{"$error":"#DIV/0!"},{"$error":"#DIV/0!"},{"$error":"#DIV/0!"},{"$error":"#DIV/0!"}]
[null,null,"Max",{"$f":"MAX(BD495:BD498)","v":0},0,0,0,0,0,0,0,0,0,0,0,{"$f":"MAX(BP495:BP498)","v":0},0,0,0,0,0,{"$f":"MAX(BV495:BV498)","v":0},{"$f":"MAX(BW495:BW498)","v":0},{"$f":"MAX(BX495:BX498)","v":0},{"$f":"MAX(BY495:BY498)","v":0},{"$f":"MAX(BZ495:BZ498)","v":0},null,null,null,null,null,null,null,null,null,null,null,null,null,null,null,null,null,null,null,null,null,null,null,null,null,null,null,null,null,0,0,0,0,0,0,0,0,0,0,0,0,0,0,0,0,0,0,0,0,0,0,0]
[null,null,"Min",{"$f":"MIN(BD495:BD498)","v":0},0,0,0,0,0,0,0,0,0,0,0,{"$f":"MIN(BP495:BP498)","v":0},0,0,0,0,0,{"$f":"MIN(BV495:BV498)","v":0},{"$f":"MIN(BW495:BW498)","v":0},{"$f":"MIN(BX495:BX498)","v":0},{"$f":"MIN(BY495:BY498)","v":0},{"$f":"MIN(BZ495:BZ498)","v":0},null,null,null,null,null,null,null,null,null,null,null,null,null,null,null,null,null,null,null,null,null,null,null,null,null,null,null,null,null,0,0,0,0,0,0,0,0,0,0,0,0,0,0,0,0,0,0,0,0,0,0,0]
[null,null,null,null,null,null,null,null,null,null,null,null,null,null,null,null,null,null,null,null,null,null,null,null,null,null,null,null,null,null,null,null,null,null,null,null,null,null,null,null,null,null,null,null,null,null,null,null,null,null,null,null,null,null,null,0,0,0,0,0,0,0,0,0,0,0,0,0,0,0,0,0,0,0,0,0,0,0]
[230,{"$f":"RS!D315","v":"Ri4 Östra Ringsjön, ytan"},{"$f":"RS!E315","v":"2025-01-15"},{"$f":"RS!F315","v":1.6},{"$f":"RS!G315","v":13.5},{"$f":"RS!H315","v":97},{"$f":"RS!I315","v":8},{"$f":"RS!J315","v":1.6},{"$f":"RS!K315","v":26.4},{"$f":"RS!L315","v":12},{"$f":"RS!M315","v":""},{"$f":"RS!N315","v":8.6999999999999994E-2},{"$f":"RS!O315","v":""},{"$f":"RS!P315","v":26.86},{"$f":"RS!Q315","v":""},{"$f":"RS!R315","v":36},{"$f":"RS!S315","v":46},{"$f":"RS!T315","v":64},{"$f":"RS!U315","v":1300},{"$f":"RS!V315","v":""},{"$f":"RS!W315","v":1600},{"$f":"RS!X315","v":""},{"$f":"RS!Y315","v":0.26},{"$f":"RS!Z315","v":0.32},{"$f":"RS!AA315","v":12},{"$f":"RS!AB315","v":1.7},{"$f":"RS!AC315","v":""},null,null,null,null,null,null,null,null,null,null,null,null,null,null,null,null,null,null,null,null,null,null,null,null,null,null,null,null,1.6,13.5,97,8,1.6,26.4,12,"",8.6999999999999994E-2,"",26.86,"",36,46,64,1300,"",1600,"",0.26,0.32,12,1.7]
[230,{"$f":"RS!D316","v":"Ri4 Östra Ringsjön, ytan"},{"$f":"RS!E316","v":"2025-02-10"},{"$f":"RS!F316","v":2},{"$f":"RS!G316","v":14.3},{"$f":"RS!H316","v":103},{"$f":"RS!I316","v":8},{"$f":"RS!J316","v":1.6},{"$f":"RS!K316","v":25.9},{"$f":"RS!L316","v":55},{"$f":"RS!M316","v":""},{"$f":"RS!N316","v":0.1},{"$f":"RS!O316","v":""},{"$f":"RS!P316","v":26.465000000000003},{"$f":"RS!Q316","v":""},{"$f":"RS!R316","v":19},{"$f":"RS!S316","v":32},{"$f":"RS!T316","v":58},{"$f":"RS!U316","v":1300},{"$f":"RS!V316","v":""},{"$f":"RS!W316","v":1900},{"$f":"RS!X316","v":""},{"$f":"RS!Y316","v":0.24},{"$f":"RS!Z316","v":0.32},{"$f":"RS!AA316","v":17},{"$f":"RS!AB316","v":1.5},{"$f":"RS!AC316","v":"Siktdjup osäkert pga stark vind"},null,null,null,null,null,null,null,null,null,null,null,null,null,null,null,null,null,null,null,null,null,null,null,null,null,null,null,null,2,14.3,103,8,1.6,25.9,55,"",0.1,"",26.465000000000003,"",19,32,58,1300,"",1900,"",0.24,0.32,17,1.5]
[230,{"$f":"RS!D317","v":"Ri4 Östra Ringsjön, ytan"},{"$f":"RS!E317","v":""},{"$f":"RS!F317","v":""},{"$f":"RS!G317","v":""},{"$f":"RS!H317","v":""},{"$f":"RS!I317","v":""},{"$f":"RS!J317","v":""},{"$f":"RS!K317","v":""},{"$f":"RS!L317","v":""},{"$f":"RS!M317","v":""},{"$f":"RS!N317","v":""},{"$f":"RS!O317","v":""},{"$f":"RS!P317","v":""},{"$f":"RS!Q317","v":""},{"$f":"RS!R317","v":""},{"$f":"RS!S317","v":""},{"$f":"RS!T317","v":""},{"$f":"RS!U317","v":""},{"$f":"RS!V317","v":""},{"$f":"RS!W317","v":""},{"$f":"RS!X317","v":""},{"$f":"RS!Y317","v":""},{"$f":"RS!Z317","v":""},{"$f":"RS!AA317","v":""},{"$f":"RS!AB317","v":""},{"$f":"RS!AC317","v":""},null,null,null,null,null,null,null,null,null,null,null,null,null,null,null,null,null,null,null,null,null,null,null,null,null,null,null,null,"","","","","","","","","","","","","","","","","","","","","","",""]
[230,{"$f":"RS!D318","v":"Ri4 Östra Ringsjön, ytan"},{"$f":"RS!E318","v":""},{"$f":"RS!F318","v":""},{"$f":"RS!G318","v":""},{"$f":"RS!H318","v":""},{"$f":"RS!I318","v":""},{"$f":"RS!J318","v":""},{"$f":"RS!K318","v":""},{"$f":"RS!L318","v":""},{"$f":"RS!M318","v":""},{"$f":"RS!N318","v":""},{"$f":"RS!O318","v":""},{"$f":"RS!P318","v":""},{"$f":"RS!Q318","v":""},{"$f":"RS!R318","v":""},{"$f":"RS!S318","v":""},{"$f":"RS!T318","v":""},{"$f":"RS!U318","v":""},{"$f":"RS!V318","v":""},{"$f":"RS!W318","v":""},{"$f":"RS!X318","v":""},{"$f":"RS!Y318","v":""},{"$f":"RS!Z318","v":""},{"$f":"RS!AA318","v":""},{"$f":"RS!AB318","v":""},{"$f":"RS!AC318","v":""},null,null,null,null,null,null,null,null,null,null,null,null,null,null,null,null,null,null,null,null,null,null,null,null,null,null,null,null,"","","","","","","","","","","","","","","","","","","","","","",""]
[230,{"$f":"RS!D319","v":"Ri4 Östra Ringsjön, ytan"},{"$f":"RS!E319","v":""},{"$f":"RS!F319","v":""},{"$f":"RS!G319","v":""},{"$f":"RS!H319","v":""},{"$f":"RS!I319","v":""},{"$f":"RS!J319","v":""},{"$f":"RS!K319","v":""},{"$f":"RS!L319","v":""},{"$f":"RS!M319","v":""},{"$f":"RS!N319","v":""},{"$f":"RS!O319","v":""},{"$f":"RS!P319","v":""},{"$f":"RS!Q319","v":""},{"$f":"RS!R319","v":""},{"$f":"RS!S319","v":""},{"$f":"RS!T319","v":""},{"$f":"RS!U319","v":""},{"$f":"RS!V319","v":""},{"$f":"RS!W319","v":""},{"$f":"RS!X319","v":""},{"$f":"RS!Y319","v":""},{"$f":"RS!Z319","v":""},{"$f":"RS!AA319","v":""},{"$f":"RS!AB319","v":""},{"$f":"RS!AC319","v":""},null,null,null,null,null,null,null,null,null,null,null,null,null,null,null,null,null,null,null,null,null,null,null,null,null,null,null,null,"","","","","","","","","","","","","","","","","","","","","","",""]
[230,{"$f":"RS!D320","v":"Ri4 Östra Ringsjön, ytan"},{"$f":"RS!E320","v":""},{"$f":"RS!F320","v":""},{"$f":"RS!G320","v":""},{"$f":"RS!H320","v":""},{"$f":"RS!I320","v":""},{"$f":"RS!J320","v":""},{"$f":"RS!K320","v":""},{"$f":"RS!L320","v":""},{"$f":"RS!M320","v":""},{"$f":"RS!N320","v":""},{"$f":"RS!O320","v":""},{"$f":"RS!P320","v":""},{"$f":"RS!Q320","v":""},{"$f":"RS!R320","v":""},{"$f":"RS!S320","v":""},{"$f":"RS!T320","v":""},{"$f":"RS!U320","v":""},{"$f":"RS!V320","v":""},{"$f":"RS!W320","v":""},{"$f":"RS!X320","v":""},{"$f":"RS!Y320","v":""},{"$f":"RS!Z320","v":""},{"$f":"RS!AA320","v":""},{"$f":"RS!AB320","v":""},{"$f":"RS!AC320","v":""},null,null,null,null,null,null,null,null,null,null,null,null,null,null,null,null,null,null,null,null,null,null,null,null,null,null,null,null,"","","","","","","","","","","","","","","","","","","","","","",""]
[230,{"$f":"RS!D321","v":"Ri4 Östra Ringsjön, ytan"},{"$f":"RS!E321","v":""},{"$f":"RS!F321","v":""},{"$f":"RS!G321","v":""},{"$f":"RS!H321","v":""},{"$f":"RS!I321","v":""},{"$f":"RS!J321","v":""},{"$f":"RS!K321","v":""},{"$f":"RS!L321","v":""},{"$f":"RS!M321","v":""},{"$f":"RS!N321","v":""},{"$f":"RS!O321","v":""},{"$f":"RS!P321","v":""},{"$f":"RS!Q321","v":""},{"$f":"RS!R321","v":""},{"$f":"RS!S321","v":""},{"$f":"RS!T321","v":""},{"$f":"RS!U321","v":""},{"$f":"RS!V321","v":""},{"$f":"RS!W321","v":""},{"$f":"RS!X321","v":""},{"$f":"RS!Y321","v":""},{"$f":"RS!Z321","v":""},{"$f":"RS!AA321","v":""},{"$f":"RS!AB321","v":""},{"$f":"RS!AC321","v":""},null,null,null,null,null,null,null,null,null,null,null,null,null,null,null,null,null,null,null,null,null,null,null,null,null,null,null,null,"","","","","","","","","","","","","","","","","","","","","","",""]
[230,{"$f":"RS!D322","v":"Ri4 Östra Ringsjön, ytan"},{"$f":"RS!E322","v":""},{"$f":"RS!F322","v":""},{"$f":"RS!G322","v":""},{"$f":"RS!H322","v":""},{"$f":"RS!I322","v":""},{"$f":"RS!J322","v":""},{"$f":"RS!K322","v":""},{"$f":"RS!L322","v":""},{"$f":"RS!M322","v":""},{"$f":"RS!N322","v":""},{"$f":"RS!O322","v":""},{"$f":"RS!P322","v":""},{"$f":"RS!Q322","v":""},{"$f":"RS!R322","v":""},{"$f":"RS!S322","v":""},{"$f":"RS!T322","v":""},{"$f":"RS!U322","v":""},{"$f":"RS!V322","v":""},{"$f":"RS!W322","v":""},{"$f":"RS!X322","v":""},{"$f":"RS!Y322","v":""},{"$f":"RS!Z322","v":""},{"$f":"RS!AA322","v":""},{"$f":"RS!AB322","v":""},{"$f":"RS!AC322","v":""},null,null,null,null,null,null,null,null,null,null,null,null,null,null,null,null,null,null,null,null,null,null,null,null,null,null,null,null,"","","","","","","","","","","","","","","","","","","","","","",""]
[230,{"$f":"RS!D323","v":"Ri4 Östra Ringsjön, ytan"},{"$f":"RS!E323","v":""},{"$f":"RS!F323","v":""},{"$f":"RS!G323","v":""},{"$f":"RS!H323","v":""},{"$f":"RS!I323","v":""},{"$f":"RS!J323","v":""},{"$f":"RS!K323","v":""},{"$f":"RS!L323","v":""},{"$f":"RS!M323","v":""},{"$f":"RS!N323","v":""},{"$f":"RS!O323","v":""},{"$f":"RS!P323","v":""},{"$f":"RS!Q323","v":""},{"$f":"RS!R323","v":""},{"$f":"RS!S323","v":""},{"$f":"RS!T323","v":""},{"$f":"RS!U323","v":""},{"$f":"RS!V323","v":""},{"$f":"RS!W323","v":""},{"$f":"RS!X323","v":""},{"$f":"RS!Y323","v":""},{"$f":"RS!Z323","v":""},{"$f":"RS!AA323","v":""},{"$f":"RS!AB323","v":""},{"$f":"RS!AC323","v":""},null,null,null,null,null,null,null,null,null,null,null,null,null,null,null,null,null,null,null,null,null,null,null,null,null,null,null,null,"","","","","","","","","","","","","","","","","","","","","","",""]
[230,{"$f":"RS!D324","v":"Ri4 Östra Ringsjön, ytan"},{"$f":"RS!E324","v":""},{"$f":"RS!F324","v":""},{"$f":"RS!G324","v":""},{"$f":"RS!H324","v":""},{"$f":"RS!I324","v":""},{"$f":"RS!J324","v":""},{"$f":"RS!K324","v":""},{"$f":"RS!L324","v":""},{"$f":"RS!M324","v":""},{"$f":"RS!N324","v":""},{"$f":"RS!O324","v":""},{"$f":"RS!P324","v":""},{"$f":"RS!Q324","v":""},{"$f":"RS!R324","v":""},{"$f":"RS!S324","v":""},{"$f":"RS!T324","v":""},{"$f":"RS!U324","v":""},{"$f":"RS!V324","v":""},{"$f":"RS!W324","v":""},{"$f":"RS!X324","v":""},{"$f":"RS!Y324","v":""},{"$f":"RS!Z324","v":""},{"$f":"RS!AA324","v":""},{"$f":"RS!AB324","v":""},{"$f":"RS!AC324","v":""},null,null,null,null,null,null,null,null,null,null,null,null,null,null,null,null,null,null,null,null,null,null,null,null,null,null,null,null,"","","","","","","","","","","","","","","","","","","","","","",""]
[230,{"$f":"RS!D325","v":"Ri4 Östra Ringsjön, ytan"},{"$f":"RS!E325","v":""},{"$f":"RS!F325","v":""},{"$f":"RS!G325","v":""},{"$f":"RS!H325","v":""},{"$f":"RS!I325","v":""},{"$f":"RS!J325","v":""},{"$f":"RS!K325","v":""},{"$f":"RS!L325","v":""},{"$f":"RS!M325","v":""},{"$f":"RS!N325","v":""},{"$f":"RS!O325","v":""},{"$f":"RS!P325","v":""},{"$f":"RS!Q325","v":""},{"$f":"RS!R325","v":""},{"$f":"RS!S325","v":""},{"$f":"RS!T325","v":""},{"$f":"RS!U325","v":""},{"$f":"RS!V325","v":""},{"$f":"RS!W325","v":""},{"$f":"RS!X325","v":""},{"$f":"RS!Y325","v":""},{"$f":"RS!Z325","v":""},{"$f":"RS!AA325","v":""},{"$f":"RS!AB325","v":""},{"$f":"RS!AC325","v":""},null,null,null,null,null,null,null,null,null,null,null,null,null,null,null,null,null,null,null,null,null,null,null,null,null,null,null,null,"","","","","","","","","","","","","","","","","","","","","","",""]
[230,{"$f":"RS!D326","v":"Ri4 Östra Ringsjön, ytan"},{"$f":"RS!E326","v":""},{"$f":"RS!F326","v":""},{"$f":"RS!G326","v":""},{"$f":"RS!H326","v":""},{"$f":"RS!I326","v":""},{"$f":"RS!J326","v":""},{"$f":"RS!K326","v":""},{"$f":"RS!L326","v":""},{"$f":"RS!M326","v":""},{"$f":"RS!N326","v":""},{"$f":"RS!O326","v":""},{"$f":"RS!P326","v":""},{"$f":"RS!Q326","v":""},{"$f":"RS!R326","v":""},{"$f":"RS!S326","v":""},{"$f":"RS!T326","v":""},{"$f":"RS!U326","v":""},{"$f":"RS!V326","v":""},{"$f":"RS!W326","v":""},{"$f":"RS!X326","v":""},{"$f":"RS!Y326","v":""},{"$f":"RS!Z326","v":""},{"$f":"RS!AA326","v":""},{"$f":"RS!AB326","v":""},{"$f":"RS!AC326","v":""},null,null,null,null,null,null,null,null,null,null,null,null,null,null,null,null,null,null,null,null,null,null,null,null,null,null,null,null,"","","","","","","","","","","","","","","","","","","","","","",""]
[null,null,"Medel",{"$f":"AVERAGE(BD503:BD514)","v":1.8},{"$f":"AVERAGE(BE503:BE514)","v":13.9},{"$f":"AVERAGE(BF503:BF514)","v":100},{"$f":"AVERAGE(BG503:BG514)","v":8},{"$f":"AVERAGE(BH503:BH514)","v":1.6},{"$f":"AVERAGE(BI503:BI514)","v":26.15},{"$f":"AVERAGE(BJ503:BJ514)","v":33.5},{"$f":"AVERAGE(BK503:BK514)","v":{"$error":"#DIV/0!"}},{"$f":"AVERAGE(BL503:BL514)","v":9.35E-2},{"$f":"AVERAGE(BM503:BM514)","v":{"$error":"#DIV/0!"}},{"$f":"AVERAGE(BN503:BN514)","v":26.662500000000001},{"$f":"AVERAGE(BO503:BO514)","v":{"$error":"#DIV/0!"}},{"$f":"AVERAGE(BP503:BP514)","v":27.5},{"$f":"AVERAGE(BQ503:BQ514)","v":39},{"$f":"AVERAGE(BR503:BR514)","v":61},{"$f":"AVERAGE(BS503:BS514)","v":1300},{"$f":"AVERAGE(BT503:BT514)","v":{"$error":"#DIV/0!"}},{"$f":"AVERAGE(BU503:BU514)","v":1750},{"$f":"AVERAGE(BV503:BV514)","v":{"$error":"#DIV/0!"}},{"$f":"AVERAGE(BW503:BW514)","v":0.25},{"$f":"AVERAGE(BX503:BX514)","v":0.32},{"$f":"AVERAGE(BY503:BY514)","v":14.5},{"$f":"AVERAGE(BZ503:BZ514)","v":1.6},null,null,null,null,null,null,null,null,null,null,null,null,null,null,null,null,null,null,null,null,null,null,null,null,null,null,null,null,null,1.8,13.9,100,8,1.6,26.15,33.5,{"$error":"#DIV/0!"},9.35E-2,{"$error":"#DIV/0!"},26.662500000000001,{"$error":"#DIV/0!"},27.5,39,61,1300,{"$error":"#DIV/0!"},1750,{"$error":"#DIV/0!"},0.25,0.32,14.5,1.6]
[null,null,"Max",{"$f":"MAX(BD503:BD514)","v":2},{"$f":"MAX(BE503:BE514)","v":14.3},{"$f":"MAX(BF503:BF514)","v":103},{"$f":"MAX(BG503:BG514)","v":8},{"$f":"MAX(BH503:BH514)","v":1.6},{"$f":"MAX(BI503:BI514)","v":26.4},{"$f":"MAX(BJ503:BJ514)","v":55},{"$f":"MAX(BK503:BK514)","v":0},{"$f":"MAX(BL503:BL514)","v":0.1},{"$f":"MAX(BM503:BM514)","v":0},{"$f":"MAX(BN503:BN514)","v":26.86},{"$f":"MAX(BO503:BO514)","v":0},{"$f":"MAX(BP503:BP514)","v":36},{"$f":"MAX(BQ503:BQ514)","v":46},{"$f":"MAX(BR503:BR514)","v":64},{"$f":"MAX(BS503:BS514)","v":1300},{"$f":"MAX(BT503:BT514)","v":0},{"$f":"MAX(BU503:BU514)","v":1900},{"$f":"MAX(BV503:BV514)","v":0},{"$f":"MAX(BW503:BW514)","v":0.26},{"$f":"MAX(BX503:BX514)","v":0.32},{"$f":"MAX(BY503:BY514)","v":17},{"$f":"MAX(BZ503:BZ514)","v":1.7},null,null,null,null,null,null,null,null,null,null,null,null,null,null,null,null,null,null,null,null,null,null,null,null,null,null,null,null,null,2,14.3,103,8,1.6,26.4,55,0,0.1,0,26.86,0,36,46,64,1300,0,1900,0,0.26,0.32,17,1.7]
[null,null,"Min",{"$f":"MIN(BD503:BD514)","v":1.6},{"$f":"MIN(BE503:BE514)","v":13.5},{"$f":"MIN(BF503:BF514)","v":97},{"$f":"MIN(BG503:BG514)","v":8},{"$f":"MIN(BH503:BH514)","v":1.6},{"$f":"MIN(BI503:BI514)","v":25.9},{"$f":"MIN(BJ503:BJ514)","v":12},{"$f":"MIN(BK503:BK514)","v":0},{"$f":"MIN(BL503:BL514)","v":8.6999999999999994E-2},{"$f":"MIN(BM503:BM514)","v":0},{"$f":"MIN(BN503:BN514)","v":26.465000000000003},{"$f":"MIN(BO503:BO514)","v":0},{"$f":"MIN(BP503:BP514)","v":19},{"$f":"MIN(BQ503:BQ514)","v":32},{"$f":"MIN(BR503:BR514)","v":58},{"$f":"MIN(BS503:BS514)","v":1300},{"$f":"MIN(BT503:BT514)","v":0},{"$f":"MIN(BU503:BU514)","v":1600},{"$f":"MIN(BV503:BV514)","v":0},{"$f":"MIN(BW503:BW514)","v":0.24},{"$f":"MIN(BX503:BX514)","v":0.32},{"$f":"MIN(BY503:BY514)","v":12},{"$f":"MIN(BZ503:BZ514)","v":1.5},null,null,null,null,null,null,null,null,null,null,null,null,null,null,null,null,null,null,null,null,null,null,null,null,null,null,null,null,null,1.6,13.5,97,8,1.6,25.9,12,0,8.6999999999999994E-2,0,26.465000000000003,0,19,32,58,1300,0,1600,0,0.24,0.32,12,1.5]
[null,null,null,null,null,null,null,null,null,null,null,null,null,null,null,null,null,null,null,null,null,null,null,null,null,null,null,null,null,null,null,null,null,null,null,null,null,null,null,null,null,null,null,null,null,null,null,null,null,null,null,null,null,null,null,0,0,0,0,0,0,0,0,0,0,0,0,0,0,0,0,0,0,0,0,0,0,0]
[235,{"$f":"RS!D327","v":"Ri4 Östra Ringsjön, 15 m"},{"$f":"RS!E327","v":""},{"$f":"RS!F327","v":""},{"$f":"RS!G327","v":""},{"$f":"RS!H327","v":""},{"$f":"RS!I327","v":""},{"$f":"RS!J327","v":""},{"$f":"RS!K327","v":""},{"$f":"RS!L327","v":""},{"$f":"RS!M327","v":""},{"$f":"RS!N327","v":""},{"$f":"RS!O327","v":""},{"$f":"RS!P327","v":""},{"$f":"RS!Q327","v":""},{"$f":"RS!R327","v":""},{"$f":"RS!S327","v":""},{"$f":"RS!T327","v":""},{"$f":"RS!U327","v":""},{"$f":"RS!V327","v":""},{"$f":"RS!W327","v":""},{"$f":"RS!X327","v":""},{"$f":"RS!Y327","v":""},{"$f":"RS!Z327","v":""},{"$f":"RS!AA327","v":""},{"$f":"RS!AB327","v":""},{"$f":"RS!AC327","v":""},null,null,null,null,null,null,null,null,null,null,null,null,null,null,null,null,null,null,null,null,null,null,null,null,null,null,null,null,"","","","","","","","","","","","","","","","","","","","","","",""]
[235,{"$f":"RS!D328","v":"Ri4 Östra Ringsjön, 15 m"},{"$f":"RS!E328","v":""},{"$f":"RS!F328","v":""},{"$f":"RS!G328","v":""},{"$f":"RS!H328","v":""},{"$f":"RS!I328","v":""},{"$f":"RS!J328","v":""},{"$f":"RS!K328","v":""},{"$f":"RS!L328","v":""},{"$f":"RS!M328","v":""},{"$f":"RS!N328","v":""},{"$f":"RS!O328","v":""},{"$f":"RS!P328","v":""},{"$f":"RS!Q328","v":""},{"$f":"RS!R328","v":""},{"$f":"RS!S328","v":""},{"$f":"RS!T328","v":""},{"$f":"RS!U328","v":""},{"$f":"RS!V328","v":""},{"$f":"RS!W328","v":""},{"$f":"RS!X328","v":""},{"$f":"RS!Y328","v":""},{"$f":"RS!Z328","v":""},{"$f":"RS!AA328","v":""},{"$f":"RS!AB328","v":""},{"$f":"RS!AC328","v":""},null,null,null,null,null,null,null,null,null,null,null,null,null,null,null,null,null,null,null,null,null,null,null,null,null,null,null,null,{"$f":"IF(OR(LEFT(D520,1)=\"<\",LEFT(D520,1)=\">\"),VALUE(MID(D520,2,5)),D520)","v":""},{"$f":"IF(OR(LEFT(E520,1)=\"<\",LEFT(E520,1)=\">\"),VALUE(MID(E520,2,5)),E520)","v":""},{"$f":"IF(OR(LEFT(F520,1)=\"<\",LEFT(F520,1)=\">\"),VALUE(MID(F520,2,5)),F520)","v":""},{"$f":"IF(OR(LEFT(G520,1)=\"<\",LEFT(G520,1)=\">\"),VALUE(MID(G520,2,5)),G520)","v":""},{"$f":"IF(OR(LEFT(H520,1)=\"<\",LEFT(H520,1)=\">\"),VALUE(MID(H520,2,5)),H520)","v":""},{"$f":"IF(OR(LEFT(I520,1)=\"<\",LEFT(I520,1)=\">\"),VALUE(MID(I520,2,5)),I520)","v":""},{"$f":"IF(OR(LEFT(J520,1)=\"<\",LEFT(J520,1)=\">\"),VALUE(MID(J520,2,5)),J520)","v":""},{"$f":"IF(OR(LEFT(K520,1)=\"<\",LEFT(K520,1)=\">\"),VALUE(MID(K520,2,5)),K520)","v":""},{"$f":"IF(OR(LEFT(L520,1)=\"<\",LEFT(L520,1)=\">\"),VALUE(MID(L520,2,5)),L520)","v":""},{"$f":"IF(OR(LEFT(M520,1)=\"<\",LEFT(M520,1)=\">\"),VALUE(MID(M520,2,5)),M520)","v":""},{"$f":"IF(OR(LEFT(N520,1)=\"<\",LEFT(N520,1)=\">\"),VALUE(MID(N520,2,5)),N520)","v":""},{"$f":"IF(OR(LEFT(O520,1)=\"<\",LEFT(O520,1)=\">\"),VALUE(MID(O520,2,5)),O520)","v":""},{"$f":"IF(OR(LEFT(P520,1)=\"<\",LEFT(P520,1)=\">\"),VALUE(MID(P520,2,5)),P520)","v":""},{"$f":"IF(OR(LEFT(Q520,1)=\"<\",LEFT(Q520,1)=\">\"),VALUE(MID(Q520,2,5)),Q520)","v":""},{"$f":"IF(OR(LEFT(R520,1)=\"<\",LEFT(R520,1)=\">\"),VALUE(MID(R520,2,5)),R520)","v":""},{"$f":"IF(OR(LEFT(S520,1)=\"<\",LEFT(S520,1)=\">\"),VALUE(MID(S520,2,5)),S520)","v":""},{"$f":"IF(OR(LEFT(T520,1)=\"<\",LEFT(T520,1)=\">\"),VALUE(MID(T520,2,5)),T520)","v":""},{"$f":"IF(OR(LEFT(U520,1)=\"<\",LEFT(U520,1)=\">\"),VALUE(MID(U520,2,5)),U520)","v":""},{"$f":"IF(OR(LEFT(V520,1)=\"<\",LEFT(V520,1)=\">\"),VALUE(MID(V520,2,5)),V520)","v":""},{"$f":"IF(OR(LEFT(W520,1)=\"<\",LEFT(W520,1)=\">\"),VALUE(MID(W520,2,5)),W520)","v":""},{"$f":"IF(OR(LEFT(X520,1)=\"<\",LEFT(X520,1)=\">\"),VALUE(MID(X520,2,5)),X520)","v":""},{"$f":"IF(OR(LEFT(Y520,1)=\"<\",LEFT(Y520,1)=\">\"),VALUE(MID(Y520,2,5)),Y520)","v":""},{"$f":"IF(OR(LEFT(Z520,1)=\"<\",LEFT(Z520,1)=\">\"),VALUE(MID(Z520,2,5)),Z520)","v":""}]
[235,{"$f":"RS!D329","v":"Ri4 Östra Ringsjön, 15 m"},{"$f":"RS!E329","v":""},{"$f":"RS!F329","v":""},{"$f":"RS!G329","v":""},{"$f":"RS!H329","v":""},{"$f":"RS!I329","v":""},{"$f":"RS!J329","v":""},{"$f":"RS!K329","v":""},{"$f":"RS!L329","v":""},{"$f":"RS!M329","v":""},{"$f":"RS!N329","v":""},{"$f":"RS!O329","v":""},{"$f":"RS!P329","v":""},{"$f":"RS!Q329","v":""},{"$f":"RS!R329","v":""},{"$f":"RS!S329","v":""},{"$f":"RS!T329","v":""},{"$f":"RS!U329","v":""},{"$f":"RS!V329","v":""},{"$f":"RS!W329","v":""},{"$f":"RS!X329","v":""},{"$f":"RS!Y329","v":""},{"$f":"RS!Z329","v":""},{"$f":"RS!AA329","v":""},{"$f":"RS!AB329","v":""},{"$f":"RS!AC329","v":""},null,null,null,null,null,null,null,null,null,null,null,null,null,null,null,null,null,null,null,null,null,null,null,null,null,null,null,null,"","","","","","","","","","","","","","","","","","","","","","",""]
[235,{"$f":"RS!D330","v":"Ri4 Östra Ringsjön, 15 m"},{"$f":"RS!E330","v":""},{"$f":"RS!F330","v":""},{"$f":"RS!G330","v":""},{"$f":"RS!H330","v":""},{"$f":"RS!I330","v":""},{"$f":"RS!J330","v":""},{"$f":"RS!K330","v":""},{"$f":"RS!L330","v":""},{"$f":"RS!M330","v":""},{"$f":"RS!N330","v":""},{"$f":"RS!O330","v":""},{"$f":"RS!P330","v":""},{"$f":"RS!Q330","v":""},{"$f":"RS!R330","v":""},{"$f":"RS!S330","v":""},{"$f":"RS!T330","v":""},{"$f":"RS!U330","v":""},{"$f":"RS!V330","v":""},{"$f":"RS!W330","v":""},{"$f":"RS!X330","v":""},{"$f":"RS!Y330","v":""},{"$f":"RS!Z330","v":""},{"$f":"RS!AA330","v":""},{"$f":"RS!AB330","v":""},{"$f":"RS!AC330","v":""},null,null,null,null,null,null,null,null,null,null,null,null,null,null,null,null,null,null,null,null,null,null,null,null,null,null,null,null,"","","","","","","","","","","","","","","","","","","","","","",""]
[null,null,"Medel",{"$f":"AVERAGE(BD519:BD522)","v":{"$error":"#DIV/0!"}},{"$error":"#DIV/0!"},{"$error":"#DIV/0!"},{"$error":"#DIV/0!"},{"$error":"#DIV/0!"},{"$error":"#DIV/0!"},{"$error":"#DIV/0!"},{"$error":"#DIV/0!"},{"$error":"#DIV/0!"},{"$error":"#DIV/0!"},{"$error":"#DIV/0!"},{"$error":"#DIV/0!"},{"$f":"AVERAGE(BP519:BP522)","v":{"$error":"#DIV/0!"}},{"$error":"#DIV/0!"},{"$error":"#DIV/0!"},{"$error":"#DIV/0!"},{"$error":"#DIV/0!"},{"$error":"#DIV/0!"},{"$f":"AVERAGE(BV519:BV522)","v":{"$error":"#DIV/0!"}},{"$f":"AVERAGE(BW519:BW522)","v":{"$error":"#DIV/0!"}},{"$f":"AVERAGE(BX519:BX522)","v":{"$error":"#DIV/0!"}},{"$f":"AVERAGE(BY519:BY522)","v":{"$error":"#DIV/0!"}},{"$f":"AVERAGE(BZ519:BZ522)","v":{"$error":"#DIV/0!"}},null,null,null,null,null,null,null,null,null,null,null,null,null,null,null,null,null,null,null,null,null,null,null,null,null,null,null,null,null,{"$error":"#DIV/0!"},{"$error":"#DIV/0!"},{"$error":"#DIV/0!"},{"$error":"#DIV/0!"},{"$error":"#DIV/0!"},{"$error":"#DIV/0!"},{"$error":"#DIV/0!"},{"$error":"#DIV/0!"},{"$error":"#DIV/0!"},{"$error":"#DIV/0!"},{"$error":"#DIV/0!"},{"$error":"#DIV/0!"},{"$error":"#DIV/0!"},{"$error":"#DIV/0!"},{"$error":"#DIV/0!"},{"$error":"#DIV/0!"},{"$error":"#DIV/0!"},{"$error":"#DIV/0!"},{"$error":"#DIV/0!"},{"$error":"#DIV/0!"},{"$error":"#DIV/0!"},{"$error":"#DIV/0!"},{"$error":"#DIV/0!"}]
[null,null,"Max",{"$f":"MAX(BD519:BD522)","v":0},0,0,0,0,0,0,0,0,0,0,0,{"$f":"MAX(BP519:BP522)","v":0},0,0,0,0,0,{"$f":"MAX(BV519:BV522)","v":0},{"$f":"MAX(BW519:BW522)","v":0},{"$f":"MAX(BX519:BX522)","v":0},{"$f":"MAX(BY519:BY522)","v":0},{"$f":"MAX(BZ519:BZ522)","v":0},null,null,null,null,null,null,null,null,null,null,null,null,null,null,null,null,null,null,null,null,null,null,null,null,null,null,null,null,null,0,0,0,0,0,0,0,0,0,0,0,0,0,0,0,0,0,0,0,0,0,0,0]
[null,null,"Min",{"$f":"MIN(BD519:BD522)","v":0},0,0,0,0,0,0,0,0,0,0,0,{"$f":"MIN(BP519:BP522)","v":0},0,0,0,0,0,{"$f":"MIN(BV519:BV522)","v":0},{"$f":"MIN(BW519:BW522)","v":0},{"$f":"MIN(BX519:BX522)","v":0},{"$f":"MIN(BY519:BY522)","v":0},{"$f":"MIN(BZ519:BZ522)","v":0},null,null,null,null,null,null,null,null,null,null,null,null,null,null,null,null,null,null,null,null,null,null,null,null,null,null,null,null,null,0,0,0,0,0,0,0,0,0,0,0,0,0,0,0,0,0,0,0,0,0,0,0]
[null,null,null,null,null,null,null,null,null,null,null,null,null,null,null,null,null,null,null,null,null,null,null,null,null,null,null,null,null,null,null,null,null,null,null,null,null,null,null,null,null,null,null,null,null,null,null,null,null,null,null,null,null,null,null,0,0,0,0,0,0,0,0,0,0,0,0,0,0,0,0,0,0,0,0,0,0,0]
[240,{"$f":"RS!D331","v":"Ri2 Västra Ringsjön, ytan"},{"$f":"RS!E331","v":"2025-01-15"},{"$f":"RS!F331","v":0.8},{"$f":"RS!G331","v":14.9},{"$f":"RS!H331","v":104},{"$f":"RS!I331","v":8.3000000000000007},{"$f":"RS!J331","v":1.6},{"$f":"RS!K331","v":25.8},{"$f":"RS!L331","v":45},{"$f":"RS!M331","v":""},{"$f":"RS!N331","v":5.2999999999999999E-2},{"$f":"RS!O331","v":""},{"$f":"RS!P331","v":25.675000000000001},{"$f":"RS!Q331","v":""},{"$f":"RS!R331","v":"<2"},{"$f":"RS!S331","v":7.6},{"$f":"RS!T331","v":46},{"$f":"RS!U331","v":420},{"$f":"RS!V331","v":""},{"$f":"RS!W331","v":1100},{"$f":"RS!X331","v":""},{"$f":"RS!Y331","v":0.26},{"$f":"RS!Z331","v":0.31},{"$f":"RS!AA331","v":61},{"$f":"RS!AB331","v":1},{"$f":"RS!AC331","v":""},null,null,null,null,null,null,null,null,null,null,null,null,null,null,null,null,null,null,null,null,null,null,null,null,null,null,null,null,0.8,14.9,104,8.3000000000000007,1.6,25.8,45,"",5.2999999999999999E-2,"",25.675000000000001,"",2,7.6,46,420,"",1100,"",0.26,0.31,61,1]
[240,{"$f":"RS!D332","v":"Ri2 Västra Ringsjön, ytan"},{"$f":"RS!E332","v":"2025-02-10"},{"$f":"RS!F332","v":1.7},{"$f":"RS!G332","v":14.3},{"$f":"RS!H332","v":103},{"$f":"RS!I332","v":8.3000000000000007},{"$f":"RS!J332","v":1.6},{"$f":"RS!K332","v":25.5},{"$f":"RS!L332","v":35},{"$f":"RS!M332","v":""},{"$f":"RS!N332","v":7.3999999999999996E-2},{"$f":"RS!O332","v":""},{"$f":"RS!P332","v":23.305000000000003},{"$f":"RS!Q332","v":""},{"$f":"RS!R332","v":"<2"},{"$f":"RS!S332","v":7.8},{"$f":"RS!T332","v":29},{"$f":"RS!U332","v":480},{"$f":"RS!V332","v":""},{"$f":"RS!W332","v":1200},{"$f":"RS!X332","v":""},{"$f":"RS!Y332","v":0.24},{"$f":"RS!Z332","v":0.3},{"$f":"RS!AA332","v":20},{"$f":"RS!AB332","v":1.7},{"$f":"RS!AC332","v":"Siktdjup osäkert pga stark vind"},null,null,null,null,null,null,null,null,null,null,null,null,null,null,null,null,null,null,null,null,null,null,null,null,null,null,null,null,1.7,14.3,103,8.3000000000000007,1.6,25.5,35,"",7.3999999999999996E-2,"",23.305000000000003,"",2,7.8,29,480,"",1200,"",0.24,0.3,20,1.7]
[240,{"$f":"RS!D333","v":"Ri2 Västra Ringsjön, ytan"},{"$f":"RS!E333","v":""},{"$f":"RS!F333","v":""},{"$f":"RS!G333","v":""},{"$f":"RS!H333","v":""},{"$f":"RS!I333","v":""},{"$f":"RS!J333","v":""},{"$f":"RS!K333","v":""},{"$f":"RS!L333","v":""},{"$f":"RS!M333","v":""},{"$f":"RS!N333","v":""},{"$f":"RS!O333","v":""},{"$f":"RS!P333","v":""},{"$f":"RS!Q333","v":""},{"$f":"RS!R333","v":""},{"$f":"RS!S333","v":""},{"$f":"RS!T333","v":""},{"$f":"RS!U333","v":""},{"$f":"RS!V333","v":""},{"$f":"RS!W333","v":""},{"$f":"RS!X333","v":""},{"$f":"RS!Y333","v":""},{"$f":"RS!Z333","v":""},{"$f":"RS!AA333","v":""},{"$f":"RS!AB333","v":""},{"$f":"RS!AC333","v":""},null,null,null,null,null,null,null,null,null,null,null,null,null,null,null,null,null,null,null,null,null,null,null,null,null,null,null,null,"","","","","","","","","","","","","","","","","","","","","","",""]
[240,{"$f":"RS!D334","v":"Ri2 Västra Ringsjön, ytan"},{"$f":"RS!E334","v":""},{"$f":"RS!F334","v":""},{"$f":"RS!G334","v":""},{"$f":"RS!H334","v":""},{"$f":"RS!I334","v":""},{"$f":"RS!J334","v":""},{"$f":"RS!K334","v":""},{"$f":"RS!L334","v":""},{"$f":"RS!M334","v":""},{"$f":"RS!N334","v":""},{"$f":"RS!O334","v":""},{"$f":"RS!P334","v":""},{"$f":"RS!Q334","v":""},{"$f":"RS!R334","v":""},{"$f":"RS!S334","v":""},{"$f":"RS!T334","v":""},{"$f":"RS!U334","v":""},{"$f":"RS!V334","v":""},{"$f":"RS!W334","v":""},{"$f":"RS!X334","v":""},{"$f":"RS!Y334","v":""},{"$f":"RS!Z334","v":""},{"$f":"RS!AA334","v":""},{"$f":"RS!AB334","v":""},{"$f":"RS!AC334","v":""},null,null,null,null,null,null,null,null,null,null,null,null,null,null,null,null,null,null,null,null,null,null,null,null,null,null,null,null,"","","","","","","","","","","","","","","","","","","","","","",""]
[240,{"$f":"RS!D335","v":"Ri2 Västra Ringsjön, ytan"},{"$f":"RS!E335","v":""},{"$f":"RS!F335","v":""},{"$f":"RS!G335","v":""},{"$f":"RS!H335","v":""},{"$f":"RS!I335","v":""},{"$f":"RS!J335","v":""},{"$f":"RS!K335","v":""},{"$f":"RS!L335","v":""},{"$f":"RS!M335","v":""},{"$f":"RS!N335","v":""},{"$f":"RS!O335","v":""},{"$f":"RS!P335","v":""},{"$f":"RS!Q335","v":""},{"$f":"RS!R335","v":""},{"$f":"RS!S335","v":""},{"$f":"RS!T335","v":""},{"$f":"RS!U335","v":""},{"$f":"RS!V335","v":""},{"$f":"RS!W335","v":""},{"$f":"RS!X335","v":""},{"$f":"RS!Y335","v":""},{"$f":"RS!Z335","v":""},{"$f":"RS!AA335","v":""},{"$f":"RS!AB335","v":""},{"$f":"RS!AC335","v":""},null,null,null,null,null,null,null,null,null,null,null,null,null,null,null,null,null,null,null,null,null,null,null,null,null,null,null,null,"","","","","","","","","","","","","","","","","","","","","","",""]
[240,{"$f":"RS!D336","v":"Ri2 Västra Ringsjön, ytan"},{"$f":"RS!E336","v":""},{"$f":"RS!F336","v":""},{"$f":"RS!G336","v":""},{"$f":"RS!H336","v":""},{"$f":"RS!I336","v":""},{"$f":"RS!J336","v":""},{"$f":"RS!K336","v":""},{"$f":"RS!L336","v":""},{"$f":"RS!M336","v":""},{"$f":"RS!N336","v":""},{"$f":"RS!O336","v":""},{"$f":"RS!P336","v":""},{"$f":"RS!Q336","v":""},{"$f":"RS!R336","v":""},{"$f":"RS!S336","v":""},{"$f":"RS!T336","v":""},{"$f":"RS!U336","v":""},{"$f":"RS!V336","v":""},{"$f":"RS!W336","v":""},{"$f":"RS!X336","v":""},{"$f":"RS!Y336","v":""},{"$f":"RS!Z336","v":""},{"$f":"RS!AA336","v":""},{"$f":"RS!AB336","v":""},{"$f":"RS!AC336","v":""},null,null,null,null,null,null,null,null,null,null,null,null,null,null,null,null,null,null,null,null,null,null,null,null,null,null,null,null,"","","","","","","","","","","","","","","","","","","","","","",""]
[240,{"$f":"RS!D337","v":"Ri2 Västra Ringsjön, ytan"},{"$f":"RS!E337","v":""},{"$f":"RS!F337","v":""},{"$f":"RS!G337","v":""},{"$f":"RS!H337","v":""},{"$f":"RS!I337","v":""},{"$f":"RS!J337","v":""},{"$f":"RS!K337","v":""},{"$f":"RS!L337","v":""},{"$f":"RS!M337","v":""},{"$f":"RS!N337","v":""},{"$f":"RS!O337","v":""},{"$f":"RS!P337","v":""},{"$f":"RS!Q337","v":""},{"$f":"RS!R337","v":""},{"$f":"RS!S337","v":""},{"$f":"RS!T337","v":""},{"$f":"RS!U337","v":""},{"$f":"RS!V337","v":""},{"$f":"RS!W337","v":""},{"$f":"RS!X337","v":""},{"$f":"RS!Y337","v":""},{"$f":"RS!Z337","v":""},{"$f":"RS!AA337","v":""},{"$f":"RS!AB337","v":""},{"$f":"RS!AC337","v":""},null,null,null,null,null,null,null,null,null,null,null,null,null,null,null,null,null,null,null,null,null,null,null,null,null,null,null,null,"","","","","","","","","","","","","","","","","","","","","","",""]
[240,{"$f":"RS!D338","v":"Ri2 Västra Ringsjön, ytan"},{"$f":"RS!E338","v":""},{"$f":"RS!F338","v":""},{"$f":"RS!G338","v":""},{"$f":"RS!H338","v":""},{"$f":"RS!I338","v":""},{"$f":"RS!J338","v":""},{"$f":"RS!K338","v":""},{"$f":"RS!L338","v":""},{"$f":"RS!M338","v":""},{"$f":"RS!N338","v":""},{"$f":"RS!O338","v":""},{"$f":"RS!P338","v":""},{"$f":"RS!Q338","v":""},{"$f":"RS!R338","v":""},{"$f":"RS!S338","v":""},{"$f":"RS!T338","v":""},{"$f":"RS!U338","v":""},{"$f":"RS!V338","v":""},{"$f":"RS!W338","v":""},{"$f":"RS!X338","v":""},{"$f":"RS!Y338","v":""},{"$f":"RS!Z338","v":""},{"$f":"RS!AA338","v":""},{"$f":"RS!AB338","v":""},{"$f":"RS!AC338","v":""},null,null,null,null,null,null,null,null,null,null,null,null,null,null,null,null,null,null,null,null,null,null,null,null,null,null,null,null,"","","","","","","","","","","","","","","","","","","","","","",""]
[240,{"$f":"RS!D339","v":"Ri2 Västra Ringsjön, ytan"},{"$f":"RS!E339","v":""},{"$f":"RS!F339","v":""},{"$f":"RS!G339","v":""},{"$f":"RS!H339","v":""},{"$f":"RS!I339","v":""},{"$f":"RS!J339","v":""},{"$f":"RS!K339","v":""},{"$f":"RS!L339","v":""},{"$f":"RS!M339","v":""},{"$f":"RS!N339","v":""},{"$f":"RS!O339","v":""},{"$f":"RS!P339","v":""},{"$f":"RS!Q339","v":""},{"$f":"RS!R339","v":""},{"$f":"RS!S339","v":""},{"$f":"RS!T339","v":""},{"$f":"RS!U339","v":""},{"$f":"RS!V339","v":""},{"$f":"RS!W339","v":""},{"$f":"RS!X339","v":""},{"$f":"RS!Y339","v":""},{"$f":"RS!Z339","v":""},{"$f":"RS!AA339","v":""},{"$f":"RS!AB339","v":""},{"$f":"RS!AC339","v":""},null,null,null,null,null,null,null,null,null,null,null,null,null,null,null,null,null,null,null,null,null,null,null,null,null,null,null,null,"","","","","","","","","","","","","","","","","","","","","","",""]
[240,{"$f":"RS!D340","v":"Ri2 Västra Ringsjön, ytan"},{"$f":"RS!E340","v":""},{"$f":"RS!F340","v":""},{"$f":"RS!G340","v":""},{"$f":"RS!H340","v":""},{"$f":"RS!I340","v":""},{"$f":"RS!J340","v":""},{"$f":"RS!K340","v":""},{"$f":"RS!L340","v":""},{"$f":"RS!M340","v":""},{"$f":"RS!N340","v":""},{"$f":"RS!O340","v":""},{"$f":"RS!P340","v":""},{"$f":"RS!Q340","v":""},{"$f":"RS!R340","v":""},{"$f":"RS!S340","v":""},{"$f":"RS!T340","v":""},{"$f":"RS!U340","v":""},{"$f":"RS!V340","v":""},{"$f":"RS!W340","v":""},{"$f":"RS!X340","v":""},{"$f":"RS!Y340","v":""},{"$f":"RS!Z340","v":""},{"$f":"RS!AA340","v":""},{"$f":"RS!AB340","v":""},{"$f":"RS!AC340","v":""},null,null,null,null,null,null,null,null,null,null,null,null,null,null,null,null,null,null,null,null,null,null,null,null,null,null,null,null,"","","","","","","","","","","","","","","","","","","","","","",""]
[240,{"$f":"RS!D341","v":"Ri2 Västra Ringsjön, ytan"},{"$f":"RS!E341","v":""},{"$f":"RS!F341","v":""},{"$f":"RS!G341","v":""},{"$f":"RS!H341","v":""},{"$f":"RS!I341","v":""},{"$f":"RS!J341","v":""},{"$f":"RS!K341","v":""},{"$f":"RS!L341","v":""},{"$f":"RS!M341","v":""},{"$f":"RS!N341","v":""},{"$f":"RS!O341","v":""},{"$f":"RS!P341","v":""},{"$f":"RS!Q341","v":""},{"$f":"RS!R341","v":""},{"$f":"RS!S341","v":""},{"$f":"RS!T341","v":""},{"$f":"RS!U341","v":""},{"$f":"RS!V341","v":""},{"$f":"RS!W341","v":""},{"$f":"RS!X341","v":""},{"$f":"RS!Y341","v":""},{"$f":"RS!Z341","v":""},{"$f":"RS!AA341","v":""},{"$f":"RS!AB341","v":""},{"$f":"RS!AC341","v":""},null,null,null,null,null,null,null,null,null,null,null,null,null,null,null,null,null,null,null,null,null,null,null,null,null,null,null,null,"","","","","","","","","","","","","","","","","","","","","","",""]
[240,{"$f":"RS!D342","v":"Ri2 Västra Ringsjön, ytan"},{"$f":"RS!E342","v":""},{"$f":"RS!F342","v":""},{"$f":"RS!G342","v":""},{"$f":"RS!H342","v":""},{"$f":"RS!I342","v":""},{"$f":"RS!J342","v":""},{"$f":"RS!K342","v":""},{"$f":"RS!L342","v":""},{"$f":"RS!M342","v":""},{"$f":"RS!N342","v":""},{"$f":"RS!O342","v":""},{"$f":"RS!P342","v":""},{"$f":"RS!Q342","v":""},{"$f":"RS!R342","v":""},{"$f":"RS!S342","v":""},{"$f":"RS!T342","v":""},{"$f":"RS!U342","v":""},{"$f":"RS!V342","v":""},{"$f":"RS!W342","v":""},{"$f":"RS!X342","v":""},{"$f":"RS!Y342","v":""},{"$f":"RS!Z342","v":""},{"$f":"RS!AA342","v":""},{"$f":"RS!AB342","v":""},{"$f":"RS!AC342","v":""},null,null,null,null,null,null,null,null,null,null,null,null,null,null,null,null,null,null,null,null,null,null,null,null,null,null,null,null,"","","","","","","","","","","","","","","","","","","","","","",""]
[null,null,"Medel",{"$f":"AVERAGE(BD527:BD538)","v":1.25},{"$f":"AVERAGE(BE527:BE538)","v":14.600000000000001},{"$f":"AVERAGE(BF527:BF538)","v":103.5},{"$f":"AVERAGE(BG527:BG538)","v":8.3000000000000007},{"$f":"AVERAGE(BH527:BH538)","v":1.6},{"$f":"AVERAGE(BI527:BI538)","v":25.65},{"$f":"AVERAGE(BJ527:BJ538)","v":40},{"$f":"AVERAGE(BK527:BK538)","v":{"$error":"#DIV/0!"}},{"$f":"AVERAGE(BL527:BL538)","v":6.3500000000000001E-2},{"$f":"AVERAGE(BM527:BM538)","v":{"$error":"#DIV/0!"}},{"$f":"AVERAGE(BN527:BN538)","v":24.490000000000002},{"$f":"AVERAGE(BO527:BO538)","v":{"$error":"#DIV/0!"}},{"$f":"AVERAGE(BP527:BP538)","v":2},{"$f":"AVERAGE(BQ527:BQ538)","v":7.6999999999999993},{"$f":"AVERAGE(BR527:BR538)","v":37.5},{"$f":"AVERAGE(BS527:BS538)","v":450},{"$f":"AVERAGE(BT527:BT538)","v":{"$error":"#DIV/0!"}},{"$f":"AVERAGE(BU527:BU538)","v":1150},{"$f":"AVERAGE(BV527:BV538)","v":{"$error":"#DIV/0!"}},{"$f":"AVERAGE(BW527:BW538)","v":0.25},{"$f":"AVERAGE(BX527:BX538)","v":0.30499999999999999},{"$f":"AVERAGE(BY527:BY538)","v":40.5},{"$f":"AVERAGE(BZ527:BZ538)","v":1.35},null,null,null,null,null,null,null,null,null,null,null,null,null,null,null,null,null,null,null,null,null,null,null,null,null,null,null,null,null,1.25,14.600000000000001,103.5,8.3000000000000007,1.6,25.65,40,{"$error":"#DIV/0!"},6.3500000000000001E-2,{"$error":"#DIV/0!"},24.490000000000002,{"$error":"#DIV/0!"},2,7.6999999999999993,37.5,450,{"$error":"#DIV/0!"},1150,{"$error":"#DIV/0!"},0.25,0.30499999999999999,40.5,1.35]
[null,null,"Max",{"$f":"MAX(BD527:BD538)","v":1.7},{"$f":"MAX(BE527:BE538)","v":14.9},{"$f":"MAX(BF527:BF538)","v":104},{"$f":"MAX(BG527:BG538)","v":8.3000000000000007},{"$f":"MAX(BH527:BH538)","v":1.6},{"$f":"MAX(BI527:BI538)","v":25.8},{"$f":"MAX(BJ527:BJ538)","v":45},{"$f":"MAX(BK527:BK538)","v":0},{"$f":"MAX(BL527:BL538)","v":7.3999999999999996E-2},{"$f":"MAX(BM527:BM538)","v":0},{"$f":"MAX(BN527:BN538)","v":25.675000000000001},{"$f":"MAX(BO527:BO538)","v":0},{"$f":"MAX(BP527:BP538)","v":2},{"$f":"MAX(BQ527:BQ538)","v":7.8},{"$f":"MAX(BR527:BR538)","v":46},{"$f":"MAX(BS527:BS538)","v":480},{"$f":"MAX(BT527:BT538)","v":0},{"$f":"MAX(BU527:BU538)","v":1200},{"$f":"MAX(BV527:BV538)","v":0},{"$f":"MAX(BW527:BW538)","v":0.26},{"$f":"MAX(BX527:BX538)","v":0.31},{"$f":"MAX(BY527:BY538)","v":61},{"$f":"MAX(BZ527:BZ538)","v":1.7},null,null,null,null,null,null,null,null,null,null,null,null,null,null,null,null,null,null,null,null,null,null,null,null,null,null,null,null,null,1.7,14.9,104,8.3000000000000007,1.6,25.8,45,0,7.3999999999999996E-2,0,25.675000000000001,0,2,7.8,46,480,0,1200,0,0.26,0.31,61,1.7]
[null,null,"Min",{"$f":"MIN(BD527:BD538)","v":0.8},{"$f":"MIN(BE527:BE538)","v":14.3},{"$f":"MIN(BF527:BF538)","v":103},{"$f":"MIN(BG527:BG538)","v":8.3000000000000007},{"$f":"MIN(BH527:BH538)","v":1.6},{"$f":"MIN(BI527:BI538)","v":25.5},{"$f":"MIN(BJ527:BJ538)","v":35},{"$f":"MIN(BK527:BK538)","v":0},{"$f":"MIN(BL527:BL538)","v":5.2999999999999999E-2},{"$f":"MIN(BM527:BM538)","v":0},{"$f":"MIN(BN527:BN538)","v":23.305000000000003},{"$f":"MIN(BO527:BO538)","v":0},{"$f":"MIN(BP527:BP538)","v":2},{"$f":"MIN(BQ527:BQ538)","v":7.6},{"$f":"MIN(BR527:BR538)","v":29},{"$f":"MIN(BS527:BS538)","v":420},{"$f":"MIN(BT527:BT538)","v":0},{"$f":"MIN(BU527:BU538)","v":1100},{"$f":"MIN(BV527:BV538)","v":0},{"$f":"MIN(BW527:BW538)","v":0.24},{"$f":"MIN(BX527:BX538)","v":0.3},{"$f":"MIN(BY527:BY538)","v":20},{"$f":"MIN(BZ527:BZ538)","v":1},null,null,null,null,null,null,null,null,null,null,null,null,null,null,null,null,null,null,null,null,null,null,null,null,null,null,null,null,null,0.8,14.3,103,8.3000000000000007,1.6,25.5,35,0,5.2999999999999999E-2,0,23.305000000000003,0,2,7.6,29,420,0,1100,0,0.24,0.3,20,1]
[null,null,null,null,null,null,null,null,null,null,null,null,null,null,null,null,null,null,null,null,null,null,null,null,null,null,null,null,null,null,null,null,null,null,null,null,null,null,null,null,null,null,null,null,null,null,null,null,null,null,null,null,null,null,null,0,0,0,0,0,0,0,0,0,0,0,0,0,0,0,0,0,0,0,0,0,0,0]
[245,{"$f":"RS!D343","v":"Ri2 Västra Ringsjön, 4 m"},{"$f":"RS!E343","v":""},{"$f":"RS!F343","v":""},{"$f":"RS!G343","v":""},{"$f":"RS!H343","v":""},{"$f":"RS!I343","v":""},{"$f":"RS!J343","v":""},{"$f":"RS!K343","v":""},{"$f":"RS!L343","v":""},{"$f":"RS!M343","v":""},{"$f":"RS!N343","v":""},{"$f":"RS!O343","v":""},{"$f":"RS!P343","v":""},{"$f":"RS!Q343","v":""},{"$f":"RS!R343","v":""},{"$f":"RS!S343","v":""},{"$f":"RS!T343","v":""},{"$f":"RS!U343","v":""},{"$f":"RS!V343","v":""},{"$f":"RS!W343","v":""},{"$f":"RS!X343","v":""},{"$f":"RS!Y343","v":""},{"$f":"RS!Z343","v":""},{"$f":"RS!AA343","v":""},{"$f":"RS!AB343","v":""},{"$f":"RS!AC343","v":""},null,null,null,null,null,null,null,null,null,null,null,null,null,null,null,null,null,null,null,null,null,null,null,null,null,null,null,null,"","","","","","","","","","","","","","","","","","","","","","",""]
[245,{"$f":"RS!D344","v":"Ri2 Västra Ringsjön, 4 m"},{"$f":"RS!E344","v":""},{"$f":"RS!F344","v":""},{"$f":"RS!G344","v":""},{"$f":"RS!H344","v":""},{"$f":"RS!I344","v":""},{"$f":"RS!J344","v":""},{"$f":"RS!K344","v":""},{"$f":"RS!L344","v":""},{"$f":"RS!M344","v":""},{"$f":"RS!N344","v":""},{"$f":"RS!O344","v":""},{"$f":"RS!P344","v":""},{"$f":"RS!Q344","v":""},{"$f":"RS!R344","v":""},{"$f":"RS!S344","v":""},{"$f":"RS!T344","v":""},{"$f":"RS!U344","v":""},{"$f":"RS!V344","v":""},{"$f":"RS!W344","v":""},{"$f":"RS!X344","v":""},{"$f":"RS!Y344","v":""},{"$f":"RS!Z344","v":""},{"$f":"RS!AA344","v":""},{"$f":"RS!AB344","v":""},{"$f":"RS!AC344","v":""},null,null,null,null,null,null,null,null,null,null,null,null,null,null,null,null,null,null,null,null,null,null,null,null,null,null,null,null,"","","","","","","","","","","","","","","","","","","","","","",""]
[245,{"$f":"RS!D345","v":"Ri2 Västra Ringsjön, 4 m"},{"$f":"RS!E345","v":""},{"$f":"RS!F345","v":""},{"$f":"RS!G345","v":""},{"$f":"RS!H345","v":""},{"$f":"RS!I345","v":""},{"$f":"RS!J345","v":""},{"$f":"RS!K345","v":""},{"$f":"RS!L345","v":""},{"$f":"RS!M345","v":""},{"$f":"RS!N345","v":""},{"$f":"RS!O345","v":""},{"$f":"RS!P345","v":""},{"$f":"RS!Q345","v":""},{"$f":"RS!R345","v":""},{"$f":"RS!S345","v":""},{"$f":"RS!T345","v":""},{"$f":"RS!U345","v":""},{"$f":"RS!V345","v":""},{"$f":"RS!W345","v":""},{"$f":"RS!X345","v":""},{"$f":"RS!Y345","v":""},{"$f":"RS!Z345","v":""},{"$f":"RS!AA345","v":""},{"$f":"RS!AB345","v":""},{"$f":"RS!AC345","v":""},null,null,null,null,null,null,null,null,null,null,null,null,null,null,null,null,null,null,null,null,null,null,null,null,null,null,null,null,"","","","","","","","","","","","","","","","","","","","","","",""]
[245,{"$f":"RS!D346","v":"Ri2 Västra Ringsjön, 4 m"},{"$f":"RS!E346","v":""},{"$f":"RS!F346","v":""},{"$f":"RS!G346","v":""},{"$f":"RS!H346","v":""},{"$f":"RS!I346","v":""},{"$f":"RS!J346","v":""},{"$f":"RS!K346","v":""},{"$f":"RS!L346","v":""},{"$f":"RS!M346","v":""},{"$f":"RS!N346","v":""},{"$f":"RS!O346","v":""},{"$f":"RS!P346","v":""},{"$f":"RS!Q346","v":""},{"$f":"RS!R346","v":""},{"$f":"RS!S346","v":""},{"$f":"RS!T346","v":""},{"$f":"RS!U346","v":""},{"$f":"RS!V346","v":""},{"$f":"RS!W346","v":""},{"$f":"RS!X346","v":""},{"$f":"RS!Y346","v":""},{"$f":"RS!Z346","v":""},{"$f":"RS!AA346","v":""},{"$f":"RS!AB346","v":""},{"$f":"RS!AC346","v":""},null,null,null,null,null,null,null,null,null,null,null,null,null,null,null,null,null,null,null,null,null,null,null,null,null,null,null,null,"","","","","","","","","","","","","","","","","","","","","","",""]
[null,null,"Medel",{"$f":"AVERAGE(BD543:BD546)","v":{"$error":"#DIV/0!"}},{"$error":"#DIV/0!"},{"$error":"#DIV/0!"},{"$error":"#DIV/0!"},{"$error":"#DIV/0!"},{"$error":"#DIV/0!"},{"$error":"#DIV/0!"},{"$error":"#DIV/0!"},{"$error":"#DIV/0!"},{"$error":"#DIV/0!"},{"$error":"#DIV/0!"},{"$error":"#DIV/0!"},{"$f":"AVERAGE(BP543:BP546)","v":{"$error":"#DIV/0!"}},{"$error":"#DIV/0!"},{"$error":"#DIV/0!"},{"$error":"#DIV/0!"},{"$error":"#DIV/0!"},{"$error":"#DIV/0!"},{"$f":"AVERAGE(BV543:BV546)","v":{"$error":"#DIV/0!"}},{"$f":"AVERAGE(BW543:BW546)","v":{"$error":"#DIV/0!"}},{"$f":"AVERAGE(BX543:BX546)","v":{"$error":"#DIV/0!"}},{"$f":"AVERAGE(BY543:BY546)","v":{"$error":"#DIV/0!"}},{"$f":"AVERAGE(BZ543:BZ546)","v":{"$error":"#DIV/0!"}},null,null,null,null,null,null,null,null,null,null,null,null,null,null,null,null,null,null,null,null,null,null,null,null,null,null,null,null,null,{"$f":"IF(OR(LEFT(D547,1)=\"<\",LEFT(D547,1)=\">\"),VALUE(MID(D547,2,5)),D547)","v":{"$error":"#DIV/0!"}},{"$f":"IF(OR(LEFT(E547,1)=\"<\",LEFT(E547,1)=\">\"),VALUE(MID(E547,2,5)),E547)","v":{"$error":"#DIV/0!"}},{"$f":"IF(OR(LEFT(F547,1)=\"<\",LEFT(F547,1)=\">\"),VALUE(MID(F547,2,5)),F547)","v":{"$error":"#DIV/0!"}},{"$f":"IF(OR(LEFT(G547,1)=\"<\",LEFT(G547,1)=\">\"),VALUE(MID(G547,2,5)),G547)","v":{"$error":"#DIV/0!"}},{"$f":"IF(OR(LEFT(H547,1)=\"<\",LEFT(H547,1)=\">\"),VALUE(MID(H547,2,5)),H547)","v":{"$error":"#DIV/0!"}},{"$f":"IF(OR(LEFT(I547,1)=\"<\",LEFT(I547,1)=\">\"),VALUE(MID(I547,2,5)),I547)","v":{"$error":"#DIV/0!"}},{"$f":"IF(OR(LEFT(J547,1)=\"<\",LEFT(J547,1)=\">\"),VALUE(MID(J547,2,5)),J547)","v":{"$error":"#DIV/0!"}},{"$f":"IF(OR(LEFT(K547,1)=\"<\",LEFT(K547,1)=\">\"),VALUE(MID(K547,2,5)),K547)","v":{"$error":"#DIV/0!"}},{"$f":"IF(OR(LEFT(L547,1)=\"<\",LEFT(L547,1)=\">\"),VALUE(MID(L547,2,5)),L547)","v":{"$error":"#DIV/0!"}},{"$f":"IF(OR(LEFT(M547,1)=\"<\",LEFT(M547,1)=\">\"),VALUE(MID(M547,2,5)),M547)","v":{"$error":"#DIV/0!"}},{"$error":"#DIV/0!"},{"$error":"#DIV/0!"},{"$f":"IF(OR(LEFT(P547,1)=\"<\",LEFT(P547,1)=\">\"),VALUE(MID(P547,2,5)),P547)","v":{"$error":"#DIV/0!"}},{"$f":"IF(OR(LEFT(Q547,1)=\"<\",LEFT(Q547,1)=\">\"),VALUE(MID(Q547,2,5)),Q547)","v":{"$error":"#DIV/0!"}},{"$f":"IF(OR(LEFT(R547,1)=\"<\",LEFT(R547,1)=\">\"),VALUE(MID(R547,2,5)),R547)","v":{"$error":"#DIV/0!"}},{"$f":"IF(OR(LEFT(S547,1)=\"<\",LEFT(S547,1)=\">\"),VALUE(MID(S547,2,5)),S547)","v":{"$error":"#DIV/0!"}},{"$f":"IF(OR(LEFT(T547,1)=\"<\",LEFT(T547,1)=\">\"),VALUE(MID(T547,2,5)),T547)","v":{"$error":"#DIV/0!"}},{"$f":"IF(OR(LEFT(U547,1)=\"<\",LEFT(U547,1)=\">\"),VALUE(MID(U547,2,5)),U547)","v":{"$error":"#DIV/0!"}},{"$f":"IF(OR(LEFT(V547,1)=\"<\",LEFT(V547,1)=\">\"),VALUE(MID(V547,2,5)),V547)","v":{"$error":"#DIV/0!"}},{"$f":"IF(OR(LEFT(W547,1)=\"<\",LEFT(W547,1)=\">\"),VALUE(MID(W547,2,5)),W547)","v":{"$error":"#DIV/0!"}},{"$f":"IF(OR(LEFT(X547,1)=\"<\",LEFT(X547,1)=\">\"),VALUE(MID(X547,2,5)),X547)","v":{"$error":"#DIV/0!"}},{"$f":"IF(OR(LEFT(Y547,1)=\"<\",LEFT(Y547,1)=\">\"),VALUE(MID(Y547,2,5)),Y547)","v":{"$error":"#DIV/0!"}},{"$f":"IF(OR(LEFT(Z547,1)=\"<\",LEFT(Z547,1)=\">\"),VALUE(MID(Z547,2,5)),Z547)","v":{"$error":"#DIV/0!"}}]
[null,null,"Max",{"$f":"MAX(BD543:BD546)","v":0},0,0,0,0,0,0,0,0,0,0,0,{"$f":"MAX(BP543:BP546)","v":0},0,0,0,0,0,{"$f":"MAX(BV543:BV546)","v":0},{"$f":"MAX(BW543:BW546)","v":0},{"$f":"MAX(BX543:BX546)","v":0},{"$f":"MAX(BY543:BY546)","v":0},{"$f":"MAX(BZ543:BZ546)","v":0},null,null,null,null,null,null,null,null,null,null,null,null,null,null,null,null,null,null,null,null,null,null,null,null,null,null,null,null,null,0,0,0,0,0,0,0,0,0,0,0,0,0,0,0,0,0,0,0,0,0,0,0]
[null,null,"Min",{"$f":"MIN(BD543:BD546)","v":0},0,0,0,0,0,0,0,0,0,0,0,{"$f":"MIN(BP543:BP546)","v":0},0,0,0,0,0,{"$f":"MIN(BV543:BV546)","v":0},{"$f":"MIN(BW543:BW546)","v":0},{"$f":"MIN(BX543:BX546)","v":0},{"$f":"MIN(BY543:BY546)","v":0},{"$f":"MIN(BZ543:BZ546)","v":0},null,null,null,null,null,null,null,null,null,null,null,null,null,null,null,null,null,null,null,null,null,null,null,null,null,null,null,null,null,0,0,0,0,0,0,0,0,0,0,0,0,0,0,0,0,0,0,0,0,0,0,0]

{"sheet":"Vattenföring","index":6,"n_rows":466,"n_cols":9,"rows_kept":466,"cut":false,"hidden":false,"merged":[]}
[]
["Rönne å 2025"]
["Vattenföring "]
[]
[]
[]
[]
[]
[]
[]
[]
[]
[]
[]
[]
[]
[]
[]
[]
[]
[]
[]
[]
[]
[]
[]
[]
[]
[null,null,null,null,null,null,"Flödesstatistik, Rönneå vid utloppet till Skälderviken"]
[null,null,null,null,null,null,null,null,"m3/s"]
[null,null,null,null,null,null,"HQ10 (10-årsflöde)",null,149]
[null,null,null,null,null,null,"MHQ (medelhögvattenflöde)",null,103]
[null,null,null,null,null,null,"MQ (medelflöde)",null,23.5]
[null,null,null,null,null,null,"MLQ (medellågvattenflöde)",null,4.4000000000000004]
[]
[]
[null,"Vid mätstation Rönneå, vid utl t Skälderviken"]
[null,"SMHI, S-Hype, 472"]
[null,"https://vattenweb.smhi.se/modelarea/"]
[]
[]
[]
[]
[]
[]
[]
[]
[]
[]
[]
[]
[]
[]
[]
[]
[]
[]
[]
[]
[]
[]
[]
[]
[]
[]
[]
[]
[]
[]
[]
[]
[]
[]
[]
[]
[]
[]
[]
[]
[]
[]
[]
[]
[]
[]
[]
[]
[]
[]
[]
[]
[]
[]
[]
[]
[]
[]
[]
["Data från SMHI, SHYPE 472"]
["Datum","Rönne å mynning"]
["2025-01-01",62.3]
["2025-01-02",81.599999999999994]
["2025-01-03",86.3]
["2025-01-04",78.400000000000006]
["2025-01-05",65.3]
["2025-01-06",60.9]
["2025-01-07",74.2]
["2025-01-08",76.8]
["2025-01-09",74.8]
["2025-01-10",65.400000000000006]
["2025-01-11",55]
["2025-01-12",46]
["2025-01-13",38.4]
["2025-01-14",34.799999999999997]
["2025-01-15",36.200000000000003]
["2025-01-16",36.5]
["2025-01-17",35.299999999999997]
["2025-01-18",33.4]
["2025-01-19",31.7]
["2025-01-20",29.8]
["2025-01-21",28.2]
["2025-01-22",27.5]
["2025-01-23",32]
["2025-01-24",38]
["2025-01-25",41.8]
["2025-01-26",43.1]
["2025-01-27",42.2]
["2025-01-28",40.200000000000003]
["2025-01-29",36.799999999999997]
["2025-01-30",33.200000000000003]
["2025-01-31",30.7]
["2025-02-01",29.2]
["2025-02-02",27.5]
["2025-02-03",27]
["2025-02-04",26.5]
["2025-02-05",25.9]
["2025-02-06",25.2]
["2025-02-07",24.6]
["2025-02-08",24.6]
["2025-02-09",24.4]
["2025-02-10",23.8]
["2025-02-11",23.1]
["2025-02-12",22]
["2025-02-13",21.3]
["2025-02-14",20.6]
["2025-02-15",19.8]
["2025-02-16",19.3]
["2025-02-17",19.2]
["2025-02-18",18.7]
["2025-02-19",18.399999999999999]
["2025-02-20",18.2]
["2025-02-21",17.600000000000001]
["2025-02-22",18.5]
["2025-02-23",19.3]
["2025-02-24",19.899999999999999]
["2025-02-25",23.8]
["2025-02-26",25.2]
["2025-02-27",28.5]
["2025-02-28",26.5]
["2025-03-01",22.5]
["2025-03-02",19.2]
["2025-03-03",16.600000000000001]
["2025-03-04",15.4]
["2025-03-05",15.3]
["2025-03-06",15.3]
["2025-03-07",14.6]
["2025-03-08",14.1]
["2025-03-09",14.2]
["2025-03-10",14.2]
["2025-03-11",14.1]
["2025-03-12",14]
["2025-03-13",14.5]
["2025-03-14",15]
["2025-03-15",13.3]
["2025-03-16",13.4]
["2025-03-17"]
["2025-03-18"]
["2025-03-19"]
["2025-03-20"]
["2025-03-21"]
["2025-03-22"]
["2025-03-23"]
["2025-03-24"]
["2025-03-25"]
["2025-03-26"]
["2025-03-27"]
["2025-03-28"]
["2025-03-29"]
["2025-03-30"]
["2025-03-31"]
["2025-04-01"]
["2025-04-02"]
["2025-04-03"]
["2025-04-04"]
["2025-04-05"]
["2025-04-06"]
["2025-04-07"]
["2025-04-08"]
["2025-04-09"]
["2025-04-10"]
["2025-04-11"]
["2025-04-12"]
["2025-04-13"]
["2025-04-14"]
["2025-04-15"]
["2025-04-16"]
["2025-04-17"]
["2025-04-18"]
["2025-04-19"]
["2025-04-20"]
["2025-04-21"]
["2025-04-22"]
["2025-04-23"]
["2025-04-24"]
["2025-04-25"]
["2025-04-26"]
["2025-04-27"]
["2025-04-28"]
["2025-04-29"]
["2025-04-30"]
["2025-05-01"]
["2025-05-02"]
["2025-05-03"]
["2025-05-04"]
["2025-05-05"]
["2025-05-06"]
["2025-05-07"]
["2025-05-08"]
["2025-05-09"]
["2025-05-10"]
["2025-05-11"]
["2025-05-12"]
["2025-05-13"]
["2025-05-14"]
["2025-05-15"]
["2025-05-16"]
["2025-05-17"]
["2025-05-18"]
["2025-05-19"]
["2025-05-20"]
["2025-05-21"]
["2025-05-22"]
["2025-05-23"]
["2025-05-24"]
["2025-05-25"]
["2025-05-26"]
["2025-05-27"]
["2025-05-28"]
["2025-05-29"]
["2025-05-30"]
["2025-05-31"]
["2025-06-01"]
["2025-06-02"]
["2025-06-03"]
["2025-06-04"]
["2025-06-05"]
["2025-06-06"]
["2025-06-07"]
["2025-06-08"]
["2025-06-09"]
["2025-06-10"]
["2025-06-11"]
["2025-06-12"]
["2025-06-13"]
["2025-06-14"]
["2025-06-15"]
["2025-06-16"]
["2025-06-17"]
["2025-06-18"]
["2025-06-19"]
["2025-06-20"]
["2025-06-21"]
["2025-06-22"]
["2025-06-23"]
["2025-06-24"]
["2025-06-25"]
["2025-06-26"]
["2025-06-27"]
["2025-06-28"]
["2025-06-29"]
["2025-06-30"]
["2025-07-01"]
["2025-07-02"]
["2025-07-03"]
["2025-07-04"]
["2025-07-05"]
["2025-07-06"]
["2025-07-07"]
["2025-07-08"]
["2025-07-09"]
["2025-07-10"]
["2025-07-11"]
["2025-07-12"]
["2025-07-13"]
["2025-07-14"]
["2025-07-15"]
["2025-07-16"]
["2025-07-17"]
["2025-07-18"]
["2025-07-19"]
["2025-07-20"]
["2025-07-21"]
["2025-07-22"]
["2025-07-23"]
["2025-07-24"]
["2025-07-25"]
["2025-07-26"]
["2025-07-27"]
["2025-07-28"]
["2025-07-29"]
["2025-07-30"]
["2025-07-31"]
["2025-08-01"]
["2025-08-02"]
["2025-08-03"]
["2025-08-04"]
["2025-08-05"]
["2025-08-06"]
["2025-08-07"]
["2025-08-08"]
["2025-08-09"]
["2025-08-10"]
["2025-08-11"]
["2025-08-12"]
["2025-08-13"]
["2025-08-14"]
["2025-08-15"]
["2025-08-16"]
["2025-08-17"]
["2025-08-18"]
["2025-08-19"]
["2025-08-20"]
["2025-08-21"]
["2025-08-22"]
["2025-08-23"]
["2025-08-24"]
["2025-08-25"]
["2025-08-26"]
["2025-08-27"]
["2025-08-28"]
["2025-08-29"]
["2025-08-30"]
["2025-08-31"]
["2025-09-01"]
["2025-09-02"]
["2025-09-03"]
["2025-09-04"]
["2025-09-05"]
["2025-09-06"]
["2025-09-07"]
["2025-09-08"]
["2025-09-09"]
["2025-09-10"]
["2025-09-11"]
["2025-09-12"]
["2025-09-13"]
["2025-09-14"]
["2025-09-15"]
["2025-09-16"]
["2025-09-17"]
["2025-09-18"]
["2025-09-19"]
["2025-09-20"]
["2025-09-21"]
["2025-09-22"]
["2025-09-23"]
["2025-09-24"]
["2025-09-25"]
["2025-09-26"]
["2025-09-27"]
["2025-09-28"]
["2025-09-29"]
["2025-09-30"]
["2025-10-01"]
["2025-10-02"]
["2025-10-03"]
["2025-10-04"]
["2025-10-05"]
["2025-10-06"]
["2025-10-07"]
["2025-10-08"]
["2025-10-09"]
["2025-10-10"]
["2025-10-11"]
["2025-10-12"]
["2025-10-13"]
["2025-10-14"]
["2025-10-15"]
["2025-10-16"]
["2025-10-17"]
["2025-10-18"]
["2025-10-19"]
["2025-10-20"]
["2025-10-21"]
["2025-10-22"]
["2025-10-23"]
["2025-10-24"]
["2025-10-25"]
["2025-10-26"]
["2025-10-27"]
["2025-10-28"]
["2025-10-29"]
["2025-10-30"]
["2025-10-31"]
["2025-11-01"]
["2025-11-02"]
["2025-11-03"]
["2025-11-04"]
["2025-11-05"]
["2025-11-06"]
["2025-11-07"]
["2025-11-08"]
["2025-11-09"]
["2025-11-10"]
["2025-11-11"]
["2025-11-12"]
["2025-11-13"]
["2025-11-14"]
["2025-11-15"]
["2025-11-16"]
["2025-11-17"]
["2025-11-18"]
["2025-11-19"]
["2025-11-20"]
["2025-11-21"]
["2025-11-22"]
["2025-11-23"]
["2025-11-24"]
["2025-11-25"]
["2025-11-26"]
["2025-11-27"]
["2025-11-28"]
["2025-11-29"]
["2025-11-30"]
["2025-12-01"]
["2025-12-02"]
["2025-12-03"]
["2025-12-04"]
["2025-12-05"]
["2025-12-06"]
["2025-12-07"]
["2025-12-08"]
["2025-12-09"]
["2025-12-10"]
["2025-12-11"]
["2025-12-12"]
["2025-12-13"]
["2025-12-14"]
["2025-12-15"]
["2025-12-16"]
["2025-12-17"]
["2025-12-18"]
["2025-12-19"]
["2025-12-20"]
["2025-12-21"]
["2025-12-22"]
["2025-12-23"]
["2025-12-24"]
["2025-12-25"]
["2025-12-26"]
["2025-12-27"]
["2025-12-28"]
["2025-12-29"]
["2025-12-30"]
["2025-12-31"]
["2026-01-01"]

{"sheet":"Statistik","index":7,"n_rows":165,"n_cols":97,"rows_kept":165,"cut":false,"hidden":false,"merged":[]}
[null,"Rönne å, Vattenkontroll - Statistik"]
[]
[null,{"$f":"CONCATENATE(\"Statistik för åren: \",MIN(U:U),\" - \",MAX(U:U))","v":"Statistik för åren: 2013 - 2024"}]
[null,"(kan vara annorlunda för vissa parametrar)"]
[]
[null,null,null,null,null,null,null,null,null,null,null,null,null,null,null,null,null,null,null,null,null,null,null,null,null,null,"Stödlinjer i diagram-->",null,null,null,null,null,null,null,null,null,null,null,null,null,null,null,null,null,null,null,null,null,null,null,null,null,null,null,null,null,null,null,null,null,null,null,null,null,null,null,null,null,null,null,null,null,null,null,null,null,null,null,null,null,null,"Värden omvandlade för statisitk -->"]
[null,null,null,"  °C","mg/l","%",null,"  mmol/l","  FNU","mS/m"," mgPt/l","   mg/l"," µg/l"," µg/l","  µg/l","  µg/l","  µg/l"," µg/l","m",null,null,null,null,null,null,null,"Syre",null,null,null,"pH",null,null,null,"Turb",null,null,null,"Kond",null,null,"BOD-7",null,null,"PO4-P",null,null,null,"Tot-P",null,null,"NO2,3-N",null,null,"NH4-N",null,null,"Tot-N",null,null,null,"Susp",null,null,null,null,null,null,null,null,null,null,null,null,null,null,null,null,null,null,null,"  °C","mg/l","%",null,"  mmol/l","  FNU","mS/m"," mgPt/l","   mg/l"," µg/l"," µg/l","  µg/l","  µg/l","  µg/l"," µg/l","m"]
[null,{"$f":"INDEX(Provpunkter!B1:B50,Provpunkter!G1)","v":"57 Rönneå, vid utfl t Skälderviken"},"Datum"," Temp"," Syreh","Syrem","  pH","Alk","Gruml","Kond","   Färg"," Perm.t.","PO4-P","Tot-P"," NO3+2-N","NH4-N"," Tot-N","Klor a","Siktdjup","Anmärkn","År","Månad",null,null,null,null,"Medel","+/- 1 std","- 1 std","Klass 4","Medel","+/- 1 std","- 1 std","Klass 3","Medel","+/- 1 std","- 1 std","Klass 5","Medel","+/- 1 std","- 1 std","Medel","+/- 1 std","- 1 std","Medel","+/- 1 std","- 1 std","Klass 5","Medel","+/- 1 std","- 1 std","Medel","+/- 1 std","- 1 std","Medel","+/- 1 std","- 1 std","Medel","+/- 1 std","- 1 std","Klass 5","Medel","+/- 1 std","- 1 std",null,null,"Test datum ",null,null,null,null,null,null,null,null,null,null,null,null,null,null," Temp"," Syrehalt","Syrem","  pH","Alk","Gruml","Kond","   Färg"," Perm.t.","PO4-P","Tot-P"," NO3+2-N","NH4-N"," Tot-N","Klor a","Siktdjup"]
[{"$f":"IF(B9=B$8,1,\"\")","v":""},null,null,null,null,null,null,null,null,null,null,null,null,null,null,null,null,null,null,null,null,null,null,null,null,null,{"$f":"$E$157","v":10.59027777777778},{"$f":"AA9+E$158","v":12.52748503315132},{"$f":"AA9-E$158","v":8.6530705224042404},2.95,{"$f":"$G$157","v":7.521875000000005},{"$f":"AE9+G$158","v":7.6941123088486991},{"$f":"AE9-G$158","v":7.3496376911513108},6.5,{"$f":"$I$157","v":15.662937062937061},{"$f":"AI9+I$158","v":57.647903651966601},{"$f":"AI9-I$158","v":-26.322029526092479},7,{"$f":"$J$157","v":40.280419580419576},{"$f":"AM9+J$158","v":94.741318150514331},{"$f":"AM9-J$158","v":-14.180478989675187},{"$f":"$K$157","v":131.97916666666666},{"$f":"AP9+K$158","v":248.79319427232087},{"$f":"AP9-K$158","v":15.165139061012439},{"$f":"$M$157","v":{"$error":"#DIV/0!"}},{"$f":"AS9+$M$158","v":{"$error":"#DIV/0!"}},{"$f":"AS9-$M$158","v":{"$error":"#DIV/0!"}},100,{"$f":"$N$157","v":47.631944444444443},{"$f":"AW9+$N$158","v":98.930023925361255},{"$f":"AW9-$N$158","v":-3.6661350364723688},{"$f":"$O$157","v":1393.9583333333333},{"$f":"AZ9+$O$158","v":2254.7850775545112},{"$f":"AZ9-$O$158","v":533.1315891121551},{"$f":"$P$157","v":{"$error":"#DIV/0!"}},{"$f":"BC9+$P$158","v":{"$error":"#DIV/0!"}},{"$f":"BC9-$P$158","v":{"$error":"#DIV/0!"}},{"$f":"$Q$157","v":1967.3611111111111},{"$f":"BF9+$Q$158","v":2938.758335725001},{"$f":"BF9-$Q$158","v":995.96388649722132},5000,{"$f":"$T$157","v":0},{"$f":"BJ9+$T$158","v":0},{"$f":"BJ9-$T$158","v":0},null,null,{"$f":"C9","v":0},null,null,null,null,null,null,null,null,null,null,null,null,null,null,{"$f":"IF(D9=\"\",\"\",IF(OR(LEFT(D9,1)=\"<\",LEFT(D9,1)=\">\"),VALUE(MID(D9,2,3)),D9))","v":""},"","","","","","","","","","","","","","",""]
[null,"57 Rönneå, vid utfl t Skälderviken","2013-01-16",0.1,12.6,86.313847831430039,7.3,0.79405919999999997,6.9,21.2,125,59,null,34,1700,null,2300,null,null,"is",2013,1,null,null,null,null,{"$f":"$E$157","v":10.59027777777778},{"$f":"AA10+E$158","v":12.52748503315132},{"$f":"AA10-E$158","v":8.6530705224042404},2.95,{"$f":"$G$157","v":7.521875000000005},{"$f":"AE10+G$158","v":7.6941123088486991},{"$f":"AE10-G$158","v":7.3496376911513108},6.5,{"$f":"$I$157","v":15.662937062937061},{"$f":"AI10+I$158","v":57.647903651966601},{"$f":"AI10-I$158","v":-26.322029526092479},7,{"$f":"$J$157","v":40.280419580419576},{"$f":"AM10+J$158","v":94.741318150514331},{"$f":"AM10-J$158","v":-14.180478989675187},{"$f":"$K$157","v":131.97916666666666},{"$f":"AP10+K$158","v":248.79319427232087},{"$f":"AP10-K$158","v":15.165139061012439},{"$f":"$M$157","v":{"$error":"#DIV/0!"}},{"$f":"AS10+$M$158","v":{"$error":"#DIV/0!"}},{"$f":"AS10-$M$158","v":{"$error":"#DIV/0!"}},100,{"$f":"$N$157","v":47.631944444444443},{"$f":"AW10+$N$158","v":98.930023925361255},{"$f":"AW10-$N$158","v":-3.6661350364723688},{"$f":"$O$157","v":1393.9583333333333},{"$f":"AZ10+$O$158","v":2254.7850775545112},{"$f":"AZ10-$O$158","v":533.1315891121551},{"$f":"$P$157","v":{"$error":"#DIV/0!"}},{"$f":"BC10+$P$158","v":{"$error":"#DIV/0!"}},{"$f":"BC10-$P$158","v":{"$error":"#DIV/0!"}},{"$f":"$Q$157","v":1967.3611111111111},{"$f":"BF10+$Q$158","v":2938.758335725001},{"$f":"BF10-$Q$158","v":995.96388649722132},5000,{"$f":"$T$157","v":0},{"$f":"BJ10+$T$158","v":0},{"$f":"BJ10-$T$158","v":0},null,null,{"$f":"C10","v":41290},null,null,null,null,null,null,null,null,null,null,null,null,null,null,{"$f":"IF(D10=\"\",\"\",IF(OR(LEFT(D10,1)=\"<\",LEFT(D10,1)=\">\"),VALUE(MID(D10,2,3)),D10))","v":0.1},{"$f":"IF(E10=\"\",\"\",IF(OR(LEFT(E10,1)=\"<\",LEFT(E10,1)=\">\"),VALUE(MID(E10,2,3)),E10))","v":12.6},{"$f":"IF(F10=\"\",\"\",IF(OR(LEFT(F10,1)=\"<\",LEFT(F10,1)=\">\"),VALUE(MID(F10,2,3)),F10))","v":86.313847831430039},{"$f":"IF(G10=\"\",\"\",IF(OR(LEFT(G10,1)=\"<\",LEFT(G10,1)=\">\"),VALUE(MID(G10,2,3)),G10))","v":7.3},{"$f":"IF(H10=\"\",\"\",IF(OR(LEFT(H10,1)=\"<\",LEFT(H10,1)=\">\"),VALUE(MID(H10,2,3)),H10))","v":0.79405919999999997},{"$f":"IF(I10=\"\",\"\",IF(OR(LEFT(I10,1)=\"<\",LEFT(I10,1)=\">\"),VALUE(MID(I10,2,3)),I10))","v":6.9},{"$f":"IF(J10=\"\",\"\",IF(OR(LEFT(J10,1)=\"<\",LEFT(J10,1)=\">\"),VALUE(MID(J10,2,3)),J10))","v":21.2},{"$f":"IF(K10=\"\",\"\",IF(OR(LEFT(K10,1)=\"<\",LEFT(K10,1)=\">\"),VALUE(MID(K10,2,3)),K10))","v":125},{"$f":"IF(L10=\"\",\"\",IF(OR(LEFT(L10,1)=\"<\",LEFT(L10,1)=\">\"),VALUE(MID(L10,2,3)),L10))","v":59},{"$f":"IF(M10=\"\",\"\",IF(OR(LEFT(M10,1)=\"<\",LEFT(M10,1)=\">\"),VALUE(MID(M10,2,3)),M10))","v":""},{"$f":"IF(N10=\"\",\"\",IF(OR(LEFT(N10,1)=\"<\",LEFT(N10,1)=\">\"),VALUE(MID(N10,2,3)),N10))","v":34},{"$f":"IF(O10=\"\",\"\",IF(OR(LEFT(O10,1)=\"<\",LEFT(O10,1)=\">\"),VALUE(MID(O10,2,3)),O10))","v":1700},{"$f":"IF(P10=\"\",\"\",IF(OR(LEFT(P10,1)=\"<\",LEFT(P10,1)=\">\"),VALUE(MID(P10,2,3)),P10))","v":""},{"$f":"IF(Q10=\"\",\"\",IF(OR(LEFT(Q10,1)=\"<\",LEFT(Q10,1)=\">\"),VALUE(MID(Q10,2,3)),Q10))","v":2300},{"$f":"IF(R10=\"\",\"\",IF(OR(LEFT(R10,1)=\"<\",LEFT(R10,1)=\">\"),VALUE(MID(R10,2,3)),R10))","v":""},{"$f":"IF(S10=\"\",\"\",IF(OR(LEFT(S10,1)=\"<\",LEFT(S10,1)=\">\"),VALUE(MID(S10,2,3)),S10))","v":""}]
[null,"57 Rönneå, vid utfl t Skälderviken","2013-02-14",0.8,14.2,99.242230029813285,7.56,0.87435439999999998,6,18.600000000000001,85,40,null,23,1000,null,1500,null,null,null,2013,2,null,null,null,null,10.59027777777778,12.52748503315132,8.6530705224042404,2.95,7.521875000000005,7.6941123088486991,7.3496376911513108,6.5,15.662937062937061,57.647903651966601,-26.322029526092479,7,40.280419580419576,94.741318150514331,-14.180478989675187,131.97916666666666,248.79319427232087,15.165139061012439,{"$error":"#DIV/0!"},{"$error":"#DIV/0!"},{"$error":"#DIV/0!"},100,47.631944444444443,98.930023925361255,-3.6661350364723688,1393.9583333333333,2254.7850775545112,533.1315891121551,{"$error":"#DIV/0!"},{"$error":"#DIV/0!"},{"$error":"#DIV/0!"},1967.3611111111111,2938.758335725001,995.96388649722132,5000,0,0,0,null,null,41319,null,null,null,null,null,null,null,null,null,null,null,null,null,null,0.8,14.2,99.242230029813285,7.56,0.87435439999999998,6,18.600000000000001,85,40,"",23,1000,"",1500,"",""]
[null,"57 Rönneå, vid utfl t Skälderviken","2013-03-13",0.2,14.2,97.554473693240269,7.6,1.0340640000000001,5.3,21.9,70,33,null,18,1300,null,1600,null,null,null,2013,3,null,null,null,null,10.59027777777778,12.52748503315132,8.6530705224042404,2.95,7.521875000000005,7.6941123088486991,7.3496376911513108,6.5,15.662937062937061,57.647903651966601,-26.322029526092479,7,40.280419580419576,94.741318150514331,-14.180478989675187,131.97916666666666,248.79319427232087,15.165139061012439,{"$error":"#DIV/0!"},{"$error":"#DIV/0!"},{"$error":"#DIV/0!"},100,47.631944444444443,98.930023925361255,-3.6661350364723688,1393.9583333333333,2254.7850775545112,533.1315891121551,{"$error":"#DIV/0!"},{"$error":"#DIV/0!"},{"$error":"#DIV/0!"},1967.3611111111111,2938.758335725001,995.96388649722132,5000,0,0,0,null,null,41346,null,null,null,null,null,null,null,null,null,null,null,null,null,null,0.2,14.2,97.554473693240269,7.6,1.0340640000000001,5.3,21.9,70,33,"",18,1300,"",1600,"",""]
[null,"57 Rönneå, vid utfl t Skälderviken","2013-04-17",12.1,11.4,106.40436824643771,7.64,0.41282400000000002,5.9,18.7,100,47,null,25,1100,null,1500,null,null,null,2013,4,null,null,null,null,10.59027777777778,12.52748503315132,8.6530705224042404,2.95,7.521875000000005,7.6941123088486991,7.3496376911513108,6.5,15.662937062937061,57.647903651966601,-26.322029526092479,7,40.280419580419576,94.741318150514331,-14.180478989675187,131.97916666666666,248.79319427232087,15.165139061012439,{"$error":"#DIV/0!"},{"$error":"#DIV/0!"},{"$error":"#DIV/0!"},100,47.631944444444443,98.930023925361255,-3.6661350364723688,1393.9583333333333,2254.7850775545112,533.1315891121551,{"$error":"#DIV/0!"},{"$error":"#DIV/0!"},{"$error":"#DIV/0!"},1967.3611111111111,2938.758335725001,995.96388649722132,5000,0,0,0,null,null,41381,null,null,null,null,null,null,null,null,null,null,null,null,null,null,12.1,11.4,106.40436824643771,7.64,0.41282400000000002,5.9,18.7,100,47,"",25,1100,"",1500,"",""]
[null,"57 Rönneå, vid utfl t Skälderviken","2013-05-14",14.7,9.1999999999999993,90.931915456248021,7.68,1.1863679999999999,4.7,30.3,70,43,null,31,1400,null,2100,null,null,null,2013,5,null,null,null,null,10.59027777777778,12.52748503315132,8.6530705224042404,2.95,7.521875000000005,7.6941123088486991,7.3496376911513108,6.5,15.662937062937061,57.647903651966601,-26.322029526092479,7,40.280419580419576,94.741318150514331,-14.180478989675187,131.97916666666666,248.79319427232087,15.165139061012439,{"$error":"#DIV/0!"},{"$error":"#DIV/0!"},{"$error":"#DIV/0!"},100,47.631944444444443,98.930023925361255,-3.6661350364723688,1393.9583333333333,2254.7850775545112,533.1315891121551,{"$error":"#DIV/0!"},{"$error":"#DIV/0!"},{"$error":"#DIV/0!"},1967.3611111111111,2938.758335725001,995.96388649722132,5000,0,0,0,null,null,41408,null,null,null,null,null,null,null,null,null,null,null,null,null,null,14.7,9.1999999999999993,90.931915456248021,7.68,1.1863679999999999,4.7,30.3,70,43,"",31,1400,"",2100,"",""]
[null,"57 Rönneå, vid utfl t Skälderviken","2013-06-11",19.899999999999999,9.1999999999999993,100.90958520311104,7.75,1.4068079999999998,5.7,31.4,70,38,null,38,1400,null,1800,null,null,null,2013,6,null,null,null,null,10.59027777777778,12.52748503315132,8.6530705224042404,2.95,7.521875000000005,7.6941123088486991,7.3496376911513108,6.5,15.662937062937061,57.647903651966601,-26.322029526092479,7,40.280419580419576,94.741318150514331,-14.180478989675187,131.97916666666666,248.79319427232087,15.165139061012439,{"$error":"#DIV/0!"},{"$error":"#DIV/0!"},{"$error":"#DIV/0!"},100,47.631944444444443,98.930023925361255,-3.6661350364723688,1393.9583333333333,2254.7850775545112,533.1315891121551,{"$error":"#DIV/0!"},{"$error":"#DIV/0!"},{"$error":"#DIV/0!"},1967.3611111111111,2938.758335725001,995.96388649722132,5000,0,0,0,null,null,41436,null,null,null,null,null,null,null,null,null,null,null,null,null,null,19.899999999999999,9.1999999999999993,100.90958520311104,7.75,1.4068079999999998,5.7,31.4,70,38,"",38,1400,"",1800,"",""]
[null,"57 Rönneå, vid utfl t Skälderviken","2013-07-10",18.8,8.4,90.231407321874073,7.49,1.2665280000000001,6.4,74.5,85,43,null,31,1200,null,2000,null,null,null,2013,7,null,null,null,null,10.59027777777778,12.52748503315132,8.6530705224042404,2.95,7.521875000000005,7.6941123088486991,7.3496376911513108,6.5,15.662937062937061,57.647903651966601,-26.322029526092479,7,40.280419580419576,94.741318150514331,-14.180478989675187,131.97916666666666,248.79319427232087,15.165139061012439,{"$error":"#DIV/0!"},{"$error":"#DIV/0!"},{"$error":"#DIV/0!"},100,47.631944444444443,98.930023925361255,-3.6661350364723688,1393.9583333333333,2254.7850775545112,533.1315891121551,{"$error":"#DIV/0!"},{"$error":"#DIV/0!"},{"$error":"#DIV/0!"},1967.3611111111111,2938.758335725001,995.96388649722132,5000,0,0,0,null,null,41465,null,null,null,null,null,null,null,null,null,null,null,null,null,null,18.8,8.4,90.231407321874073,7.49,1.2665280000000001,6.4,74.5,85,43,"",31,1200,"",2000,"",""]
[null,"57 Rönneå, vid utfl t Skälderviken","2013-08-15",18.600000000000001,8.6,92.023761802097241,7.46,1.150296,23,28.2,125,55,null,70,1300,null,2200,null,null,null,2013,8,null,null,null,null,10.59027777777778,12.52748503315132,8.6530705224042404,2.95,7.521875000000005,7.6941123088486991,7.3496376911513108,6.5,15.662937062937061,57.647903651966601,-26.322029526092479,7,40.280419580419576,94.741318150514331,-14.180478989675187,131.97916666666666,248.79319427232087,15.165139061012439,{"$error":"#DIV/0!"},{"$error":"#DIV/0!"},{"$error":"#DIV/0!"},100,47.631944444444443,98.930023925361255,-3.6661350364723688,1393.9583333333333,2254.7850775545112,533.1315891121551,{"$error":"#DIV/0!"},{"$error":"#DIV/0!"},{"$error":"#DIV/0!"},1967.3611111111111,2938.758335725001,995.96388649722132,5000,0,0,0,null,null,41501,null,null,null,null,null,null,null,null,null,null,null,null,null,null,18.600000000000001,8.6,92.023761802097241,7.46,1.150296,23,28.2,125,55,"",70,1300,"",2200,"",""]
[null,"57 Rönneå, vid utfl t Skälderviken","2013-09-12",17.2,8.4,87.436983119462923,7.62,1.6833600000000002,8,43,45,30,null,46,1100,null,1800,null,null,null,2013,9,null,null,null,null,10.59027777777778,12.52748503315132,8.6530705224042404,2.95,7.521875000000005,7.6941123088486991,7.3496376911513108,6.5,15.662937062937061,57.647903651966601,-26.322029526092479,7,40.280419580419576,94.741318150514331,-14.180478989675187,131.97916666666666,248.79319427232087,15.165139061012439,{"$error":"#DIV/0!"},{"$error":"#DIV/0!"},{"$error":"#DIV/0!"},100,47.631944444444443,98.930023925361255,-3.6661350364723688,1393.9583333333333,2254.7850775545112,533.1315891121551,{"$error":"#DIV/0!"},{"$error":"#DIV/0!"},{"$error":"#DIV/0!"},1967.3611111111111,2938.758335725001,995.96388649722132,5000,0,0,0,null,null,41529,null,null,null,null,null,null,null,null,null,null,null,null,null,null,17.2,8.4,87.436983119462923,7.62,1.6833600000000002,8,43,45,30,"",46,1100,"",1800,"",""]
[null,"57 Rönneå, vid utfl t Skälderviken","2013-10-15",11.2,9.6999999999999993,88.687321127528534,7.48,1.3667279999999999,28,33.9,70,40,null,66,2600,null,3500,null,null,null,2013,10,null,null,null,null,10.59027777777778,12.52748503315132,8.6530705224042404,2.95,7.521875000000005,7.6941123088486991,7.3496376911513108,6.5,15.662937062937061,57.647903651966601,-26.322029526092479,7,40.280419580419576,94.741318150514331,-14.180478989675187,131.97916666666666,248.79319427232087,15.165139061012439,{"$error":"#DIV/0!"},{"$error":"#DIV/0!"},{"$error":"#DIV/0!"},100,47.631944444444443,98.930023925361255,-3.6661350364723688,1393.9583333333333,2254.7850775545112,533.1315891121551,{"$error":"#DIV/0!"},{"$error":"#DIV/0!"},{"$error":"#DIV/0!"},1967.3611111111111,2938.758335725001,995.96388649722132,5000,0,0,0,null,null,41562,null,null,null,null,null,null,null,null,null,null,null,null,null,null,11.2,9.6999999999999993,88.687321127528534,7.48,1.3667279999999999,28,33.9,70,40,"",66,2600,"",3500,"",""]
[null,"57 Rönneå, vid utfl t Skälderviken","2013-11-20",5.7,12.2,97.434966712075948,7.51,1.4909760000000001,8,17.600000000000001,100,51,null,38,1100,null,1500,null,null,null,2013,11,null,null,null,null,10.59027777777778,12.52748503315132,8.6530705224042404,2.95,7.521875000000005,7.6941123088486991,7.3496376911513108,6.5,15.662937062937061,57.647903651966601,-26.322029526092479,7,40.280419580419576,94.741318150514331,-14.180478989675187,131.97916666666666,248.79319427232087,15.165139061012439,{"$error":"#DIV/0!"},{"$error":"#DIV/0!"},{"$error":"#DIV/0!"},100,47.631944444444443,98.930023925361255,-3.6661350364723688,1393.9583333333333,2254.7850775545112,533.1315891121551,{"$error":"#DIV/0!"},{"$error":"#DIV/0!"},{"$error":"#DIV/0!"},1967.3611111111111,2938.758335725001,995.96388649722132,5000,0,0,0,null,null,41598,null,null,null,null,null,null,null,null,null,null,null,null,null,null,5.7,12.2,97.434966712075948,7.51,1.4909760000000001,8,17.600000000000001,100,51,"",38,1100,"",1500,"",""]
[null,"57 Rönneå, vid utfl t Skälderviken","2013-12-12",4.7,12.8,99.577927386752179,7.43,0.5811599999999999,9.9,17.7,70,40,null,32,1000,null,1600,null,null,null,2013,12,null,null,null,null,10.59027777777778,12.52748503315132,8.6530705224042404,2.95,7.521875000000005,7.6941123088486991,7.3496376911513108,6.5,15.662937062937061,57.647903651966601,-26.322029526092479,7,40.280419580419576,94.741318150514331,-14.180478989675187,131.97916666666666,248.79319427232087,15.165139061012439,{"$error":"#DIV/0!"},{"$error":"#DIV/0!"},{"$error":"#DIV/0!"},100,47.631944444444443,98.930023925361255,-3.6661350364723688,1393.9583333333333,2254.7850775545112,533.1315891121551,{"$error":"#DIV/0!"},{"$error":"#DIV/0!"},{"$error":"#DIV/0!"},1967.3611111111111,2938.758335725001,995.96388649722132,5000,0,0,0,null,null,41620,null,null,null,null,null,null,null,null,null,null,null,null,null,null,4.7,12.8,99.577927386752179,7.43,0.5811599999999999,9.9,17.7,70,40,"",32,1000,"",1600,"",""]
[null,"57 Rönneå, vid utfl t Skälderviken","2014-01-14",3,13.7,101.80950040285248,7.54,0.42885600000000001,11,13.3,100,47,null,31,910,null,1300,null,null,null,2014,1,null,null,null,null,10.59027777777778,12.52748503315132,8.6530705224042404,2.95,7.521875000000005,7.6941123088486991,7.3496376911513108,6.5,15.662937062937061,57.647903651966601,-26.322029526092479,7,40.280419580419576,94.741318150514331,-14.180478989675187,131.97916666666666,248.79319427232087,15.165139061012439,{"$error":"#DIV/0!"},{"$error":"#DIV/0!"},{"$error":"#DIV/0!"},100,47.631944444444443,98.930023925361255,-3.6661350364723688,1393.9583333333333,2254.7850775545112,533.1315891121551,{"$error":"#DIV/0!"},{"$error":"#DIV/0!"},{"$error":"#DIV/0!"},1967.3611111111111,2938.758335725001,995.96388649722132,5000,0,0,0,null,null,41653,null,null,null,null,null,null,null,null,null,null,null,null,null,null,3,13.7,101.80950040285248,7.54,0.42885600000000001,11,13.3,100,47,"",31,910,"",1300,"",""]
[null,"57 Rönneå, vid utfl t Skälderviken","2014-02-18",3.9,13.1,99.757368390160806,7.5,0.65123999999999993,18,16.7,100,43,null,28,980,null,1100,null,null,null,2014,2,null,null,null,null,10.59027777777778,12.52748503315132,8.6530705224042404,2.95,7.521875000000005,7.6941123088486991,7.3496376911513108,6.5,15.662937062937061,57.647903651966601,-26.322029526092479,7,40.280419580419576,94.741318150514331,-14.180478989675187,131.97916666666666,248.79319427232087,15.165139061012439,{"$error":"#DIV/0!"},{"$error":"#DIV/0!"},{"$error":"#DIV/0!"},100,47.631944444444443,98.930023925361255,-3.6661350364723688,1393.9583333333333,2254.7850775545112,533.1315891121551,{"$error":"#DIV/0!"},{"$error":"#DIV/0!"},{"$error":"#DIV/0!"},1967.3611111111111,2938.758335725001,995.96388649722132,5000,0,0,0,null,null,41688,null,null,null,null,null,null,null,null,null,null,null,null,null,null,3.9,13.1,99.757368390160806,7.5,0.65123999999999993,18,16.7,100,43,"",28,980,"",1100,"",""]
[null,"57 Rönneå, vid utfl t Skälderviken","2014-03-13",7,13.1,108.17292527160431,7.65,1.1296200000000001,4.8,23.7,70,34,null,25,1300,null,1900,null,null,null,2014,3,null,null,null,null,10.59027777777778,12.52748503315132,8.6530705224042404,2.95,7.521875000000005,7.6941123088486991,7.3496376911513108,6.5,15.662937062937061,57.647903651966601,-26.322029526092479,7,40.280419580419576,94.741318150514331,-14.180478989675187,131.97916666666666,248.79319427232087,15.165139061012439,{"$error":"#DIV/0!"},{"$error":"#DIV/0!"},{"$error":"#DIV/0!"},100,47.631944444444443,98.930023925361255,-3.6661350364723688,1393.9583333333333,2254.7850775545112,533.1315891121551,{"$error":"#DIV/0!"},{"$error":"#DIV/0!"},{"$error":"#DIV/0!"},1967.3611111111111,2938.758335725001,995.96388649722132,5000,0,0,0,null,null,41711,null,null,null,null,null,null,null,null,null,null,null,null,null,null,7,13.1,108.17292527160431,7.65,1.1296200000000001,4.8,23.7,70,34,"",25,1300,"",1900,"",""]
[null,"57 Rönneå, vid utfl t Skälderviken","2014-04-15",9.3000000000000007,11.4,99.648374647996192,7.2,0.59094000000000002,14,15.7,125,63,null,36,1500,null,2000,null,null,null,2014,4,null,null,null,null,10.59027777777778,12.52748503315132,8.6530705224042404,2.95,7.521875000000005,7.6941123088486991,7.3496376911513108,6.5,15.662937062937061,57.647903651966601,-26.322029526092479,7,40.280419580419576,94.741318150514331,-14.180478989675187,131.97916666666666,248.79319427232087,15.165139061012439,{"$error":"#DIV/0!"},{"$error":"#DIV/0!"},{"$error":"#DIV/0!"},100,47.631944444444443,98.930023925361255,-3.6661350364723688,1393.9583333333333,2254.7850775545112,533.1315891121551,{"$error":"#DIV/0!"},{"$error":"#DIV/0!"},{"$error":"#DIV/0!"},1967.3611111111111,2938.758335725001,995.96388649722132,5000,0,0,0,null,null,41744,null,null,null,null,null,null,null,null,null,null,null,null,null,null,9.3000000000000007,11.4,99.648374647996192,7.2,0.59094000000000002,14,15.7,125,63,"",36,1500,"",2000,"",""]
[null,"57 Rönneå, vid utfl t Skälderviken","2014-05-13",12.4,10.3,96.792019634018061,7.34,0.82812000000000008,94,22.4,200,83,null,140,7300,null,8500,null,null,"grumligt",2014,5,null,null,null,null,10.59027777777778,12.52748503315132,8.6530705224042404,2.95,7.521875000000005,7.6941123088486991,7.3496376911513108,6.5,15.662937062937061,57.647903651966601,-26.322029526092479,7,40.280419580419576,94.741318150514331,-14.180478989675187,131.97916666666666,248.79319427232087,15.165139061012439,{"$error":"#DIV/0!"},{"$error":"#DIV/0!"},{"$error":"#DIV/0!"},100,47.631944444444443,98.930023925361255,-3.6661350364723688,1393.9583333333333,2254.7850775545112,533.1315891121551,{"$error":"#DIV/0!"},{"$error":"#DIV/0!"},{"$error":"#DIV/0!"},1967.3611111111111,2938.758335725001,995.96388649722132,5000,0,0,0,null,null,41772,null,null,null,null,null,null,null,null,null,null,null,null,null,null,12.4,10.3,96.792019634018061,7.34,0.82812000000000008,94,22.4,200,83,"",140,7300,"",8500,"",""]
[null,"57 Rönneå, vid utfl t Skälderviken","2014-06-10",22,8.6999999999999993,99.13829456912714,7.67,1.2462000000000002,5.7,25,100,71,null,29,1100,null,1800,null,null,null,2014,6,null,null,null,null,10.59027777777778,12.52748503315132,8.6530705224042404,2.95,7.521875000000005,7.6941123088486991,7.3496376911513108,6.5,15.662937062937061,57.647903651966601,-26.322029526092479,7,40.280419580419576,94.741318150514331,-14.180478989675187,131.97916666666666,248.79319427232087,15.165139061012439,{"$error":"#DIV/0!"},{"$error":"#DIV/0!"},{"$error":"#DIV/0!"},100,47.631944444444443,98.930023925361255,-3.6661350364723688,1393.9583333333333,2254.7850775545112,533.1315891121551,{"$error":"#DIV/0!"},{"$error":"#DIV/0!"},{"$error":"#DIV/0!"},1967.3611111111111,2938.758335725001,995.96388649722132,5000,0,0,0,null,null,41800,null,null,null,null,null,null,null,null,null,null,null,null,null,null,22,8.6999999999999993,99.13829456912714,7.67,1.2462000000000002,5.7,25,100,71,"",29,1100,"",1800,"",""]
[null,"57 Rönneå, vid utfl t Skälderviken","2014-07-23",24.5,7.6,90.373961208895665,7.46,1.0452000000000001,4.3,27.1,100,51,null,38,1100,null,1700,null,null,null,2014,7,null,null,null,null,10.59027777777778,12.52748503315132,8.6530705224042404,2.95,7.521875000000005,7.6941123088486991,7.3496376911513108,6.5,15.662937062937061,57.647903651966601,-26.322029526092479,7,40.280419580419576,94.741318150514331,-14.180478989675187,131.97916666666666,248.79319427232087,15.165139061012439,{"$error":"#DIV/0!"},{"$error":"#DIV/0!"},{"$error":"#DIV/0!"},100,47.631944444444443,98.930023925361255,-3.6661350364723688,1393.9583333333333,2254.7850775545112,533.1315891121551,{"$error":"#DIV/0!"},{"$error":"#DIV/0!"},{"$error":"#DIV/0!"},1967.3611111111111,2938.758335725001,995.96388649722132,5000,0,0,0,null,null,41843,null,null,null,null,null,null,null,null,null,null,null,null,null,null,24.5,7.6,90.373961208895665,7.46,1.0452000000000001,4.3,27.1,100,51,"",38,1100,"",1700,"",""]
[null,"57 Rönneå, vid utfl t Skälderviken","2014-08-14",19.600000000000001,8.6,93.79867902754458,7.5,0.85224,6.6,21,125,63,null,39,860,null,1300,null,null,null,2014,8,null,null,null,null,10.59027777777778,12.52748503315132,8.6530705224042404,2.95,7.521875000000005,7.6941123088486991,7.3496376911513108,6.5,15.662937062937061,57.647903651966601,-26.322029526092479,7,40.280419580419576,94.741318150514331,-14.180478989675187,131.97916666666666,248.79319427232087,15.165139061012439,{"$error":"#DIV/0!"},{"$error":"#DIV/0!"},{"$error":"#DIV/0!"},100,47.631944444444443,98.930023925361255,-3.6661350364723688,1393.9583333333333,2254.7850775545112,533.1315891121551,{"$error":"#DIV/0!"},{"$error":"#DIV/0!"},{"$error":"#DIV/0!"},1967.3611111111111,2938.758335725001,995.96388649722132,5000,0,0,0,null,null,41865,null,null,null,null,null,null,null,null,null,null,null,null,null,null,19.600000000000001,8.6,93.79867902754458,7.5,0.85224,6.6,21,125,63,"",39,860,"",1300,"",""]
[null,"57 Rönneå, vid utfl t Skälderviken","2014-09-24",13.1,9.8000000000000007,93.546509953800111,7.56,1.1215800000000002,6.5,24.6,100,47,null,34,980,null,1500,null,null,null,2014,9,null,null,null,null,10.59027777777778,12.52748503315132,8.6530705224042404,2.95,7.521875000000005,7.6941123088486991,7.3496376911513108,6.5,15.662937062937061,57.647903651966601,-26.322029526092479,7,40.280419580419576,94.741318150514331,-14.180478989675187,131.97916666666666,248.79319427232087,15.165139061012439,{"$error":"#DIV/0!"},{"$error":"#DIV/0!"},{"$error":"#DIV/0!"},100,47.631944444444443,98.930023925361255,-3.6661350364723688,1393.9583333333333,2254.7850775545112,533.1315891121551,{"$error":"#DIV/0!"},{"$error":"#DIV/0!"},{"$error":"#DIV/0!"},1967.3611111111111,2938.758335725001,995.96388649722132,5000,0,0,0,null,null,41906,null,null,null,null,null,null,null,null,null,null,null,null,null,null,13.1,9.8000000000000007,93.546509953800111,7.56,1.1215800000000002,6.5,24.6,100,47,"",34,980,"",1500,"",""]
[null,"57 Rönneå, vid utfl t Skälderviken","2014-10-14",11.7,10.3,95.264260211816108,7.52,1.02912,5,21.4,200,83,null,97,1800,null,2800,null,null,null,2014,10,null,null,null,null,10.59027777777778,12.52748503315132,8.6530705224042404,2.95,7.521875000000005,7.6941123088486991,7.3496376911513108,6.5,15.662937062937061,57.647903651966601,-26.322029526092479,7,40.280419580419576,94.741318150514331,-14.180478989675187,131.97916666666666,248.79319427232087,15.165139061012439,{"$error":"#DIV/0!"},{"$error":"#DIV/0!"},{"$error":"#DIV/0!"},100,47.631944444444443,98.930023925361255,-3.6661350364723688,1393.9583333333333,2254.7850775545112,533.1315891121551,{"$error":"#DIV/0!"},{"$error":"#DIV/0!"},{"$error":"#DIV/0!"},1967.3611111111111,2938.758335725001,995.96388649722132,5000,0,0,0,null,null,41926,null,null,null,null,null,null,null,null,null,null,null,null,null,null,11.7,10.3,95.264260211816108,7.52,1.02912,5,21.4,200,83,"",97,1800,"",2800,"",""]
[null,"57 Rönneå, vid utfl t Skälderviken","2014-11-12",9.3000000000000007,10.4,90.907289152557937,7.52,0.82008000000000014,6.6,18.3,150,63,null,30,1100,null,1600,null,null,null,2014,11,null,null,null,null,10.59027777777778,12.52748503315132,8.6530705224042404,2.95,7.521875000000005,7.6941123088486991,7.3496376911513108,6.5,15.662937062937061,57.647903651966601,-26.322029526092479,7,40.280419580419576,94.741318150514331,-14.180478989675187,131.97916666666666,248.79319427232087,15.165139061012439,{"$error":"#DIV/0!"},{"$error":"#DIV/0!"},{"$error":"#DIV/0!"},100,47.631944444444443,98.930023925361255,-3.6661350364723688,1393.9583333333333,2254.7850775545112,533.1315891121551,{"$error":"#DIV/0!"},{"$error":"#DIV/0!"},{"$error":"#DIV/0!"},1967.3611111111111,2938.758335725001,995.96388649722132,5000,0,0,0,null,null,41955,null,null,null,null,null,null,null,null,null,null,null,null,null,null,9.3000000000000007,10.4,90.907289152557937,7.52,0.82008000000000014,6.6,18.3,150,63,"",30,1100,"",1600,"",""]
[null,"57 Rönneå, vid utfl t Skälderviken","2014-12-09",5,12.5,98.018214080550308,7.52,0.79596,35,16.8,300,99,null,55,1500,null,2500,null,null,null,2014,12,null,null,null,null,10.59027777777778,12.52748503315132,8.6530705224042404,2.95,7.521875000000005,7.6941123088486991,7.3496376911513108,6.5,15.662937062937061,57.647903651966601,-26.322029526092479,7,40.280419580419576,94.741318150514331,-14.180478989675187,131.97916666666666,248.79319427232087,15.165139061012439,{"$error":"#DIV/0!"},{"$error":"#DIV/0!"},{"$error":"#DIV/0!"},100,47.631944444444443,98.930023925361255,-3.6661350364723688,1393.9583333333333,2254.7850775545112,533.1315891121551,{"$error":"#DIV/0!"},{"$error":"#DIV/0!"},{"$error":"#DIV/0!"},1967.3611111111111,2938.758335725001,995.96388649722132,5000,0,0,0,null,null,41982,null,null,null,null,null,null,null,null,null,null,null,null,null,null,5,12.5,98.018214080550308,7.52,0.79596,35,16.8,300,99,"",55,1500,"",2500,"",""]
[null,"57 Rönneå, vid utfl t Skälderviken","2015-01-20",3.1,11.9,88.675125304908804,7.35,0.51456000000000002,15,14.6,100,51,null,39,1200,null,1800,null,null,null,2015,1,null,null,null,null,10.59027777777778,12.52748503315132,8.6530705224042404,2.95,7.521875000000005,7.6941123088486991,7.3496376911513108,6.5,15.662937062937061,57.647903651966601,-26.322029526092479,7,40.280419580419576,94.741318150514331,-14.180478989675187,131.97916666666666,248.79319427232087,15.165139061012439,{"$error":"#DIV/0!"},{"$error":"#DIV/0!"},{"$error":"#DIV/0!"},100,47.631944444444443,98.930023925361255,-3.6661350364723688,1393.9583333333333,2254.7850775545112,533.1315891121551,{"$error":"#DIV/0!"},{"$error":"#DIV/0!"},{"$error":"#DIV/0!"},1967.3611111111111,2938.758335725001,995.96388649722132,5000,0,0,0,null,null,42024,null,null,null,null,null,null,null,null,null,null,null,null,null,null,3.1,11.9,88.675125304908804,7.35,0.51456000000000002,15,14.6,100,51,"",39,1200,"",1800,"",""]
[null,"57 Rönneå, vid utfl t Skälderviken","2015-02-10",2.6,12.9,94.817262821359435,7.54,0.65656399999999993,6.8,16.3,85,40,null,22,1200,null,1800,null,null,null,2015,2,null,null,null,null,10.59027777777778,12.52748503315132,8.6530705224042404,2.95,7.521875000000005,7.6941123088486991,7.3496376911513108,6.5,15.662937062937061,57.647903651966601,-26.322029526092479,7,40.280419580419576,94.741318150514331,-14.180478989675187,131.97916666666666,248.79319427232087,15.165139061012439,{"$error":"#DIV/0!"},{"$error":"#DIV/0!"},{"$error":"#DIV/0!"},100,47.631944444444443,98.930023925361255,-3.6661350364723688,1393.9583333333333,2254.7850775545112,533.1315891121551,{"$error":"#DIV/0!"},{"$error":"#DIV/0!"},{"$error":"#DIV/0!"},1967.3611111111111,2938.758335725001,995.96388649722132,5000,0,0,0,null,null,42045,null,null,null,null,null,null,null,null,null,null,null,null,null,null,2.6,12.9,94.817262821359435,7.54,0.65656399999999993,6.8,16.3,85,40,"",22,1200,"",1800,"",""]
[null,"57 Rönneå, vid utfl t Skälderviken","2015-03-17",8.1999999999999993,11.8,100.40913762774633,7.75,0.75726399999999994,6.4,17.7,85,43,null,23,1100,null,1500,null,null,null,2015,3,null,null,null,null,10.59027777777778,12.52748503315132,8.6530705224042404,2.95,7.521875000000005,7.6941123088486991,7.3496376911513108,6.5,15.662937062937061,57.647903651966601,-26.322029526092479,7,40.280419580419576,94.741318150514331,-14.180478989675187,131.97916666666666,248.79319427232087,15.165139061012439,{"$error":"#DIV/0!"},{"$error":"#DIV/0!"},{"$error":"#DIV/0!"},100,47.631944444444443,98.930023925361255,-3.6661350364723688,1393.9583333333333,2254.7850775545112,533.1315891121551,{"$error":"#DIV/0!"},{"$error":"#DIV/0!"},{"$error":"#DIV/0!"},1967.3611111111111,2938.758335725001,995.96388649722132,5000,0,0,0,null,null,42080,null,null,null,null,null,null,null,null,null,null,null,null,null,null,8.1999999999999993,11.8,100.40913762774633,7.75,0.75726399999999994,6.4,17.7,85,43,"",23,1100,"",1500,"",""]
[null,"57 Rönneå, vid utfl t Skälderviken","2015-04-15",7.8,11.5,96.889515879600879,7.25,0.61426999999999998,141,19.399999999999999,175,43,null,320,7200,null,8700,null,null,null,2015,4,null,null,null,null,10.59027777777778,12.52748503315132,8.6530705224042404,2.95,7.521875000000005,7.6941123088486991,7.3496376911513108,6.5,15.662937062937061,57.647903651966601,-26.322029526092479,7,40.280419580419576,94.741318150514331,-14.180478989675187,131.97916666666666,248.79319427232087,15.165139061012439,{"$error":"#DIV/0!"},{"$error":"#DIV/0!"},{"$error":"#DIV/0!"},100,47.631944444444443,98.930023925361255,-3.6661350364723688,1393.9583333333333,2254.7850775545112,533.1315891121551,{"$error":"#DIV/0!"},{"$error":"#DIV/0!"},{"$error":"#DIV/0!"},1967.3611111111111,2938.758335725001,995.96388649722132,5000,0,0,0,null,null,42109,null,null,null,null,null,null,null,null,null,null,null,null,null,null,7.8,11.5,96.889515879600879,7.25,0.61426999999999998,141,19.399999999999999,175,43,"",320,7200,"",8700,"",""]
[null,"57 Rönneå, vid utfl t Skälderviken","2015-05-12",12.5,10.7,100.77763756869959,7.56,0.67267600000000005,4.9000000000000004,16.5,125,55,null,21,1000,null,1300,null,null,null,2015,5,null,null,null,null,10.59027777777778,12.52748503315132,8.6530705224042404,2.95,7.521875000000005,7.6941123088486991,7.3496376911513108,6.5,15.662937062937061,57.647903651966601,-26.322029526092479,7,40.280419580419576,94.741318150514331,-14.180478989675187,131.97916666666666,248.79319427232087,15.165139061012439,{"$error":"#DIV/0!"},{"$error":"#DIV/0!"},{"$error":"#DIV/0!"},100,47.631944444444443,98.930023925361255,-3.6661350364723688,1393.9583333333333,2254.7850775545112,533.1315891121551,{"$error":"#DIV/0!"},{"$error":"#DIV/0!"},{"$error":"#DIV/0!"},1967.3611111111111,2938.758335725001,995.96388649722132,5000,0,0,0,null,null,42136,null,null,null,null,null,null,null,null,null,null,null,null,null,null,12.5,10.7,100.77763756869959,7.56,0.67267600000000005,4.9000000000000004,16.5,125,55,"",21,1000,"",1300,"",""]
[null,"57 Rönneå, vid utfl t Skälderviken","2015-06-09",15,9.4,93.503670372957245,7.6,0.737124,4.5999999999999996,17.399999999999999,150,55,null,31,1100,null,1600,null,null,null,2015,6,null,null,null,null,10.59027777777778,12.52748503315132,8.6530705224042404,2.95,7.521875000000005,7.6941123088486991,7.3496376911513108,6.5,15.662937062937061,57.647903651966601,-26.322029526092479,7,40.280419580419576,94.741318150514331,-14.180478989675187,131.97916666666666,248.79319427232087,15.165139061012439,{"$error":"#DIV/0!"},{"$error":"#DIV/0!"},{"$error":"#DIV/0!"},100,47.631944444444443,98.930023925361255,-3.6661350364723688,1393.9583333333333,2254.7850775545112,533.1315891121551,{"$error":"#DIV/0!"},{"$error":"#DIV/0!"},{"$error":"#DIV/0!"},1967.3611111111111,2938.758335725001,995.96388649722132,5000,0,0,0,null,null,42164,null,null,null,null,null,null,null,null,null,null,null,null,null,null,15,9.4,93.503670372957245,7.6,0.737124,4.5999999999999996,17.399999999999999,150,55,"",31,1100,"",1600,"",""]
[null,"57 Rönneå, vid utfl t Skälderviken","2015-07-15",18.100000000000001,8.8000000000000007,93.250970376747105,7.56,0.82574000000000003,6.5,19,200,75,null,39,820,null,1700,null,null,null,2015,7,null,null,null,null,10.59027777777778,12.52748503315132,8.6530705224042404,2.95,7.521875000000005,7.6941123088486991,7.3496376911513108,6.5,15.662937062937061,57.647903651966601,-26.322029526092479,7,40.280419580419576,94.741318150514331,-14.180478989675187,131.97916666666666,248.79319427232087,15.165139061012439,{"$error":"#DIV/0!"},{"$error":"#DIV/0!"},{"$error":"#DIV/0!"},100,47.631944444444443,98.930023925361255,-3.6661350364723688,1393.9583333333333,2254.7850775545112,533.1315891121551,{"$error":"#DIV/0!"},{"$error":"#DIV/0!"},{"$error":"#DIV/0!"},1967.3611111111111,2938.758335725001,995.96388649722132,5000,0,0,0,null,null,42200,null,null,null,null,null,null,null,null,null,null,null,null,null,null,18.100000000000001,8.8000000000000007,93.250970376747105,7.56,0.82574000000000003,6.5,19,200,75,"",39,820,"",1700,"",""]
[null,"57 Rönneå, vid utfl t Skälderviken","2015-08-13",20.5,8.5,94.275172912528333,7.52,1.0432519999999998,6.4,23.1,150,63,null,39,1000,null,1700,null,null,null,2015,8,null,null,null,null,10.59027777777778,12.52748503315132,8.6530705224042404,2.95,7.521875000000005,7.6941123088486991,7.3496376911513108,6.5,15.662937062937061,57.647903651966601,-26.322029526092479,7,40.280419580419576,94.741318150514331,-14.180478989675187,131.97916666666666,248.79319427232087,15.165139061012439,{"$error":"#DIV/0!"},{"$error":"#DIV/0!"},{"$error":"#DIV/0!"},100,47.631944444444443,98.930023925361255,-3.6661350364723688,1393.9583333333333,2254.7850775545112,533.1315891121551,{"$error":"#DIV/0!"},{"$error":"#DIV/0!"},{"$error":"#DIV/0!"},1967.3611111111111,2938.758335725001,995.96388649722132,5000,0,0,0,null,null,42229,null,null,null,null,null,null,null,null,null,null,null,null,null,null,20.5,8.5,94.275172912528333,7.52,1.0432519999999998,6.4,23.1,150,63,"",39,1000,"",1700,"",""]
[null,"57 Rönneå, vid utfl t Skälderviken","2015-09-15",15.4,9.6,96.302385680542329,7.64,1.3695200000000001,8.3000000000000007,203,85,43,null,45,1000,null,1800,null,null,null,2015,9,null,null,null,null,10.59027777777778,12.52748503315132,8.6530705224042404,2.95,7.521875000000005,7.6941123088486991,7.3496376911513108,6.5,15.662937062937061,57.647903651966601,-26.322029526092479,7,40.280419580419576,94.741318150514331,-14.180478989675187,131.97916666666666,248.79319427232087,15.165139061012439,{"$error":"#DIV/0!"},{"$error":"#DIV/0!"},{"$error":"#DIV/0!"},100,47.631944444444443,98.930023925361255,-3.6661350364723688,1393.9583333333333,2254.7850775545112,533.1315891121551,{"$error":"#DIV/0!"},{"$error":"#DIV/0!"},{"$error":"#DIV/0!"},1967.3611111111111,2938.758335725001,995.96388649722132,5000,0,0,0,null,null,42262,null,null,null,null,null,null,null,null,null,null,null,null,null,null,15.4,9.6,96.302385680542329,7.64,1.3695200000000001,8.3000000000000007,203,85,43,"",45,1000,"",1800,"",""]
[null,"57 Rönneå, vid utfl t Skälderviken","2015-10-13",8.9,10.199999999999999,88.298184196343385,7.52,1.4259120000000001,4.5,133,70,32,null,34,1000,null,1600,null,null,null,2015,10,null,null,null,null,10.59027777777778,12.52748503315132,8.6530705224042404,2.95,7.521875000000005,7.6941123088486991,7.3496376911513108,6.5,15.662937062937061,57.647903651966601,-26.322029526092479,7,40.280419580419576,94.741318150514331,-14.180478989675187,131.97916666666666,248.79319427232087,15.165139061012439,{"$error":"#DIV/0!"},{"$error":"#DIV/0!"},{"$error":"#DIV/0!"},100,47.631944444444443,98.930023925361255,-3.6661350364723688,1393.9583333333333,2254.7850775545112,533.1315891121551,{"$error":"#DIV/0!"},{"$error":"#DIV/0!"},{"$error":"#DIV/0!"},1967.3611111111111,2938.758335725001,995.96388649722132,5000,0,0,0,null,null,42290,null,null,null,null,null,null,null,null,null,null,null,null,null,null,8.9,10.199999999999999,88.298184196343385,7.52,1.4259120000000001,4.5,133,70,32,"",34,1000,"",1600,"",""]
[null,"57 Rönneå, vid utfl t Skälderviken","2015-11-11",11,9.9,90.096525558460655,7.34,0.76934799999999992,38,20.2,250,95,null,90,2100,null,3200,null,null,null,2015,11,null,null,null,null,10.59027777777778,12.52748503315132,8.6530705224042404,2.95,7.521875000000005,7.6941123088486991,7.3496376911513108,6.5,15.662937062937061,57.647903651966601,-26.322029526092479,7,40.280419580419576,94.741318150514331,-14.180478989675187,131.97916666666666,248.79319427232087,15.165139061012439,{"$error":"#DIV/0!"},{"$error":"#DIV/0!"},{"$error":"#DIV/0!"},100,47.631944444444443,98.930023925361255,-3.6661350364723688,1393.9583333333333,2254.7850775545112,533.1315891121551,{"$error":"#DIV/0!"},{"$error":"#DIV/0!"},{"$error":"#DIV/0!"},1967.3611111111111,2938.758335725001,995.96388649722132,5000,0,0,0,null,null,42319,null,null,null,null,null,null,null,null,null,null,null,null,null,null,11,9.9,90.096525558460655,7.34,0.76934799999999992,38,20.2,250,95,"",90,2100,"",3200,"",""]
[null,"57 Rönneå, vid utfl t Skälderviken","2015-12-08",6.7,11.5,94.23972606010264,7.28,0.475304,8.5,14.4,125,63,null,32,1000,null,1600,null,null,null,2015,12,null,null,null,null,10.59027777777778,12.52748503315132,8.6530705224042404,2.95,7.521875000000005,7.6941123088486991,7.3496376911513108,6.5,15.662937062937061,57.647903651966601,-26.322029526092479,7,40.280419580419576,94.741318150514331,-14.180478989675187,131.97916666666666,248.79319427232087,15.165139061012439,{"$error":"#DIV/0!"},{"$error":"#DIV/0!"},{"$error":"#DIV/0!"},100,47.631944444444443,98.930023925361255,-3.6661350364723688,1393.9583333333333,2254.7850775545112,533.1315891121551,{"$error":"#DIV/0!"},{"$error":"#DIV/0!"},{"$error":"#DIV/0!"},1967.3611111111111,2938.758335725001,995.96388649722132,5000,0,0,0,null,null,42346,null,null,null,null,null,null,null,null,null,null,null,null,null,null,6.7,11.5,94.23972606010264,7.28,0.475304,8.5,14.4,125,63,"",32,1000,"",1600,"",""]
[null,"57 Rönneå, vid utfl t Skälderviken","2016-01-20",0.1,13.6,93.164153214876862,7.61,1.1577600000000001,3.8,24.7,85,51,null,31,1600,null,2100,null,null,null,2016,1,null,null,null,null,10.59027777777778,12.52748503315132,8.6530705224042404,2.95,7.521875000000005,7.6941123088486991,7.3496376911513108,6.5,15.662937062937061,57.647903651966601,-26.322029526092479,7,40.280419580419576,94.741318150514331,-14.180478989675187,131.97916666666666,248.79319427232087,15.165139061012439,{"$error":"#DIV/0!"},{"$error":"#DIV/0!"},{"$error":"#DIV/0!"},100,47.631944444444443,98.930023925361255,-3.6661350364723688,1393.9583333333333,2254.7850775545112,533.1315891121551,{"$error":"#DIV/0!"},{"$error":"#DIV/0!"},{"$error":"#DIV/0!"},1967.3611111111111,2938.758335725001,995.96388649722132,5000,0,0,0,null,null,42389,null,null,null,null,null,null,null,null,null,null,null,null,null,null,0.1,13.6,93.164153214876862,7.61,1.1577600000000001,3.8,24.7,85,51,"",31,1600,"",2100,"",""]
[null,"57 Rönneå, vid utfl t Skälderviken","2016-02-17",1.8,14.3,102.79936816388144,7.33,0.56391999999999998,4.9000000000000004,14.8,70,43,null,25,1000,null,1400,null,null,null,2016,2,null,null,null,null,10.59027777777778,12.52748503315132,8.6530705224042404,2.95,7.521875000000005,7.6941123088486991,7.3496376911513108,6.5,15.662937062937061,57.647903651966601,-26.322029526092479,7,40.280419580419576,94.741318150514331,-14.180478989675187,131.97916666666666,248.79319427232087,15.165139061012439,{"$error":"#DIV/0!"},{"$error":"#DIV/0!"},{"$error":"#DIV/0!"},100,47.631944444444443,98.930023925361255,-3.6661350364723688,1393.9583333333333,2254.7850775545112,533.1315891121551,{"$error":"#DIV/0!"},{"$error":"#DIV/0!"},{"$error":"#DIV/0!"},1967.3611111111111,2938.758335725001,995.96388649722132,5000,0,0,0,null,null,42417,null,null,null,null,null,null,null,null,null,null,null,null,null,null,1.8,14.3,102.79936816388144,7.33,0.56391999999999998,4.9000000000000004,14.8,70,43,"",25,1000,"",1400,"",""]
[null,"57 Rönneå, vid utfl t Skälderviken","2016-03-16",5.9,12.8,102.75877463553356,7.49,0.63642399999999999,4.9000000000000004,15.5,85,43,null,23,970,null,1300,null,null,null,2016,3,null,null,null,null,10.59027777777778,12.52748503315132,8.6530705224042404,2.95,7.521875000000005,7.6941123088486991,7.3496376911513108,6.5,15.662937062937061,57.647903651966601,-26.322029526092479,7,40.280419580419576,94.741318150514331,-14.180478989675187,131.97916666666666,248.79319427232087,15.165139061012439,{"$error":"#DIV/0!"},{"$error":"#DIV/0!"},{"$error":"#DIV/0!"},100,47.631944444444443,98.930023925361255,-3.6661350364723688,1393.9583333333333,2254.7850775545112,533.1315891121551,{"$error":"#DIV/0!"},{"$error":"#DIV/0!"},{"$error":"#DIV/0!"},1967.3611111111111,2938.758335725001,995.96388649722132,5000,0,0,0,null,null,42445,null,null,null,null,null,null,null,null,null,null,null,null,null,null,5.9,12.8,102.75877463553356,7.49,0.63642399999999999,4.9000000000000004,15.5,85,43,"",23,970,"",1300,"",""]
[null,"57 Rönneå, vid utfl t Skälderviken","2016-04-13",9.5,11.4,100.12986691137435,7.57,0.77136199999999999,5.2,17.600000000000001,100,43,null,28,990,null,1400,null,null,null,2016,4,null,null,null,null,10.59027777777778,12.52748503315132,8.6530705224042404,2.95,7.521875000000005,7.6941123088486991,7.3496376911513108,6.5,15.662937062937061,57.647903651966601,-26.322029526092479,7,40.280419580419576,94.741318150514331,-14.180478989675187,131.97916666666666,248.79319427232087,15.165139061012439,{"$error":"#DIV/0!"},{"$error":"#DIV/0!"},{"$error":"#DIV/0!"},100,47.631944444444443,98.930023925361255,-3.6661350364723688,1393.9583333333333,2254.7850775545112,533.1315891121551,{"$error":"#DIV/0!"},{"$error":"#DIV/0!"},{"$error":"#DIV/0!"},1967.3611111111111,2938.758335725001,995.96388649722132,5000,0,0,0,null,null,42473,null,null,null,null,null,null,null,null,null,null,null,null,null,null,9.5,11.4,100.12986691137435,7.57,0.77136199999999999,5.2,17.600000000000001,100,43,"",28,990,"",1400,"",""]
[null,"57 Rönneå, vid utfl t Skälderviken","2016-05-17",13.8,10,96.93718360471631,7.72,1.1113240000000002,4,24.4,70,36,null,29,1100,null,1700,null,null,null,2016,5,null,null,null,null,10.59027777777778,12.52748503315132,8.6530705224042404,2.95,7.521875000000005,7.6941123088486991,7.3496376911513108,6.5,15.662937062937061,57.647903651966601,-26.322029526092479,7,40.280419580419576,94.741318150514331,-14.180478989675187,131.97916666666666,248.79319427232087,15.165139061012439,{"$error":"#DIV/0!"},{"$error":"#DIV/0!"},{"$error":"#DIV/0!"},100,47.631944444444443,98.930023925361255,-3.6661350364723688,1393.9583333333333,2254.7850775545112,533.1315891121551,{"$error":"#DIV/0!"},{"$error":"#DIV/0!"},{"$error":"#DIV/0!"},1967.3611111111111,2938.758335725001,995.96388649722132,5000,0,0,0,null,null,42507,null,null,null,null,null,null,null,null,null,null,null,null,null,null,13.8,10,96.93718360471631,7.72,1.1113240000000002,4,24.4,70,36,"",29,1100,"",1700,"",""]
[null,"57 Rönneå, vid utfl t Skälderviken","2016-06-14",16.7,8.4,86.558409041933487,7.68,1.3480320000000001,6.3,107.3,65,22,null,34,1100,null,1700,null,null,null,2016,6,null,null,null,null,10.59027777777778,12.52748503315132,8.6530705224042404,2.95,7.521875000000005,7.6941123088486991,7.3496376911513108,6.5,15.662937062937061,57.647903651966601,-26.322029526092479,7,40.280419580419576,94.741318150514331,-14.180478989675187,131.97916666666666,248.79319427232087,15.165139061012439,{"$error":"#DIV/0!"},{"$error":"#DIV/0!"},{"$error":"#DIV/0!"},100,47.631944444444443,98.930023925361255,-3.6661350364723688,1393.9583333333333,2254.7850775545112,533.1315891121551,{"$error":"#DIV/0!"},{"$error":"#DIV/0!"},{"$error":"#DIV/0!"},1967.3611111111111,2938.758335725001,995.96388649722132,5000,0,0,0,null,null,42535,null,null,null,null,null,null,null,null,null,null,null,null,null,null,16.7,8.4,86.558409041933487,7.68,1.3480320000000001,6.3,107.3,65,22,"",34,1100,"",1700,"",""]
[null,"57 Rönneå, vid utfl t Skälderviken","2016-07-13",18.8,8.9,95.602324424366572,7.36,0.77030399999999999,13,18.7,175,43,null,54,1000,null,1700,null,null,null,2016,7,null,null,null,null,10.59027777777778,12.52748503315132,8.6530705224042404,2.95,7.521875000000005,7.6941123088486991,7.3496376911513108,6.5,15.662937062937061,57.647903651966601,-26.322029526092479,7,40.280419580419576,94.741318150514331,-14.180478989675187,131.97916666666666,248.79319427232087,15.165139061012439,{"$error":"#DIV/0!"},{"$error":"#DIV/0!"},{"$error":"#DIV/0!"},100,47.631944444444443,98.930023925361255,-3.6661350364723688,1393.9583333333333,2254.7850775545112,533.1315891121551,{"$error":"#DIV/0!"},{"$error":"#DIV/0!"},{"$error":"#DIV/0!"},1967.3611111111111,2938.758335725001,995.96388649722132,5000,0,0,0,null,null,42564,null,null,null,null,null,null,null,null,null,null,null,null,null,null,18.8,8.9,95.602324424366572,7.36,0.77030399999999999,13,18.7,175,43,"",54,1000,"",1700,"",""]
[null,"57 Rönneå, vid utfl t Skälderviken","2016-08-18",16.5,8.6999999999999993,89.285162577989894,7.5,1.1755160000000002,4.3,233,70,23,null,33,1000,null,1300,null,null,null,2016,8,null,null,null,null,10.59027777777778,12.52748503315132,8.6530705224042404,2.95,7.521875000000005,7.6941123088486991,7.3496376911513108,6.5,15.662937062937061,57.647903651966601,-26.322029526092479,7,40.280419580419576,94.741318150514331,-14.180478989675187,131.97916666666666,248.79319427232087,15.165139061012439,{"$error":"#DIV/0!"},{"$error":"#DIV/0!"},{"$error":"#DIV/0!"},100,47.631944444444443,98.930023925361255,-3.6661350364723688,1393.9583333333333,2254.7850775545112,533.1315891121551,{"$error":"#DIV/0!"},{"$error":"#DIV/0!"},{"$error":"#DIV/0!"},1967.3611111111111,2938.758335725001,995.96388649722132,5000,0,0,0,null,null,42600,null,null,null,null,null,null,null,null,null,null,null,null,null,null,16.5,8.6999999999999993,89.285162577989894,7.5,1.1755160000000002,4.3,233,70,23,"",33,1000,"",1300,"",""]
[null,"57 Rönneå, vid utfl t Skälderviken","2016-09-14",20,8.4,92.307068122134282,7.86,1.295876,4.0999999999999996,67.900000000000006,50,32,null,29,880,null,1300,null,null,null,2016,9,null,null,null,null,10.59027777777778,12.52748503315132,8.6530705224042404,2.95,7.521875000000005,7.6941123088486991,7.3496376911513108,6.5,15.662937062937061,57.647903651966601,-26.322029526092479,7,40.280419580419576,94.741318150514331,-14.180478989675187,131.97916666666666,248.79319427232087,15.165139061012439,{"$error":"#DIV/0!"},{"$error":"#DIV/0!"},{"$error":"#DIV/0!"},100,47.631944444444443,98.930023925361255,-3.6661350364723688,1393.9583333333333,2254.7850775545112,533.1315891121551,{"$error":"#DIV/0!"},{"$error":"#DIV/0!"},{"$error":"#DIV/0!"},1967.3611111111111,2938.758335725001,995.96388649722132,5000,0,0,0,null,null,42627,null,null,null,null,null,null,null,null,null,null,null,null,null,null,20,8.4,92.307068122134282,7.86,1.295876,4.0999999999999996,67.900000000000006,50,32,"",29,880,"",1300,"",""]
[null,"57 Rönneå, vid utfl t Skälderviken","2016-10-12",9.5,10.8,94.859873916038865,7.64,1.3961760000000001,3,39.9,40,27,null,26,980,null,1300,null,null,null,2016,10,null,null,null,null,10.59027777777778,12.52748503315132,8.6530705224042404,2.95,7.521875000000005,7.6941123088486991,7.3496376911513108,6.5,15.662937062937061,57.647903651966601,-26.322029526092479,7,40.280419580419576,94.741318150514331,-14.180478989675187,131.97916666666666,248.79319427232087,15.165139061012439,{"$error":"#DIV/0!"},{"$error":"#DIV/0!"},{"$error":"#DIV/0!"},100,47.631944444444443,98.930023925361255,-3.6661350364723688,1393.9583333333333,2254.7850775545112,533.1315891121551,{"$error":"#DIV/0!"},{"$error":"#DIV/0!"},{"$error":"#DIV/0!"},1967.3611111111111,2938.758335725001,995.96388649722132,5000,0,0,0,null,null,42655,null,null,null,null,null,null,null,null,null,null,null,null,null,null,9.5,10.8,94.859873916038865,7.64,1.3961760000000001,3,39.9,40,27,"",26,980,"",1300,"",""]
[null,"57 Rönneå, vid utfl t Skälderviken","2016-11-08",2.4,12.2,89.178381990093911,7.48,0.85455600000000009,7.6,22.6,125,47,null,34,2000,null,2500,null,null,null,2016,11,null,null,null,null,10.59027777777778,12.52748503315132,8.6530705224042404,2.95,7.521875000000005,7.6941123088486991,7.3496376911513108,6.5,15.662937062937061,57.647903651966601,-26.322029526092479,7,40.280419580419576,94.741318150514331,-14.180478989675187,131.97916666666666,248.79319427232087,15.165139061012439,{"$error":"#DIV/0!"},{"$error":"#DIV/0!"},{"$error":"#DIV/0!"},100,47.631944444444443,98.930023925361255,-3.6661350364723688,1393.9583333333333,2254.7850775545112,533.1315891121551,{"$error":"#DIV/0!"},{"$error":"#DIV/0!"},{"$error":"#DIV/0!"},1967.3611111111111,2938.758335725001,995.96388649722132,5000,0,0,0,null,null,42682,null,null,null,null,null,null,null,null,null,null,null,null,null,null,2.4,12.2,89.178381990093911,7.48,0.85455600000000009,7.6,22.6,125,47,"",34,2000,"",2500,"",""]
[null,"57 Rönneå, vid utfl t Skälderviken","2016-12-14",3.8,12.8,97.210663702494244,7.5,0.85054400000000019,10,21.3,100,40,null,28,1800,null,2200,null,null,null,2016,12,null,null,null,null,10.59027777777778,12.52748503315132,8.6530705224042404,2.95,7.521875000000005,7.6941123088486991,7.3496376911513108,6.5,15.662937062937061,57.647903651966601,-26.322029526092479,7,40.280419580419576,94.741318150514331,-14.180478989675187,131.97916666666666,248.79319427232087,15.165139061012439,{"$error":"#DIV/0!"},{"$error":"#DIV/0!"},{"$error":"#DIV/0!"},100,47.631944444444443,98.930023925361255,-3.6661350364723688,1393.9583333333333,2254.7850775545112,533.1315891121551,{"$error":"#DIV/0!"},{"$error":"#DIV/0!"},{"$error":"#DIV/0!"},1967.3611111111111,2938.758335725001,995.96388649722132,5000,0,0,0,null,null,42718,null,null,null,null,null,null,null,null,null,null,null,null,null,null,3.8,12.8,97.210663702494244,7.5,0.85054400000000019,10,21.3,100,40,"",28,1800,"",2200,"",""]
[null,"57 Rönneå, vid utfl t Skälderviken","2017-01-18",2.2000000000000002,12.4,90.139449274739718,7.61,0.87060400000000004,6.6,22.5,70,33,null,26,1400,null,1700,null,null,null,2017,1,null,null,null,null,10.59027777777778,12.52748503315132,8.6530705224042404,2.95,7.521875000000005,7.6941123088486991,7.3496376911513108,6.5,15.662937062937061,57.647903651966601,-26.322029526092479,7,40.280419580419576,94.741318150514331,-14.180478989675187,131.97916666666666,248.79319427232087,15.165139061012439,{"$error":"#DIV/0!"},{"$error":"#DIV/0!"},{"$error":"#DIV/0!"},100,47.631944444444443,98.930023925361255,-3.6661350364723688,1393.9583333333333,2254.7850775545112,533.1315891121551,{"$error":"#DIV/0!"},{"$error":"#DIV/0!"},{"$error":"#DIV/0!"},1967.3611111111111,2938.758335725001,995.96388649722132,5000,0,0,0,null,null,42753,null,null,null,null,null,null,null,null,null,null,null,null,null,null,2.2000000000000002,12.4,90.139449274739718,7.61,0.87060400000000004,6.6,22.5,70,33,"",26,1400,"",1700,"",""]
[null,"57 Rönneå, vid utfl t Skälderviken","2017-02-16",1.4,13.8,98.098080018635471,7.56,1.1073120000000001,4.9000000000000004,25.6,50,26,null,28,1500,null,1900,null,null,null,2017,2,null,null,null,null,10.59027777777778,12.52748503315132,8.6530705224042404,2.95,7.521875000000005,7.6941123088486991,7.3496376911513108,6.5,15.662937062937061,57.647903651966601,-26.322029526092479,7,40.280419580419576,94.741318150514331,-14.180478989675187,131.97916666666666,248.79319427232087,15.165139061012439,{"$error":"#DIV/0!"},{"$error":"#DIV/0!"},{"$error":"#DIV/0!"},100,47.631944444444443,98.930023925361255,-3.6661350364723688,1393.9583333333333,2254.7850775545112,533.1315891121551,{"$error":"#DIV/0!"},{"$error":"#DIV/0!"},{"$error":"#DIV/0!"},1967.3611111111111,2938.758335725001,995.96388649722132,5000,0,0,0,null,null,42782,null,null,null,null,null,null,null,null,null,null,null,null,null,null,1.4,13.8,98.098080018635471,7.56,1.1073120000000001,4.9000000000000004,25.6,50,26,"",28,1500,"",1900,"",""]
[null,"57 Rönneå, vid utfl t Skälderviken","2017-03-14",5.5,11.4,90.572654255921407,7.55,0.66599200000000014,4.0999999999999996,16.899999999999999,70,28,null,24,1100,null,1500,null,null,null,2017,3,null,null,null,null,10.59027777777778,12.52748503315132,8.6530705224042404,2.95,7.521875000000005,7.6941123088486991,7.3496376911513108,6.5,15.662937062937061,57.647903651966601,-26.322029526092479,7,40.280419580419576,94.741318150514331,-14.180478989675187,131.97916666666666,248.79319427232087,15.165139061012439,{"$error":"#DIV/0!"},{"$error":"#DIV/0!"},{"$error":"#DIV/0!"},100,47.631944444444443,98.930023925361255,-3.6661350364723688,1393.9583333333333,2254.7850775545112,533.1315891121551,{"$error":"#DIV/0!"},{"$error":"#DIV/0!"},{"$error":"#DIV/0!"},1967.3611111111111,2938.758335725001,995.96388649722132,5000,0,0,0,null,null,42808,null,null,null,null,null,null,null,null,null,null,null,null,null,null,5.5,11.4,90.572654255921407,7.55,0.66599200000000014,4.0999999999999996,16.899999999999999,70,28,"",24,1100,"",1500,"",""]
[null,"57 Rönneå, vid utfl t Skälderviken","2017-04-19",7.3,11.9,99.011428523099426,7.59,0.32697799999999999,6.2,162.1,100,36,null,30,1100,null,1400,null,null,null,2017,4,null,null,null,null,10.59027777777778,12.52748503315132,8.6530705224042404,2.95,7.521875000000005,7.6941123088486991,7.3496376911513108,6.5,15.662937062937061,57.647903651966601,-26.322029526092479,7,40.280419580419576,94.741318150514331,-14.180478989675187,131.97916666666666,248.79319427232087,15.165139061012439,{"$error":"#DIV/0!"},{"$error":"#DIV/0!"},{"$error":"#DIV/0!"},100,47.631944444444443,98.930023925361255,-3.6661350364723688,1393.9583333333333,2254.7850775545112,533.1315891121551,{"$error":"#DIV/0!"},{"$error":"#DIV/0!"},{"$error":"#DIV/0!"},1967.3611111111111,2938.758335725001,995.96388649722132,5000,0,0,0,null,null,42844,null,null,null,null,null,null,null,null,null,null,null,null,null,null,7.3,11.9,99.011428523099426,7.59,0.32697799999999999,6.2,162.1,100,36,"",30,1100,"",1400,"",""]
[null,"57 Rönneå, vid utfl t Skälderviken","2017-05-10",10.199999999999999,11.8,105.38941606669054,7.69,0.94683200000000001,3.9,22,70,26,null,27,1300,null,1400,null,null,null,2017,5,null,null,null,null,10.59027777777778,12.52748503315132,8.6530705224042404,2.95,7.521875000000005,7.6941123088486991,7.3496376911513108,6.5,15.662937062937061,57.647903651966601,-26.322029526092479,7,40.280419580419576,94.741318150514331,-14.180478989675187,131.97916666666666,248.79319427232087,15.165139061012439,{"$error":"#DIV/0!"},{"$error":"#DIV/0!"},{"$error":"#DIV/0!"},100,47.631944444444443,98.930023925361255,-3.6661350364723688,1393.9583333333333,2254.7850775545112,533.1315891121551,{"$error":"#DIV/0!"},{"$error":"#DIV/0!"},{"$error":"#DIV/0!"},1967.3611111111111,2938.758335725001,995.96388649722132,5000,0,0,0,null,null,42865,null,null,null,null,null,null,null,null,null,null,null,null,null,null,10.199999999999999,11.8,105.38941606669054,7.69,0.94683200000000001,3.9,22,70,26,"",27,1300,"",1400,"",""]
[null,"57 Rönneå, vid utfl t Skälderviken","2017-06-20",18.899999999999999,8.5,91.481342300371253,7.69,1.295876,5.8,27,100,38,null,34,910,null,1600,null,null,null,2017,6,null,null,null,null,10.59027777777778,12.52748503315132,8.6530705224042404,2.95,7.521875000000005,7.6941123088486991,7.3496376911513108,6.5,15.662937062937061,57.647903651966601,-26.322029526092479,7,40.280419580419576,94.741318150514331,-14.180478989675187,131.97916666666666,248.79319427232087,15.165139061012439,{"$error":"#DIV/0!"},{"$error":"#DIV/0!"},{"$error":"#DIV/0!"},100,47.631944444444443,98.930023925361255,-3.6661350364723688,1393.9583333333333,2254.7850775545112,533.1315891121551,{"$error":"#DIV/0!"},{"$error":"#DIV/0!"},{"$error":"#DIV/0!"},1967.3611111111111,2938.758335725001,995.96388649722132,5000,0,0,0,null,null,42906,null,null,null,null,null,null,null,null,null,null,null,null,null,null,18.899999999999999,8.5,91.481342300371253,7.69,1.295876,5.8,27,100,38,"",34,910,"",1600,"",""]
[null,"57 Rönneå, vid utfl t Skälderviken","2017-07-12",19.2,8.1999999999999993,88.760502124829046,7.55,0.52757799999999999,6.3,23.9,100,36,null,45,920,null,1500,null,null,null,2017,7,null,null,null,null,10.59027777777778,12.52748503315132,8.6530705224042404,2.95,7.521875000000005,7.6941123088486991,7.3496376911513108,6.5,15.662937062937061,57.647903651966601,-26.322029526092479,7,40.280419580419576,94.741318150514331,-14.180478989675187,131.97916666666666,248.79319427232087,15.165139061012439,{"$error":"#DIV/0!"},{"$error":"#DIV/0!"},{"$error":"#DIV/0!"},100,47.631944444444443,98.930023925361255,-3.6661350364723688,1393.9583333333333,2254.7850775545112,533.1315891121551,{"$error":"#DIV/0!"},{"$error":"#DIV/0!"},{"$error":"#DIV/0!"},1967.3611111111111,2938.758335725001,995.96388649722132,5000,0,0,0,null,null,42928,null,null,null,null,null,null,null,null,null,null,null,null,null,null,19.2,8.1999999999999993,88.760502124829046,7.55,0.52757799999999999,6.3,23.9,100,36,"",45,920,"",1500,"",""]
[null,"57 Rönneå, vid utfl t Skälderviken","2017-08-17",18.7,9.1999999999999993,98.634515524693541,7.59,0.95886800000000028,6.6,20.399999999999999,125,55,null,44,730,null,1300,null,null,null,2017,8,null,null,null,null,10.59027777777778,12.52748503315132,8.6530705224042404,2.95,7.521875000000005,7.6941123088486991,7.3496376911513108,6.5,15.662937062937061,57.647903651966601,-26.322029526092479,7,40.280419580419576,94.741318150514331,-14.180478989675187,131.97916666666666,248.79319427232087,15.165139061012439,{"$error":"#DIV/0!"},{"$error":"#DIV/0!"},{"$error":"#DIV/0!"},100,47.631944444444443,98.930023925361255,-3.6661350364723688,1393.9583333333333,2254.7850775545112,533.1315891121551,{"$error":"#DIV/0!"},{"$error":"#DIV/0!"},{"$error":"#DIV/0!"},1967.3611111111111,2938.758335725001,995.96388649722132,5000,0,0,0,null,null,42964,null,null,null,null,null,null,null,null,null,null,null,null,null,null,18.7,9.1999999999999993,98.634515524693541,7.59,0.95886800000000028,6.6,20.399999999999999,125,55,"",44,730,"",1300,"",""]
[null,"57 Rönneå, vid utfl t Skälderviken","2017-09-20",14,9.1999999999999993,89.57134390604341,7.09,0.54763800000000007,39,12.9,250,91,null,110,420,null,1700,null,null,null,2017,9,null,null,null,null,10.59027777777778,12.52748503315132,8.6530705224042404,2.95,7.521875000000005,7.6941123088486991,7.3496376911513108,6.5,15.662937062937061,57.647903651966601,-26.322029526092479,7,40.280419580419576,94.741318150514331,-14.180478989675187,131.97916666666666,248.79319427232087,15.165139061012439,{"$error":"#DIV/0!"},{"$error":"#DIV/0!"},{"$error":"#DIV/0!"},100,47.631944444444443,98.930023925361255,-3.6661350364723688,1393.9583333333333,2254.7850775545112,533.1315891121551,{"$error":"#DIV/0!"},{"$error":"#DIV/0!"},{"$error":"#DIV/0!"},1967.3611111111111,2938.758335725001,995.96388649722132,5000,0,0,0,null,null,42998,null,null,null,null,null,null,null,null,null,null,null,null,null,null,14,9.1999999999999993,89.57134390604341,7.09,0.54763800000000007,39,12.9,250,91,"",110,420,"",1700,"",""]
[null,"57 Rönneå, vid utfl t Skälderviken","2017-10-10",10.4,10.199999999999999,91.530983483759925,7.29,0.60982400000000003,9.4,14.7,225,83,null,49,850,null,1400,null,null,null,2017,10,null,null,null,null,10.59027777777778,12.52748503315132,8.6530705224042404,2.95,7.521875000000005,7.6941123088486991,7.3496376911513108,6.5,15.662937062937061,57.647903651966601,-26.322029526092479,7,40.280419580419576,94.741318150514331,-14.180478989675187,131.97916666666666,248.79319427232087,15.165139061012439,{"$error":"#DIV/0!"},{"$error":"#DIV/0!"},{"$error":"#DIV/0!"},100,47.631944444444443,98.930023925361255,-3.6661350364723688,1393.9583333333333,2254.7850775545112,533.1315891121551,{"$error":"#DIV/0!"},{"$error":"#DIV/0!"},{"$error":"#DIV/0!"},1967.3611111111111,2938.758335725001,995.96388649722132,5000,0,0,0,null,null,43018,null,null,null,null,null,null,null,null,null,null,null,null,null,null,10.4,10.199999999999999,91.530983483759925,7.29,0.60982400000000003,9.4,14.7,225,83,"",49,850,"",1400,"",""]
[null,"57 Rönneå, vid utfl t Skälderviken","2017-11-09",7.8,11,92.676928232661709,7.26,0.51754800000000012,13,13.5,200,75,null,58,660,null,1300,null,null,null,2017,11,null,null,null,null,10.59027777777778,12.52748503315132,8.6530705224042404,2.95,7.521875000000005,7.6941123088486991,7.3496376911513108,6.5,15.662937062937061,57.647903651966601,-26.322029526092479,7,40.280419580419576,94.741318150514331,-14.180478989675187,131.97916666666666,248.79319427232087,15.165139061012439,{"$error":"#DIV/0!"},{"$error":"#DIV/0!"},{"$error":"#DIV/0!"},100,47.631944444444443,98.930023925361255,-3.6661350364723688,1393.9583333333333,2254.7850775545112,533.1315891121551,{"$error":"#DIV/0!"},{"$error":"#DIV/0!"},{"$error":"#DIV/0!"},1967.3611111111111,2938.758335725001,995.96388649722132,5000,0,0,0,null,null,43048,null,null,null,null,null,null,null,null,null,null,null,null,null,null,7.8,11,92.676928232661709,7.26,0.51754800000000012,13,13.5,200,75,"",58,660,"",1300,"",""]
[null,"57 Rönneå, vid utfl t Skälderviken","2017-12-19",3,14.9,110.72712087609504,7.21,0.50150000000000006,29,13,200,47,null,57,770,null,1400,null,null,null,2017,12,null,null,null,null,10.59027777777778,12.52748503315132,8.6530705224042404,2.95,7.521875000000005,7.6941123088486991,7.3496376911513108,6.5,15.662937062937061,57.647903651966601,-26.322029526092479,7,40.280419580419576,94.741318150514331,-14.180478989675187,131.97916666666666,248.79319427232087,15.165139061012439,{"$error":"#DIV/0!"},{"$error":"#DIV/0!"},{"$error":"#DIV/0!"},100,47.631944444444443,98.930023925361255,-3.6661350364723688,1393.9583333333333,2254.7850775545112,533.1315891121551,{"$error":"#DIV/0!"},{"$error":"#DIV/0!"},{"$error":"#DIV/0!"},1967.3611111111111,2938.758335725001,995.96388649722132,5000,0,0,0,null,null,43088,null,null,null,null,null,null,null,null,null,null,null,null,null,null,3,14.9,110.72712087609504,7.21,0.50150000000000006,29,13,200,47,"",57,770,"",1400,"",""]
[null,"57 Rönneå, vid utfl t Skälderviken","2018-01-09",1.9,13.7,99,7.23,0.44,11,12.1,150,51,null,47,730,null,1200,null,null,null,2018,1,null,null,null,null,10.59027777777778,12.52748503315132,8.6530705224042404,2.95,7.521875000000005,7.6941123088486991,7.3496376911513108,6.5,15.662937062937061,57.647903651966601,-26.322029526092479,7,40.280419580419576,94.741318150514331,-14.180478989675187,131.97916666666666,248.79319427232087,15.165139061012439,{"$error":"#DIV/0!"},{"$error":"#DIV/0!"},{"$error":"#DIV/0!"},100,47.631944444444443,98.930023925361255,-3.6661350364723688,1393.9583333333333,2254.7850775545112,533.1315891121551,{"$error":"#DIV/0!"},{"$error":"#DIV/0!"},{"$error":"#DIV/0!"},1967.3611111111111,2938.758335725001,995.96388649722132,5000,0,0,0,null,null,43109,null,null,null,null,null,null,null,null,null,null,null,null,null,null,1.9,13.7,99,7.23,0.44,11,12.1,150,51,"",47,730,"",1200,"",""]
[null,"57 Rönneå, vid utfl t Skälderviken","2018-02-15",2.2000000000000002,12.5,91,7.4,0.68,7.7,15.4,125,38,null,38,840,null,1400,null,null,null,2018,2,null,null,null,null,10.59027777777778,12.52748503315132,8.6530705224042404,2.95,7.521875000000005,7.6941123088486991,7.3496376911513108,6.5,15.662937062937061,57.647903651966601,-26.322029526092479,7,40.280419580419576,94.741318150514331,-14.180478989675187,131.97916666666666,248.79319427232087,15.165139061012439,{"$error":"#DIV/0!"},{"$error":"#DIV/0!"},{"$error":"#DIV/0!"},100,47.631944444444443,98.930023925361255,-3.6661350364723688,1393.9583333333333,2254.7850775545112,533.1315891121551,{"$error":"#DIV/0!"},{"$error":"#DIV/0!"},{"$error":"#DIV/0!"},1967.3611111111111,2938.758335725001,995.96388649722132,5000,0,0,0,null,null,43146,null,null,null,null,null,null,null,null,null,null,null,null,null,null,2.2000000000000002,12.5,91,7.4,0.68,7.7,15.4,125,38,"",38,840,"",1400,"",""]
[null,"57 Rönneå, vid utfl t Skälderviken","2018-03-20",3.3,12.6,94,7.51,0.87,7.1,19.600000000000001,125,34,null,40,1200,null,1900,null,null,"prov taget längre nedstr. pga bygge",2018,3,null,null,null,null,10.59027777777778,12.52748503315132,8.6530705224042404,2.95,7.521875000000005,7.6941123088486991,7.3496376911513108,6.5,15.662937062937061,57.647903651966601,-26.322029526092479,7,40.280419580419576,94.741318150514331,-14.180478989675187,131.97916666666666,248.79319427232087,15.165139061012439,{"$error":"#DIV/0!"},{"$error":"#DIV/0!"},{"$error":"#DIV/0!"},100,47.631944444444443,98.930023925361255,-3.6661350364723688,1393.9583333333333,2254.7850775545112,533.1315891121551,{"$error":"#DIV/0!"},{"$error":"#DIV/0!"},{"$error":"#DIV/0!"},1967.3611111111111,2938.758335725001,995.96388649722132,5000,0,0,0,null,null,43179,null,null,null,null,null,null,null,null,null,null,null,null,null,null,3.3,12.6,94,7.51,0.87,7.1,19.600000000000001,125,34,"",40,1200,"",1900,"",""]
[null,"57 Rönneå, vid utfl t Skälderviken","2018-04-18",11.5,10.6,98,7.51,0.84,5.8,19.5,100,40,null,32,1000,null,1500,null,null,"broarbete - prov längre nedstr ",2018,4,null,null,null,null,10.59027777777778,12.52748503315132,8.6530705224042404,2.95,7.521875000000005,7.6941123088486991,7.3496376911513108,6.5,15.662937062937061,57.647903651966601,-26.322029526092479,7,40.280419580419576,94.741318150514331,-14.180478989675187,131.97916666666666,248.79319427232087,15.165139061012439,{"$error":"#DIV/0!"},{"$error":"#DIV/0!"},{"$error":"#DIV/0!"},100,47.631944444444443,98.930023925361255,-3.6661350364723688,1393.9583333333333,2254.7850775545112,533.1315891121551,{"$error":"#DIV/0!"},{"$error":"#DIV/0!"},{"$error":"#DIV/0!"},1967.3611111111111,2938.758335725001,995.96388649722132,5000,0,0,0,null,null,43208,null,null,null,null,null,null,null,null,null,null,null,null,null,null,11.5,10.6,98,7.51,0.84,5.8,19.5,100,40,"",32,1000,"",1500,"",""]
[null,"57 Rönneå, vid utfl t Skälderviken","2018-05-15",19.600000000000001,8.9,97,7.73,1.23,5.0999999999999996,71.5,85,33,null,27,1200,null,1800,null,null,null,2018,5,null,null,null,null,{"$f":"$E$157","v":10.59027777777778},{"$f":"AA74+E$158","v":12.52748503315132},{"$f":"AA74-E$158","v":8.6530705224042404},2.95,{"$f":"$G$157","v":7.521875000000005},{"$f":"AE74+G$158","v":7.6941123088486991},{"$f":"AE74-G$158","v":7.3496376911513108},6.5,{"$f":"$I$157","v":15.662937062937061},{"$f":"AI74+I$158","v":57.647903651966601},{"$f":"AI74-I$158","v":-26.322029526092479},7,{"$f":"$J$157","v":40.280419580419576},{"$f":"AM74+J$158","v":94.741318150514331},{"$f":"AM74-J$158","v":-14.180478989675187},{"$f":"$K$157","v":131.97916666666666},{"$f":"AP74+K$158","v":248.79319427232087},{"$f":"AP74-K$158","v":15.165139061012439},{"$f":"$M$157","v":{"$error":"#DIV/0!"}},{"$f":"AS74+$M$158","v":{"$error":"#DIV/0!"}},{"$f":"AS74-$M$158","v":{"$error":"#DIV/0!"}},100,{"$f":"$N$157","v":47.631944444444443},{"$f":"AW74+$N$158","v":98.930023925361255},{"$f":"AW74-$N$158","v":-3.6661350364723688},{"$f":"$O$157","v":1393.9583333333333},{"$f":"AZ74+$O$158","v":2254.7850775545112},{"$f":"AZ74-$O$158","v":533.1315891121551},{"$f":"$P$157","v":{"$error":"#DIV/0!"}},{"$f":"BC74+$P$158","v":{"$error":"#DIV/0!"}},{"$f":"BC74-$P$158","v":{"$error":"#DIV/0!"}},{"$f":"$Q$157","v":1967.3611111111111},{"$f":"BF74+$Q$158","v":2938.758335725001},{"$f":"BF74-$Q$158","v":995.96388649722132},5000,{"$f":"$T$157","v":0},{"$f":"BJ74+$T$158","v":0},{"$f":"BJ74-$T$158","v":0},null,null,{"$f":"C74","v":43235},null,null,null,null,null,null,null,null,null,null,null,null,null,null,{"$f":"IF(D74=\"\",\"\",IF(OR(LEFT(D74,1)=\"<\",LEFT(D74,1)=\">\"),VALUE(MID(D74,2,3)),D74))","v":19.600000000000001},{"$f":"IF(E74=\"\",\"\",IF(OR(LEFT(E74,1)=\"<\",LEFT(E74,1)=\">\"),VALUE(MID(E74,2,3)),E74))","v":8.9},{"$f":"IF(F74=\"\",\"\",IF(OR(LEFT(F74,1)=\"<\",LEFT(F74,1)=\">\"),VALUE(MID(F74,2,3)),F74))","v":97},{"$f":"IF(G74=\"\",\"\",IF(OR(LEFT(G74,1)=\"<\",LEFT(G74,1)=\">\"),VALUE(MID(G74,2,3)),G74))","v":7.73},{"$f":"IF(H74=\"\",\"\",IF(OR(LEFT(H74,1)=\"<\",LEFT(H74,1)=\">\"),VALUE(MID(H74,2,3)),H74))","v":1.23},{"$f":"IF(I74=\"\",\"\",IF(OR(LEFT(I74,1)=\"<\",LEFT(I74,1)=\">\"),VALUE(MID(I74,2,3)),I74))","v":5.0999999999999996},{"$f":"IF(J74=\"\",\"\",IF(OR(LEFT(J74,1)=\"<\",LEFT(J74,1)=\">\"),VALUE(MID(J74,2,3)),J74))","v":71.5},{"$f":"IF(K74=\"\",\"\",IF(OR(LEFT(K74,1)=\"<\",LEFT(K74,1)=\">\"),VALUE(MID(K74,2,3)),K74))","v":85},{"$f":"IF(L74=\"\",\"\",IF(OR(LEFT(L74,1)=\"<\",LEFT(L74,1)=\">\"),VALUE(MID(L74,2,3)),L74))","v":33},{"$f":"IF(M74=\"\",\"\",IF(OR(LEFT(M74,1)=\"<\",LEFT(M74,1)=\">\"),VALUE(MID(M74,2,3)),M74))","v":""},{"$f":"IF(N74=\"\",\"\",IF(OR(LEFT(N74,1)=\"<\",LEFT(N74,1)=\">\"),VALUE(MID(N74,2,3)),N74))","v":27},{"$f":"IF(O74=\"\",\"\",IF(OR(LEFT(O74,1)=\"<\",LEFT(O74,1)=\">\"),VALUE(MID(O74,2,3)),O74))","v":1200},{"$f":"IF(P74=\"\",\"\",IF(OR(LEFT(P74,1)=\"<\",LEFT(P74,1)=\">\"),VALUE(MID(P74,2,3)),P74))","v":""},{"$f":"IF(Q74=\"\",\"\",IF(OR(LEFT(Q74,1)=\"<\",LEFT(Q74,1)=\">\"),VALUE(MID(Q74,2,3)),Q74))","v":1800},{"$f":"IF(R74=\"\",\"\",IF(OR(LEFT(R74,1)=\"<\",LEFT(R74,1)=\">\"),VALUE(MID(R74,2,3)),R74))","v":""},{"$f":"IF(S74=\"\",\"\",IF(OR(LEFT(S74,1)=\"<\",LEFT(S74,1)=\">\"),VALUE(MID(S74,2,3)),S74))","v":""}]
[null,"57 Rönneå, vid utfl t Skälderviken","2018-06-12",20.6,8.4,93,7.76,1.69,5.7,31.6,55,24,null,33,1000,null,1500,null,null,null,2018,6,null,null,null,null,10.59027777777778,12.52748503315132,8.6530705224042404,2.95,7.521875000000005,7.6941123088486991,7.3496376911513108,6.5,15.662937062937061,57.647903651966601,-26.322029526092479,7,40.280419580419576,94.741318150514331,-14.180478989675187,131.97916666666666,248.79319427232087,15.165139061012439,{"$error":"#DIV/0!"},{"$error":"#DIV/0!"},{"$error":"#DIV/0!"},100,47.631944444444443,98.930023925361255,-3.6661350364723688,1393.9583333333333,2254.7850775545112,533.1315891121551,{"$error":"#DIV/0!"},{"$error":"#DIV/0!"},{"$error":"#DIV/0!"},1967.3611111111111,2938.758335725001,995.96388649722132,5000,0,0,0,null,null,43263,null,null,null,null,null,null,null,null,null,null,null,null,null,null,20.6,8.4,93,7.76,1.69,5.7,31.6,55,24,"",33,1000,"",1500,"",""]
[null,"57 Rönneå, vid utfl t Skälderviken","2018-07-19",23.4,9.9,116,7.84,0.86,9.3000000000000007,54,45,23,null,26,820,null,1500,null,null,null,2018,7,null,null,null,null,10.59027777777778,12.52748503315132,8.6530705224042404,2.95,7.521875000000005,7.6941123088486991,7.3496376911513108,6.5,15.662937062937061,57.647903651966601,-26.322029526092479,7,40.280419580419576,94.741318150514331,-14.180478989675187,131.97916666666666,248.79319427232087,15.165139061012439,{"$error":"#DIV/0!"},{"$error":"#DIV/0!"},{"$error":"#DIV/0!"},100,47.631944444444443,98.930023925361255,-3.6661350364723688,1393.9583333333333,2254.7850775545112,533.1315891121551,{"$error":"#DIV/0!"},{"$error":"#DIV/0!"},{"$error":"#DIV/0!"},1967.3611111111111,2938.758335725001,995.96388649722132,5000,0,0,0,null,null,43300,null,null,null,null,null,null,null,null,null,null,null,null,null,null,23.4,9.9,116,7.84,0.86,9.3000000000000007,54,45,23,"",26,820,"",1500,"",""]
[null,"57 Rönneå, vid utfl t Skälderviken","2018-08-15",20.3,8.3000000000000007,92,7.56,1.18,11,62.5,65,24,null,38,1300,null,1800,null,null,null,2018,8,null,null,null,null,10.59027777777778,12.52748503315132,8.6530705224042404,2.95,7.521875000000005,7.6941123088486991,7.3496376911513108,6.5,15.662937062937061,57.647903651966601,-26.322029526092479,7,40.280419580419576,94.741318150514331,-14.180478989675187,131.97916666666666,248.79319427232087,15.165139061012439,{"$error":"#DIV/0!"},{"$error":"#DIV/0!"},{"$error":"#DIV/0!"},100,47.631944444444443,98.930023925361255,-3.6661350364723688,1393.9583333333333,2254.7850775545112,533.1315891121551,{"$error":"#DIV/0!"},{"$error":"#DIV/0!"},{"$error":"#DIV/0!"},1967.3611111111111,2938.758335725001,995.96388649722132,5000,0,0,0,null,null,43327,null,null,null,null,null,null,null,null,null,null,null,null,null,null,20.3,8.3000000000000007,92,7.56,1.18,11,62.5,65,24,"",38,1300,"",1800,"",""]
[null,"57 Rönneå, vid utfl t Skälderviken","2018-09-12",16.100000000000001,8.8000000000000007,90,7.47,0.73,6.1,211,45,23,null,40,890,null,1600,null,null,null,2018,9,null,null,null,null,10.59027777777778,12.52748503315132,8.6530705224042404,2.95,7.521875000000005,7.6941123088486991,7.3496376911513108,6.5,15.662937062937061,57.647903651966601,-26.322029526092479,7,40.280419580419576,94.741318150514331,-14.180478989675187,131.97916666666666,248.79319427232087,15.165139061012439,{"$error":"#DIV/0!"},{"$error":"#DIV/0!"},{"$error":"#DIV/0!"},100,47.631944444444443,98.930023925361255,-3.6661350364723688,1393.9583333333333,2254.7850775545112,533.1315891121551,{"$error":"#DIV/0!"},{"$error":"#DIV/0!"},{"$error":"#DIV/0!"},1967.3611111111111,2938.758335725001,995.96388649722132,5000,0,0,0,null,null,43355,null,null,null,null,null,null,null,null,null,null,null,null,null,null,16.100000000000001,8.8000000000000007,90,7.47,0.73,6.1,211,45,23,"",40,890,"",1600,"",""]
[null,"57 Rönneå, vid utfl t Skälderviken","2018-10-09",12.1,11.1,104,7.52,1.1499999999999999,5.2,221,65,26,null,26,1200,null,1300,null,null,null,2018,10,null,null,null,null,10.59027777777778,12.52748503315132,8.6530705224042404,2.95,7.521875000000005,7.6941123088486991,7.3496376911513108,6.5,15.662937062937061,57.647903651966601,-26.322029526092479,7,40.280419580419576,94.741318150514331,-14.180478989675187,131.97916666666666,248.79319427232087,15.165139061012439,{"$error":"#DIV/0!"},{"$error":"#DIV/0!"},{"$error":"#DIV/0!"},100,47.631944444444443,98.930023925361255,-3.6661350364723688,1393.9583333333333,2254.7850775545112,533.1315891121551,{"$error":"#DIV/0!"},{"$error":"#DIV/0!"},{"$error":"#DIV/0!"},1967.3611111111111,2938.758335725001,995.96388649722132,5000,0,0,0,null,null,43382,null,null,null,null,null,null,null,null,null,null,null,null,null,null,12.1,11.1,104,7.52,1.1499999999999999,5.2,221,65,26,"",26,1200,"",1300,"",""]
[null,"57 Rönneå, vid utfl t Skälderviken","2018-11-14",9.5,9.1999999999999993,81,7.47,0.99,8.5,35.700000000000003,65,26,null,34,1600,null,1900,null,null,null,2018,11,null,null,null,null,10.59027777777778,12.52748503315132,8.6530705224042404,2.95,7.521875000000005,7.6941123088486991,7.3496376911513108,6.5,15.662937062937061,57.647903651966601,-26.322029526092479,7,40.280419580419576,94.741318150514331,-14.180478989675187,131.97916666666666,248.79319427232087,15.165139061012439,{"$error":"#DIV/0!"},{"$error":"#DIV/0!"},{"$error":"#DIV/0!"},100,47.631944444444443,98.930023925361255,-3.6661350364723688,1393.9583333333333,2254.7850775545112,533.1315891121551,{"$error":"#DIV/0!"},{"$error":"#DIV/0!"},{"$error":"#DIV/0!"},1967.3611111111111,2938.758335725001,995.96388649722132,5000,0,0,0,null,null,43418,null,null,null,null,null,null,null,null,null,null,null,null,null,null,9.5,9.1999999999999993,81,7.47,0.99,8.5,35.700000000000003,65,26,"",34,1600,"",1900,"",""]
[null,"57 Rönneå, vid utfl t Skälderviken","2018-12-11",4.5,11.1,86,7.57,0.56999999999999995,11,23.4,100,43,null,42,3100,null,3500,null,null,null,2018,12,null,null,null,null,10.59027777777778,12.52748503315132,8.6530705224042404,2.95,7.521875000000005,7.6941123088486991,7.3496376911513108,6.5,15.662937062937061,57.647903651966601,-26.322029526092479,7,40.280419580419576,94.741318150514331,-14.180478989675187,131.97916666666666,248.79319427232087,15.165139061012439,{"$error":"#DIV/0!"},{"$error":"#DIV/0!"},{"$error":"#DIV/0!"},100,47.631944444444443,98.930023925361255,-3.6661350364723688,1393.9583333333333,2254.7850775545112,533.1315891121551,{"$error":"#DIV/0!"},{"$error":"#DIV/0!"},{"$error":"#DIV/0!"},1967.3611111111111,2938.758335725001,995.96388649722132,5000,0,0,0,null,null,43445,null,null,null,null,null,null,null,null,null,null,null,null,null,null,4.5,11.1,86,7.57,0.56999999999999995,11,23.4,100,43,"",42,3100,"",3500,"",""]
[null,"57 Rönneå, vid utfl t Skälderviken","2019-01-15",3.4,12.9,97,7.67,0.63,16,22.9,100,40,null,45,3100,null,3500,null,null,null,2019,1,null,null,null,null,10.59027777777778,12.52748503315132,8.6530705224042404,2.95,7.521875000000005,7.6941123088486991,7.3496376911513108,6.5,15.662937062937061,57.647903651966601,-26.322029526092479,7,40.280419580419576,94.741318150514331,-14.180478989675187,131.97916666666666,248.79319427232087,15.165139061012439,{"$error":"#DIV/0!"},{"$error":"#DIV/0!"},{"$error":"#DIV/0!"},100,47.631944444444443,98.930023925361255,-3.6661350364723688,1393.9583333333333,2254.7850775545112,533.1315891121551,{"$error":"#DIV/0!"},{"$error":"#DIV/0!"},{"$error":"#DIV/0!"},1967.3611111111111,2938.758335725001,995.96388649722132,5000,0,0,0,null,null,43480,null,null,null,null,null,null,null,null,null,null,null,null,null,null,3.4,12.9,97,7.67,0.63,16,22.9,100,40,"",45,3100,"",3500,"",""]
[null,"57 Rönneå, vid utfl t Skälderviken","2019-02-13",4.4000000000000004,12.3,95,7.25,0.43,21,16,125,47,null,52,2000,null,2300,null,null,null,2019,2,null,null,null,null,10.59027777777778,12.52748503315132,8.6530705224042404,2.95,7.521875000000005,7.6941123088486991,7.3496376911513108,6.5,15.662937062937061,57.647903651966601,-26.322029526092479,7,40.280419580419576,94.741318150514331,-14.180478989675187,131.97916666666666,248.79319427232087,15.165139061012439,{"$error":"#DIV/0!"},{"$error":"#DIV/0!"},{"$error":"#DIV/0!"},100,47.631944444444443,98.930023925361255,-3.6661350364723688,1393.9583333333333,2254.7850775545112,533.1315891121551,{"$error":"#DIV/0!"},{"$error":"#DIV/0!"},{"$error":"#DIV/0!"},1967.3611111111111,2938.758335725001,995.96388649722132,5000,0,0,0,null,null,43509,null,null,null,null,null,null,null,null,null,null,null,null,null,null,4.4000000000000004,12.3,95,7.25,0.43,21,16,125,47,"",52,2000,"",2300,"",""]
[null,"57 Rönneå, vid utfl t Skälderviken","2019-03-12",4.0999999999999996,12.8,98,7.33,0.48,10,18.899999999999999,100,47,null,40,2400,null,3100,null,null,null,2019,3,null,null,null,null,10.59027777777778,12.52748503315132,8.6530705224042404,2.95,7.521875000000005,7.6941123088486991,7.3496376911513108,6.5,15.662937062937061,57.647903651966601,-26.322029526092479,7,40.280419580419576,94.741318150514331,-14.180478989675187,131.97916666666666,248.79319427232087,15.165139061012439,{"$error":"#DIV/0!"},{"$error":"#DIV/0!"},{"$error":"#DIV/0!"},100,47.631944444444443,98.930023925361255,-3.6661350364723688,1393.9583333333333,2254.7850775545112,533.1315891121551,{"$error":"#DIV/0!"},{"$error":"#DIV/0!"},{"$error":"#DIV/0!"},1967.3611111111111,2938.758335725001,995.96388649722132,5000,0,0,0,null,null,43536,null,null,null,null,null,null,null,null,null,null,null,null,null,null,4.0999999999999996,12.8,98,7.33,0.48,10,18.899999999999999,100,47,"",40,2400,"",3100,"",""]
[null,"57 Rönneå, vid utfl t Skälderviken","2019-04-09",8.8000000000000007,12.3,106,7.46,0.71,4.9000000000000004,19.100000000000001,85,34,null,23,1300,null,1500,null,null,null,2019,4,null,null,null,null,10.59027777777778,12.52748503315132,8.6530705224042404,2.95,7.521875000000005,7.6941123088486991,7.3496376911513108,6.5,15.662937062937061,57.647903651966601,-26.322029526092479,7,40.280419580419576,94.741318150514331,-14.180478989675187,131.97916666666666,248.79319427232087,15.165139061012439,{"$error":"#DIV/0!"},{"$error":"#DIV/0!"},{"$error":"#DIV/0!"},100,47.631944444444443,98.930023925361255,-3.6661350364723688,1393.9583333333333,2254.7850775545112,533.1315891121551,{"$error":"#DIV/0!"},{"$error":"#DIV/0!"},{"$error":"#DIV/0!"},1967.3611111111111,2938.758335725001,995.96388649722132,5000,0,0,0,null,null,43564,null,null,null,null,null,null,null,null,null,null,null,null,null,null,8.8000000000000007,12.3,106,7.46,0.71,4.9000000000000004,19.100000000000001,85,34,"",23,1300,"",1500,"",""]
[null,"57 Rönneå, vid utfl t Skälderviken","2019-05-14",12.6,10.5,99,7.71,0.77,3.9,21.3,85,35,null,23,1100,null,1500,null,null,null,2019,5,null,null,null,null,10.59027777777778,12.52748503315132,8.6530705224042404,2.95,7.521875000000005,7.6941123088486991,7.3496376911513108,6.5,15.662937062937061,57.647903651966601,-26.322029526092479,7,40.280419580419576,94.741318150514331,-14.180478989675187,131.97916666666666,248.79319427232087,15.165139061012439,{"$error":"#DIV/0!"},{"$error":"#DIV/0!"},{"$error":"#DIV/0!"},100,47.631944444444443,98.930023925361255,-3.6661350364723688,1393.9583333333333,2254.7850775545112,533.1315891121551,{"$error":"#DIV/0!"},{"$error":"#DIV/0!"},{"$error":"#DIV/0!"},1967.3611111111111,2938.758335725001,995.96388649722132,5000,0,0,0,null,null,43599,null,null,null,null,null,null,null,null,null,null,null,null,null,null,12.6,10.5,99,7.71,0.77,3.9,21.3,85,35,"",23,1100,"",1500,"",""]
[null,"57 Rönneå, vid utfl t Skälderviken","2019-06-11",19.899999999999999,9.6,105,7.69,1.35,6,28.1,60,26,null,46,1100,null,1500,null,null,null,2019,6,null,null,null,null,10.59027777777778,12.52748503315132,8.6530705224042404,2.95,7.521875000000005,7.6941123088486991,7.3496376911513108,6.5,15.662937062937061,57.647903651966601,-26.322029526092479,7,40.280419580419576,94.741318150514331,-14.180478989675187,131.97916666666666,248.79319427232087,15.165139061012439,{"$error":"#DIV/0!"},{"$error":"#DIV/0!"},{"$error":"#DIV/0!"},100,47.631944444444443,98.930023925361255,-3.6661350364723688,1393.9583333333333,2254.7850775545112,533.1315891121551,{"$error":"#DIV/0!"},{"$error":"#DIV/0!"},{"$error":"#DIV/0!"},1967.3611111111111,2938.758335725001,995.96388649722132,5000,0,0,0,null,null,43627,null,null,null,null,null,null,null,null,null,null,null,null,null,null,19.899999999999999,9.6,105,7.69,1.35,6,28.1,60,26,"",46,1100,"",1500,"",""]
[null,"57 Rönneå, vid utfl t Skälderviken","2019-07-17",20.7,8.3000000000000007,92,7.58,1.38,4,62,50,26,null,31,1200,null,1600,null,null,null,2019,7,null,null,null,null,10.59027777777778,12.52748503315132,8.6530705224042404,2.95,7.521875000000005,7.6941123088486991,7.3496376911513108,6.5,15.662937062937061,57.647903651966601,-26.322029526092479,7,40.280419580419576,94.741318150514331,-14.180478989675187,131.97916666666666,248.79319427232087,15.165139061012439,{"$error":"#DIV/0!"},{"$error":"#DIV/0!"},{"$error":"#DIV/0!"},100,47.631944444444443,98.930023925361255,-3.6661350364723688,1393.9583333333333,2254.7850775545112,533.1315891121551,{"$error":"#DIV/0!"},{"$error":"#DIV/0!"},{"$error":"#DIV/0!"},1967.3611111111111,2938.758335725001,995.96388649722132,5000,0,0,0,null,null,43663,null,null,null,null,null,null,null,null,null,null,null,null,null,null,20.7,8.3000000000000007,92,7.58,1.38,4,62,50,26,"",31,1200,"",1600,"",""]
[null,"57 Rönneå, vid utfl t Skälderviken","2019-08-14",18.399999999999999,7.3,78,7.39,1.02,7.4,22.8,125,51,null,50,830,null,1600,null,null,null,2019,8,null,null,null,null,10.59027777777778,12.52748503315132,8.6530705224042404,2.95,7.521875000000005,7.6941123088486991,7.3496376911513108,6.5,15.662937062937061,57.647903651966601,-26.322029526092479,7,40.280419580419576,94.741318150514331,-14.180478989675187,131.97916666666666,248.79319427232087,15.165139061012439,{"$error":"#DIV/0!"},{"$error":"#DIV/0!"},{"$error":"#DIV/0!"},100,47.631944444444443,98.930023925361255,-3.6661350364723688,1393.9583333333333,2254.7850775545112,533.1315891121551,{"$error":"#DIV/0!"},{"$error":"#DIV/0!"},{"$error":"#DIV/0!"},1967.3611111111111,2938.758335725001,995.96388649722132,5000,0,0,0,null,null,43691,null,null,null,null,null,null,null,null,null,null,null,null,null,null,18.399999999999999,7.3,78,7.39,1.02,7.4,22.8,125,51,"",50,830,"",1600,"",""]
[null,"57 Rönneå, vid utfl t Skälderviken","2019-09-17",13,9.9,94,7.2,0.49,5.7,14.2,150,63,null,40,540,null,1200,null,null,null,2019,9,null,null,null,null,10.59027777777778,12.52748503315132,8.6530705224042404,2.95,7.521875000000005,7.6941123088486991,7.3496376911513108,6.5,15.662937062937061,57.647903651966601,-26.322029526092479,7,40.280419580419576,94.741318150514331,-14.180478989675187,131.97916666666666,248.79319427232087,15.165139061012439,{"$error":"#DIV/0!"},{"$error":"#DIV/0!"},{"$error":"#DIV/0!"},100,47.631944444444443,98.930023925361255,-3.6661350364723688,1393.9583333333333,2254.7850775545112,533.1315891121551,{"$error":"#DIV/0!"},{"$error":"#DIV/0!"},{"$error":"#DIV/0!"},1967.3611111111111,2938.758335725001,995.96388649722132,5000,0,0,0,null,null,43725,null,null,null,null,null,null,null,null,null,null,null,null,null,null,13,9.9,94,7.2,0.49,5.7,14.2,150,63,"",40,540,"",1200,"",""]
[null,"57 Rönneå, vid utfl t Skälderviken","2019-10-16",11.7,9.6999999999999993,90,7.09,0.53,20,17.5,200,51,null,78,940,null,2700,null,null,null,2019,10,null,null,null,null,10.59027777777778,12.52748503315132,8.6530705224042404,2.95,7.521875000000005,7.6941123088486991,7.3496376911513108,6.5,15.662937062937061,57.647903651966601,-26.322029526092479,7,40.280419580419576,94.741318150514331,-14.180478989675187,131.97916666666666,248.79319427232087,15.165139061012439,{"$error":"#DIV/0!"},{"$error":"#DIV/0!"},{"$error":"#DIV/0!"},100,47.631944444444443,98.930023925361255,-3.6661350364723688,1393.9583333333333,2254.7850775545112,533.1315891121551,{"$error":"#DIV/0!"},{"$error":"#DIV/0!"},{"$error":"#DIV/0!"},1967.3611111111111,2938.758335725001,995.96388649722132,5000,0,0,0,null,null,43754,null,null,null,null,null,null,null,null,null,null,null,null,null,null,11.7,9.6999999999999993,90,7.09,0.53,20,17.5,200,51,"",78,940,"",2700,"",""]
[null,"57 Rönneå, vid utfl t Skälderviken","2019-11-13",5.9,11.8,95,7.42,0.79,8.4,24.2,175,55,null,42,1500,null,2100,null,null,null,2019,11,null,null,null,null,10.59027777777778,12.52748503315132,8.6530705224042404,2.95,7.521875000000005,7.6941123088486991,7.3496376911513108,6.5,15.662937062937061,57.647903651966601,-26.322029526092479,7,40.280419580419576,94.741318150514331,-14.180478989675187,131.97916666666666,248.79319427232087,15.165139061012439,{"$error":"#DIV/0!"},{"$error":"#DIV/0!"},{"$error":"#DIV/0!"},100,47.631944444444443,98.930023925361255,-3.6661350364723688,1393.9583333333333,2254.7850775545112,533.1315891121551,{"$error":"#DIV/0!"},{"$error":"#DIV/0!"},{"$error":"#DIV/0!"},1967.3611111111111,2938.758335725001,995.96388649722132,5000,0,0,0,null,null,43782,null,null,null,null,null,null,null,null,null,null,null,null,null,null,5.9,11.8,95,7.42,0.79,8.4,24.2,175,55,"",42,1500,"",2100,"",""]
[null,"57 Rönneå, vid utfl t Skälderviken","2019-12-12",5.4,11.1,88,7.3,0.56000000000000005,108,13.3,250,59,null,160,790,null,1800,null,null,null,2019,12,null,null,null,null,10.59027777777778,12.52748503315132,8.6530705224042404,2.95,7.521875000000005,7.6941123088486991,7.3496376911513108,6.5,15.662937062937061,57.647903651966601,-26.322029526092479,7,40.280419580419576,94.741318150514331,-14.180478989675187,131.97916666666666,248.79319427232087,15.165139061012439,{"$error":"#DIV/0!"},{"$error":"#DIV/0!"},{"$error":"#DIV/0!"},100,47.631944444444443,98.930023925361255,-3.6661350364723688,1393.9583333333333,2254.7850775545112,533.1315891121551,{"$error":"#DIV/0!"},{"$error":"#DIV/0!"},{"$error":"#DIV/0!"},1967.3611111111111,2938.758335725001,995.96388649722132,5000,0,0,0,null,null,43811,null,null,null,null,null,null,null,null,null,null,null,null,null,null,5.4,11.1,88,7.3,0.56000000000000005,108,13.3,250,59,"",160,790,"",1800,"",""]
[null,"57 Rönneå, vid utfl t Skälderviken","2020-01-13",5.0999999999999996,11.6,91,7.41,0.78,40,19.399999999999999,250,55,null,93,1300,null,2800,null,null,null,2020,1,null,null,null,null,10.59027777777778,12.52748503315132,8.6530705224042404,2.95,7.521875000000005,7.6941123088486991,7.3496376911513108,6.5,15.662937062937061,57.647903651966601,-26.322029526092479,7,40.280419580419576,94.741318150514331,-14.180478989675187,131.97916666666666,248.79319427232087,15.165139061012439,{"$error":"#DIV/0!"},{"$error":"#DIV/0!"},{"$error":"#DIV/0!"},100,47.631944444444443,98.930023925361255,-3.6661350364723688,1393.9583333333333,2254.7850775545112,533.1315891121551,{"$error":"#DIV/0!"},{"$error":"#DIV/0!"},{"$error":"#DIV/0!"},1967.3611111111111,2938.758335725001,995.96388649722132,5000,0,0,0,null,null,43843,null,null,null,null,null,null,null,null,null,null,null,null,null,null,5.0999999999999996,11.6,91,7.41,0.78,40,19.399999999999999,250,55,"",93,1300,"",2800,"",""]
[null,"57 Rönneå, vid utfl t Skälderviken","2020-02-10",5.9,11.7,94,7.3,0.62,436,13.2,600,51,null,470,1400,null,3100,null,null,null,2020,2,null,null,null,null,10.59027777777778,12.52748503315132,8.6530705224042404,2.95,7.521875000000005,7.6941123088486991,7.3496376911513108,6.5,15.662937062937061,57.647903651966601,-26.322029526092479,7,40.280419580419576,94.741318150514331,-14.180478989675187,131.97916666666666,248.79319427232087,15.165139061012439,{"$error":"#DIV/0!"},{"$error":"#DIV/0!"},{"$error":"#DIV/0!"},100,47.631944444444443,98.930023925361255,-3.6661350364723688,1393.9583333333333,2254.7850775545112,533.1315891121551,{"$error":"#DIV/0!"},{"$error":"#DIV/0!"},{"$error":"#DIV/0!"},1967.3611111111111,2938.758335725001,995.96388649722132,5000,0,0,0,null,null,43871,null,null,null,null,null,null,null,null,null,null,null,null,null,null,5.9,11.7,94,7.3,0.62,436,13.2,600,51,"",470,1400,"",3100,"",""]
[null,"57 Rönneå, vid utfl t Skälderviken","2020-03-17",6.7,12.2,100,7.43,0.69,7.8,16.399999999999999,100,40,null,35,1300,null,1500,null,null,null,2020,3,null,null,null,null,10.59027777777778,12.52748503315132,8.6530705224042404,2.95,7.521875000000005,7.6941123088486991,7.3496376911513108,6.5,15.662937062937061,57.647903651966601,-26.322029526092479,7,40.280419580419576,94.741318150514331,-14.180478989675187,131.97916666666666,248.79319427232087,15.165139061012439,{"$error":"#DIV/0!"},{"$error":"#DIV/0!"},{"$error":"#DIV/0!"},100,47.631944444444443,98.930023925361255,-3.6661350364723688,1393.9583333333333,2254.7850775545112,533.1315891121551,{"$error":"#DIV/0!"},{"$error":"#DIV/0!"},{"$error":"#DIV/0!"},1967.3611111111111,2938.758335725001,995.96388649722132,5000,0,0,0,null,null,43907,null,null,null,null,null,null,null,null,null,null,null,null,null,null,6.7,12.2,100,7.43,0.69,7.8,16.399999999999999,100,40,"",35,1300,"",1500,"",""]
[null,"57 Rönneå, vid utfl t Skälderviken","2020-04-15",9.6,11.8,104,7.65,0.88,5.3,20.7,100,32,null,26,1300,null,1600,null,null,null,2020,4,null,null,null,null,10.59027777777778,12.52748503315132,8.6530705224042404,2.95,7.521875000000005,7.6941123088486991,7.3496376911513108,6.5,15.662937062937061,57.647903651966601,-26.322029526092479,7,40.280419580419576,94.741318150514331,-14.180478989675187,131.97916666666666,248.79319427232087,15.165139061012439,{"$error":"#DIV/0!"},{"$error":"#DIV/0!"},{"$error":"#DIV/0!"},100,47.631944444444443,98.930023925361255,-3.6661350364723688,1393.9583333333333,2254.7850775545112,533.1315891121551,{"$error":"#DIV/0!"},{"$error":"#DIV/0!"},{"$error":"#DIV/0!"},1967.3611111111111,2938.758335725001,995.96388649722132,5000,0,0,0,null,null,43936,null,null,null,null,null,null,null,null,null,null,null,null,null,null,9.6,11.8,104,7.65,0.88,5.3,20.7,100,32,"",26,1300,"",1600,"",""]
[null,"57 Rönneå, vid utfl t Skälderviken","2020-05-19",11.4,10.1,93,7.62,0.9,4.9000000000000004,20,70,28,null,23,1000,null,1200,null,null,null,2020,5,null,null,null,null,10.59027777777778,12.52748503315132,8.6530705224042404,2.95,7.521875000000005,7.6941123088486991,7.3496376911513108,6.5,15.662937062937061,57.647903651966601,-26.322029526092479,7,40.280419580419576,94.741318150514331,-14.180478989675187,131.97916666666666,248.79319427232087,15.165139061012439,{"$error":"#DIV/0!"},{"$error":"#DIV/0!"},{"$error":"#DIV/0!"},100,47.631944444444443,98.930023925361255,-3.6661350364723688,1393.9583333333333,2254.7850775545112,533.1315891121551,{"$error":"#DIV/0!"},{"$error":"#DIV/0!"},{"$error":"#DIV/0!"},1967.3611111111111,2938.758335725001,995.96388649722132,5000,0,0,0,null,null,43970,null,null,null,null,null,null,null,null,null,null,null,null,null,null,11.4,10.1,93,7.62,0.9,4.9000000000000004,20,70,28,"",23,1000,"",1200,"",""]
[null,"57 Rönneå, vid utfl t Skälderviken","2020-06-09",17.600000000000001,8.5,89,7.67,1.34,6.2,29.8,85,30,null,34,1200,null,1700,null,null,null,2020,6,null,null,null,null,10.59027777777778,12.52748503315132,8.6530705224042404,2.95,7.521875000000005,7.6941123088486991,7.3496376911513108,6.5,15.662937062937061,57.647903651966601,-26.322029526092479,7,40.280419580419576,94.741318150514331,-14.180478989675187,131.97916666666666,248.79319427232087,15.165139061012439,{"$error":"#DIV/0!"},{"$error":"#DIV/0!"},{"$error":"#DIV/0!"},100,47.631944444444443,98.930023925361255,-3.6661350364723688,1393.9583333333333,2254.7850775545112,533.1315891121551,{"$error":"#DIV/0!"},{"$error":"#DIV/0!"},{"$error":"#DIV/0!"},1967.3611111111111,2938.758335725001,995.96388649722132,5000,0,0,0,null,null,43991,null,null,null,null,null,null,null,null,null,null,null,null,null,null,17.600000000000001,8.5,89,7.67,1.34,6.2,29.8,85,30,"",34,1200,"",1700,"",""]
[null,"57 Rönneå, vid utfl t Skälderviken","2020-07-15",16.3,9.6999999999999993,99,7.37,0.61,6,15.4,125,43,null,44,730,null,1300,null,null,null,2020,7,null,null,null,null,10.59027777777778,12.52748503315132,8.6530705224042404,2.95,7.521875000000005,7.6941123088486991,7.3496376911513108,6.5,15.662937062937061,57.647903651966601,-26.322029526092479,7,40.280419580419576,94.741318150514331,-14.180478989675187,131.97916666666666,248.79319427232087,15.165139061012439,{"$error":"#DIV/0!"},{"$error":"#DIV/0!"},{"$error":"#DIV/0!"},100,47.631944444444443,98.930023925361255,-3.6661350364723688,1393.9583333333333,2254.7850775545112,533.1315891121551,{"$error":"#DIV/0!"},{"$error":"#DIV/0!"},{"$error":"#DIV/0!"},1967.3611111111111,2938.758335725001,995.96388649722132,5000,0,0,0,null,null,44027,null,null,null,null,null,null,null,null,null,null,null,null,null,null,16.3,9.6999999999999993,99,7.37,0.61,6,15.4,125,43,"",44,730,"",1300,"",""]
[null,"57 Rönneå, vid utfl t Skälderviken","2020-08-12",22.8,8.1999999999999993,95,7.72,1.56,3.3,84.5,50,27,null,29,1000,null,1500,null,null,null,2020,8,null,null,null,null,10.59027777777778,12.52748503315132,8.6530705224042404,2.95,7.521875000000005,7.6941123088486991,7.3496376911513108,6.5,15.662937062937061,57.647903651966601,-26.322029526092479,7,40.280419580419576,94.741318150514331,-14.180478989675187,131.97916666666666,248.79319427232087,15.165139061012439,{"$error":"#DIV/0!"},{"$error":"#DIV/0!"},{"$error":"#DIV/0!"},100,47.631944444444443,98.930023925361255,-3.6661350364723688,1393.9583333333333,2254.7850775545112,533.1315891121551,{"$error":"#DIV/0!"},{"$error":"#DIV/0!"},{"$error":"#DIV/0!"},1967.3611111111111,2938.758335725001,995.96388649722132,5000,0,0,0,null,null,44055,null,null,null,null,null,null,null,null,null,null,null,null,null,null,22.8,8.1999999999999993,95,7.72,1.56,3.3,84.5,50,27,"",29,1000,"",1500,"",""]
[null,"57 Rönneå, vid utfl t Skälderviken","2020-09-14",17.3,9,94,7.72,1.52,2.9,32.1,40,31,null,24,1100,null,1300,null,null,null,2020,9,null,null,null,null,10.59027777777778,12.52748503315132,8.6530705224042404,2.95,7.521875000000005,7.6941123088486991,7.3496376911513108,6.5,15.662937062937061,57.647903651966601,-26.322029526092479,7,40.280419580419576,94.741318150514331,-14.180478989675187,131.97916666666666,248.79319427232087,15.165139061012439,{"$error":"#DIV/0!"},{"$error":"#DIV/0!"},{"$error":"#DIV/0!"},100,47.631944444444443,98.930023925361255,-3.6661350364723688,1393.9583333333333,2254.7850775545112,533.1315891121551,{"$error":"#DIV/0!"},{"$error":"#DIV/0!"},{"$error":"#DIV/0!"},1967.3611111111111,2938.758335725001,995.96388649722132,5000,0,0,0,null,null,44088,null,null,null,null,null,null,null,null,null,null,null,null,null,null,17.3,9,94,7.72,1.52,2.9,32.1,40,31,"",24,1100,"",1300,"",""]
[null,"57 Rönneå, vid utfl t Skälderviken","2020-10-13",11.3,9,82,7.49,1.19,5.5,29.5,85,40,null,38,1300,null,2000,null,null,null,2020,10,null,null,null,null,10.59027777777778,12.52748503315132,8.6530705224042404,2.95,7.521875000000005,7.6941123088486991,7.3496376911513108,6.5,15.662937062937061,57.647903651966601,-26.322029526092479,7,40.280419580419576,94.741318150514331,-14.180478989675187,131.97916666666666,248.79319427232087,15.165139061012439,{"$error":"#DIV/0!"},{"$error":"#DIV/0!"},{"$error":"#DIV/0!"},100,47.631944444444443,98.930023925361255,-3.6661350364723688,1393.9583333333333,2254.7850775545112,533.1315891121551,{"$error":"#DIV/0!"},{"$error":"#DIV/0!"},{"$error":"#DIV/0!"},1967.3611111111111,2938.758335725001,995.96388649722132,5000,0,0,0,null,null,44117,null,null,null,null,null,null,null,null,null,null,null,null,null,null,11.3,9,82,7.49,1.19,5.5,29.5,85,40,"",38,1300,"",2000,"",""]
[null,"57 Rönneå, vid utfl t Skälderviken","2020-11-10",9.6,11.4,100,7.44,0.73,6.6,17.2,125,51,null,35,870,null,1500,null,null,null,2020,11,null,null,null,null,10.59027777777778,12.52748503315132,8.6530705224042404,2.95,7.521875000000005,7.6941123088486991,7.3496376911513108,6.5,15.662937062937061,57.647903651966601,-26.322029526092479,7,40.280419580419576,94.741318150514331,-14.180478989675187,131.97916666666666,248.79319427232087,15.165139061012439,{"$error":"#DIV/0!"},{"$error":"#DIV/0!"},{"$error":"#DIV/0!"},100,47.631944444444443,98.930023925361255,-3.6661350364723688,1393.9583333333333,2254.7850775545112,533.1315891121551,{"$error":"#DIV/0!"},{"$error":"#DIV/0!"},{"$error":"#DIV/0!"},1967.3611111111111,2938.758335725001,995.96388649722132,5000,0,0,0,null,null,44145,null,null,null,null,null,null,null,null,null,null,null,null,null,null,9.6,11.4,100,7.44,0.73,6.6,17.2,125,51,"",35,870,"",1500,"",""]
[null,"57 Rönneå, vid utfl t Skälderviken","2020-12-16",6.6,11.7,96,7.34,0.94,130,22,300,47,null,190,2300,null,3700,null,null,null,2020,12,null,null,null,null,10.59027777777778,12.52748503315132,8.6530705224042404,2.95,7.521875000000005,7.6941123088486991,7.3496376911513108,6.5,15.662937062937061,57.647903651966601,-26.322029526092479,7,40.280419580419576,94.741318150514331,-14.180478989675187,131.97916666666666,248.79319427232087,15.165139061012439,{"$error":"#DIV/0!"},{"$error":"#DIV/0!"},{"$error":"#DIV/0!"},100,47.631944444444443,98.930023925361255,-3.6661350364723688,1393.9583333333333,2254.7850775545112,533.1315891121551,{"$error":"#DIV/0!"},{"$error":"#DIV/0!"},{"$error":"#DIV/0!"},1967.3611111111111,2938.758335725001,995.96388649722132,5000,0,0,0,null,null,44181,null,null,null,null,null,null,null,null,null,null,null,null,null,null,6.6,11.7,96,7.34,0.94,130,22,300,47,"",190,2300,"",3700,"",""]
[null,"57 Rönneå, vid utfl t Skälderviken","2021-01-20",1.3,13.5,97,7.5,0.75390061623180804,8.8000000000000007,24,180,43.45,null,26,2500,null,2900,null,null,null,2021,1,null,null,null,null,10.59027777777778,12.52748503315132,8.6530705224042404,2.95,7.521875000000005,7.6941123088486991,7.3496376911513108,6.5,15.662937062937061,57.647903651966601,-26.322029526092479,7,40.280419580419576,94.741318150514331,-14.180478989675187,131.97916666666666,248.79319427232087,15.165139061012439,{"$error":"#DIV/0!"},{"$error":"#DIV/0!"},{"$error":"#DIV/0!"},100,47.631944444444443,98.930023925361255,-3.6661350364723688,1393.9583333333333,2254.7850775545112,533.1315891121551,{"$error":"#DIV/0!"},{"$error":"#DIV/0!"},{"$error":"#DIV/0!"},1967.3611111111111,2938.758335725001,995.96388649722132,5000,0,0,0,null,null,44216,null,null,null,null,null,null,null,null,null,null,null,null,null,null,1.3,13.5,97,7.5,0.75390061623180804,8.8000000000000007,24,180,43.45,"",26,2500,"",2900,"",""]
[null,"57 Rönneå, vid utfl t Skälderviken","2021-02-25",4.5,12.6,96,7.4,0.75390061623180804,7.6,21,170,43.45,null,56,2300,null,3000,null,null,null,2021,2,null,null,null,null,10.59027777777778,12.52748503315132,8.6530705224042404,2.95,7.521875000000005,7.6941123088486991,7.3496376911513108,6.5,15.662937062937061,57.647903651966601,-26.322029526092479,7,40.280419580419576,94.741318150514331,-14.180478989675187,131.97916666666666,248.79319427232087,15.165139061012439,{"$error":"#DIV/0!"},{"$error":"#DIV/0!"},{"$error":"#DIV/0!"},100,47.631944444444443,98.930023925361255,-3.6661350364723688,1393.9583333333333,2254.7850775545112,533.1315891121551,{"$error":"#DIV/0!"},{"$error":"#DIV/0!"},{"$error":"#DIV/0!"},1967.3611111111111,2938.758335725001,995.96388649722132,5000,0,0,0,null,null,44252,null,null,null,null,null,null,null,null,null,null,null,null,null,null,4.5,12.6,96,7.4,0.75390061623180804,7.6,21,170,43.45,"",56,2300,"",3000,"",""]
[null,"57 Rönneå, vid utfl t Skälderviken","2021-03-18",4.7,12.4,94,7.4,0.60639832175167174,6,19,160,43.45,null,34,2300,null,3000,null,null,null,2021,3,null,null,null,null,10.59027777777778,12.52748503315132,8.6530705224042404,2.95,7.521875000000005,7.6941123088486991,7.3496376911513108,6.5,15.662937062937061,57.647903651966601,-26.322029526092479,7,40.280419580419576,94.741318150514331,-14.180478989675187,131.97916666666666,248.79319427232087,15.165139061012439,{"$error":"#DIV/0!"},{"$error":"#DIV/0!"},{"$error":"#DIV/0!"},100,47.631944444444443,98.930023925361255,-3.6661350364723688,1393.9583333333333,2254.7850775545112,533.1315891121551,{"$error":"#DIV/0!"},{"$error":"#DIV/0!"},{"$error":"#DIV/0!"},1967.3611111111111,2938.758335725001,995.96388649722132,5000,0,0,0,null,null,44273,null,null,null,null,null,null,null,null,null,null,null,null,null,null,4.7,12.4,94,7.4,0.60639832175167174,6,19,160,43.45,"",34,2300,"",3000,"",""]
[null,"57 Rönneå, vid utfl t Skälderviken","2021-04-21",10.4,10.5,93,7.6,1.114461780516586,3.6,26,94,35.155000000000001,null,32,1500,null,2100,null,null,null,2021,4,null,null,null,null,10.59027777777778,12.52748503315132,8.6530705224042404,2.95,7.521875000000005,7.6941123088486991,7.3496376911513108,6.5,15.662937062937061,57.647903651966601,-26.322029526092479,7,40.280419580419576,94.741318150514331,-14.180478989675187,131.97916666666666,248.79319427232087,15.165139061012439,{"$error":"#DIV/0!"},{"$error":"#DIV/0!"},{"$error":"#DIV/0!"},100,47.631944444444443,98.930023925361255,-3.6661350364723688,1393.9583333333333,2254.7850775545112,533.1315891121551,{"$error":"#DIV/0!"},{"$error":"#DIV/0!"},{"$error":"#DIV/0!"},1967.3611111111111,2938.758335725001,995.96388649722132,5000,0,0,0,null,null,44307,null,null,null,null,null,null,null,null,null,null,null,null,null,null,10.4,10.5,93,7.6,1.114461780516586,3.6,26,94,35.155000000000001,"",32,1500,"",2100,"",""]
[null,"57 Rönneå, vid utfl t Skälderviken","2021-05-19",14.5,8.8000000000000007,86,7.7,1.114461780516586,11,26,150,43.45,null,37,1400,null,2100,null,null,null,2021,5,null,null,null,null,10.59027777777778,12.52748503315132,8.6530705224042404,2.95,7.521875000000005,7.6941123088486991,7.3496376911513108,6.5,15.662937062937061,57.647903651966601,-26.322029526092479,7,40.280419580419576,94.741318150514331,-14.180478989675187,131.97916666666666,248.79319427232087,15.165139061012439,{"$error":"#DIV/0!"},{"$error":"#DIV/0!"},{"$error":"#DIV/0!"},100,47.631944444444443,98.930023925361255,-3.6661350364723688,1393.9583333333333,2254.7850775545112,533.1315891121551,{"$error":"#DIV/0!"},{"$error":"#DIV/0!"},{"$error":"#DIV/0!"},1967.3611111111111,2938.758335725001,995.96388649722132,5000,0,0,0,null,null,44335,null,null,null,null,null,null,null,null,null,null,null,null,null,null,14.5,8.8000000000000007,86,7.7,1.114461780516586,11,26,150,43.45,"",37,1400,"",2100,"",""]
[null,"57 Rönneå, vid utfl t Skälderviken","2021-06-09",18.600000000000001,8,84,7.8,1.3766880818146061,2.2000000000000002,29,75,39.5,null,33,1200,null,1800,null,null,null,2021,6,null,null,null,null,10.59027777777778,12.52748503315132,8.6530705224042404,2.95,7.521875000000005,7.6941123088486991,7.3496376911513108,6.5,15.662937062937061,57.647903651966601,-26.322029526092479,7,40.280419580419576,94.741318150514331,-14.180478989675187,131.97916666666666,248.79319427232087,15.165139061012439,{"$error":"#DIV/0!"},{"$error":"#DIV/0!"},{"$error":"#DIV/0!"},100,47.631944444444443,98.930023925361255,-3.6661350364723688,1393.9583333333333,2254.7850775545112,533.1315891121551,{"$error":"#DIV/0!"},{"$error":"#DIV/0!"},{"$error":"#DIV/0!"},1967.3611111111111,2938.758335725001,995.96388649722132,5000,0,0,0,null,null,44356,null,null,null,null,null,null,null,null,null,null,null,null,null,null,18.600000000000001,8,84,7.8,1.3766880818146061,2.2000000000000002,29,75,39.5,"",33,1200,"",1800,"",""]
[null,"57 Rönneå, vid utfl t Skälderviken","2021-07-14",22.7,7.3,84,7.6,0.96695948603644943,3.3,22,130,47.400000000000006,null,28,1000,null,1600,null,null,null,2021,7,null,null,null,null,10.59027777777778,12.52748503315132,8.6530705224042404,2.95,7.521875000000005,7.6941123088486991,7.3496376911513108,6.5,15.662937062937061,57.647903651966601,-26.322029526092479,7,40.280419580419576,94.741318150514331,-14.180478989675187,131.97916666666666,248.79319427232087,15.165139061012439,{"$error":"#DIV/0!"},{"$error":"#DIV/0!"},{"$error":"#DIV/0!"},100,47.631944444444443,98.930023925361255,-3.6661350364723688,1393.9583333333333,2254.7850775545112,533.1315891121551,{"$error":"#DIV/0!"},{"$error":"#DIV/0!"},{"$error":"#DIV/0!"},1967.3611111111111,2938.758335725001,995.96388649722132,5000,0,0,0,null,null,44391,null,null,null,null,null,null,null,null,null,null,null,null,null,null,22.7,7.3,84,7.6,0.96695948603644943,3.3,22,130,47.400000000000006,"",28,1000,"",1600,"",""]
[null,"57 Rönneå, vid utfl t Skälderviken","2021-08-25",16.2,8.1999999999999993,83,7.5,0.78688524590163933,3.9,23,150,67.150000000000006,null,41,1400,null,2100,null,null,null,2021,8,null,null,null,null,10.59027777777778,12.52748503315132,8.6530705224042404,2.95,7.521875000000005,7.6941123088486991,7.3496376911513108,6.5,15.662937062937061,57.647903651966601,-26.322029526092479,7,40.280419580419576,94.741318150514331,-14.180478989675187,131.97916666666666,248.79319427232087,15.165139061012439,{"$error":"#DIV/0!"},{"$error":"#DIV/0!"},{"$error":"#DIV/0!"},100,47.631944444444443,98.930023925361255,-3.6661350364723688,1393.9583333333333,2254.7850775545112,533.1315891121551,{"$error":"#DIV/0!"},{"$error":"#DIV/0!"},{"$error":"#DIV/0!"},1967.3611111111111,2938.758335725001,995.96388649722132,5000,0,0,0,null,null,44433,null,null,null,null,null,null,null,null,null,null,null,null,null,null,16.2,8.1999999999999993,83,7.5,0.78688524590163933,3.9,23,150,67.150000000000006,"",41,1400,"",2100,"",""]
[null,"57 Rönneå, vid utfl t Skälderviken","2021-09-15",16.899999999999999,7.9,81,7.7,1.5245901639344261,1.9,33,53,30.415000000000003,null,29,1100,null,1400,null,null,null,2021,9,null,null,null,null,10.59027777777778,12.52748503315132,8.6530705224042404,2.95,7.521875000000005,7.6941123088486991,7.3496376911513108,6.5,15.662937062937061,57.647903651966601,-26.322029526092479,7,40.280419580419576,94.741318150514331,-14.180478989675187,131.97916666666666,248.79319427232087,15.165139061012439,{"$error":"#DIV/0!"},{"$error":"#DIV/0!"},{"$error":"#DIV/0!"},100,47.631944444444443,98.930023925361255,-3.6661350364723688,1393.9583333333333,2254.7850775545112,533.1315891121551,{"$error":"#DIV/0!"},{"$error":"#DIV/0!"},{"$error":"#DIV/0!"},1967.3611111111111,2938.758335725001,995.96388649722132,5000,0,0,0,null,null,44454,null,null,null,null,null,null,null,null,null,null,null,null,null,null,16.899999999999999,7.9,81,7.7,1.5245901639344261,1.9,33,53,30.415000000000003,"",29,1100,"",1400,"",""]
[null,"57 Rönneå, vid utfl t Skälderviken","2021-10-21",10.9,9.5,88,7.4,1.1639344262295082,140,24,1200,47.400000000000006,null,240,2700,null,3400,null,null,null,2021,10,null,null,null,null,10.59027777777778,12.52748503315132,8.6530705224042404,2.95,7.521875000000005,7.6941123088486991,7.3496376911513108,6.5,15.662937062937061,57.647903651966601,-26.322029526092479,7,40.280419580419576,94.741318150514331,-14.180478989675187,131.97916666666666,248.79319427232087,15.165139061012439,{"$error":"#DIV/0!"},{"$error":"#DIV/0!"},{"$error":"#DIV/0!"},100,47.631944444444443,98.930023925361255,-3.6661350364723688,1393.9583333333333,2254.7850775545112,533.1315891121551,{"$error":"#DIV/0!"},{"$error":"#DIV/0!"},{"$error":"#DIV/0!"},1967.3611111111111,2938.758335725001,995.96388649722132,5000,0,0,0,null,null,44490,null,null,null,null,null,null,null,null,null,null,null,null,null,null,10.9,9.5,88,7.4,1.1639344262295082,140,24,1200,47.400000000000006,"",240,2700,"",3400,"",""]
[null,"57 Rönneå, vid utfl t Skälderviken","2021-11-24",6,11.8,94,7.6,1.0327868852459017,3.8,24,150,51.35,null,35,1400,null,1900,null,null,null,2021,11,null,null,null,null,10.59027777777778,12.52748503315132,8.6530705224042404,2.95,7.521875000000005,7.6941123088486991,7.3496376911513108,6.5,15.662937062937061,57.647903651966601,-26.322029526092479,7,40.280419580419576,94.741318150514331,-14.180478989675187,131.97916666666666,248.79319427232087,15.165139061012439,{"$error":"#DIV/0!"},{"$error":"#DIV/0!"},{"$error":"#DIV/0!"},100,47.631944444444443,98.930023925361255,-3.6661350364723688,1393.9583333333333,2254.7850775545112,533.1315891121551,{"$error":"#DIV/0!"},{"$error":"#DIV/0!"},{"$error":"#DIV/0!"},1967.3611111111111,2938.758335725001,995.96388649722132,5000,0,0,0,null,null,44524,null,null,null,null,null,null,null,null,null,null,null,null,null,null,6,11.8,94,7.6,1.0327868852459017,3.8,24,150,51.35,"",35,1400,"",1900,"",""]
[null,"57 Rönneå, vid utfl t Skälderviken","2021-12-08",0.1,13.6,93,7.5,0.90163934426229508,5.8,22,150,47.400000000000006,null,50,1800,null,2300,"",null,null,2021,12,null,null,null,null,10.59027777777778,12.52748503315132,8.6530705224042404,2.95,7.521875000000005,7.6941123088486991,7.3496376911513108,6.5,15.662937062937061,57.647903651966601,-26.322029526092479,7,40.280419580419576,94.741318150514331,-14.180478989675187,131.97916666666666,248.79319427232087,15.165139061012439,{"$error":"#DIV/0!"},{"$error":"#DIV/0!"},{"$error":"#DIV/0!"},100,47.631944444444443,98.930023925361255,-3.6661350364723688,1393.9583333333333,2254.7850775545112,533.1315891121551,{"$error":"#DIV/0!"},{"$error":"#DIV/0!"},{"$error":"#DIV/0!"},1967.3611111111111,2938.758335725001,995.96388649722132,5000,0,0,0,null,null,44538,null,null,null,null,null,null,null,null,null,null,null,null,null,null,0.1,13.6,93,7.5,0.90163934426229508,5.8,22,150,47.400000000000006,"",50,1800,"",2300,"",""]
[null,"57 Rönneå, vid utfl t Skälderviken","2022-01-19",1.9,13.4,95,7.7,1.0819672131147542,6.3,23,130,33.18,"",32,1600,null,2000,"",null,null,2022,1,null,null,null,null,10.59027777777778,12.52748503315132,8.6530705224042404,2.95,7.521875000000005,7.6941123088486991,7.3496376911513108,6.5,15.662937062937061,57.647903651966601,-26.322029526092479,7,40.280419580419576,94.741318150514331,-14.180478989675187,131.97916666666666,248.79319427232087,15.165139061012439,{"$error":"#DIV/0!"},{"$error":"#DIV/0!"},{"$error":"#DIV/0!"},100,47.631944444444443,98.930023925361255,-3.6661350364723688,1393.9583333333333,2254.7850775545112,533.1315891121551,{"$error":"#DIV/0!"},{"$error":"#DIV/0!"},{"$error":"#DIV/0!"},1967.3611111111111,2938.758335725001,995.96388649722132,5000,0,0,0,null,null,44580,null,null,null,null,null,null,null,null,null,null,null,null,null,null,1.9,13.4,95,7.7,1.0819672131147542,6.3,23,130,33.18,"",32,1600,"",2000,"",""]
[null,"57 Rönneå, vid utfl t Skälderviken","2022-02-09",3.9,12.7,95,7.4,0.57377049180327866,17,16,210,43.45,null,63,1800,null,2100,null,null,null,2022,2,null,null,null,null,10.59027777777778,12.52748503315132,8.6530705224042404,2.95,7.521875000000005,7.6941123088486991,7.3496376911513108,6.5,15.662937062937061,57.647903651966601,-26.322029526092479,7,40.280419580419576,94.741318150514331,-14.180478989675187,131.97916666666666,248.79319427232087,15.165139061012439,{"$error":"#DIV/0!"},{"$error":"#DIV/0!"},{"$error":"#DIV/0!"},100,47.631944444444443,98.930023925361255,-3.6661350364723688,1393.9583333333333,2254.7850775545112,533.1315891121551,{"$error":"#DIV/0!"},{"$error":"#DIV/0!"},{"$error":"#DIV/0!"},1967.3611111111111,2938.758335725001,995.96388649722132,5000,0,0,0,null,null,44601,null,null,null,null,null,null,null,null,null,null,null,null,null,null,3.9,12.7,95,7.4,0.57377049180327866,17,16,210,43.45,"",63,1800,"",2100,"",""]
[null,"57 Rönneå, vid utfl t Skälderviken","2022-03-16",4.7,12.8,97,7.6,1.098360655737705,6.5,23,110,32.39,"",34,1500,null,2000,"","",null,2022,3,null,null,null,null,10.59027777777778,12.52748503315132,8.6530705224042404,2.95,7.521875000000005,7.6941123088486991,7.3496376911513108,6.5,15.662937062937061,57.647903651966601,-26.322029526092479,7,40.280419580419576,94.741318150514331,-14.180478989675187,131.97916666666666,248.79319427232087,15.165139061012439,{"$error":"#DIV/0!"},{"$error":"#DIV/0!"},{"$error":"#DIV/0!"},100,47.631944444444443,98.930023925361255,-3.6661350364723688,1393.9583333333333,2254.7850775545112,533.1315891121551,{"$error":"#DIV/0!"},{"$error":"#DIV/0!"},{"$error":"#DIV/0!"},1967.3611111111111,2938.758335725001,995.96388649722132,5000,0,0,0,null,null,44636,null,null,null,null,null,null,null,null,null,null,null,null,null,null,4.7,12.8,97,7.6,1.098360655737705,6.5,23,110,32.39,"",34,1500,"",2000,"",""]
[null,"57 Rönneå, vid utfl t Skälderviken","2022-04-22",11.4,10.4,94,7.7,1.0819672131147542,4.9000000000000004,24,85,31.995000000000001,null,35,1500,null,1900,null,null,null,2022,4,null,null,null,null,10.59027777777778,12.52748503315132,8.6530705224042404,2.95,7.521875000000005,7.6941123088486991,7.3496376911513108,6.5,15.662937062937061,57.647903651966601,-26.322029526092479,7,40.280419580419576,94.741318150514331,-14.180478989675187,131.97916666666666,248.79319427232087,15.165139061012439,{"$error":"#DIV/0!"},{"$error":"#DIV/0!"},{"$error":"#DIV/0!"},100,47.631944444444443,98.930023925361255,-3.6661350364723688,1393.9583333333333,2254.7850775545112,533.1315891121551,{"$error":"#DIV/0!"},{"$error":"#DIV/0!"},{"$error":"#DIV/0!"},1967.3611111111111,2938.758335725001,995.96388649722132,5000,0,0,0,null,null,44673,null,null,null,null,null,null,null,null,null,null,null,null,null,null,11.4,10.4,94,7.7,1.0819672131147542,4.9000000000000004,24,85,31.995000000000001,"",35,1500,"",1900,"",""]
[null,"57 Rönneå, vid utfl t Skälderviken","2022-05-16",14.8,9.4,93,7.8,1.098360655737705,4,26,110,39.5,null,35,1500,null,1900,null,null,null,2022,5,null,null,null,null,10.59027777777778,12.52748503315132,8.6530705224042404,2.95,7.521875000000005,7.6941123088486991,7.3496376911513108,6.5,15.662937062937061,57.647903651966601,-26.322029526092479,7,40.280419580419576,94.741318150514331,-14.180478989675187,131.97916666666666,248.79319427232087,15.165139061012439,{"$error":"#DIV/0!"},{"$error":"#DIV/0!"},{"$error":"#DIV/0!"},100,47.631944444444443,98.930023925361255,-3.6661350364723688,1393.9583333333333,2254.7850775545112,533.1315891121551,{"$error":"#DIV/0!"},{"$error":"#DIV/0!"},{"$error":"#DIV/0!"},1967.3611111111111,2938.758335725001,995.96388649722132,5000,0,0,0,null,null,44697,null,null,null,null,null,null,null,null,null,null,null,null,null,null,14.8,9.4,93,7.8,1.098360655737705,4,26,110,39.5,"",35,1500,"",1900,"",""]
[null,"57 Rönneå, vid utfl t Skälderviken","2022-06-17",18.100000000000001,8.3000000000000007,86,7.8,1.2131147540983607,6,28,100,51.35,null,32,1400,null,1700,null,null,null,2022,6,null,null,null,null,10.59027777777778,12.52748503315132,8.6530705224042404,2.95,7.521875000000005,7.6941123088486991,7.3496376911513108,6.5,15.662937062937061,57.647903651966601,-26.322029526092479,7,40.280419580419576,94.741318150514331,-14.180478989675187,131.97916666666666,248.79319427232087,15.165139061012439,{"$error":"#DIV/0!"},{"$error":"#DIV/0!"},{"$error":"#DIV/0!"},100,47.631944444444443,98.930023925361255,-3.6661350364723688,1393.9583333333333,2254.7850775545112,533.1315891121551,{"$error":"#DIV/0!"},{"$error":"#DIV/0!"},{"$error":"#DIV/0!"},1967.3611111111111,2938.758335725001,995.96388649722132,5000,0,0,0,null,null,44729,null,null,null,null,null,null,null,null,null,null,null,null,null,null,18.100000000000001,8.3000000000000007,86,7.8,1.2131147540983607,6,28,100,51.35,"",32,1400,"",1700,"",""]
[null,"57 Rönneå, vid utfl t Skälderviken","2022-07-08",18.7,7.3,77,7.7,1.2131147540983607,3.4,99,68,36.339999999999996,null,43,1100,null,1500,null,null,null,2022,7,null,null,null,null,10.59027777777778,12.52748503315132,8.6530705224042404,2.95,7.521875000000005,7.6941123088486991,7.3496376911513108,6.5,15.662937062937061,57.647903651966601,-26.322029526092479,7,40.280419580419576,94.741318150514331,-14.180478989675187,131.97916666666666,248.79319427232087,15.165139061012439,{"$error":"#DIV/0!"},{"$error":"#DIV/0!"},{"$error":"#DIV/0!"},100,47.631944444444443,98.930023925361255,-3.6661350364723688,1393.9583333333333,2254.7850775545112,533.1315891121551,{"$error":"#DIV/0!"},{"$error":"#DIV/0!"},{"$error":"#DIV/0!"},1967.3611111111111,2938.758335725001,995.96388649722132,5000,0,0,0,null,null,44750,null,null,null,null,null,null,null,null,null,null,null,null,null,null,18.7,7.3,77,7.7,1.2131147540983607,3.4,99,68,36.339999999999996,"",43,1100,"",1500,"",""]
[null,"57 Rönneå, vid utfl t Skälderviken","2022-08-24",20.7,7.9,87,7.7,1.61,2.6,340,37,35.549999999999997,null,25,1000,null,1400,null,null,null,2022,8,null,null,null,null,10.59027777777778,12.52748503315132,8.6530705224042404,2.95,7.521875000000005,7.6941123088486991,7.3496376911513108,6.5,15.662937062937061,57.647903651966601,-26.322029526092479,7,40.280419580419576,94.741318150514331,-14.180478989675187,131.97916666666666,248.79319427232087,15.165139061012439,{"$error":"#DIV/0!"},{"$error":"#DIV/0!"},{"$error":"#DIV/0!"},100,47.631944444444443,98.930023925361255,-3.6661350364723688,1393.9583333333333,2254.7850775545112,533.1315891121551,{"$error":"#DIV/0!"},{"$error":"#DIV/0!"},{"$error":"#DIV/0!"},1967.3611111111111,2938.758335725001,995.96388649722132,5000,0,0,0,null,null,44797,null,null,null,null,null,null,null,null,null,null,null,null,null,null,20.7,7.9,87,7.7,1.61,2.6,340,37,35.549999999999997,"",25,1000,"",1400,"",""]
[null,"57 Rönneå, vid utfl t Skälderviken","2022-09-20",13.6,8,76,8,1.5737704918032787,3,180,44,31.6,null,31,230,null,1600,null,null,null,2022,9,null,null,null,null,10.59027777777778,12.52748503315132,8.6530705224042404,2.95,7.521875000000005,7.6941123088486991,7.3496376911513108,6.5,15.662937062937061,57.647903651966601,-26.322029526092479,7,40.280419580419576,94.741318150514331,-14.180478989675187,131.97916666666666,248.79319427232087,15.165139061012439,{"$error":"#DIV/0!"},{"$error":"#DIV/0!"},{"$error":"#DIV/0!"},100,47.631944444444443,98.930023925361255,-3.6661350364723688,1393.9583333333333,2254.7850775545112,533.1315891121551,{"$error":"#DIV/0!"},{"$error":"#DIV/0!"},{"$error":"#DIV/0!"},1967.3611111111111,2938.758335725001,995.96388649722132,5000,0,0,0,null,null,44824,null,null,null,null,null,null,null,null,null,null,null,null,null,null,13.6,8,76,8,1.5737704918032787,3,180,44,31.6,"",31,230,"",1600,"",""]
[null,"57 Rönneå, vid utfl t Skälderviken","2022-10-19",11.1,8.9,78,7.7,1.3114754098360655,3.2,72,85,43.45,null,28,1400,null,1700,null,null,null,2022,10,null,null,null,null,10.59027777777778,12.52748503315132,8.6530705224042404,2.95,7.521875000000005,7.6941123088486991,7.3496376911513108,6.5,15.662937062937061,57.647903651966601,-26.322029526092479,7,40.280419580419576,94.741318150514331,-14.180478989675187,131.97916666666666,248.79319427232087,15.165139061012439,{"$error":"#DIV/0!"},{"$error":"#DIV/0!"},{"$error":"#DIV/0!"},100,47.631944444444443,98.930023925361255,-3.6661350364723688,1393.9583333333333,2254.7850775545112,533.1315891121551,{"$error":"#DIV/0!"},{"$error":"#DIV/0!"},{"$error":"#DIV/0!"},1967.3611111111111,2938.758335725001,995.96388649722132,5000,0,0,0,null,null,44853,null,null,null,null,null,null,null,null,null,null,null,null,null,null,11.1,8.9,78,7.7,1.3114754098360655,3.2,72,85,43.45,"",28,1400,"",1700,"",""]
[null,"57 Rönneå, vid utfl t Skälderviken","2022-11-17",8.5,9.8000000000000007,83,7.7,1.2622950819672132,null,null,110,33.97,null,52,1400,null,1600,null,null,"Resultat för konduktivitet och turbiditet saknas pga labtekniskt misstag",2022,11,null,null,null,null,10.59027777777778,12.52748503315132,8.6530705224042404,2.95,7.521875000000005,7.6941123088486991,7.3496376911513108,6.5,15.662937062937061,57.647903651966601,-26.322029526092479,7,40.280419580419576,94.741318150514331,-14.180478989675187,131.97916666666666,248.79319427232087,15.165139061012439,{"$error":"#DIV/0!"},{"$error":"#DIV/0!"},{"$error":"#DIV/0!"},100,47.631944444444443,98.930023925361255,-3.6661350364723688,1393.9583333333333,2254.7850775545112,533.1315891121551,{"$error":"#DIV/0!"},{"$error":"#DIV/0!"},{"$error":"#DIV/0!"},1967.3611111111111,2938.758335725001,995.96388649722132,5000,0,0,0,null,null,44882,null,null,null,null,null,null,null,null,null,null,null,null,null,null,8.5,9.8000000000000007,83,7.7,1.2622950819672132,"","",110,33.97,"",52,1400,"",1600,"",""]
[null,"57 Rönneå, vid utfl t Skälderviken","2022-12-21",0.9,12.9,90,7.6,1.2295081967213115,28,36,140,39.105000000000004,null,85,2700,null,3300,null,null,null,2022,12,null,null,null,null,10.59027777777778,12.52748503315132,8.6530705224042404,2.95,7.521875000000005,7.6941123088486991,7.3496376911513108,6.5,15.662937062937061,57.647903651966601,-26.322029526092479,7,40.280419580419576,94.741318150514331,-14.180478989675187,131.97916666666666,248.79319427232087,15.165139061012439,{"$error":"#DIV/0!"},{"$error":"#DIV/0!"},{"$error":"#DIV/0!"},100,47.631944444444443,98.930023925361255,-3.6661350364723688,1393.9583333333333,2254.7850775545112,533.1315891121551,{"$error":"#DIV/0!"},{"$error":"#DIV/0!"},{"$error":"#DIV/0!"},1967.3611111111111,2938.758335725001,995.96388649722132,5000,0,0,0,null,null,44916,null,null,null,null,null,null,null,null,null,null,null,null,null,null,0.9,12.9,90,7.6,1.2295081967213115,28,36,140,39.105000000000004,"",85,2700,"",3300,"",""]
[null,"57 Rönneå, vid utfl t Skälderviken","2023-01-11",5.0999999999999996,11.7,92,7.2,0.52459016393442626,37,19,340,67.150000000000006,null,64,3100,null,3600,null,null,null,2023,1,null,null,null,null,10.59027777777778,12.52748503315132,8.6530705224042404,2.95,7.521875000000005,7.6941123088486991,7.3496376911513108,6.5,15.662937062937061,57.647903651966601,-26.322029526092479,7,40.280419580419576,94.741318150514331,-14.180478989675187,131.97916666666666,248.79319427232087,15.165139061012439,{"$error":"#DIV/0!"},{"$error":"#DIV/0!"},{"$error":"#DIV/0!"},100,47.631944444444443,98.930023925361255,-3.6661350364723688,1393.9583333333333,2254.7850775545112,533.1315891121551,{"$error":"#DIV/0!"},{"$error":"#DIV/0!"},{"$error":"#DIV/0!"},1967.3611111111111,2938.758335725001,995.96388649722132,5000,0,0,0,null,null,44937,null,null,null,null,null,null,null,null,null,null,null,null,null,null,5.0999999999999996,11.7,92,7.2,0.52459016393442626,37,19,340,67.150000000000006,"",64,3100,"",3600,"",""]
[null,"57 Rönneå, vid utfl t Skälderviken","2023-02-15",3.8,13,96,7.6,0.86885245901639341,5.5,23,120,51.35,null,36,1800,null,2100,null,null,null,2023,2,null,null,null,null,10.59027777777778,12.52748503315132,8.6530705224042404,2.95,7.521875000000005,7.6941123088486991,7.3496376911513108,6.5,15.662937062937061,57.647903651966601,-26.322029526092479,7,40.280419580419576,94.741318150514331,-14.180478989675187,131.97916666666666,248.79319427232087,15.165139061012439,{"$error":"#DIV/0!"},{"$error":"#DIV/0!"},{"$error":"#DIV/0!"},100,47.631944444444443,98.930023925361255,-3.6661350364723688,1393.9583333333333,2254.7850775545112,533.1315891121551,{"$error":"#DIV/0!"},{"$error":"#DIV/0!"},{"$error":"#DIV/0!"},1967.3611111111111,2938.758335725001,995.96388649722132,5000,0,0,0,null,null,44972,null,null,null,null,null,null,null,null,null,null,null,null,null,null,3.8,13,96,7.6,0.86885245901639341,5.5,23,120,51.35,"",36,1800,"",2100,"",""]
[null,"57 Rönneå, vid utfl t Skälderviken","2023-03-15",3.9,12.3,90,7.7,0.67213114754098358,28,19,290,59.25,null,77,2000,null,2700,null,null,null,2023,3,null,null,null,null,10.59027777777778,12.52748503315132,8.6530705224042404,2.95,7.521875000000005,7.6941123088486991,7.3496376911513108,6.5,15.662937062937061,57.647903651966601,-26.322029526092479,7,40.280419580419576,94.741318150514331,-14.180478989675187,131.97916666666666,248.79319427232087,15.165139061012439,{"$error":"#DIV/0!"},{"$error":"#DIV/0!"},{"$error":"#DIV/0!"},100,47.631944444444443,98.930023925361255,-3.6661350364723688,1393.9583333333333,2254.7850775545112,533.1315891121551,{"$error":"#DIV/0!"},{"$error":"#DIV/0!"},{"$error":"#DIV/0!"},1967.3611111111111,2938.758335725001,995.96388649722132,5000,0,0,0,null,null,45000,null,null,null,null,null,null,null,null,null,null,null,null,null,null,3.9,12.3,90,7.7,0.67213114754098358,28,19,290,59.25,"",77,2000,"",2700,"",""]
[null,"57 Rönneå, vid utfl t Skälderviken","2023-04-14",8.8000000000000007,11.3,96,7.7,1.0327868852459017,5.2,23,82,55.300000000000004,null,23,1200,null,1600,null,null,null,2023,4,null,null,null,null,10.59027777777778,12.52748503315132,8.6530705224042404,2.95,7.521875000000005,7.6941123088486991,7.3496376911513108,6.5,15.662937062937061,57.647903651966601,-26.322029526092479,7,40.280419580419576,94.741318150514331,-14.180478989675187,131.97916666666666,248.79319427232087,15.165139061012439,{"$error":"#DIV/0!"},{"$error":"#DIV/0!"},{"$error":"#DIV/0!"},100,47.631944444444443,98.930023925361255,-3.6661350364723688,1393.9583333333333,2254.7850775545112,533.1315891121551,{"$error":"#DIV/0!"},{"$error":"#DIV/0!"},{"$error":"#DIV/0!"},1967.3611111111111,2938.758335725001,995.96388649722132,5000,0,0,0,null,null,45030,null,null,null,null,null,null,null,null,null,null,null,null,null,null,8.8000000000000007,11.3,96,7.7,1.0327868852459017,5.2,23,82,55.300000000000004,"",23,1200,"",1600,"",""]
[null,"57 Rönneå, vid utfl t Skälderviken","2023-05-10",13.5,9.5,91,7.8,1.1639344262295082,3.7,79,83,33.18,null,24,1700,null,2200,null,null,null,2023,5,null,null,null,null,10.59027777777778,12.52748503315132,8.6530705224042404,2.95,7.521875000000005,7.6941123088486991,7.3496376911513108,6.5,15.662937062937061,57.647903651966601,-26.322029526092479,7,40.280419580419576,94.741318150514331,-14.180478989675187,131.97916666666666,248.79319427232087,15.165139061012439,{"$error":"#DIV/0!"},{"$error":"#DIV/0!"},{"$error":"#DIV/0!"},100,47.631944444444443,98.930023925361255,-3.6661350364723688,1393.9583333333333,2254.7850775545112,533.1315891121551,{"$error":"#DIV/0!"},{"$error":"#DIV/0!"},{"$error":"#DIV/0!"},1967.3611111111111,2938.758335725001,995.96388649722132,5000,0,0,0,null,null,45056,null,null,null,null,null,null,null,null,null,null,null,null,null,null,13.5,9.5,91,7.8,1.1639344262295082,3.7,79,83,33.18,"",24,1700,"",2200,"",""]
[null,"57 Rönneå, vid utfl t Skälderviken","2023-06-14",20.100000000000001,8.5,94,7.9,1.4918032786885247,1.9,150,44,27.650000000000002,null,25,1300,null,1600,null,null,null,2023,6,null,null,null,null,10.59027777777778,12.52748503315132,8.6530705224042404,2.95,7.521875000000005,7.6941123088486991,7.3496376911513108,6.5,15.662937062937061,57.647903651966601,-26.322029526092479,7,40.280419580419576,94.741318150514331,-14.180478989675187,131.97916666666666,248.79319427232087,15.165139061012439,{"$error":"#DIV/0!"},{"$error":"#DIV/0!"},{"$error":"#DIV/0!"},100,47.631944444444443,98.930023925361255,-3.6661350364723688,1393.9583333333333,2254.7850775545112,533.1315891121551,{"$error":"#DIV/0!"},{"$error":"#DIV/0!"},{"$error":"#DIV/0!"},1967.3611111111111,2938.758335725001,995.96388649722132,5000,0,0,0,null,null,45091,null,null,null,null,null,null,null,null,null,null,null,null,null,null,20.100000000000001,8.5,94,7.9,1.4918032786885247,1.9,150,44,27.650000000000002,"",25,1300,"",1600,"",""]
[null,"57 Rönneå, vid utfl t Skälderviken","2023-07-12",19.100000000000001,7.4,80,7.7,1.278688524590164,3.9,330,60,26.07,null,39,1100,null,1400,null,null,null,2023,7,null,null,null,null,10.59027777777778,12.52748503315132,8.6530705224042404,2.95,7.521875000000005,7.6941123088486991,7.3496376911513108,6.5,15.662937062937061,57.647903651966601,-26.322029526092479,7,40.280419580419576,94.741318150514331,-14.180478989675187,131.97916666666666,248.79319427232087,15.165139061012439,{"$error":"#DIV/0!"},{"$error":"#DIV/0!"},{"$error":"#DIV/0!"},100,47.631944444444443,98.930023925361255,-3.6661350364723688,1393.9583333333333,2254.7850775545112,533.1315891121551,{"$error":"#DIV/0!"},{"$error":"#DIV/0!"},{"$error":"#DIV/0!"},1967.3611111111111,2938.758335725001,995.96388649722132,5000,0,0,0,null,null,45119,null,null,null,null,null,null,null,null,null,null,null,null,null,null,19.100000000000001,7.4,80,7.7,1.278688524590164,3.9,330,60,26.07,"",39,1100,"",1400,"",""]
[null,"57 Rönneå, vid utfl t Skälderviken","2023-08-14",17.3,5.9,62,7.1,0.4098360655737705,7.2,15,270,106.65,null,53,990,null,1800,null,null,null,2023,8,null,null,null,null,10.59027777777778,12.52748503315132,8.6530705224042404,2.95,7.521875000000005,7.6941123088486991,7.3496376911513108,6.5,15.662937062937061,57.647903651966601,-26.322029526092479,7,40.280419580419576,94.741318150514331,-14.180478989675187,131.97916666666666,248.79319427232087,15.165139061012439,{"$error":"#DIV/0!"},{"$error":"#DIV/0!"},{"$error":"#DIV/0!"},100,47.631944444444443,98.930023925361255,-3.6661350364723688,1393.9583333333333,2254.7850775545112,533.1315891121551,{"$error":"#DIV/0!"},{"$error":"#DIV/0!"},{"$error":"#DIV/0!"},1967.3611111111111,2938.758335725001,995.96388649722132,5000,0,0,0,null,null,45152,null,null,null,null,null,null,null,null,null,null,null,null,null,null,17.3,5.9,62,7.1,0.4098360655737705,7.2,15,270,106.65,"",53,990,"",1800,"",""]
[null,"57 Rönneå, vid utfl t Skälderviken","2023-09-13",17.899999999999999,7,74,7.5,1.098360655737705,5.2,29,170,43.45,null,41,1700,null,2300,null,null,null,2023,9,null,null,null,null,{"$f":"$E$157","v":10.59027777777778},{"$f":"AA138+E$158","v":12.52748503315132},{"$f":"AA138-E$158","v":8.6530705224042404},2.95,{"$f":"$G$157","v":7.521875000000005},{"$f":"AE138+G$158","v":7.6941123088486991},{"$f":"AE138-G$158","v":7.3496376911513108},6.5,{"$f":"$I$157","v":15.662937062937061},{"$f":"AI138+I$158","v":57.647903651966601},{"$f":"AI138-I$158","v":-26.322029526092479},7,{"$f":"$J$157","v":40.280419580419576},{"$f":"AM138+J$158","v":94.741318150514331},{"$f":"AM138-J$158","v":-14.180478989675187},{"$f":"$K$157","v":131.97916666666666},{"$f":"AP138+K$158","v":248.79319427232087},{"$f":"AP138-K$158","v":15.165139061012439},{"$f":"$M$157","v":{"$error":"#DIV/0!"}},{"$f":"AS138+$M$158","v":{"$error":"#DIV/0!"}},{"$f":"AS138-$M$158","v":{"$error":"#DIV/0!"}},100,{"$f":"$N$157","v":47.631944444444443},{"$f":"AW138+$N$158","v":98.930023925361255},{"$f":"AW138-$N$158","v":-3.6661350364723688},{"$f":"$O$157","v":1393.9583333333333},{"$f":"AZ138+$O$158","v":2254.7850775545112},{"$f":"AZ138-$O$158","v":533.1315891121551},{"$f":"$P$157","v":{"$error":"#DIV/0!"}},{"$f":"BC138+$P$158","v":{"$error":"#DIV/0!"}},{"$f":"BC138-$P$158","v":{"$error":"#DIV/0!"}},{"$f":"$Q$157","v":1967.3611111111111},{"$f":"BF138+$Q$158","v":2938.758335725001},{"$f":"BF138-$Q$158","v":995.96388649722132},5000,{"$f":"$T$157","v":0},{"$f":"BJ138+$T$158","v":0},{"$f":"BJ138-$T$158","v":0},null,null,{"$f":"C138","v":45182},null,null,null,null,null,null,null,null,null,null,null,null,null,null,{"$f":"IF(D138=\"\",\"\",IF(OR(LEFT(D138,1)=\"<\",LEFT(D138,1)=\">\"),VALUE(MID(D138,2,3)),D138))","v":17.899999999999999},{"$f":"IF(E138=\"\",\"\",IF(OR(LEFT(E138,1)=\"<\",LEFT(E138,1)=\">\"),VALUE(MID(E138,2,3)),E138))","v":7},{"$f":"IF(F138=\"\",\"\",IF(OR(LEFT(F138,1)=\"<\",LEFT(F138,1)=\">\"),VALUE(MID(F138,2,3)),F138))","v":74},{"$f":"IF(G138=\"\",\"\",IF(OR(LEFT(G138,1)=\"<\",LEFT(G138,1)=\">\"),VALUE(MID(G138,2,3)),G138))","v":7.5},{"$f":"IF(H138=\"\",\"\",IF(OR(LEFT(H138,1)=\"<\",LEFT(H138,1)=\">\"),VALUE(MID(H138,2,3)),H138))","v":1.098360655737705},{"$f":"IF(I138=\"\",\"\",IF(OR(LEFT(I138,1)=\"<\",LEFT(I138,1)=\">\"),VALUE(MID(I138,2,3)),I138))","v":5.2},{"$f":"IF(J138=\"\",\"\",IF(OR(LEFT(J138,1)=\"<\",LEFT(J138,1)=\">\"),VALUE(MID(J138,2,3)),J138))","v":29},{"$f":"IF(K138=\"\",\"\",IF(OR(LEFT(K138,1)=\"<\",LEFT(K138,1)=\">\"),VALUE(MID(K138,2,3)),K138))","v":170},{"$f":"IF(L138=\"\",\"\",IF(OR(LEFT(L138,1)=\"<\",LEFT(L138,1)=\">\"),VALUE(MID(L138,2,3)),L138))","v":43.45},{"$f":"IF(M138=\"\",\"\",IF(OR(LEFT(M138,1)=\"<\",LEFT(M138,1)=\">\"),VALUE(MID(M138,2,3)),M138))","v":""},{"$f":"IF(N138=\"\",\"\",IF(OR(LEFT(N138,1)=\"<\",LEFT(N138,1)=\">\"),VALUE(MID(N138,2,3)),N138))","v":41},{"$f":"IF(O138=\"\",\"\",IF(OR(LEFT(O138,1)=\"<\",LEFT(O138,1)=\">\"),VALUE(MID(O138,2,3)),O138))","v":1700},{"$f":"IF(P138=\"\",\"\",IF(OR(LEFT(P138,1)=\"<\",LEFT(P138,1)=\">\"),VALUE(MID(P138,2,3)),P138))","v":""},{"$f":"IF(Q138=\"\",\"\",IF(OR(LEFT(Q138,1)=\"<\",LEFT(Q138,1)=\">\"),VALUE(MID(Q138,2,3)),Q138))","v":2300},{"$f":"IF(R138=\"\",\"\",IF(OR(LEFT(R138,1)=\"<\",LEFT(R138,1)=\">\"),VALUE(MID(R138,2,3)),R138))","v":""},{"$f":"IF(S138=\"\",\"\",IF(OR(LEFT(S138,1)=\"<\",LEFT(S138,1)=\">\"),VALUE(MID(S138,2,3)),S138))","v":""}]
[null,"57 Rönneå, vid utfl t Skälderviken","2023-10-18",9.5,10.1,88,7.5,0.68852459016393441,7,20,280,106.65,null,48,1600,null,2100,null,null,null,2023,10,null,null,null,null,10.59027777777778,12.52748503315132,8.6530705224042404,2.95,7.521875000000005,7.6941123088486991,7.3496376911513108,6.5,15.662937062937061,57.647903651966601,-26.322029526092479,7,40.280419580419576,94.741318150514331,-14.180478989675187,131.97916666666666,248.79319427232087,15.165139061012439,{"$error":"#DIV/0!"},{"$error":"#DIV/0!"},{"$error":"#DIV/0!"},100,47.631944444444443,98.930023925361255,-3.6661350364723688,1393.9583333333333,2254.7850775545112,533.1315891121551,{"$error":"#DIV/0!"},{"$error":"#DIV/0!"},{"$error":"#DIV/0!"},1967.3611111111111,2938.758335725001,995.96388649722132,5000,0,0,0,null,null,45217,null,null,null,null,null,null,null,null,null,null,null,null,null,null,9.5,10.1,88,7.5,0.68852459016393441,7,20,280,106.65,"",48,1600,"",2100,"",""]
[null,"57 Rönneå, vid utfl t Skälderviken","2023-11-15",5.9,11.4,92,7.5,0.78688524590163933,16,20,260,71.100000000000009,null,45,1400,null,2000,null,null,null,2023,11,null,null,null,null,10.59027777777778,12.52748503315132,8.6530705224042404,2.95,7.521875000000005,7.6941123088486991,7.3496376911513108,6.5,15.662937062937061,57.647903651966601,-26.322029526092479,7,40.280419580419576,94.741318150514331,-14.180478989675187,131.97916666666666,248.79319427232087,15.165139061012439,{"$error":"#DIV/0!"},{"$error":"#DIV/0!"},{"$error":"#DIV/0!"},100,47.631944444444443,98.930023925361255,-3.6661350364723688,1393.9583333333333,2254.7850775545112,533.1315891121551,{"$error":"#DIV/0!"},{"$error":"#DIV/0!"},{"$error":"#DIV/0!"},1967.3611111111111,2938.758335725001,995.96388649722132,5000,0,0,0,null,null,45245,null,null,null,null,null,null,null,null,null,null,null,null,null,null,5.9,11.4,92,7.5,0.78688524590163933,16,20,260,71.100000000000009,"",45,1400,"",2000,"",""]
[null,"57 Rönneå, vid utfl t Skälderviken","2023-12-13",2.7,12.7,94.2,7.5,0.88524590163934425,5.8,21,140,59.25,null,41,1300,null,1900,null,null,null,2023,12,null,null,null,null,10.59027777777778,12.52748503315132,8.6530705224042404,2.95,7.521875000000005,7.6941123088486991,7.3496376911513108,6.5,15.662937062937061,57.647903651966601,-26.322029526092479,7,40.280419580419576,94.741318150514331,-14.180478989675187,131.97916666666666,248.79319427232087,15.165139061012439,{"$error":"#DIV/0!"},{"$error":"#DIV/0!"},{"$error":"#DIV/0!"},100,47.631944444444443,98.930023925361255,-3.6661350364723688,1393.9583333333333,2254.7850775545112,533.1315891121551,{"$error":"#DIV/0!"},{"$error":"#DIV/0!"},{"$error":"#DIV/0!"},1967.3611111111111,2938.758335725001,995.96388649722132,5000,0,0,0,null,null,45273,null,null,null,null,null,null,null,null,null,null,null,null,null,null,2.7,12.7,94.2,7.5,0.88524590163934425,5.8,21,140,59.25,"",41,1300,"",1900,"",""]
[null,"57 Rönneå, vid utfl t Skälderviken","2024-01-16",0.1,14,96,7.2,0.59,3.8,15.4,150,51.35,"",22,800,"",1500,"","","",2024,1,null,null,null,null,10.59027777777778,12.52748503315132,8.6530705224042404,2.95,7.521875000000005,7.6941123088486991,7.3496376911513108,6.5,15.662937062937061,57.647903651966601,-26.322029526092479,7,40.280419580419576,94.741318150514331,-14.180478989675187,131.97916666666666,248.79319427232087,15.165139061012439,{"$error":"#DIV/0!"},{"$error":"#DIV/0!"},{"$error":"#DIV/0!"},100,47.631944444444443,98.930023925361255,-3.6661350364723688,1393.9583333333333,2254.7850775545112,533.1315891121551,{"$error":"#DIV/0!"},{"$error":"#DIV/0!"},{"$error":"#DIV/0!"},1967.3611111111111,2938.758335725001,995.96388649722132,5000,0,0,0,null,null,45307,null,null,null,null,null,null,null,null,null,null,null,null,null,null,0.1,14,96,7.2,0.59,3.8,15.4,150,51.35,"",22,800,"",1500,"",""]
[null,"57 Rönneå, vid utfl t Skälderviken","2024-02-15",4.4000000000000004,11.9,92,7.3,0.79,9.3000000000000007,18.3,220,43.45,"",31,1200,"",1800,"","","",2024,2,null,null,null,null,10.59027777777778,12.52748503315132,8.6530705224042404,2.95,7.521875000000005,7.6941123088486991,7.3496376911513108,6.5,15.662937062937061,57.647903651966601,-26.322029526092479,7,40.280419580419576,94.741318150514331,-14.180478989675187,131.97916666666666,248.79319427232087,15.165139061012439,{"$error":"#DIV/0!"},{"$error":"#DIV/0!"},{"$error":"#DIV/0!"},100,47.631944444444443,98.930023925361255,-3.6661350364723688,1393.9583333333333,2254.7850775545112,533.1315891121551,{"$error":"#DIV/0!"},{"$error":"#DIV/0!"},{"$error":"#DIV/0!"},1967.3611111111111,2938.758335725001,995.96388649722132,5000,0,0,0,null,null,45337,null,null,null,null,null,null,null,null,null,null,null,null,null,null,4.4000000000000004,11.9,92,7.3,0.79,9.3000000000000007,18.3,220,43.45,"",31,1200,"",1800,"",""]
[null,"57 Rönneå, vid utfl t Skälderviken","2024-03-14",6.3,12.2,99,7.3,0.93,5.6,18.2,100,38.710000000000008,"",29,1000,"",1600,"","","",2024,3,null,null,null,null,10.59027777777778,12.52748503315132,8.6530705224042404,2.95,7.521875000000005,7.6941123088486991,7.3496376911513108,6.5,15.662937062937061,57.647903651966601,-26.322029526092479,7,40.280419580419576,94.741318150514331,-14.180478989675187,131.97916666666666,248.79319427232087,15.165139061012439,{"$error":"#DIV/0!"},{"$error":"#DIV/0!"},{"$error":"#DIV/0!"},100,47.631944444444443,98.930023925361255,-3.6661350364723688,1393.9583333333333,2254.7850775545112,533.1315891121551,{"$error":"#DIV/0!"},{"$error":"#DIV/0!"},{"$error":"#DIV/0!"},1967.3611111111111,2938.758335725001,995.96388649722132,5000,0,0,0,null,null,45365,null,null,null,null,null,null,null,null,null,null,null,null,null,null,6.3,12.2,99,7.3,0.93,5.6,18.2,100,38.710000000000008,"",29,1000,"",1600,"",""]
[null,"57 Rönneå, vid utfl t Skälderviken","2024-04-18",9.8000000000000007,10.8,96,7.5,0.98,5.0999999999999996,20.7,150,21.330000000000002,"",35,1000,"",1500,"","","",2024,4,null,null,null,null,10.59027777777778,12.52748503315132,8.6530705224042404,2.95,7.521875000000005,7.6941123088486991,7.3496376911513108,6.5,15.662937062937061,57.647903651966601,-26.322029526092479,7,40.280419580419576,94.741318150514331,-14.180478989675187,131.97916666666666,248.79319427232087,15.165139061012439,{"$error":"#DIV/0!"},{"$error":"#DIV/0!"},{"$error":"#DIV/0!"},100,47.631944444444443,98.930023925361255,-3.6661350364723688,1393.9583333333333,2254.7850775545112,533.1315891121551,{"$error":"#DIV/0!"},{"$error":"#DIV/0!"},{"$error":"#DIV/0!"},1967.3611111111111,2938.758335725001,995.96388649722132,5000,0,0,0,null,null,45400,null,null,null,null,null,null,null,null,null,null,null,null,null,null,9.8000000000000007,10.8,96,7.5,0.98,5.0999999999999996,20.7,150,21.330000000000002,"",35,1000,"",1500,"",""]
[null,"57 Rönneå, vid utfl t Skälderviken","2024-05-16",19.600000000000001,8.9,97,7.5,1.2,6,26.5,140,43.45,"",37,1400,"",2000,"","","",2024,5,null,null,null,null,10.59027777777778,12.52748503315132,8.6530705224042404,2.95,7.521875000000005,7.6941123088486991,7.3496376911513108,6.5,15.662937062937061,57.647903651966601,-26.322029526092479,7,40.280419580419576,94.741318150514331,-14.180478989675187,131.97916666666666,248.79319427232087,15.165139061012439,{"$error":"#DIV/0!"},{"$error":"#DIV/0!"},{"$error":"#DIV/0!"},100,47.631944444444443,98.930023925361255,-3.6661350364723688,1393.9583333333333,2254.7850775545112,533.1315891121551,{"$error":"#DIV/0!"},{"$error":"#DIV/0!"},{"$error":"#DIV/0!"},1967.3611111111111,2938.758335725001,995.96388649722132,5000,0,0,0,null,null,45428,null,null,null,null,null,null,null,null,null,null,null,null,null,null,19.600000000000001,8.9,97,7.5,1.2,6,26.5,140,43.45,"",37,1400,"",2000,"",""]
[null,"57 Rönneå, vid utfl t Skälderviken","2024-06-12",14.8,9.1999999999999993,91,7.5,1.2,16,24.8,250,47.400000000000006,"",57,1500,"",2000,"","","",2024,6,null,null,null,null,10.59027777777778,12.52748503315132,8.6530705224042404,2.95,7.521875000000005,7.6941123088486991,7.3496376911513108,6.5,15.662937062937061,57.647903651966601,-26.322029526092479,7,40.280419580419576,94.741318150514331,-14.180478989675187,131.97916666666666,248.79319427232087,15.165139061012439,{"$error":"#DIV/0!"},{"$error":"#DIV/0!"},{"$error":"#DIV/0!"},100,47.631944444444443,98.930023925361255,-3.6661350364723688,1393.9583333333333,2254.7850775545112,533.1315891121551,{"$error":"#DIV/0!"},{"$error":"#DIV/0!"},{"$error":"#DIV/0!"},1967.3611111111111,2938.758335725001,995.96388649722132,5000,0,0,0,null,null,45455,null,null,null,null,null,null,null,null,null,null,null,null,null,null,14.8,9.1999999999999993,91,7.5,1.2,16,24.8,250,47.400000000000006,"",57,1500,"",2000,"",""]
[null,"57 Rönneå, vid utfl t Skälderviken","2024-07-09",17.600000000000001,9.1,95,7.4,1.1000000000000001,8.4,23.3,200,47.400000000000006,"",53,1000,"",1700,"","","",2024,7,null,null,null,null,10.59027777777778,12.52748503315132,8.6530705224042404,2.95,7.521875000000005,7.6941123088486991,7.3496376911513108,6.5,15.662937062937061,57.647903651966601,-26.322029526092479,7,40.280419580419576,94.741318150514331,-14.180478989675187,131.97916666666666,248.79319427232087,15.165139061012439,{"$error":"#DIV/0!"},{"$error":"#DIV/0!"},{"$error":"#DIV/0!"},100,47.631944444444443,98.930023925361255,-3.6661350364723688,1393.9583333333333,2254.7850775545112,533.1315891121551,{"$error":"#DIV/0!"},{"$error":"#DIV/0!"},{"$error":"#DIV/0!"},1967.3611111111111,2938.758335725001,995.96388649722132,5000,0,0,0,null,null,45482,null,null,null,null,null,null,null,null,null,null,null,null,null,null,17.600000000000001,9.1,95,7.4,1.1000000000000001,8.4,23.3,200,47.400000000000006,"",53,1000,"",1700,"",""]
[null,"57 Rönneå, vid utfl t Skälderviken","2024-08-14",21.2,9.6,108,7.4,1.2,5.2,32.799999999999997,50,33.18,"",37,1200,"",1700,"","","",2024,8,null,null,null,null,10.59027777777778,12.52748503315132,8.6530705224042404,2.95,7.521875000000005,7.6941123088486991,7.3496376911513108,6.5,15.662937062937061,57.647903651966601,-26.322029526092479,7,40.280419580419576,94.741318150514331,-14.180478989675187,131.97916666666666,248.79319427232087,15.165139061012439,{"$error":"#DIV/0!"},{"$error":"#DIV/0!"},{"$error":"#DIV/0!"},100,47.631944444444443,98.930023925361255,-3.6661350364723688,1393.9583333333333,2254.7850775545112,533.1315891121551,{"$error":"#DIV/0!"},{"$error":"#DIV/0!"},{"$error":"#DIV/0!"},1967.3611111111111,2938.758335725001,995.96388649722132,5000,0,0,0,null,null,45518,null,null,null,null,null,null,null,null,null,null,null,null,null,null,21.2,9.6,108,7.4,1.2,5.2,32.799999999999997,50,33.18,"",37,1200,"",1700,"",""]
[null,"57 Rönneå, vid utfl t Skälderviken","2024-09-18",15.7,10,101,7.4,1.4,3.9,114,65,31.205000000000002,"",29,1300,"",1600,"","","",2024,9,null,null,null,null,10.59027777777778,12.52748503315132,8.6530705224042404,2.95,7.521875000000005,7.6941123088486991,7.3496376911513108,6.5,15.662937062937061,57.647903651966601,-26.322029526092479,7,40.280419580419576,94.741318150514331,-14.180478989675187,131.97916666666666,248.79319427232087,15.165139061012439,{"$error":"#DIV/0!"},{"$error":"#DIV/0!"},{"$error":"#DIV/0!"},100,47.631944444444443,98.930023925361255,-3.6661350364723688,1393.9583333333333,2254.7850775545112,533.1315891121551,{"$error":"#DIV/0!"},{"$error":"#DIV/0!"},{"$error":"#DIV/0!"},1967.3611111111111,2938.758335725001,995.96388649722132,5000,0,0,0,null,null,45553,null,null,null,null,null,null,null,null,null,null,null,null,null,null,15.7,10,101,7.4,1.4,3.9,114,65,31.205000000000002,"",29,1300,"",1600,"",""]
[null,"57 Rönneå, vid utfl t Skälderviken","2024-11-19",6,9.1,73,7.4,1.4,5.9,29.9,100,34.760000000000005,"",36,1100,"",1600,"","","",2024,11,null,null,null,null,10.59027777777778,12.52748503315132,8.6530705224042404,2.95,7.521875000000005,7.6941123088486991,7.3496376911513108,6.5,15.662937062937061,57.647903651966601,-26.322029526092479,7,40.280419580419576,94.741318150514331,-14.180478989675187,131.97916666666666,248.79319427232087,15.165139061012439,{"$error":"#DIV/0!"},{"$error":"#DIV/0!"},{"$error":"#DIV/0!"},100,47.631944444444443,98.930023925361255,-3.6661350364723688,1393.9583333333333,2254.7850775545112,533.1315891121551,{"$error":"#DIV/0!"},{"$error":"#DIV/0!"},{"$error":"#DIV/0!"},1967.3611111111111,2938.758335725001,995.96388649722132,5000,0,0,0,null,null,45615,null,null,null,null,null,null,null,null,null,null,null,null,null,null,6,9.1,73,7.4,1.4,5.9,29.9,100,34.760000000000005,"",36,1100,"",1600,"",""]
[null,"57 Rönneå, vid utfl t Skälderviken","2024-12-11",3.7,12.7,96,7.5,1.2,5.4,25.6,70,34.760000000000005,"",32,1400,"",1900,"","","",2024,12,null,null,null,null,10.59027777777778,12.52748503315132,8.6530705224042404,2.95,7.521875000000005,7.6941123088486991,7.3496376911513108,6.5,15.662937062937061,57.647903651966601,-26.322029526092479,7,40.280419580419576,94.741318150514331,-14.180478989675187,131.97916666666666,248.79319427232087,15.165139061012439,{"$error":"#DIV/0!"},{"$error":"#DIV/0!"},{"$error":"#DIV/0!"},100,47.631944444444443,98.930023925361255,-3.6661350364723688,1393.9583333333333,2254.7850775545112,533.1315891121551,{"$error":"#DIV/0!"},{"$error":"#DIV/0!"},{"$error":"#DIV/0!"},1967.3611111111111,2938.758335725001,995.96388649722132,5000,0,0,0,null,null,45637,null,null,null,null,null,null,null,null,null,null,null,null,null,null,3.7,12.7,96,7.5,1.2,5.4,25.6,70,34.760000000000005,"",32,1400,"",1900,"",""]
[null,"57 Rönneå, vid utfl t Skälderviken","2024-10-17",8.6999999999999993,10.4,90,7.3,0.93,6.6,25,140,71.100000000000009,"",40,2000,"",2600,"","","",2024,10,null,null,null,null,10.59027777777778,12.52748503315132,8.6530705224042404,2.95,7.521875000000005,7.6941123088486991,7.3496376911513108,6.5,15.662937062937061,57.647903651966601,-26.322029526092479,7,40.280419580419576,94.741318150514331,-14.180478989675187,131.97916666666666,248.79319427232087,15.165139061012439,{"$error":"#DIV/0!"},{"$error":"#DIV/0!"},{"$error":"#DIV/0!"},100,47.631944444444443,98.930023925361255,-3.6661350364723688,1393.9583333333333,2254.7850775545112,533.1315891121551,{"$error":"#DIV/0!"},{"$error":"#DIV/0!"},{"$error":"#DIV/0!"},1967.3611111111111,2938.758335725001,995.96388649722132,5000,0,0,0,null,null,45582,null,null,null,null,null,null,null,null,null,null,null,null,null,null,8.6999999999999993,10.4,90,7.3,0.93,6.6,25,140,71.100000000000009,"",40,2000,"",2600,"",""]
[]
[]
[]
[null,null,"Medel",{"$f":"AVERAGE(CD$9:CD156)","v":10.806249999999999},{"$f":"AVERAGE(CE$9:CE156)","v":10.59027777777778},{"$f":"AVERAGE(CF$9:CF156)","v":93.36872565093033},{"$f":"AVERAGE(CG$9:CG156)","v":7.521875000000005},{"$f":"AVERAGE(CH$9:CH156)","v":0.95036465702061312},{"$f":"AVERAGE(CI$9:CI156)","v":15.662937062937061},{"$f":"AVERAGE(CJ$9:CJ156)","v":40.280419580419576},{"$f":"IFERROR(AVERAGE(CK$9:CK156),\"\")","v":131.97916666666666},{"$f":"AVERAGE(CL$9:CL156)","v":45.40690972222221},{"$f":"AVERAGE(CM$9:CM156)","v":{"$error":"#DIV/0!"}},{"$f":"AVERAGE(CN$9:CN156)","v":47.631944444444443},{"$f":"AVERAGE(CO$9:CO156)","v":1393.9583333333333},{"$f":"AVERAGE(CP$9:CP156)","v":{"$error":"#DIV/0!"}},{"$f":"AVERAGE(CQ$9:CQ156)","v":1967.3611111111111},{"$f":"AVERAGE(CR$9:CR156)","v":{"$error":"#DIV/0!"}},{"$f":"AVERAGE(CS$9:CS156)","v":{"$error":"#DIV/0!"}}]
[null,null,"Std.avv.",{"$f":"STDEV(CD$9:CD156)","v":6.5961762471841263},{"$f":"STDEV(CE$9:CE156)","v":1.9372072553735398},{"$f":"STDEV(CF$9:CF156)","v":7.4545554265944505},{"$f":"STDEV(CG$9:CG156)","v":0.1722373088486944},{"$f":"STDEV(CH$9:CH156)","v":0.32028443698144621},{"$f":"STDEV(CI$9:CI156)","v":41.98496658902954},{"$f":"STDEV(CJ$9:CJ156)","v":54.460898570094763},{"$f":"IFERROR(STDEV(CK$9:CK156),\"\")","v":116.81402760565422},{"$f":"STDEV(CL$9:CL156)","v":16.833223029213258},{"$f":"STDEV(CM$9:CM156)","v":{"$error":"#DIV/0!"}},{"$f":"STDEV(CN$9:CN156)","v":51.298079480916812},{"$f":"STDEV(CO$9:CO156)","v":860.82674422117816},{"$f":"STDEV(CP$9:CP156)","v":{"$error":"#DIV/0!"}},{"$f":"STDEV(CQ$9:CQ156)","v":971.39722461388976},{"$f":"STDEV(CR$9:CR156)","v":{"$error":"#DIV/0!"}},{"$f":"STDEV(CS$9:CS156)","v":{"$error":"#DIV/0!"}}]
[null,null,"Max",{"$f":"MAX(CD$9:CD156)","v":24.5},{"$f":"MAX(CE$9:CE156)","v":14.9},{"$f":"MAX(CF$9:CF156)","v":116},{"$f":"MAX(CG$9:CG156)","v":8},{"$f":"MAX(CH$9:CH156)","v":1.69},{"$f":"MAX(CI$9:CI156)","v":436},{"$f":"MAX(CJ$9:CJ156)","v":340},{"$f":"MAX(CK$9:CK156)","v":1200},{"$f":"MAX(CL$9:CL156)","v":106.65},{"$f":"MAX(CM$9:CM156)","v":0},{"$f":"MAX(CN$9:CN156)","v":470},{"$f":"MAX(CO$9:CO156)","v":7300},{"$f":"MAX(CP$9:CP156)","v":0},{"$f":"MAX(CQ$9:CQ156)","v":8700},{"$f":"MAX(CR$9:CR156)","v":0},{"$f":"MAX(CS$9:CS156)","v":0}]
[null,null,"Min",{"$f":"MIN(CD$9:CD156)","v":0.1},{"$f":"MIN(CE$9:CE156)","v":5.9},{"$f":"MIN(CF$9:CF156)","v":62},{"$f":"MIN(CG$9:CG156)","v":7.09},{"$f":"MIN(CH$9:CH156)","v":0.32697799999999999},{"$f":"MIN(CI$9:CI156)","v":1.9},{"$f":"MIN(CJ$9:CJ156)","v":12.1},{"$f":"MIN(CK$9:CK156)","v":37},{"$f":"MIN(CL$9:CL156)","v":21.330000000000002},{"$f":"MIN(CM$9:CM156)","v":0},{"$f":"MIN(CN$9:CN156)","v":18},{"$f":"MIN(CO$9:CO156)","v":230},{"$f":"MIN(CP$9:CP156)","v":0},{"$f":"MIN(CQ$9:CQ156)","v":1100},{"$f":"MIN(CR$9:CR156)","v":0},{"$f":"MIN(CS$9:CS156)","v":0}]
[null,null,"Antal",{"$f":"COUNTA(D$9:D156)","v":144},{"$f":"COUNTA(E$9:E156)","v":144},{"$f":"COUNTA(F$9:F156)","v":144},{"$f":"COUNTA(G$9:G156)","v":144},{"$f":"COUNTA(H$9:H156)","v":144},{"$f":"COUNTA(I$9:I156)","v":143},{"$f":"COUNTA(J$9:J156)","v":143},{"$f":"COUNTA(K$9:K156)","v":144},{"$f":"COUNTA(L$9:L156)","v":144},{"$f":"COUNTA(M$9:M156)","v":14},{"$f":"COUNTA(N$9:N156)","v":144},{"$f":"COUNTA(O$9:O156)","v":144},{"$f":"COUNTA(P$9:P156)","v":12},{"$f":"COUNTA(Q$9:Q156)","v":144},{"$f":"COUNTA(R$9:R156)","v":15},{"$f":"COUNTA(S$9:S156)","v":13}]
[null,null,"SISTA"]
[]
[]
[null,null,null,null,"OBS! Värden < a (och > a) hanteras som a i beräkning av medelvärde, standardavvikelse, min och max"]

{"sheet":"Diagram","index":8,"n_rows":282,"n_cols":45,"rows_kept":282,"cut":false,"hidden":false,"merged":[]}
[]
[]
[null,null,"Provpunkt:",null,null,null,null,null,null,null,null,null,null,null,null,null,null,"Senaste provtagningsdatum",null,null,null,null,null,null,null,null,null,null,null,null,null,null,null,null,null,null,null,null,null,null,null,null,null,"Senaste provtagningsdatum"]
[null,null,{"$f":"Statistik!$B8","v":"57 Rönneå, vid utfl t Skälderviken"},null,null,null,null,"Statistik för:",{"$f":"MIN(Statistik!$C9:$C156)","v":"2013-01-16"},"-",{"$f":"MAX(Statistik!$C9:$C156)","v":"2024-12-11"},null,null,null,null,null,null,{"$f":"IF((VLOOKUP(C4,Provpunkter!B1:C50,2,FALSE))=12,MAX(RS!E3:E13),MAX(RS!E15:E20))","v":"2025-02-10"},null,null,null,null,null,null,null,null,null,null,null,null,null,null,null,null,null,null,null,null,null,null,null,null,null,"2025-02-10"]
[]
[]
[null,null,null,null,null,null,null,null,null,null,null,null,"Syre","halt",null,"mättnad",null,"Årets resultat",null,null,null,null,null,null,null,null,null,null,null,null,null,null,null,null,null,null,null,null,null,null,null,null,null,"Årets resultat"]
[null,null,null,null,null,null,null,null,null,null,null,null,null,"mg/l",null,"%",null,"Datum","mg/l","%",null,null,null,null,null,null,null,null,null,null,null,null,null,null,null,null,null,null,null,null,null,null,null,"Datum","mg/l"]
[null,null,null,null,null,null,null,null,null,null,null,null,"Medel",{"$f":"Statistik!E$157","v":10.59027777777778},null,{"$f":"Statistik!F$157","v":93.36872565093033},null,{"$f":"IFERROR(VLOOKUP(CONCATENATE($C$4,\"1\"),RS!$B$3:$AC$346,4,FALSE),\"\")","v":"2025-01-15"},{"$f":"IFERROR(VLOOKUP(CONCATENATE($C$4,\"1\"),RS!$B$3:$AC$346,6,FALSE),\"\")","v":13.5},{"$f":"IFERROR(VLOOKUP(CONCATENATE($C$4,\"1\"),RS!$B$3:$AC$346,7,FALSE),\"\")","v":97},null,null,null,null,null,null,null,null,null,null,null,null,null,null,null,null,null,null,null,null,null,null,null,"2025-01-15",13.5]
[null,null,null,null,null,null,null,null,null,null,null,null,"Std.avv.",{"$f":"Statistik!E$158","v":1.9372072553735398},null,{"$f":"Statistik!F$158","v":7.4545554265944505},null,{"$f":"IFERROR(VLOOKUP(CONCATENATE($C$4,\"2\"),RS!$B$3:$AC$346,4,FALSE),\"\")","v":"2025-02-11"},{"$f":"IFERROR(VLOOKUP(CONCATENATE($C$4,\"2\"),RS!$B$3:$AC$346,6,FALSE),\"\")","v":13.9},{"$f":"IFERROR(VLOOKUP(CONCATENATE($C$4,\"2\"),RS!$B$3:$AC$346,7,FALSE),\"\")","v":101},null,null,null,null,null,null,null,null,null,null,null,null,null,null,null,null,null,null,null,null,null,null,null,"2025-02-11",13.9]
[null,null,null,null,null,null,null,null,null,null,null,null,"Max",{"$f":"Statistik!E$159","v":14.9},null,{"$f":"Statistik!F$159","v":116},null,{"$f":"IFERROR(VLOOKUP(CONCATENATE($C$4,\"3\"),RS!$B$3:$AC$346,4,FALSE),\"\")","v":""},{"$f":"IFERROR(VLOOKUP(CONCATENATE($C$4,\"3\"),RS!$B$3:$AC$346,6,FALSE),\"\")","v":""},{"$f":"IFERROR(VLOOKUP(CONCATENATE($C$4,\"3\"),RS!$B$3:$AC$346,7,FALSE),\"\")","v":""},null,null,null,null,null,null,null,null,null,null,null,null,null,null,null,null,null,null,null,null,null,null,null,null,""]
[null,null,null,null,null,null,null,null,null,null,null,null,"Min",{"$f":"Statistik!E$160","v":5.9},null,{"$f":"Statistik!F$160","v":62},null,{"$f":"IFERROR(VLOOKUP(CONCATENATE($C$4,\"4\"),RS!$B$3:$AC$346,4,FALSE),\"\")","v":""},{"$f":"IFERROR(VLOOKUP(CONCATENATE($C$4,\"4\"),RS!$B$3:$AC$346,6,FALSE),\"\")","v":""},{"$f":"IFERROR(VLOOKUP(CONCATENATE($C$4,\"4\"),RS!$B$3:$AC$346,7,FALSE),\"\")","v":""},null,null,null,null,null,null,null,null,null,null,null,null,null,null,null,null,null,null,null,null,null,null,null,null,""]
[null,null,null,null,null,null,null,null,null,null,null,null,"Antal värden",{"$f":"Statistik!E$161","v":144},null,null,null,{"$f":"IFERROR(VLOOKUP(CONCATENATE($C$4,\"5\"),RS!$B$3:$AC$346,4,FALSE),\"\")","v":""},{"$f":"IFERROR(VLOOKUP(CONCATENATE($C$4,\"5\"),RS!$B$3:$AC$346,6,FALSE),\"\")","v":""},{"$f":"IFERROR(VLOOKUP(CONCATENATE($C$4,\"5\"),RS!$B$3:$AC$346,7,FALSE),\"\")","v":""},null,null,null,null,null,null,null,null,null,null,null,null,null,null,null,null,null,null,null,null,null,null,null,null,""]
[null,null,null,null,null,null,null,null,null,null,null,null,null,null,null,null,null,{"$f":"IFERROR(VLOOKUP(CONCATENATE($C$4,\"6\"),RS!$B$3:$AC$346,4,FALSE),\"\")","v":""},{"$f":"IFERROR(VLOOKUP(CONCATENATE($C$4,\"6\"),RS!$B$3:$AC$346,6,FALSE),\"\")","v":""},{"$f":"IFERROR(VLOOKUP(CONCATENATE($C$4,\"6\"),RS!$B$3:$AC$346,7,FALSE),\"\")","v":""},null,null,null,null,null,null,null,null,null,null,null,null,null,null,null,null,null,null,null,null,null,null,null,null,""]
[null,null,null,null,null,null,null,null,null,null,null,null,"Senaste",{"$f":"VLOOKUP(TRIM(CONCATENATE($C$4,$R$4)),RS!$A$3:$AB$346,7,FALSE)","v":{"$error":"#N/A"}},null,{"$f":"VLOOKUP(TRIM(CONCATENATE($C$4,$R$4)),RS!$A$3:$AB$346,8,FALSE)","v":{"$error":"#N/A"}},null,{"$f":"IFERROR(VLOOKUP(CONCATENATE($C$4,\"7\"),RS!$B$3:$AC$346,4,FALSE),\"\")","v":""},{"$f":"IFERROR(VLOOKUP(CONCATENATE($C$4,\"7\"),RS!$B$3:$AC$346,6,FALSE),\"\")","v":""},{"$f":"IFERROR(VLOOKUP(CONCATENATE($C$4,\"7\"),RS!$B$3:$AC$346,7,FALSE),\"\")","v":""},null,null,null,null,null,null,null,null,null,null,null,null,null,null,null,null,null,null,null,null,null,null,null,null,""]
[null,null,null,null,null,null,null,null,null,null,null,null,null,null,null,null,null,{"$f":"IFERROR(VLOOKUP(CONCATENATE($C$4,\"8\"),RS!$B$3:$AC$346,4,FALSE),\"\")","v":""},{"$f":"IFERROR(VLOOKUP(CONCATENATE($C$4,\"8\"),RS!$B$3:$AC$346,6,FALSE),\"\")","v":""},{"$f":"IFERROR(VLOOKUP(CONCATENATE($C$4,\"8\"),RS!$B$3:$AC$346,7,FALSE),\"\")","v":""},null,null,null,null,null,null,null,null,null,null,null,null,null,null,null,null,null,null,null,null,null,null,null,null,""]
[null,null,null,null,null,null,null,null,null,null,null,null,null,null,null,null,null,{"$f":"IFERROR(VLOOKUP(CONCATENATE($C$4,\"9\"),RS!$B$3:$AC$346,4,FALSE),\"\")","v":""},{"$f":"IFERROR(VLOOKUP(CONCATENATE($C$4,\"9\"),RS!$B$3:$AC$346,6,FALSE),\"\")","v":""},{"$f":"IFERROR(VLOOKUP(CONCATENATE($C$4,\"9\"),RS!$B$3:$AC$346,7,FALSE),\"\")","v":""},null,null,null,null,null,null,null,null,null,null,null,null,null,null,null,null,null,null,null,null,null,null,null,null,""]
[null,null,null,null,null,null,null,null,null,null,null,null,null,null,null,null,null,{"$f":"IFERROR(VLOOKUP(CONCATENATE($C$4,\"10\"),RS!$B$3:$AC$346,4,FALSE),\"\")","v":""},{"$f":"IFERROR(VLOOKUP(CONCATENATE($C$4,\"10\"),RS!$B$3:$AC$346,6,FALSE),\"\")","v":""},{"$f":"IFERROR(VLOOKUP(CONCATENATE($C$4,\"10\"),RS!$B$3:$AC$346,7,FALSE),\"\")","v":""},null,null,null,null,null,null,null,null,null,null,null,null,null,null,null,null,null,null,null,null,null,null,null,null,""]
[null,null,null,null,null,null,null,null,null,null,null,null,null,null,null,null,null,{"$f":"IFERROR(VLOOKUP(CONCATENATE($C$4,\"11\"),RS!$B$3:$AC$346,4,FALSE),\"\")","v":""},{"$f":"IFERROR(VLOOKUP(CONCATENATE($C$4,\"11\"),RS!$B$3:$AC$346,6,FALSE),\"\")","v":""},{"$f":"IFERROR(VLOOKUP(CONCATENATE($C$4,\"11\"),RS!$B$3:$AC$346,7,FALSE),\"\")","v":""},null,null,null,null,null,null,null,null,null,null,null,null,null,null,null,null,null,null,null,null,null,null,null,null,""]
[null,null,null,null,null,null,null,null,null,null,null,null,null,null,null,null,null,{"$f":"IFERROR(VLOOKUP(CONCATENATE($C$4,\"12\"),RS!$B$3:$AC$346,4,FALSE),\"\")","v":""},{"$f":"IFERROR(VLOOKUP(CONCATENATE($C$4,\"12\"),RS!$B$3:$AC$346,6,FALSE),\"\")","v":""},{"$f":"IFERROR(VLOOKUP(CONCATENATE($C$4,\"12\"),RS!$B$3:$AC$346,7,FALSE),\"\")","v":""},null,null,null,null,null,null,null,null,null,null,null,null,null,null,null,null,null,null,null,null,null,null,null,null,""]
[]
[]
[]
[]
[null,null,null,null,null,null,null,null,null,null,null,null,"Tot-N","µg/l",null,null,null,"Årets resultat",null,null,null,null,null,null,null,null,null,null,null,null,null,null,null,null,null,null,null,null,null,null,null,null,null,"Årets resultat"]
[null,null,null,null,null,null,null,null,null,null,null,null,null,null,null,null,null,"Datum","µg/l",null,null,null,null,null,null,null,null,null,null,null,null,null,null,null,null,null,null,null,null,null,null,null,null,"Datum","µg/l"]
[null,null,null,null,null,null,null,null,null,null,null,null,"Medel",{"$f":"Statistik!Q$157","v":1967.3611111111111},null,null,null,{"$f":"IFERROR(VLOOKUP(CONCATENATE($C$4,\"1\"),RS!$B$3:$AC$346,4,FALSE),\"\")","v":"2025-01-15"},{"$f":"IFERROR(VLOOKUP(CONCATENATE($C$4,\"1\"),RS!$B$3:$AC$346,22,FALSE),\"\")","v":2200},null,null,null,null,null,null,null,null,null,null,null,null,null,null,null,null,null,null,null,null,null,null,null,null,"2025-01-15",2200]
[null,null,null,null,null,null,null,null,null,null,null,null,"Std.avv.",{"$f":"Statistik!Q$158","v":971.39722461388976},null,null,null,{"$f":"IFERROR(VLOOKUP(CONCATENATE($C$4,\"2\"),RS!$B$3:$AC$346,4,FALSE),\"\")","v":"2025-02-11"},{"$f":"IFERROR(VLOOKUP(CONCATENATE($C$4,\"2\"),RS!$B$3:$AC$346,22,FALSE),\"\")","v":1900},null,null,null,null,null,null,null,null,null,null,null,null,null,null,null,null,null,null,null,null,null,null,null,null,"2025-02-11",1900]
[null,null,null,null,null,null,null,null,null,null,null,null,"Max",{"$f":"Statistik!Q$159","v":8700},null,null,null,{"$f":"IFERROR(VLOOKUP(CONCATENATE($C$4,\"3\"),RS!$B$3:$AC$346,4,FALSE),\"\")","v":""},{"$f":"IFERROR(VLOOKUP(CONCATENATE($C$4,\"3\"),RS!$B$3:$AC$346,22,FALSE),\"\")","v":""},null,null,null,null,null,null,null,null,null,null,null,null,null,null,null,null,null,null,null,null,null,null,null,null,null,""]
[null,null,null,null,null,null,null,null,null,null,null,null,"Min",{"$f":"Statistik!Q$160","v":1100},null,null,null,{"$f":"IFERROR(VLOOKUP(CONCATENATE($C$4,\"4\"),RS!$B$3:$AC$346,4,FALSE),\"\")","v":""},{"$f":"IFERROR(VLOOKUP(CONCATENATE($C$4,\"4\"),RS!$B$3:$AC$346,22,FALSE),\"\")","v":""},null,null,null,null,null,null,null,null,null,null,null,null,null,null,null,null,null,null,null,null,null,null,null,null,null,""]
[null,null,null,null,null,null,null,null,null,null,null,null,"Antal värden",{"$f":"Statistik!Q$161","v":144},null,null,null,{"$f":"IFERROR(VLOOKUP(CONCATENATE($C$4,\"5\"),RS!$B$3:$AC$346,4,FALSE),\"\")","v":""},{"$f":"IFERROR(VLOOKUP(CONCATENATE($C$4,\"5\"),RS!$B$3:$AC$346,22,FALSE),\"\")","v":""},null,null,null,null,null,null,null,null,null,null,null,null,null,null,null,null,null,null,null,null,null,null,null,null,null,""]
[null,null,null,null,null,null,null,null,null,null,null,null,null,null,null,null,null,{"$f":"IFERROR(VLOOKUP(CONCATENATE($C$4,\"6\"),RS!$B$3:$AC$346,4,FALSE),\"\")","v":""},{"$f":"IFERROR(VLOOKUP(CONCATENATE($C$4,\"6\"),RS!$B$3:$AC$346,22,FALSE),\"\")","v":""},null,null,null,null,null,null,null,null,null,null,null,null,null,null,null,null,null,null,null,null,null,null,null,null,null,""]
[null,null,null,null,null,null,null,null,null,null,null,null,"Senaste",{"$f":"VLOOKUP(TRIM(CONCATENATE($C$4,$R$4)),RS!$A$3:$AB$346,23,FALSE)","v":{"$error":"#N/A"}},null,null,null,{"$f":"IFERROR(VLOOKUP(CONCATENATE($C$4,\"7\"),RS!$B$3:$AC$346,4,FALSE),\"\")","v":""},{"$f":"IFERROR(VLOOKUP(CONCATENATE($C$4,\"7\"),RS!$B$3:$AC$346,22,FALSE),\"\")","v":""},null,null,null,null,null,null,null,null,null,null,null,null,null,null,null,null,null,null,null,null,null,null,null,null,null,""]
[null,null,null,null,null,null,null,null,null,null,null,null,null,null,null,null,null,{"$f":"IFERROR(VLOOKUP(CONCATENATE($C$4,\"8\"),RS!$B$3:$AC$346,4,FALSE),\"\")","v":""},{"$f":"IFERROR(VLOOKUP(CONCATENATE($C$4,\"8\"),RS!$B$3:$AC$346,22,FALSE),\"\")","v":""},null,null,null,null,null,null,null,null,null,null,null,null,null,null,null,null,null,null,null,null,null,null,null,null,null,""]
[null,null,null,null,null,null,null,null,null,null,null,null,null,null,null,null,null,{"$f":"IFERROR(VLOOKUP(CONCATENATE($C$4,\"9\"),RS!$B$3:$AC$346,4,FALSE),\"\")","v":""},{"$f":"IFERROR(VLOOKUP(CONCATENATE($C$4,\"9\"),RS!$B$3:$AC$346,22,FALSE),\"\")","v":""},null,null,null,null,null,null,null,null,null,null,null,null,null,null,null,null,null,null,null,null,null,null,null,null,null,""]
[null,null,null,null,null,null,null,null,null,null,null,null,null,null,null,null,null,{"$f":"IFERROR(VLOOKUP(CONCATENATE($C$4,\"10\"),RS!$B$3:$AC$346,4,FALSE),\"\")","v":""},{"$f":"IFERROR(VLOOKUP(CONCATENATE($C$4,\"10\"),RS!$B$3:$AC$346,22,FALSE),\"\")","v":""},null,null,null,null,null,null,null,null,null,null,null,null,null,null,null,null,null,null,null,null,null,null,null,null,null,""]
[null,null,null,null,null,null,null,null,null,null,null,null,null,null,null,null,null,{"$f":"IFERROR(VLOOKUP(CONCATENATE($C$4,\"11\"),RS!$B$3:$AC$346,4,FALSE),\"\")","v":""},{"$f":"IFERROR(VLOOKUP(CONCATENATE($C$4,\"11\"),RS!$B$3:$AC$346,22,FALSE),\"\")","v":""},null,null,null,null,null,null,null,null,null,null,null,null,null,null,null,null,null,null,null,null,null,null,null,null,null,""]
[null,null,null,null,null,null,null,null,null,null,null,null,null,null,null,null,null,{"$f":"IFERROR(VLOOKUP(CONCATENATE($C$4,\"12\"),RS!$B$3:$AC$346,4,FALSE),\"\")","v":""},{"$f":"IFERROR(VLOOKUP(CONCATENATE($C$4,\"12\"),RS!$B$3:$AC$346,22,FALSE),\"\")","v":""},null,null,null,null,null,null,null,null,null,null,null,null,null,null,null,null,null,null,null,null,null,null,null,null,null,""]
[]
[]
[]
[]
[null,null,null,null,null,null,null,null,null,null,null,null,"Tot-P","µg/l",null,null,null,"Årets resultat",null,null,null,null,null,null,null,null,null,null,null,null,null,null,null,null,null,null,null,null,null,null,null,null,null,"Årets resultat"]
[null,null,null,null,null,null,null,null,null,null,null,null,null,null,null,null,null,"Datum","µg/l",null,null,null,null,null,null,null,null,null,null,null,null,null,null,null,null,null,null,null,null,null,null,null,null,"Datum","µg/l"]
[null,null,null,null,null,null,null,null,null,null,null,null,"Medel",{"$f":"Statistik!N$157","v":47.631944444444443},null,null,null,{"$f":"IFERROR(VLOOKUP(CONCATENATE($C$4,\"1\"),RS!$B$3:$AC$346,4,FALSE),\"\")","v":"2025-01-15"},{"$f":"IFERROR(VLOOKUP(CONCATENATE($C$4,\"1\"),RS!$B$3:$AC$346,19,FALSE),\"\")","v":40},null,null,null,null,null,null,null,null,null,null,null,null,null,null,null,null,null,null,null,null,null,null,null,null,"2025-01-15",40]
[null,null,null,null,null,null,null,null,null,null,null,null,"Std.avv.",{"$f":"Statistik!N$158","v":51.298079480916812},null,null,null,{"$f":"IFERROR(VLOOKUP(CONCATENATE($C$4,\"2\"),RS!$B$3:$AC$346,4,FALSE),\"\")","v":"2025-02-11"},{"$f":"IFERROR(VLOOKUP(CONCATENATE($C$4,\"2\"),RS!$B$3:$AC$346,19,FALSE),\"\")","v":39},null,null,null,null,null,null,null,null,null,null,null,null,null,null,null,null,null,null,null,null,null,null,null,null,"2025-02-11",39]
[null,null,null,null,null,null,null,null,null,null,null,null,"Max",{"$f":"Statistik!N$159","v":470},null,null,null,{"$f":"IFERROR(VLOOKUP(CONCATENATE($C$4,\"3\"),RS!$B$3:$AC$346,4,FALSE),\"\")","v":""},{"$f":"IFERROR(VLOOKUP(CONCATENATE($C$4,\"3\"),RS!$B$3:$AC$346,19,FALSE),\"\")","v":""},null,null,null,null,null,null,null,null,null,null,null,null,null,null,null,null,null,null,null,null,null,null,null,null,null,""]
[null,null,null,null,null,null,null,null,null,null,null,null,"Min",{"$f":"Statistik!N$160","v":18},null,null,null,{"$f":"IFERROR(VLOOKUP(CONCATENATE($C$4,\"4\"),RS!$B$3:$AC$346,4,FALSE),\"\")","v":""},{"$f":"IFERROR(VLOOKUP(CONCATENATE($C$4,\"4\"),RS!$B$3:$AC$346,19,FALSE),\"\")","v":""},null,null,null,null,null,null,null,null,null,null,null,null,null,null,null,null,null,null,null,null,null,null,null,null,null,""]
[null,null,null,null,null,null,null,null,null,null,null,null,"Antal värden",{"$f":"Statistik!N$161","v":144},null,null,null,{"$f":"IFERROR(VLOOKUP(CONCATENATE($C$4,\"5\"),RS!$B$3:$AC$346,4,FALSE),\"\")","v":""},{"$f":"IFERROR(VLOOKUP(CONCATENATE($C$4,\"5\"),RS!$B$3:$AC$346,19,FALSE),\"\")","v":""},null,null,null,null,null,null,null,null,null,null,null,null,null,null,null,null,null,null,null,null,null,null,null,null,null,""]
[null,null,null,null,null,null,null,null,null,null,null,null,null,null,null,null,null,{"$f":"IFERROR(VLOOKUP(CONCATENATE($C$4,\"6\"),RS!$B$3:$AC$346,4,FALSE),\"\")","v":""},{"$f":"IFERROR(VLOOKUP(CONCATENATE($C$4,\"6\"),RS!$B$3:$AC$346,19,FALSE),\"\")","v":""},null,null,null,null,null,null,null,null,null,null,null,null,null,null,null,null,null,null,null,null,null,null,null,null,null,""]
[null,null,null,null,null,null,null,null,null,null,null,null,"Senaste",{"$f":"VLOOKUP(TRIM(CONCATENATE($C$4,$R$4)),RS!$A$3:$AB$346,20,FALSE)","v":{"$error":"#N/A"}},null,null,null,{"$f":"IFERROR(VLOOKUP(CONCATENATE($C$4,\"7\"),RS!$B$3:$AC$346,4,FALSE),\"\")","v":""},{"$f":"IFERROR(VLOOKUP(CONCATENATE($C$4,\"7\"),RS!$B$3:$AC$346,19,FALSE),\"\")","v":""},null,null,null,null,null,null,null,null,null,null,null,null,null,null,null,null,null,null,null,null,null,null,null,null,null,""]
[null,null,null,null,null,null,null,null,null,null,null,null,null,null,null,null,null,{"$f":"IFERROR(VLOOKUP(CONCATENATE($C$4,\"8\"),RS!$B$3:$AC$346,4,FALSE),\"\")","v":""},{"$f":"IFERROR(VLOOKUP(CONCATENATE($C$4,\"8\"),RS!$B$3:$AC$346,19,FALSE),\"\")","v":""},null,null,null,null,null,null,null,null,null,null,null,null,null,null,null,null,null,null,null,null,null,null,null,null,null,""]
[null,null,null,null,null,null,null,null,null,null,null,null,null,null,null,null,null,{"$f":"IFERROR(VLOOKUP(CONCATENATE($C$4,\"9\"),RS!$B$3:$AC$346,4,FALSE),\"\")","v":""},{"$f":"IFERROR(VLOOKUP(CONCATENATE($C$4,\"9\"),RS!$B$3:$AC$346,19,FALSE),\"\")","v":""},null,null,null,null,null,null,null,null,null,null,null,null,null,null,null,null,null,null,null,null,null,null,null,null,null,""]
[null,null,null,null,null,null,null,null,null,null,null,null,null,null,null,null,null,{"$f":"IFERROR(VLOOKUP(CONCATENATE($C$4,\"10\"),RS!$B$3:$AC$346,4,FALSE),\"\")","v":""},{"$f":"IFERROR(VLOOKUP(CONCATENATE($C$4,\"10\"),RS!$B$3:$AC$346,19,FALSE),\"\")","v":""},null,null,null,null,null,null,null,null,null,null,null,null,null,null,null,null,null,null,null,null,null,null,null,null,null,""]
[null,null,null,null,null,null,null,null,null,null,null,null,null,null,null,null,null,{"$f":"IFERROR(VLOOKUP(CONCATENATE($C$4,\"11\"),RS!$B$3:$AC$346,4,FALSE),\"\")","v":""},{"$f":"IFERROR(VLOOKUP(CONCATENATE($C$4,\"11\"),RS!$B$3:$AC$346,19,FALSE),\"\")","v":""},null,null,null,null,null,null,null,null,null,null,null,null,null,null,null,null,null,null,null,null,null,null,null,null,null,""]
[null,null,null,null,null,null,null,null,null,null,null,null,null,null,null,null,null,{"$f":"IFERROR(VLOOKUP(CONCATENATE($C$4,\"12\"),RS!$B$3:$AC$346,4,FALSE),\"\")","v":""},{"$f":"IFERROR(VLOOKUP(CONCATENATE($C$4,\"12\"),RS!$B$3:$AC$346,19,FALSE),\"\")","v":""},null,null,null,null,null,null,null,null,null,null,null,null,null,null,null,null,null,null,null,null,null,null,null,null,null,""]
[]
[]
[]
[]
[null,null,null,null,null,null,null,null,null,null,null,null,"pH",null,null,null,null,"Årets resultat",null,null,null,null,null,null,null,null,null,null,null,null,null,null,null,null,null,null,null,null,null,null,null,null,null,"Årets resultat"]
[null,null,null,null,null,null,null,null,null,null,null,null,null,null,null,null,null,"Datum",null,null,null,null,null,null,null,null,null,null,null,null,null,null,null,null,null,null,null,null,null,null,null,null,null,"Datum"]
[null,null,null,null,null,null,null,null,null,null,null,null,"Medel",{"$f":"Statistik!G$157","v":7.521875000000005},null,null,null,{"$f":"IFERROR(VLOOKUP(CONCATENATE($C$4,\"1\"),RS!$B$3:$AC$346,4,FALSE),\"\")","v":"2025-01-15"},{"$f":"IFERROR(VLOOKUP(CONCATENATE($C$4,\"1\"),RS!$B$3:$AC$346,8,FALSE),\"\")","v":7.2},null,null,null,null,null,null,null,null,null,null,null,null,null,null,null,null,null,null,null,null,null,null,null,null,"2025-01-15",7.2]
[null,null,null,null,null,null,null,null,null,null,null,null,"Std.avv.",{"$f":"Statistik!G$158","v":0.1722373088486944},null,null,null,{"$f":"IFERROR(VLOOKUP(CONCATENATE($C$4,\"2\"),RS!$B$3:$AC$346,4,FALSE),\"\")","v":"2025-02-11"},{"$f":"IFERROR(VLOOKUP(CONCATENATE($C$4,\"2\"),RS!$B$3:$AC$346,8,FALSE),\"\")","v":7.5},null,null,null,null,null,null,null,null,null,null,null,null,null,null,null,null,null,null,null,null,null,null,null,null,"2025-02-11",7.5]
[null,null,null,null,null,null,null,null,null,null,null,null,"Max",{"$f":"Statistik!G$159","v":8},null,null,null,{"$f":"IFERROR(VLOOKUP(CONCATENATE($C$4,\"3\"),RS!$B$3:$AC$346,4,FALSE),\"\")","v":""},{"$f":"IFERROR(VLOOKUP(CONCATENATE($C$4,\"3\"),RS!$B$3:$AC$346,8,FALSE),\"\")","v":""},null,null,null,null,null,null,null,null,null,null,null,null,null,null,null,null,null,null,null,null,null,null,null,null,null,""]
[null,null,null,null,null,null,null,null,null,null,null,null,"Min",{"$f":"Statistik!G$160","v":7.09},null,null,null,{"$f":"IFERROR(VLOOKUP(CONCATENATE($C$4,\"4\"),RS!$B$3:$AC$346,4,FALSE),\"\")","v":""},{"$f":"IFERROR(VLOOKUP(CONCATENATE($C$4,\"4\"),RS!$B$3:$AC$346,8,FALSE),\"\")","v":""},null,null,null,null,null,null,null,null,null,null,null,null,null,null,null,null,null,null,null,null,null,null,null,null,null,""]
[null,null,null,null,null,null,null,null,null,null,null,null,"Antal värden",{"$f":"Statistik!G$161","v":144},null,null,null,{"$f":"IFERROR(VLOOKUP(CONCATENATE($C$4,\"5\"),RS!$B$3:$AC$346,4,FALSE),\"\")","v":""},{"$f":"IFERROR(VLOOKUP(CONCATENATE($C$4,\"5\"),RS!$B$3:$AC$346,8,FALSE),\"\")","v":""},null,null,null,null,null,null,null,null,null,null,null,null,null,null,null,null,null,null,null,null,null,null,null,null,null,""]
[null,null,null,null,null,null,null,null,null,null,null,null,null,null,null,null,null,{"$f":"IFERROR(VLOOKUP(CONCATENATE($C$4,\"6\"),RS!$B$3:$AC$346,4,FALSE),\"\")","v":""},{"$f":"IFERROR(VLOOKUP(CONCATENATE($C$4,\"6\"),RS!$B$3:$AC$346,8,FALSE),\"\")","v":""},null,null,null,null,null,null,null,null,null,null,null,null,null,null,null,null,null,null,null,null,null,null,null,null,null,""]
[null,null,null,null,null,null,null,null,null,null,null,null,"Senaste",{"$f":"VLOOKUP(TRIM(CONCATENATE($C$4,$R$4)),RS!$A$3:$AB$346,9,FALSE)","v":{"$error":"#N/A"}},null,null,null,{"$f":"IFERROR(VLOOKUP(CONCATENATE($C$4,\"7\"),RS!$B$3:$AC$346,4,FALSE),\"\")","v":""},{"$f":"IFERROR(VLOOKUP(CONCATENATE($C$4,\"7\"),RS!$B$3:$AC$346,8,FALSE),\"\")","v":""},null,null,null,null,null,null,null,null,null,null,null,null,null,null,null,null,null,null,null,null,null,null,null,null,null,""]
[null,null,null,null,null,null,null,null,null,null,null,null,null,null,null,null,null,{"$f":"IFERROR(VLOOKUP(CONCATENATE($C$4,\"8\"),RS!$B$3:$AC$346,4,FALSE),\"\")","v":""},{"$f":"IFERROR(VLOOKUP(CONCATENATE($C$4,\"8\"),RS!$B$3:$AC$346,8,FALSE),\"\")","v":""},null,null,null,null,null,null,null,null,null,null,null,null,null,null,null,null,null,null,null,null,null,null,null,null,null,""]
[null,null,null,null,null,null,null,null,null,null,null,null,null,null,null,null,null,{"$f":"IFERROR(VLOOKUP(CONCATENATE($C$4,\"9\"),RS!$B$3:$AC$346,4,FALSE),\"\")","v":""},{"$f":"IFERROR(VLOOKUP(CONCATENATE($C$4,\"9\"),RS!$B$3:$AC$346,8,FALSE),\"\")","v":""},null,null,null,null,null,null,null,null,null,null,null,null,null,null,null,null,null,null,null,null,null,null,null,null,null,""]
[null,null,null,null,null,null,null,null,null,null,null,null,null,null,null,null,null,{"$f":"IFERROR(VLOOKUP(CONCATENATE($C$4,\"10\"),RS!$B$3:$AC$346,4,FALSE),\"\")","v":""},{"$f":"IFERROR(VLOOKUP(CONCATENATE($C$4,\"10\"),RS!$B$3:$AC$346,8,FALSE),\"\")","v":""},null,null,null,null,null,null,null,null,null,null,null,null,null,null,null,null,null,null,null,null,null,null,null,null,null,""]
[null,null,null,null,null,null,null,null,null,null,null,null,null,null,null,null,null,{"$f":"IFERROR(VLOOKUP(CONCATENATE($C$4,\"11\"),RS!$B$3:$AC$346,4,FALSE),\"\")","v":""},{"$f":"IFERROR(VLOOKUP(CONCATENATE($C$4,\"11\"),RS!$B$3:$AC$346,8,FALSE),\"\")","v":""},null,null,null,null,null,null,null,null,null,null,null,null,null,null,null,null,null,null,null,null,null,null,null,null,null,""]
[null,null,null,null,null,null,null,null,null,null,null,null,null,null,null,null,null,{"$f":"IFERROR(VLOOKUP(CONCATENATE($C$4,\"12\"),RS!$B$3:$AC$346,4,FALSE),\"\")","v":""},{"$f":"IFERROR(VLOOKUP(CONCATENATE($C$4,\"12\"),RS!$B$3:$AC$346,8,FALSE),\"\")","v":""},null,null,null,null,null,null,null,null,null,null,null,null,null,null,null,null,null,null,null,null,null,null,null,null,null,""]
[]
[]
[]
[]
[null,null,null,null,null,null,null,null,null,null,null,null,"Grumlighet","FNU",null,null,null,"Årets resultat",null,null,null,null,null,null,null,null,null,null,null,null,null,null,null,null,null,null,null,null,null,null,null,null,null,"Årets resultat"]
[null,null,null,null,null,null,null,null,null,null,null,null,"(Turbiditet)",null,null,null,null,"Datum","FNU",null,null,null,null,null,null,null,null,null,null,null,null,null,null,null,null,null,null,null,null,null,null,null,null,"Datum","FNU"]
[null,null,null,null,null,null,null,null,null,null,null,null,"Medel",{"$f":"Statistik!I$157","v":15.662937062937061},null,null,null,{"$f":"IFERROR(VLOOKUP(CONCATENATE($C$4,\"1\"),RS!$B$3:$AC$346,4,FALSE),\"\")","v":"2025-01-15"},{"$f":"IFERROR(VLOOKUP(CONCATENATE($C$4,\"1\"),RS!$B$3:$AC$346,12,FALSE),\"\")","v":8.1},null,null,null,null,null,null,null,null,null,null,null,null,null,null,null,null,null,null,null,null,null,null,null,null,"2025-01-15",8.1]
[null,null,null,null,null,null,null,null,null,null,null,null,"Std.avv.",{"$f":"Statistik!I$158","v":41.98496658902954},null,null,null,{"$f":"IFERROR(VLOOKUP(CONCATENATE($C$4,\"2\"),RS!$B$3:$AC$346,4,FALSE),\"\")","v":"2025-02-11"},{"$f":"IFERROR(VLOOKUP(CONCATENATE($C$4,\"2\"),RS!$B$3:$AC$346,12,FALSE),\"\")","v":6.1},null,null,null,null,null,null,null,null,null,null,null,null,null,null,null,null,null,null,null,null,null,null,null,null,"2025-02-11",6.1]
[null,null,null,null,null,null,null,null,null,null,null,null,"Max",{"$f":"Statistik!I$159","v":436},null,null,null,{"$f":"IFERROR(VLOOKUP(CONCATENATE($C$4,\"3\"),RS!$B$3:$AC$346,4,FALSE),\"\")","v":""},{"$f":"IFERROR(VLOOKUP(CONCATENATE($C$4,\"3\"),RS!$B$3:$AC$346,12,FALSE),\"\")","v":""},null,null,null,null,null,null,null,null,null,null,null,null,null,null,null,null,null,null,null,null,null,null,null,null,null,""]
[null,null,null,null,null,null,null,null,null,null,null,null,"Min",{"$f":"Statistik!I$160","v":1.9},null,null,null,{"$f":"IFERROR(VLOOKUP(CONCATENATE($C$4,\"4\"),RS!$B$3:$AC$346,4,FALSE),\"\")","v":""},{"$f":"IFERROR(VLOOKUP(CONCATENATE($C$4,\"4\"),RS!$B$3:$AC$346,12,FALSE),\"\")","v":""},null,null,null,null,null,null,null,null,null,null,null,null,null,null,null,null,null,null,null,null,null,null,null,null,null,""]
[null,null,null,null,null,null,null,null,null,null,null,null,"Antal värden",{"$f":"Statistik!I$161","v":143},null,null,null,{"$f":"IFERROR(VLOOKUP(CONCATENATE($C$4,\"5\"),RS!$B$3:$AC$346,4,FALSE),\"\")","v":""},{"$f":"IFERROR(VLOOKUP(CONCATENATE($C$4,\"5\"),RS!$B$3:$AC$346,12,FALSE),\"\")","v":""},null,null,null,null,null,null,null,null,null,null,null,null,null,null,null,null,null,null,null,null,null,null,null,null,null,""]
[null,null,null,null,null,null,null,null,null,null,null,null,null,null,null,null,null,{"$f":"IFERROR(VLOOKUP(CONCATENATE($C$4,\"6\"),RS!$B$3:$AC$346,4,FALSE),\"\")","v":""},{"$f":"IFERROR(VLOOKUP(CONCATENATE($C$4,\"6\"),RS!$B$3:$AC$346,12,FALSE),\"\")","v":""},null,null,null,null,null,null,null,null,null,null,null,null,null,null,null,null,null,null,null,null,null,null,null,null,null,""]
[null,null,null,null,null,null,null,null,null,null,null,null,"Senaste",{"$f":"VLOOKUP(TRIM(CONCATENATE($C$4,$R$4)),RS!$A$3:$AB$346,13,FALSE)","v":{"$error":"#N/A"}},null,null,null,{"$f":"IFERROR(VLOOKUP(CONCATENATE($C$4,\"7\"),RS!$B$3:$AC$346,4,FALSE),\"\")","v":""},{"$f":"IFERROR(VLOOKUP(CONCATENATE($C$4,\"7\"),RS!$B$3:$AC$346,12,FALSE),\"\")","v":""},null,null,null,null,null,null,null,null,null,null,null,null,null,null,null,null,null,null,null,null,null,null,null,null,null,""]
[null,null,null,null,null,null,null,null,null,null,null,null,null,null,null,null,null,{"$f":"IFERROR(VLOOKUP(CONCATENATE($C$4,\"8\"),RS!$B$3:$AC$346,4,FALSE),\"\")","v":""},{"$f":"IFERROR(VLOOKUP(CONCATENATE($C$4,\"8\"),RS!$B$3:$AC$346,12,FALSE),\"\")","v":""},null,null,null,null,null,null,null,null,null,null,null,null,null,null,null,null,null,null,null,null,null,null,null,null,null,""]
[null,null,null,null,null,null,null,null,null,null,null,null,null,null,null,null,null,{"$f":"IFERROR(VLOOKUP(CONCATENATE($C$4,\"9\"),RS!$B$3:$AC$346,4,FALSE),\"\")","v":""},{"$f":"IFERROR(VLOOKUP(CONCATENATE($C$4,\"9\"),RS!$B$3:$AC$346,12,FALSE),\"\")","v":""},null,null,null,null,null,null,null,null,null,null,null,null,null,null,null,null,null,null,null,null,null,null,null,null,null,""]
[null,null,null,null,null,null,null,null,null,null,null,null,null,null,null,null,null,{"$f":"IFERROR(VLOOKUP(CONCATENATE($C$4,\"10\"),RS!$B$3:$AC$346,4,FALSE),\"\")","v":""},{"$f":"IFERROR(VLOOKUP(CONCATENATE($C$4,\"10\"),RS!$B$3:$AC$346,12,FALSE),\"\")","v":""},null,null,null,null,null,null,null,null,null,null,null,null,null,null,null,null,null,null,null,null,null,null,null,null,null,""]
[null,null,null,null,null,null,null,null,null,null,null,null,null,null,null,null,null,{"$f":"IFERROR(VLOOKUP(CONCATENATE($C$4,\"11\"),RS!$B$3:$AC$346,4,FALSE),\"\")","v":""},{"$f":"IFERROR(VLOOKUP(CONCATENATE($C$4,\"11\"),RS!$B$3:$AC$346,12,FALSE),\"\")","v":""},null,null,null,null,null,null,null,null,null,null,null,null,null,null,null,null,null,null,null,null,null,null,null,null,null,""]
[null,null,null,null,null,null,null,null,null,null,null,null,null,null,null,null,null,{"$f":"IFERROR(VLOOKUP(CONCATENATE($C$4,\"12\"),RS!$B$3:$AC$346,4,FALSE),\"\")","v":""},{"$f":"IFERROR(VLOOKUP(CONCATENATE($C$4,\"12\"),RS!$B$3:$AC$346,12,FALSE),\"\")","v":""},null,null,null,null,null,null,null,null,null,null,null,null,null,null,null,null,null,null,null,null,null,null,null,null,null,""]
[]
[]
[]
[]
[null,null,null,null,null,null,null,null,null,null,null,null,"Kond","mS/m",null,null,null,"Årets resultat",null,null,null,null,null,null,null,null,null,null,null,null,null,null,null,null,null,null,null,null,null,null,null,null,null,"Årets resultat"]
[null,null,null,null,null,null,null,null,null,null,null,null,null,null,null,null,null,"Datum","mS/m",null,null,null,null,null,null,null,null,null,null,null,null,null,null,null,null,null,null,null,null,null,null,null,null,"Datum","mS/m"]
[null,null,null,null,null,null,null,null,null,null,null,null,"Medel",{"$f":"Statistik!J$157","v":40.280419580419576},null,null,null,{"$f":"IFERROR(VLOOKUP(CONCATENATE($C$4,\"1\"),RS!$B$3:$AC$346,4,FALSE),\"\")","v":"2025-01-15"},{"$f":"IFERROR(VLOOKUP(CONCATENATE($C$4,\"1\"),RS!$B$3:$AC$346,10,FALSE),\"\")","v":18.100000000000001},null,null,null,null,null,null,null,null,null,null,null,null,null,null,null,null,null,null,null,null,null,null,null,null,"2025-01-15",18.100000000000001]
[null,null,null,null,null,null,null,null,null,null,null,null,"Std.avv.",{"$f":"Statistik!J$158","v":54.460898570094763},null,null,null,{"$f":"IFERROR(VLOOKUP(CONCATENATE($C$4,\"2\"),RS!$B$3:$AC$346,4,FALSE),\"\")","v":"2025-02-11"},{"$f":"IFERROR(VLOOKUP(CONCATENATE($C$4,\"2\"),RS!$B$3:$AC$346,10,FALSE),\"\")","v":22.2},null,null,null,null,null,null,null,null,null,null,null,null,null,null,null,null,null,null,null,null,null,null,null,null,"2025-02-11",22.2]
[null,null,null,null,null,null,null,null,null,null,null,null,"Max",{"$f":"Statistik!J$159","v":340},null,null,null,{"$f":"IFERROR(VLOOKUP(CONCATENATE($C$4,\"3\"),RS!$B$3:$AC$346,4,FALSE),\"\")","v":""},{"$f":"IFERROR(VLOOKUP(CONCATENATE($C$4,\"3\"),RS!$B$3:$AC$346,10,FALSE),\"\")","v":""},null,null,null,null,null,null,null,null,null,null,null,null,null,null,null,null,null,null,null,null,null,null,null,null,null,""]
[null,null,null,null,null,null,null,null,null,null,null,null,"Min",{"$f":"Statistik!J$160","v":12.1},null,null,null,{"$f":"IFERROR(VLOOKUP(CONCATENATE($C$4,\"4\"),RS!$B$3:$AC$346,4,FALSE),\"\")","v":""},{"$f":"IFERROR(VLOOKUP(CONCATENATE($C$4,\"4\"),RS!$B$3:$AC$346,10,FALSE),\"\")","v":""},null,null,null,null,null,null,null,null,null,null,null,null,null,null,null,null,null,null,null,null,null,null,null,null,null,""]
[null,null,null,null,null,null,null,null,null,null,null,null,"Antal värden",{"$f":"Statistik!J$161","v":143},null,null,null,{"$f":"IFERROR(VLOOKUP(CONCATENATE($C$4,\"5\"),RS!$B$3:$AC$346,4,FALSE),\"\")","v":""},{"$f":"IFERROR(VLOOKUP(CONCATENATE($C$4,\"5\"),RS!$B$3:$AC$346,10,FALSE),\"\")","v":""},null,null,null,null,null,null,null,null,null,null,null,null,null,null,null,null,null,null,null,null,null,null,null,null,null,""]
[null,null,null,null,null,null,null,null,null,null,null,null,null,null,null,null,null,{"$f":"IFERROR(VLOOKUP(CONCATENATE($C$4,\"6\"),RS!$B$3:$AC$346,4,FALSE),\"\")","v":""},{"$f":"IFERROR(VLOOKUP(CONCATENATE($C$4,\"6\"),RS!$B$3:$AC$346,10,FALSE),\"\")","v":""},null,null,null,null,null,null,null,null,null,null,null,null,null,null,null,null,null,null,null,null,null,null,null,null,null,""]
[null,null,null,null,null,null,null,null,null,null,null,null,"Senaste",{"$f":"VLOOKUP(TRIM(CONCATENATE($C$4,$R$4)),RS!$A$3:$AB$346,11,FALSE)","v":{"$error":"#N/A"}},null,null,null,{"$f":"IFERROR(VLOOKUP(CONCATENATE($C$4,\"7\"),RS!$B$3:$AC$346,4,FALSE),\"\")","v":""},{"$f":"IFERROR(VLOOKUP(CONCATENATE($C$4,\"7\"),RS!$B$3:$AC$346,10,FALSE),\"\")","v":""},null,null,null,null,null,null,null,null,null,null,null,null,null,null,null,null,null,null,null,null,null,null,null,null,null,""]
[null,null,null,null,null,null,null,null,null,null,null,null,null,null,null,null,null,{"$f":"IFERROR(VLOOKUP(CONCATENATE($C$4,\"8\"),RS!$B$3:$AC$346,4,FALSE),\"\")","v":""},{"$f":"IFERROR(VLOOKUP(CONCATENATE($C$4,\"8\"),RS!$B$3:$AC$346,10,FALSE),\"\")","v":""},null,null,null,null,null,null,null,null,null,null,null,null,null,null,null,null,null,null,null,null,null,null,null,null,null,""]
[null,null,null,null,null,null,null,null,null,null,null,null,null,null,null,null,null,{"$f":"IFERROR(VLOOKUP(CONCATENATE($C$4,\"9\"),RS!$B$3:$AC$346,4,FALSE),\"\")","v":""},{"$f":"IFERROR(VLOOKUP(CONCATENATE($C$4,\"9\"),RS!$B$3:$AC$346,10,FALSE),\"\")","v":""},null,null,null,null,null,null,null,null,null,null,null,null,null,null,null,null,null,null,null,null,null,null,null,null,null,""]
[null,null,null,null,null,null,null,null,null,null,null,null,null,null,null,null,null,{"$f":"IFERROR(VLOOKUP(CONCATENATE($C$4,\"10\"),RS!$B$3:$AC$346,4,FALSE),\"\")","v":""},{"$f":"IFERROR(VLOOKUP(CONCATENATE($C$4,\"10\"),RS!$B$3:$AC$346,10,FALSE),\"\")","v":""},null,null,null,null,null,null,null,null,null,null,null,null,null,null,null,null,null,null,null,null,null,null,null,null,null,""]
[null,null,null,null,null,null,null,null,null,null,null,null,null,null,null,null,null,{"$f":"IFERROR(VLOOKUP(CONCATENATE($C$4,\"11\"),RS!$B$3:$AC$346,4,FALSE),\"\")","v":""},{"$f":"IFERROR(VLOOKUP(CONCATENATE($C$4,\"11\"),RS!$B$3:$AC$346,10,FALSE),\"\")","v":""},null,null,null,null,null,null,null,null,null,null,null,null,null,null,null,null,null,null,null,null,null,null,null,null,null,""]
[null,null,null,null,null,null,null,null,null,null,null,null,null,null,null,null,null,{"$f":"IFERROR(VLOOKUP(CONCATENATE($C$4,\"12\"),RS!$B$3:$AC$346,4,FALSE),\"\")","v":""},{"$f":"IFERROR(VLOOKUP(CONCATENATE($C$4,\"12\"),RS!$B$3:$AC$346,10,FALSE),\"\")","v":""},null,null,null,null,null,null,null,null,null,null,null,null,null,null,null,null,null,null,null,null,null,null,null,null,null,""]
[]
[]
[]
[]
[null,null,null,null,null,null,null,null,null,null,null,null,"Färgtal"," mgPt/l",null,null,null,"Årets resultat",null,null,null,null,null,null,null,null,null,null,null,null,null,null,null,null,null,null,null,null,null,null,null,null,null,"Årets resultat"]
[null,null,null,null,null,null,null,null,null,null,null,null,null,null,null,null,null,"Datum","mg/l",null,null,null,null,null,null,null,null,null,null,null,null,null,null,null,null,null,null,null,null,null,null,null,null,"Datum","mg/l"]
[null,null,null,null,null,null,null,null,null,null,null,null,"Medel",{"$f":"Statistik!K$157","v":131.97916666666666},null,null,null,{"$f":"IFERROR(VLOOKUP(CONCATENATE($C$4,\"1\"),RS!$B$3:$AC$346,4,FALSE),\"\")","v":"2025-01-15"},{"$f":"IFERROR(VLOOKUP(CONCATENATE($C$4,\"1\"),RS!$B$3:$AC$346,11,FALSE),\"\")","v":120},null,null,null,null,null,null,null,null,null,null,null,null,null,null,null,null,null,null,null,null,null,null,null,null,"2025-01-15",120]
[null,null,null,null,null,null,null,null,null,null,null,null,"Std.avv.",{"$f":"Statistik!K$158","v":116.81402760565422},null,null,null,{"$f":"IFERROR(VLOOKUP(CONCATENATE($C$4,\"2\"),RS!$B$3:$AC$346,4,FALSE),\"\")","v":"2025-02-11"},{"$f":"IFERROR(VLOOKUP(CONCATENATE($C$4,\"2\"),RS!$B$3:$AC$346,11,FALSE),\"\")","v":150},null,null,null,null,null,null,null,null,null,null,null,null,null,null,null,null,null,null,null,null,null,null,null,null,"2025-02-11",150]
[null,null,null,null,null,null,null,null,null,null,null,null,"Max",{"$f":"Statistik!K$159","v":1200},null,null,null,{"$f":"IFERROR(VLOOKUP(CONCATENATE($C$4,\"3\"),RS!$B$3:$AC$346,4,FALSE),\"\")","v":""},{"$f":"IFERROR(VLOOKUP(CONCATENATE($C$4,\"3\"),RS!$B$3:$AC$346,11,FALSE),\"\")","v":""},null,null,null,null,null,null,null,null,null,null,null,null,null,null,null,null,null,null,null,null,null,null,null,null,null,""]
[null,null,null,null,null,null,null,null,null,null,null,null,"Min",{"$f":"Statistik!K$160","v":37},null,null,null,{"$f":"IFERROR(VLOOKUP(CONCATENATE($C$4,\"4\"),RS!$B$3:$AC$346,4,FALSE),\"\")","v":""},{"$f":"IFERROR(VLOOKUP(CONCATENATE($C$4,\"4\"),RS!$B$3:$AC$346,11,FALSE),\"\")","v":""},null,null,null,null,null,null,null,null,null,null,null,null,null,null,null,null,null,null,null,null,null,null,null,null,null,""]
[null,null,null,null,null,null,null,null,null,null,null,null,"Antal värden",{"$f":"Statistik!K$161","v":144},null,null,null,{"$f":"IFERROR(VLOOKUP(CONCATENATE($C$4,\"5\"),RS!$B$3:$AC$346,4,FALSE),\"\")","v":""},{"$f":"IFERROR(VLOOKUP(CONCATENATE($C$4,\"5\"),RS!$B$3:$AC$346,11,FALSE),\"\")","v":""},null,null,null,null,null,null,null,null,null,null,null,null,null,null,null,null,null,null,null,null,null,null,null,null,null,""]
[null,null,null,null,null,null,null,null,null,null,null,null,null,null,null,null,null,{"$f":"IFERROR(VLOOKUP(CONCATENATE($C$4,\"6\"),RS!$B$3:$AC$346,4,FALSE),\"\")","v":""},{"$f":"IFERROR(VLOOKUP(CONCATENATE($C$4,\"6\"),RS!$B$3:$AC$346,11,FALSE),\"\")","v":""},null,null,null,null,null,null,null,null,null,null,null,null,null,null,null,null,null,null,null,null,null,null,null,null,null,""]
[null,null,null,null,null,null,null,null,null,null,null,null,"Senaste",{"$f":"VLOOKUP(TRIM(CONCATENATE($C$4,$R$4)),RS!$A$3:$AB$346,12,FALSE)","v":{"$error":"#N/A"}},null,null,null,{"$f":"IFERROR(VLOOKUP(CONCATENATE($C$4,\"7\"),RS!$B$3:$AC$346,4,FALSE),\"\")","v":""},{"$f":"IFERROR(VLOOKUP(CONCATENATE($C$4,\"7\"),RS!$B$3:$AC$346,11,FALSE),\"\")","v":""},null,null,null,null,null,null,null,null,null,null,null,null,null,null,null,null,null,null,null,null,null,null,null,null,null,""]
[null,null,null,null,null,null,null,null,null,null,null,null,null,null,null,null,null,{"$f":"IFERROR(VLOOKUP(CONCATENATE($C$4,\"8\"),RS!$B$3:$AC$346,4,FALSE),\"\")","v":""},{"$f":"IFERROR(VLOOKUP(CONCATENATE($C$4,\"8\"),RS!$B$3:$AC$346,11,FALSE),\"\")","v":""},null,null,null,null,null,null,null,null,null,null,null,null,null,null,null,null,null,null,null,null,null,null,null,null,null,""]
[null,null,null,null,null,null,null,null,null,null,null,null,null,null,null,null,null,{"$f":"IFERROR(VLOOKUP(CONCATENATE($C$4,\"9\"),RS!$B$3:$AC$346,4,FALSE),\"\")","v":""},{"$f":"IFERROR(VLOOKUP(CONCATENATE($C$4,\"9\"),RS!$B$3:$AC$346,11,FALSE),\"\")","v":""},null,null,null,null,null,null,null,null,null,null,null,null,null,null,null,null,null,null,null,null,null,null,null,null,null,""]
[null,null,null,null,null,null,null,null,null,null,null,null,null,null,null,null,null,{"$f":"IFERROR(VLOOKUP(CONCATENATE($C$4,\"10\"),RS!$B$3:$AC$346,4,FALSE),\"\")","v":""},{"$f":"IFERROR(VLOOKUP(CONCATENATE($C$4,\"10\"),RS!$B$3:$AC$346,11,FALSE),\"\")","v":""},null,null,null,null,null,null,null,null,null,null,null,null,null,null,null,null,null,null,null,null,null,null,null,null,null,""]
[null,null,null,null,null,null,null,null,null,null,null,null,null,null,null,null,null,{"$f":"IFERROR(VLOOKUP(CONCATENATE($C$4,\"11\"),RS!$B$3:$AC$346,4,FALSE),\"\")","v":""},{"$f":"IFERROR(VLOOKUP(CONCATENATE($C$4,\"11\"),RS!$B$3:$AC$346,11,FALSE),\"\")","v":""},null,null,null,null,null,null,null,null,null,null,null,null,null,null,null,null,null,null,null,null,null,null,null,null,null,""]
[null,null,null,null,null,null,null,null,null,null,null,null,null,null,null,null,null,{"$f":"IFERROR(VLOOKUP(CONCATENATE($C$4,\"12\"),RS!$B$3:$AC$346,4,FALSE),\"\")","v":""},{"$f":"IFERROR(VLOOKUP(CONCATENATE($C$4,\"12\"),RS!$B$3:$AC$346,11,FALSE),\"\")","v":""},null,null,null,null,null,null,null,null,null,null,null,null,null,null,null,null,null,null,null,null,null,null,null,null,null,""]
[]
[]
[]
[]
[]
[]
[]
[]
[]
[]
[]
[]
[]
[]
[]
[]
[]
[]
[]
[]
[]
[]
[]
[]
[]
[]
[]
[]
[]
[]
[]
[]
[]
[]
[]
[]
[]
[]
[]
[]
[]
[]
[]
[]
[]
[]
[]
[]
[]
[]
[]
[]
[]
[]
[]
[]
[]
[]
[]
[]
[]
[]
[]
[]
[]
[]
[]
[]
[]
[]
[]
[]
[]
[]
[]
[]
[]
[]
[]
[]
[]
[]
[]
[]
[]
[]
[]
[]
[]
[]
[]
[]
[]
[]
[]
[]
[]
[]
[]
[]
[]
[null,null,"OBS! Dessa diagram ANVÄNDS EJ, inte korrket kopplade till data"]
[]
[]
[null,null,null,null,null,null,null,null,null,null,null,null,"NO2,3-N","µg/l",null,null,null,"Årets resultat",null,null,null,null,null,null,null,null,null,null,null,null,null,null,null,null,null,null,null,null,null,null,null,null,null,"Årets resultat"]
[null,null,null,null,null,null,null,null,null,null,null,null,null,null,null,null,null,"Datum","µg/l",null,null,null,null,null,null,null,null,null,null,null,null,null,null,null,null,null,null,null,null,null,null,null,null,"Datum","µg/l"]
[null,null,null,null,null,null,null,null,null,null,null,null,"Medel",{"$f":"Statistik!O$157","v":1393.9583333333333},null,null,null,{"$f":"IFERROR(VLOOKUP(CONCATENATE($C$4,\"1\"),RS!$B$3:$AC$346,4,FALSE),\"\")","v":"2025-01-15"},{"$f":"IFERROR(VLOOKUP(CONCATENATE($C$4,\"1\"),RS!$B$3:$AC$346,14,FALSE),\"\")","v":""},null,null,null,null,null,null,null,null,null,null,null,null,null,null,null,null,null,null,null,null,null,null,null,null,"2025-01-15",""]
[null,null,null,null,null,null,null,null,null,null,null,null,"Std.avv.",{"$f":"Statistik!O$158","v":860.82674422117816},null,null,null,{"$f":"IFERROR(VLOOKUP(CONCATENATE($C$4,\"2\"),RS!$B$3:$AC$346,4,FALSE),\"\")","v":"2025-02-11"},{"$f":"IFERROR(VLOOKUP(CONCATENATE($C$4,\"2\"),RS!$B$3:$AC$346,14,FALSE),\"\")","v":""},null,null,null,null,null,null,null,null,null,null,null,null,null,null,null,null,null,null,null,null,null,null,null,null,"2025-02-11",""]
[null,null,null,null,null,null,null,null,null,null,null,null,"Max",{"$f":"Statistik!O$159","v":7300},null,null,null,{"$f":"IFERROR(VLOOKUP(CONCATENATE($C$4,\"3\"),RS!$B$3:$AC$346,4,FALSE),\"\")","v":""},{"$f":"IFERROR(VLOOKUP(CONCATENATE($C$4,\"3\"),RS!$B$3:$AC$346,14,FALSE),\"\")","v":""},null,null,null,null,null,null,null,null,null,null,null,null,null,null,null,null,null,null,null,null,null,null,null,null,null,""]
[null,null,null,null,null,null,null,null,null,null,null,null,"Min",{"$f":"Statistik!O$160","v":230},null,null,null,{"$f":"IFERROR(VLOOKUP(CONCATENATE($C$4,\"4\"),RS!$B$3:$AC$346,4,FALSE),\"\")","v":""},{"$f":"IFERROR(VLOOKUP(CONCATENATE($C$4,\"4\"),RS!$B$3:$AC$346,14,FALSE),\"\")","v":""},null,null,null,null,null,null,null,null,null,null,null,null,null,null,null,null,null,null,null,null,null,null,null,null,null,""]
[null,null,null,null,null,null,null,null,null,null,null,null,"Antal värden",{"$f":"Statistik!O$161","v":144},null,null,null,{"$f":"IFERROR(VLOOKUP(CONCATENATE($C$4,\"5\"),RS!$B$3:$AC$346,4,FALSE),\"\")","v":""},{"$f":"IFERROR(VLOOKUP(CONCATENATE($C$4,\"5\"),RS!$B$3:$AC$346,14,FALSE),\"\")","v":""},null,null,null,null,null,null,null,null,null,null,null,null,null,null,null,null,null,null,null,null,null,null,null,null,null,""]
[null,null,null,null,null,null,null,null,null,null,null,null,null,null,null,null,null,{"$f":"IFERROR(VLOOKUP(CONCATENATE($C$4,\"6\"),RS!$B$3:$AC$346,4,FALSE),\"\")","v":""},{"$f":"IFERROR(VLOOKUP(CONCATENATE($C$4,\"6\"),RS!$B$3:$AC$346,14,FALSE),\"\")","v":""},null,null,null,null,null,null,null,null,null,null,null,null,null,null,null,null,null,null,null,null,null,null,null,null,null,""]
[null,null,null,null,null,null,null,null,null,null,null,null,"Senaste",{"$f":"VLOOKUP(TRIM(CONCATENATE($C$4,$R$4)),RS!$A$3:$AB$346,15,FALSE)","v":{"$error":"#N/A"}},null,null,null,{"$f":"IFERROR(VLOOKUP(CONCATENATE($C$4,\"7\"),RS!$B$3:$AC$346,4,FALSE),\"\")","v":""},{"$f":"IFERROR(VLOOKUP(CONCATENATE($C$4,\"7\"),RS!$B$3:$AC$346,14,FALSE),\"\")","v":""},null,null,null,null,null,null,null,null,null,null,null,null,null,null,null,null,null,null,null,null,null,null,null,null,null,""]
[null,null,null,null,null,null,null,null,null,null,null,null,null,null,null,null,null,{"$f":"IFERROR(VLOOKUP(CONCATENATE($C$4,\"8\"),RS!$B$3:$AC$346,4,FALSE),\"\")","v":""},{"$f":"IFERROR(VLOOKUP(CONCATENATE($C$4,\"8\"),RS!$B$3:$AC$346,14,FALSE),\"\")","v":""},null,null,null,null,null,null,null,null,null,null,null,null,null,null,null,null,null,null,null,null,null,null,null,null,null,""]
[null,null,null,null,null,null,null,null,null,null,null,null,null,null,null,null,null,{"$f":"IFERROR(VLOOKUP(CONCATENATE($C$4,\"9\"),RS!$B$3:$AC$346,4,FALSE),\"\")","v":""},{"$f":"IFERROR(VLOOKUP(CONCATENATE($C$4,\"9\"),RS!$B$3:$AC$346,14,FALSE),\"\")","v":""},null,null,null,null,null,null,null,null,null,null,null,null,null,null,null,null,null,null,null,null,null,null,null,null,null,""]
[null,null,null,null,null,null,null,null,null,null,null,null,null,null,null,null,null,{"$f":"IFERROR(VLOOKUP(CONCATENATE($C$4,\"10\"),RS!$B$3:$AC$346,4,FALSE),\"\")","v":""},{"$f":"IFERROR(VLOOKUP(CONCATENATE($C$4,\"10\"),RS!$B$3:$AC$346,14,FALSE),\"\")","v":""},null,null,null,null,null,null,null,null,null,null,null,null,null,null,null,null,null,null,null,null,null,null,null,null,null,""]
[null,null,null,null,null,null,null,null,null,null,null,null,null,null,null,null,null,{"$f":"IFERROR(VLOOKUP(CONCATENATE($C$4,\"11\"),RS!$B$3:$AC$346,4,FALSE),\"\")","v":""},{"$f":"IFERROR(VLOOKUP(CONCATENATE($C$4,\"11\"),RS!$B$3:$AC$346,14,FALSE),\"\")","v":""},null,null,null,null,null,null,null,null,null,null,null,null,null,null,null,null,null,null,null,null,null,null,null,null,null,""]
[null,null,null,null,null,null,null,null,null,null,null,null,null,null,null,null,null,{"$f":"IFERROR(VLOOKUP(CONCATENATE($C$4,\"12\"),RS!$B$3:$AC$346,4,FALSE),\"\")","v":""},{"$f":"IFERROR(VLOOKUP(CONCATENATE($C$4,\"12\"),RS!$B$3:$AC$346,14,FALSE),\"\")","v":""},null,null,null,null,null,null,null,null,null,null,null,null,null,null,null,null,null,null,null,null,null,null,null,null,null,""]
[]
[]
[]
[]
[null,null,null,null,null,null,null,null,null,null,null,null,"NH4-N","µg/l",null,null,null,"Årets resultat",null,null,null,null,null,null,null,null,null,null,null,null,null,null,null,null,null,null,null,null,null,null,null,null,null,"Årets resultat"]
[null,null,null,null,null,null,null,null,null,null,null,null,null,null,null,null,null,"Datum","µg/l",null,null,null,null,null,null,null,null,null,null,null,null,null,null,null,null,null,null,null,null,null,null,null,null,"Datum","µg/l"]
[null,null,null,null,null,null,null,null,null,null,null,null,"Medel",{"$f":"Statistik!P$157","v":{"$error":"#DIV/0!"}},null,null,null,{"$f":"IFERROR(VLOOKUP(CONCATENATE($C$4,\"1\"),RS!$B$3:$AC$346,4,FALSE),\"\")","v":"2025-01-15"},{"$f":"IFERROR(VLOOKUP(CONCATENATE($C$4,\"1\"),RS!$B$3:$AC$346,15,FALSE),\"\")","v":43.45},null,null,null,null,null,null,null,null,null,null,null,null,null,null,null,null,null,null,null,null,null,null,null,null,"2025-01-15",43.45]
[null,null,null,null,null,null,null,null,null,null,null,null,"Std.avv.",{"$f":"Statistik!P$158","v":{"$error":"#DIV/0!"}},null,null,null,{"$f":"IFERROR(VLOOKUP(CONCATENATE($C$4,\"2\"),RS!$B$3:$AC$346,4,FALSE),\"\")","v":"2025-02-11"},{"$f":"IFERROR(VLOOKUP(CONCATENATE($C$4,\"2\"),RS!$B$3:$AC$346,15,FALSE),\"\")","v":38.710000000000008},null,null,null,null,null,null,null,null,null,null,null,null,null,null,null,null,null,null,null,null,null,null,null,null,"2025-02-11",38.710000000000008]
[null,null,null,null,null,null,null,null,null,null,null,null,"Max",{"$f":"Statistik!P$159","v":0},null,null,null,{"$f":"IFERROR(VLOOKUP(CONCATENATE($C$4,\"3\"),RS!$B$3:$AC$346,4,FALSE),\"\")","v":""},{"$f":"IFERROR(VLOOKUP(CONCATENATE($C$4,\"3\"),RS!$B$3:$AC$346,15,FALSE),\"\")","v":""},null,null,null,null,null,null,null,null,null,null,null,null,null,null,null,null,null,null,null,null,null,null,null,null,null,""]
[null,null,null,null,null,null,null,null,null,null,null,null,"Min",{"$f":"Statistik!P$160","v":0},null,null,null,{"$f":"IFERROR(VLOOKUP(CONCATENATE($C$4,\"4\"),RS!$B$3:$AC$346,4,FALSE),\"\")","v":""},{"$f":"IFERROR(VLOOKUP(CONCATENATE($C$4,\"4\"),RS!$B$3:$AC$346,15,FALSE),\"\")","v":""},null,null,null,null,null,null,null,null,null,null,null,null,null,null,null,null,null,null,null,null,null,null,null,null,null,""]
[null,null,null,null,null,null,null,null,null,null,null,null,"Antal värden",{"$f":"Statistik!P$161","v":12},null,null,null,{"$f":"IFERROR(VLOOKUP(CONCATENATE($C$4,\"5\"),RS!$B$3:$AC$346,4,FALSE),\"\")","v":""},{"$f":"IFERROR(VLOOKUP(CONCATENATE($C$4,\"5\"),RS!$B$3:$AC$346,15,FALSE),\"\")","v":""},null,null,null,null,null,null,null,null,null,null,null,null,null,null,null,null,null,null,null,null,null,null,null,null,null,""]
[null,null,null,null,null,null,null,null,null,null,null,null,null,null,null,null,null,{"$f":"IFERROR(VLOOKUP(CONCATENATE($C$4,\"6\"),RS!$B$3:$AC$346,4,FALSE),\"\")","v":""},{"$f":"IFERROR(VLOOKUP(CONCATENATE($C$4,\"6\"),RS!$B$3:$AC$346,15,FALSE),\"\")","v":""},null,null,null,null,null,null,null,null,null,null,null,null,null,null,null,null,null,null,null,null,null,null,null,null,null,""]
[null,null,null,null,null,null,null,null,null,null,null,null,"Senaste",{"$f":"VLOOKUP(TRIM(CONCATENATE($C$4,$R$4)),RS!$A$3:$AB$346,16,FALSE)","v":{"$error":"#N/A"}},null,null,null,{"$f":"IFERROR(VLOOKUP(CONCATENATE($C$4,\"7\"),RS!$B$3:$AC$346,4,FALSE),\"\")","v":""},{"$f":"IFERROR(VLOOKUP(CONCATENATE($C$4,\"7\"),RS!$B$3:$AC$346,15,FALSE),\"\")","v":""},null,null,null,null,null,null,null,null,null,null,null,null,null,null,null,null,null,null,null,null,null,null,null,null,null,""]
[null,null,null,null,null,null,null,null,null,null,null,null,null,null,null,null,null,{"$f":"IFERROR(VLOOKUP(CONCATENATE($C$4,\"8\"),RS!$B$3:$AC$346,4,FALSE),\"\")","v":""},{"$f":"IFERROR(VLOOKUP(CONCATENATE($C$4,\"8\"),RS!$B$3:$AC$346,15,FALSE),\"\")","v":""},null,null,null,null,null,null,null,null,null,null,null,null,null,null,null,null,null,null,null,null,null,null,null,null,null,""]
[null,null,null,null,null,null,null,null,null,null,null,null,null,null,null,null,null,{"$f":"IFERROR(VLOOKUP(CONCATENATE($C$4,\"9\"),RS!$B$3:$AC$346,4,FALSE),\"\")","v":""},{"$f":"IFERROR(VLOOKUP(CONCATENATE($C$4,\"9\"),RS!$B$3:$AC$346,15,FALSE),\"\")","v":""},null,null,null,null,null,null,null,null,null,null,null,null,null,null,null,null,null,null,null,null,null,null,null,null,null,""]
[null,null,null,null,null,null,null,null,null,null,null,null,null,null,null,null,null,{"$f":"IFERROR(VLOOKUP(CONCATENATE($C$4,\"10\"),RS!$B$3:$AC$346,4,FALSE),\"\")","v":""},{"$f":"IFERROR(VLOOKUP(CONCATENATE($C$4,\"10\"),RS!$B$3:$AC$346,15,FALSE),\"\")","v":""},null,null,null,null,null,null,null,null,null,null,null,null,null,null,null,null,null,null,null,null,null,null,null,null,null,""]
[null,null,null,null,null,null,null,null,null,null,null,null,null,null,null,null,null,{"$f":"IFERROR(VLOOKUP(CONCATENATE($C$4,\"11\"),RS!$B$3:$AC$346,4,FALSE),\"\")","v":""},{"$f":"IFERROR(VLOOKUP(CONCATENATE($C$4,\"11\"),RS!$B$3:$AC$346,15,FALSE),\"\")","v":""},null,null,null,null,null,null,null,null,null,null,null,null,null,null,null,null,null,null,null,null,null,null,null,null,null,""]
[null,null,null,null,null,null,null,null,null,null,null,null,null,null,null,null,null,{"$f":"IFERROR(VLOOKUP(CONCATENATE($C$4,\"12\"),RS!$B$3:$AC$346,4,FALSE),\"\")","v":""},{"$f":"IFERROR(VLOOKUP(CONCATENATE($C$4,\"12\"),RS!$B$3:$AC$346,15,FALSE),\"\")","v":""},null,null,null,null,null,null,null,null,null,null,null,null,null,null,null,null,null,null,null,null,null,null,null,null,null,""]
[]
[]
[]
[]
[null,null,null,null,null,null,null,null,null,null,null,null,"PO4-P","µg/l",null,null,null,"Årets resultat",null,null,null,null,null,null,null,null,null,null,null,null,null,null,null,null,null,null,null,null,null,null,null,null,null,"Årets resultat"]
[null,null,null,null,null,null,null,null,null,null,null,null,null,null,null,null,null,"Datum","µg/l",null,null,null,null,null,null,null,null,null,null,null,null,null,null,null,null,null,null,null,null,null,null,null,null,"Datum","µg/l"]
[null,null,null,null,null,null,null,null,null,null,null,null,"Medel",{"$f":"Statistik!M$157","v":{"$error":"#DIV/0!"}},null,null,null,{"$f":"IFERROR(VLOOKUP(CONCATENATE($C$4,\"1\"),RS!$B$3:$AC$346,4,FALSE),\"\")","v":"2025-01-15"},{"$f":"IFERROR(VLOOKUP(CONCATENATE($C$4,\"1\"),RS!$B$3:$AC$346,12,FALSE),\"\")","v":8.1},null,null,null,null,null,null,null,null,null,null,null,null,null,null,null,null,null,null,null,null,null,null,null,null,"2025-01-15",8.1]
[null,null,null,null,null,null,null,null,null,null,null,null,"Std.avv.",{"$f":"Statistik!M$158","v":{"$error":"#DIV/0!"}},null,null,null,{"$f":"IFERROR(VLOOKUP(CONCATENATE($C$4,\"2\"),RS!$B$3:$AC$346,4,FALSE),\"\")","v":"2025-02-11"},{"$f":"IFERROR(VLOOKUP(CONCATENATE($C$4,\"2\"),RS!$B$3:$AC$346,12,FALSE),\"\")","v":6.1},null,null,null,null,null,null,null,null,null,null,null,null,null,null,null,null,null,null,null,null,null,null,null,null,"2025-02-11",6.1]
[null,null,null,null,null,null,null,null,null,null,null,null,"Max",{"$f":"Statistik!M$159","v":0},null,null,null,{"$f":"IFERROR(VLOOKUP(CONCATENATE($C$4,\"3\"),RS!$B$3:$AC$346,4,FALSE),\"\")","v":""},{"$f":"IFERROR(VLOOKUP(CONCATENATE($C$4,\"3\"),RS!$B$3:$AC$346,12,FALSE),\"\")","v":""},null,null,null,null,null,null,null,null,null,null,null,null,null,null,null,null,null,null,null,null,null,null,null,null,null,""]
[null,null,null,null,null,null,null,null,null,null,null,null,"Min",{"$f":"Statistik!M$160","v":0},null,null,null,{"$f":"IFERROR(VLOOKUP(CONCATENATE($C$4,\"4\"),RS!$B$3:$AC$346,4,FALSE),\"\")","v":""},{"$f":"IFERROR(VLOOKUP(CONCATENATE($C$4,\"4\"),RS!$B$3:$AC$346,12,FALSE),\"\")","v":""},null,null,null,null,null,null,null,null,null,null,null,null,null,null,null,null,null,null,null,null,null,null,null,null,null,""]
[null,null,null,null,null,null,null,null,null,null,null,null,"Antal värden",{"$f":"Statistik!M$161","v":14},null,null,null,{"$f":"IFERROR(VLOOKUP(CONCATENATE($C$4,\"5\"),RS!$B$3:$AC$346,4,FALSE),\"\")","v":""},{"$f":"IFERROR(VLOOKUP(CONCATENATE($C$4,\"5\"),RS!$B$3:$AC$346,12,FALSE),\"\")","v":""},null,null,null,null,null,null,null,null,null,null,null,null,null,null,null,null,null,null,null,null,null,null,null,null,null,""]
[null,null,null,null,null,null,null,null,null,null,null,null,null,null,null,null,null,{"$f":"IFERROR(VLOOKUP(CONCATENATE($C$4,\"6\"),RS!$B$3:$AC$346,4,FALSE),\"\")","v":""},{"$f":"IFERROR(VLOOKUP(CONCATENATE($C$4,\"6\"),RS!$B$3:$AC$346,12,FALSE),\"\")","v":""},null,null,null,null,null,null,null,null,null,null,null,null,null,null,null,null,null,null,null,null,null,null,null,null,null,""]
[null,null,null,null,null,null,null,null,null,null,null,null,"Senaste",{"$f":"VLOOKUP(TRIM(CONCATENATE($C$4,$R$4)),RS!$A$3:$AB$346,13,FALSE)","v":{"$error":"#N/A"}},null,null,null,{"$f":"IFERROR(VLOOKUP(CONCATENATE($C$4,\"7\"),RS!$B$3:$AC$346,4,FALSE),\"\")","v":""},{"$f":"IFERROR(VLOOKUP(CONCATENATE($C$4,\"7\"),RS!$B$3:$AC$346,12,FALSE),\"\")","v":""},null,null,null,null,null,null,null,null,null,null,null,null,null,null,null,null,null,null,null,null,null,null,null,null,null,""]
[null,null,null,null,null,null,null,null,null,null,null,null,null,null,null,null,null,{"$f":"IFERROR(VLOOKUP(CONCATENATE($C$4,\"8\"),RS!$B$3:$AC$346,4,FALSE),\"\")","v":""},{"$f":"IFERROR(VLOOKUP(CONCATENATE($C$4,\"8\"),RS!$B$3:$AC$346,12,FALSE),\"\")","v":""},null,null,null,null,null,null,null,null,null,null,null,null,null,null,null,null,null,null,null,null,null,null,null,null,null,""]
[null,null,null,null,null,null,null,null,null,null,null,null,null,null,null,null,null,{"$f":"IFERROR(VLOOKUP(CONCATENATE($C$4,\"9\"),RS!$B$3:$AC$346,4,FALSE),\"\")","v":""},{"$f":"IFERROR(VLOOKUP(CONCATENATE($C$4,\"9\"),RS!$B$3:$AC$346,12,FALSE),\"\")","v":""},null,null,null,null,null,null,null,null,null,null,null,null,null,null,null,null,null,null,null,null,null,null,null,null,null,""]
[null,null,null,null,null,null,null,null,null,null,null,null,null,null,null,null,null,{"$f":"IFERROR(VLOOKUP(CONCATENATE($C$4,\"10\"),RS!$B$3:$AC$346,4,FALSE),\"\")","v":""},{"$f":"IFERROR(VLOOKUP(CONCATENATE($C$4,\"10\"),RS!$B$3:$AC$346,12,FALSE),\"\")","v":""},null,null,null,null,null,null,null,null,null,null,null,null,null,null,null,null,null,null,null,null,null,null,null,null,null,""]
[null,null,null,null,null,null,null,null,null,null,null,null,null,null,null,null,null,{"$f":"IFERROR(VLOOKUP(CONCATENATE($C$4,\"11\"),RS!$B$3:$AC$346,4,FALSE),\"\")","v":""},{"$f":"IFERROR(VLOOKUP(CONCATENATE($C$4,\"11\"),RS!$B$3:$AC$346,12,FALSE),\"\")","v":""},null,null,null,null,null,null,null,null,null,null,null,null,null,null,null,null,null,null,null,null,null,null,null,null,null,""]
[null,null,null,null,null,null,null,null,null,null,null,null,null,null,null,null,null,{"$f":"IFERROR(VLOOKUP(CONCATENATE($C$4,\"12\"),RS!$B$3:$AC$346,4,FALSE),\"\")","v":""},{"$f":"IFERROR(VLOOKUP(CONCATENATE($C$4,\"12\"),RS!$B$3:$AC$346,12,FALSE),\"\")","v":""},null,null,null,null,null,null,null,null,null,null,null,null,null,null,null,null,null,null,null,null,null,null,null,null,null,""]

{"sheet":"Hist_data","index":9,"n_rows":3665,"n_cols":25,"rows_kept":3665,"cut":false,"hidden":true,"merged":[]}
[null,null,"sista rad",3664,"OBS! Om det blir fler än 4000 rader måste makro ändras",null,null,null,null,null,null,null,null,null,null,null,null,null,null,null,null,null,null,"Används ej i statistik"]
[null,"Rönne å"]
[null,"Vattenkontroll - historiska data"]
[null,null,null,"  °C","mg/l","%",null,"  mmol/l","  FNU","mS/m"," mgPt/l","   mg/l"," µg/l"," µg/l","  µg/l","  µg/l","  µg/l"," µg/l","m",null,null,null," µg/l","/5cm","mg/l"]
["Sorterings-","Provtagningspunkt","Datum"," Temp"," Syreh","Syrem","  pH"," Alkalin","Gruml","Kond","   Färg"," Perm.t.","PO4-P","Tot-P"," NO3+2-N","NH4-N"," Tot-N","Klor a","Siktdjup","Anmärkning","år","månad","Tot-P filt","Abs,filt","BOD7"]
[null,"Denna rad ska vara tom"]
[3,"3  Rönneå, uppstr Bålamöllan","2013-02-14",1.5,15,106.92865973979926,8.0299999999999994,1.9412272000000002,1.9,29.4,30,34,null,22,500,null,1600,null,null,null,{"$f":"YEAR(C7)","v":2013},{"$f":"MONTH(C7)","v":2}]
[3,"3  Rönneå, uppstr Bålamöllan","2013-04-16",9.1,10.4,90.468275114976734,7.78,1.8917760000000001,2.9,29,45,40,null,27,730,null,1600,null,null,null,2013,4]
[3,"3  Rönneå, uppstr Bålamöllan","2013-07-09",19.899999999999999,6.3,69.101128997782567,7.79,2.1362639999999997,10,29.8,45,47,null,51,38,null,1100,null,null,null,2013,7]
[3,"3  Rönneå, uppstr Bålamöllan","2013-08-15",15.8,7.5,75.867585313098019,7.85,2.148288,13,29.8,45,40,null,77,140,null,1100,null,null,null,2013,8]
[3,"3  Rönneå, uppstr Bålamöllan","2013-09-11",16.899999999999999,8.3000000000000007,85.875465345562333,8.16,2.1242399999999999,16,29.4,45,40,null,50,"<10",null,1200,null,null,null,2013,9]
[3,"3  Rönneå, uppstr Bålamöllan","2013-11-19",6.7,11.3,92.60077430253564,8.17,2.012016,12,30.9,40,43,null,41,560,null,1500,null,null,null,2013,11]
[3,"3  Rönneå, uppstr Bålamöllan","2014-02-18",1.8,13.5,97.048354560307658,7.92,1.8894000000000002,4.0999999999999996,29.2,35,36,null,21,900,null,1800,null,null,null,2014,2]
[3,"3  Rönneå, uppstr Bålamöllan","2014-04-16",9.1999999999999993,10.9,95.047738766723782,7.77,1.8532200000000003,7,29.5,60,51,null,44,1000,null,2100,null,null,null,2014,4]
[3,"3  Rönneå, uppstr Bålamöllan","2014-07-22",24,7,82.552731003849388,7.9,2.1909000000000005,9.5,30.7,40,35,null,49,52,null,1100,null,null,null,2014,7]
[3,"3  Rönneå, uppstr Bålamöllan","2014-08-14",18.5,7.9,84.369769720623893,7.59,2.1507000000000005,6.6,31,35,35,null,39,100,null,860,null,null,null,2014,8]
[3,"3  Rönneå, uppstr Bålamöllan","2014-09-23",13.4,8.5,81.677155541353983,7.91,2.0783400000000007,8.6,30.9,45,35,null,45,88,null,1000,null,null,null,2014,9]
[3,"3  Rönneå, uppstr Bålamöllan","2014-11-11",9.5,9.4,82.56322359358937,7.83,2.0200499999999999,6.2,31.2,40,39,null,37,460,null,1400,null,null,null,2014,11]
[3,"3  Rönneå, uppstr Bålamöllan","2015-02-10",1.8,13.8,99.204984661647828,7.91,1.7360680000000002,7.3,28.1,50,43,null,26,1300,null,2200,null,null,null,2015,2]
[3,"3  Rönneå, uppstr Bålamöllan","2015-04-14",7.3,11.7,97.347370900862458,7.96,4.32003,5.5,27.5,65,47,null,36,1000,null,1800,null,null,null,2015,4]
[3,"3  Rönneå, uppstr Bålamöllan","2015-07-14",18.399999999999999,7.2,76.744684759459446,7.9,1.9656640000000005,6.2,29.2,50,39,null,30,43,null,1100,null,null,null,2015,7]
[3,"3  Rönneå, uppstr Bålamöllan","2015-08-13",18.100000000000001,6.7,70.997897900477909,7.81,1.9938600000000002,8.6,28.9,50,43,null,44,37,null,1100,null,null,null,2015,8]
[3,"3  Rönneå, uppstr Bålamöllan","2015-09-16",15.4,7.6,76.239388663762668,7.91,1.9334400000000003,10,29.6,50,47,null,50,55,null,1200,null,null,null,2015,9]
[3,"3  Rönneå, uppstr Bålamöllan","2015-11-10",10.5,8.8000000000000007,79.15415876812159,7.58,1.9374680000000004,10,31.8,45,47,null,53,920,null,2000,null,null,null,2015,11]
[3,"3  Rönneå, uppstr Bålamöllan","2016-02-17",0.8,14.2,99.242230029813285,7.83,1.7400960000000001,4.5999999999999996,27.5,55,43,null,34,1100,null,1900,null,null,null,2016,2]
[3,"3  Rönneå, uppstr Bålamöllan","2016-04-12",9.6,11.1,97.729371988105967,8.1,1.7562080000000002,3.5,28,55,43,null,29,820,null,1700,null,null,null,2016,4]
[3,"3  Rönneå, uppstr Bålamöllan","2016-07-12",18.7,6.9,73.97588664352017,7.71,1.7171360000000004,6,26.9,65,29,null,64,920,null,1800,null,null,null,2016,7]
[3,"3  Rönneå, uppstr Bålamöllan","2016-08-18",16.8,6,61.953073745188512,7.68,1.9779160000000005,5.7,27.8,35,19,null,44,88,null,830,null,null,null,2016,8]
[3,"3  Rönneå, uppstr Bålamöllan","2016-09-13",20,5.8,63.735832750997481,8.0399999999999991,1.8976760000000004,9.6999999999999993,27.9,40,39,null,44,62,null,1000,null,null,null,2016,9]
[3,"3  Rönneå, uppstr Bålamöllan","2016-11-10",2.8,12.4,91.644988572668865,7.86,1.9177360000000006,2.6,30.6,30,23,null,32,580,null,1500,null,null,null,2016,11]
[3,"3  Rönneå, uppstr Bålamöllan","2017-02-16",0.1,14.4,98.644397521634332,7.86,1.9217480000000002,1.9,31,25,28,null,18,660,null,1200,null,null,null,2017,2]
[3,"3  Rönneå, uppstr Bålamöllan","2017-04-18",7.1,11.9,98.512988605002093,7.97,1.8455200000000005,5.3,29,45,31,null,34,580,null,1400,null,null,null,2017,4]
[3,"3  Rönneå, uppstr Bålamöllan","2017-07-11",20.8,7.6,84.757785083342966,8.1300000000000008,1.9498320000000005,5,29.1,35,24,null,26,15,null,750,null,null,null,2017,7]
[3,"3  Rönneå, uppstr Bålamöllan","2017-08-17",17.5,7.1,74.349680496111404,8.0399999999999991,1.9698920000000004,7.1,29,45,36,null,47,66,null,1000,null,null,null,2017,8]
[3,"3  Rönneå, uppstr Bålamöllan","2017-09-19",13.2,7.3,69.837177643649397,7.34,1.9578560000000005,2.9,30,85,51,null,61,1300,null,2100,null,null,null,2017,9]
[3,"3  Rönneå, uppstr Bålamöllan","2017-11-08",7.1,10.8,89.406745960842244,7.84,1.8054000000000001,5,28.2,50,29,null,41,510,null,1200,null,null,null,2017,11]
[3,"3  Rönneå, uppstr Bålamöllan","2018-02-15",2.8,12.2,90,7.7,1.75,3.7,27.8,60,31,null,31,1100,null,1800,null,null,null,2018,2]
[3,"3  Rönneå, uppstr Bålamöllan","2018-04-17",9.6999999999999993,10.3,91,8.16,1.78,5.2,28.8,65,32,null,36,990,null,1700,null,null,null,2018,4]
[3,"3  Rönneå, uppstr Bålamöllan","2018-07-18",22.5,4.2,48,8.06,1.85,10,27.4,45,26,null,57,42,null,1200,null,null,null,2018,7]
[3,"3  Rönneå, uppstr Bålamöllan","2018-08-15",20.2,5.6,62,7.74,1.84,19,26,60,31,null,92,15,null,1500,null,null,null,2018,8]
[3,"3  Rönneå, uppstr Bålamöllan","2018-09-11",17.100000000000001,6.6,69,7.76,1.94,17,27.8,65,26,null,89,16,null,1300,null,null,null,2018,9]
[3,"3  Rönneå, uppstr Bålamöllan","2018-11-13",9.3000000000000007,9,79,7.6,2.04,5.0999999999999996,32.799999999999997,35,28,null,62,280,null,1100,null,null,null,2018,11]
[3,"3  Rönneå, uppstr Bålamöllan","2019-02-13",3.7,11.6,88,7.45,1.45,5.9,33.1,65,51,null,50,4100,null,4500,null,null,null,2019,2]
[3,"3  Rönneå, uppstr Bålamöllan","2019-04-09",9.6,12.6,111,8.56,1.8,5.9,29.9,60,32,null,30,730,null,1400,null,null,null,2019,4]
[3,"3  Rönneå, uppstr Bålamöllan","2019-07-16",20.100000000000001,6.9,76,7.92,2.0299999999999998,9,29.6,40,25,null,53,77,null,620,null,null,null,2019,7]
[3,"3  Rönneå, uppstr Bålamöllan","2019-08-14",17.5,6.4,67,7.76,2,9.1999999999999993,30.2,55,24,null,75,120,null,1200,null,null,null,2019,8]
[3,"3  Rönneå, uppstr Bålamöllan","2019-09-17",12.9,8.5,81,7.89,2.19,5.3,32,40,23,null,59,290,null,1100,null,null,null,2019,9]
[3,"3  Rönneå, uppstr Bålamöllan","2019-11-13",4.7,10.5,82,8.06,2.2200000000000002,3.3,34.9,35,29,null,38,730,null,1500,null,null,null,2019,11]
[3,"3  Rönneå, uppstr Bålamöllan","2020-02-10",5.7,12.2,97,7.88,1.81,17,29,55,34,null,68,1200,null,2200,null,null,null,2020,2]
[3,"3  Rönneå, uppstr Bålamöllan","2020-04-15",8.4,10.1,86,7.98,1.89,3.9,31.3,50,33,null,40,1100,null,1600,null,null,null,2020,4]
[3,"3  Rönneå, uppstr Bålamöllan","2020-07-15",17.3,7.2,75,7.75,2.08,4.5,31.5,45,25,null,52,120,null,1100,null,null,null,2020,7]
[3,"3  Rönneå, uppstr Bålamöllan","2020-08-12",20.399999999999999,5.8,64,7.76,2.04,3.5,31.9,40,30,null,48,93,null,1000,null,null,null,2020,8]
[3,"3  Rönneå, uppstr Bålamöllan","2020-09-14",15.6,7.4,75,8.1199999999999992,2.09,6.4,31.2,40,32,null,51,27,null,860,null,null,null,2020,9]
[3,"3  Rönneå, uppstr Bålamöllan","2020-11-10",9.5,8.5,75,7.65,2.11,1.3,34.6,30,27,null,39,640,null,1300,null,null,null,2020,11]
[3,"3  Rönneå, uppstr Bålamöllan","2021-02-24",1.8,14.2,101,7.8,1.6389143831126263,5.2,30,80,33.18,null,43,2300,null,2900,null,null,null,2021,2]
[3,"3  Rönneå, uppstr Bålamöllan","2021-04-20",9,9.8000000000000007,84,7.9,1.9666972597351515,1.7,32,46,37.524999999999999,null,29,810,null,1500,null,null,null,2021,4]
[3,"3  Rönneå, uppstr Bålamöllan","2021-07-13",21.4,5.3,59,8,2.1305886980464139,1.4,32,35,29.230000000000004,null,42,190,null,920,null,null,null,2021,7]
[3,"3  Rönneå, uppstr Bålamöllan","2021-08-24",16.100000000000001,7.7,77,7.9,1.9672131147540983,1.5,31,35,36.339999999999996,null,33,180,null,790,null,null,null,2021,8]
[3,"3  Rönneå, uppstr Bålamöllan","2021-09-16",17.100000000000001,5.6,58,8,1.9672131147540983,2.4,32,46,32.39,null,39,140,null,810,null,null,null,2021,9]
[3,"3  Rönneå, uppstr Bålamöllan","2021-11-22",5.8,10.5,83,7.9,1.9672131147540983,1.7,31,37,26.465000000000003,null,38,580,null,1200,null,null,null,2021,11]
[3,"3  Rönneå, uppstr Bålamöllan","2022-02-08",2.1,12.7,92,7.9,1.5737704918032787,5.6,27,73,37.524999999999999,null,46,1400,null,1900,null,null,null,2022,2]
[3,"3  Rönneå, uppstr Bålamöllan","2022-04-21",10.5,10.1,89,7.8,1.639344262295082,3.7,28,59,39.5,null,41,860,null,1300,null,null,null,2022,4]
[3,"3  Rönneå, uppstr Bålamöllan","2022-07-07",19.8,6.1,67,7.9,1.8032786885245902,2.6,28,51,39.5,null,41,95,null,830,null,null,null,2022,7]
[3,"3  Rönneå, uppstr Bålamöllan","2022-08-26",21.5,5.5,62,7.9,1.8,2,29,36,51.35,null,28,72,null,690,null,null,null,2022,8]
[3,"3  Rönneå, uppstr Bålamöllan","2022-09-19",13.8,7.4,72,8,1.8032786885245902,1.5,30,33,38.710000000000008,null,30,93,null,730,null,null,null,2022,9]
[3,"3  Rönneå, uppstr Bålamöllan","2022-11-18",5.7,9.6999999999999993,77,7.8,1.8032786885245902,26,31,21,23.305000000000003,null,75,420,null,890,null,null,null,2022,11]
[3,"3  Rönneå, uppstr Bålamöllan","2023-02-16",3,13,97,8,1.639344262295082,2.2000000000000002,29,43,36.339999999999996,null,25,1100,null,1500,null,null,null,2023,2]
[3,"3  Rönneå, uppstr Bålamöllan","2023-04-13",8,11.1,95,8,1.639344262295082,3.7,29,62,35.155000000000001,null,18,790,null,1300,null,null,null,2023,4]
[3,"3  Rönneå, uppstr Bålamöllan","2023-07-12",20,7.7,84,7.8,1.6229508196721312,1.6,29,31,23.305000000000003,null,56,49,null,560,null,null,null,2023,7]
[3,"3  Rönneå, uppstr Bålamöllan","2023-08-10",14.4,7.4,82,7.7,1.540983606557377,1.8,30,54,35.155000000000001,null,54,1500,null,2100,null,null,null,2023,8]
[3,"3  Rönneå, uppstr Bålamöllan","2023-09-14",18.399999999999999,5.9,63,7.7,1.8032786885245902,1.8,31,31,22.91,null,44,310,null,830,null,null,null,{"$f":"YEAR(C71)","v":2023},{"$f":"MONTH(C71)","v":9}]
[3,"3  Rönneå, uppstr Bålamöllan","2023-11-15",6.4,9.49,77.900000000000006,7.7,1.639344262295082,2.6,29,59,47.400000000000006,null,31,660,null,1400,null,null,null,2023,11]
[5,"75 Rönneå, Bögerup vid bron innan Bolebäcken","2023-02-16",3.1,12.9,96,8,1.639344262295082,2.6,29,44,33.97,null,23,1200,null,1600,null,null,null,2023,2]
[5,"75 Rönneå, Bögerup vid bron innan Bolebäcken","2023-04-13",8,11.3,96,7.9,1.639344262295082,4.0999999999999996,29,61,36.339999999999996,null,19,850,null,1300,null,null,null,2023,4]
[5,"75 Rönneå, Bögerup vid bron innan Bolebäcken","2023-07-12",19.899999999999999,7.9,86,8.1,1.8032786885245902,1.3,29,28,22.91,null,35,94,null,600,null,null,null,2023,7]
[5,"75 Rönneå, Bögerup vid bron innan Bolebäcken","2023-08-10",14.2,8.8000000000000007,100,7.9,1.639344262295082,2.4,31,52,37.524999999999999,null,54,1900,null,2600,null,null,null,2023,8]
[5,"75 Rönneå, Bögerup vid bron innan Bolebäcken","2023-09-14",18.8,7.6,86,7.8,1.8032786885245902,1.3,32,31,31.6,null,41,310,null,930,null,null,null,2023,9]
[5,"75 Rönneå, Bögerup vid bron innan Bolebäcken","2023-11-15",6.4,10.9,89.4,7.8,1.639344262295082,2.6,30,60,51.35,null,32,750,null,1400,null,null,null,2023,11]
[10,"11 Rönneå, vid Djupadalsmölla","2013-02-14",1.7,14.7,105.3796361487491,8.02,1.8930976000000002,2.9,29.3,35,34,null,21,990,null,1600,null,null,null,2013,2]
[10,"11 Rönneå, vid Djupadalsmölla","2013-04-16",10,10.9,96.890127288546438,7.74,1.7595120000000002,2.2999999999999998,27.3,45,36,null,20,830,null,1500,null,null,null,2013,4]
[10,"11 Rönneå, vid Djupadalsmölla","2013-07-09",21.3,8.3000000000000007,93.407161532049926,7.89,2.0761440000000002,9.1999999999999993,29.9,45,34,null,51,97,null,1300,null,null,null,2013,7]
[10,"11 Rönneå, vid Djupadalsmölla","2013-08-15",16.899999999999999,7.6,78.632956220032952,7.72,1.995984,13,29,45,40,null,70,290,null,1200,null,null,null,2013,8]
[10,"11 Rönneå, vid Djupadalsmölla","2013-09-11",16.8,8.1999999999999993,84.669200785090965,7.8,2.1082080000000003,14,29.6,45,33,null,47,64,null,1100,null,null,null,2013,9]
[10,"11 Rönneå, vid Djupadalsmölla","2013-11-19",6.6,11.4,93.182183261321512,8.2100000000000009,2.0360640000000001,10,31.5,45,38,null,40,750,null,1600,null,null,null,2013,11]
[10,"11 Rönneå, vid Djupadalsmölla","2014-02-18",1.8,13.4,96.32947785986093,7.83,1.8009600000000003,4.5999999999999996,28.7,40,35,null,21,1000,null,1900,null,null,null,2014,2]
[10,"11 Rönneå, vid Djupadalsmölla","2014-04-16",9.4,11,96.384208537083381,7.68,1.7688000000000001,6.1,28.3,70,51,null,37,1300,null,2300,null,null,null,2014,4]
[10,"11 Rönneå, vid Djupadalsmölla","2014-07-22",24.6,6.8,80.993777952402624,7.73,2.1989400000000003,4,31.4,35,32,null,54,370,null,1100,null,null,null,2014,7]
[10,"11 Rönneå, vid Djupadalsmölla","2014-08-14",18.7,7.8,83.624915336153222,7.65,2.1667800000000002,3.1,32.200000000000003,30,35,null,40,360,null,940,null,null,"hämtat mossa",2014,8]
[10,"11 Rönneå, vid Djupadalsmölla","2014-09-23",14.1,9.1,88.790134929004168,7.88,2.1346200000000004,6,31.4,40,34,null,38,260,null,980,null,null,null,2014,9]
[10,"11 Rönneå, vid Djupadalsmölla","2014-11-11",9.6,11.5,101.25115115884853,7.84,2.0301,5.8,31.7,45,43,null,40,660,null,1600,null,null,null,2014,11]
[10,"11 Rönneå, vid Djupadalsmölla","2015-02-10",2.2000000000000002,13.2,95.95489761504551,7.85,1.7038440000000004,6.3,28.1,45,43,null,27,1300,null,2200,null,null,null,2015,2]
[10,"11 Rönneå, vid Djupadalsmölla","2015-04-14",7.1,11.6,96.029467883867582,7.8550000000000004,1.6273120000000001,6.1,26.6,70,51,null,40,1200,null,2000,null,null,null,2015,4]
[10,"11 Rönneå, vid Djupadalsmölla","2015-07-14",18.7,8.8000000000000007,94.346058327967754,7.95,1.9334400000000003,8.3000000000000007,29.2,50,40,null,38,110,null,1100,null,null,null,2015,7]
[10,"11 Rönneå, vid Djupadalsmölla","2015-08-13",18.7,7.1,76.12011524188307,7.81,2.0140000000000002,6.5,29.3,40,43,null,46,160,null,1100,null,null,null,2015,8]
[10,"11 Rönneå, vid Djupadalsmölla","2015-09-16",15.2,8.5,84.909584510051999,7.85,1.9737200000000001,8.3000000000000007,29.7,50,43,null,60,150,null,1200,null,null,null,2015,9]
[10,"11 Rönneå, vid Djupadalsmölla","2015-11-10",10.5,9,80.953116921942538,7.62,1.9978880000000003,6.4,31.4,50,43,null,52,1200,null,2000,null,null,null,2015,11]
[10,"11 Rönneå, vid Djupadalsmölla","2016-02-17",0,13.6,92.896174863387969,7.74,1.6837040000000001,5,27.4,55,43,null,30,1200,null,1900,null,null,null,2016,2]
[10,"11 Rönneå, vid Djupadalsmölla","2016-04-12",10.3,11.1,99.372353929076425,7.91,1.844824,3,28.7,50,38,null,30,970,null,1700,null,null,null,2016,4]
[10,"11 Rönneå, vid Djupadalsmölla","2016-07-12",18.600000000000001,8.1,86.673543092672972,7.74,1.6850400000000001,7,27.7,65,29,null,57,840,null,1600,null,null,null,2016,7]
[10,"11 Rönneå, vid Djupadalsmölla","2016-08-18",16.3,7.7,78.699489099186067,7.66,2.0060000000000002,3,28.8,35,17,null,42,270,null,870,null,null,null,2016,8]
[10,"11 Rönneå, vid Djupadalsmölla","2016-09-13",19.399999999999999,6.8,73.886547825655356,7.76,1.9177360000000006,6.3,28.3,40,36,null,50,190,null,1100,null,null,null,2016,9]
[10,"11 Rönneå, vid Djupadalsmölla","2016-11-10",2.8,12.4,91.644988572668865,7.82,1.9458200000000005,2.2000000000000002,32.1,30,24,null,35,1100,null,1800,null,null,null,2016,11]
[10,"11 Rönneå, vid Djupadalsmölla","2017-02-16",0.3,13.7,94.390052531253758,7.82,2.0019880000000003,2.4,32.4,25,27,null,21,950,null,1400,null,null,null,2017,2]
[10,"11 Rönneå, vid Djupadalsmölla","2017-04-18",7.3,11.5,95.683313278625505,7.86,1.8013880000000002,5.6,29.4,50,33,null,41,920,null,1800,null,null,null,2017,4]
[10,"11 Rönneå, vid Djupadalsmölla","2017-07-11",20.5,8,88.729574505909014,7.98,1.9899520000000006,4.5999999999999996,29.3,35,25,null,34,100,null,810,null,null,null,2017,7]
[10,"11 Rönneå, vid Djupadalsmölla","2017-08-17",17.7,7.4,77.799709571632732,7.86,1.9377960000000001,6.1,29.4,45,34,null,45,220,null,1000,null,null,null,2017,8]
[10,"11 Rönneå, vid Djupadalsmölla","2017-09-19",13.1,10,95.455622401836834,7.56,1.9177360000000006,3.15,29.7,100,55,null,60,1500,null,2400,null,null,null,2017,9]
[10,"11 Rönneå, vid Djupadalsmölla","2017-11-08",6.7,10.8,88.503394908618134,7.74,1.7692920000000003,4.5999999999999996,28.7,50,28,null,36,650,null,1300,null,null,null,2017,11]
[10,"11 Rönneå, vid Djupadalsmölla","2018-02-15",1.9,12,87,7.72,1.78,4.4000000000000004,28.1,60,35,null,33,1100,null,1900,null,null,null,2018,2]
[10,"11 Rönneå, vid Djupadalsmölla","2018-04-17",10.3,11.4,102,8,1.8,5.2,29.4,65,38,null,34,1100,null,1800,null,null,null,2018,4]
[10,"11 Rönneå, vid Djupadalsmölla","2018-07-19",21.8,5.8,66,7.67,1.83,6.2,26.6,null,25,null,66,340,null,1200,null,null,null,2018,7]
[10,"11 Rönneå, vid Djupadalsmölla","2018-08-15",19.5,6.7,73,7.64,1.72,15,26.9,55,27,null,88,230,null,1400,null,null,null,2018,8]
[10,"11 Rönneå, vid Djupadalsmölla","2018-09-11",16.8,7.5,77,7.66,1.92,12,28.2,60,25,null,85,200,null,1200,null,null,null,2018,9]
[10,"11 Rönneå, vid Djupadalsmölla","2018-11-13",9.4,10.7,94,7.77,2.39,2.4,34.200000000000003,30,25,null,52,520,null,1100,null,null,null,2018,11]
[10,"11 Rönneå, vid Djupadalsmölla","2019-02-13",3.4,11.9,89,7.53,1.29,7.3,32.299999999999997,65,47,null,54,5100,null,6000,null,null,null,2019,2]
[10,"11 Rönneå, vid Djupadalsmölla","2019-04-09",8.5,10.9,93,7.9,1.88,5,32.200000000000003,60,34,null,26,1100,null,1600,null,null,null,2019,4]
[10,"11 Rönneå, vid Djupadalsmölla","2019-07-16",19.899999999999999,7.4,81,7.79,1.99,6.1,30.4,40,28,null,69,300,null,770,null,null,null,2019,7]
[10,"11 Rönneå, vid Djupadalsmölla","2019-08-14",18,7.4,78,7.73,2.0099999999999998,5.6,30,40,24,null,68,270,null,1100,null,null,null,2019,8]
[10,"11 Rönneå, vid Djupadalsmölla","2019-09-17",13.5,9.1999999999999993,89,7.74,2.14,3.7,33.4,40,24,null,49,630,null,1200,null,null,null,2019,9]
[10,"11 Rönneå, vid Djupadalsmölla","2019-11-13",5,11.8,93,7.76,1.99,3.4,33.200000000000003,40,32,null,44,1100,null,1800,null,null,null,2019,11]
[10,"11 Rönneå, vid Djupadalsmölla","2020-02-10",5.6,12,96,7.86,1.67,36,27.9,70,34,null,89,1500,null,2200,null,null,null,2020,2]
[10,"11 Rönneå, vid Djupadalsmölla","2020-04-15",8.3000000000000007,11.2,96,7.97,2,3.4,32.4,55,32,null,40,1200,null,1700,null,null,null,2020,4]
[10,"11 Rönneå, vid Djupadalsmölla","2020-07-15",16.600000000000001,9,93,7.87,2.11,2.7,32.200000000000003,40,29,null,48,330,null,1100,null,null,null,2020,7]
[10,"11 Rönneå, vid Djupadalsmölla","2020-08-12",20.5,7.2,80,7.85,2.11,2.6,32,35,29,null,47,210,null,940,null,null,null,2020,8]
[10,"11 Rönneå, vid Djupadalsmölla","2020-09-14",15.6,8.1,82,7.92,2.13,4.7,31.5,35,29,null,47,160,null,800,null,null,null,2020,9]
[10,"11 Rönneå, vid Djupadalsmölla","2020-11-10",9.3000000000000007,9.9,87,7.73,2.16,1.3,36.200000000000003,35,33,null,41,1000,null,1700,null,null,null,2020,11]
[10,"11 Rönneå, vid Djupadalsmölla","2021-02-24",2,13.3,95,7.8,1.6061360954503736,5.7,29,89,31.205000000000002,null,39,2500,null,3000,null,null,null,2021,2]
[10,"11 Rönneå, vid Djupadalsmölla","2021-04-20",9.6,10.1,88,8,1.9666972597351515,1.5,32,37,33.97,null,23,860,null,1400,null,null,null,2021,4]
[10,"11 Rönneå, vid Djupadalsmölla","2021-07-13",21,7.9,88,8.1,1.9666972597351515,1.2,32,35,28.044999999999998,null,51,380,null,1000,null,null,null,2021,7]
[10,"11 Rönneå, vid Djupadalsmölla","2021-08-24",15.8,8.4,83,7.9,1.9672131147540983,1.2,33,36,37.92,null,38,410,null,970,null,null,null,2021,8]
[10,"11 Rönneå, vid Djupadalsmölla","2021-09-16",16.399999999999999,7.1,74,8,1.9672131147540983,1.5,31,29,33.97,null,44,220,null,770,null,null,null,2021,9]
[10,"11 Rönneå, vid Djupadalsmölla","2021-11-22",6,11.3,90,7.9,1.9672131147540983,2,32,41,26.07,null,52,790,null,1400,null,null,null,2021,11]
[10,"11 Rönneå, vid Djupadalsmölla","2022-02-08",2.2000000000000002,12.6,92,7.8,1.4262295081967213,7.1,25,94,35.945,null,44,1700,null,2100,null,null,null,2022,2]
[10,"11 Rönneå, vid Djupadalsmölla","2022-04-21",10.7,10.1,90,7.9,1.8032786885245902,4.5,29,57,51.35,null,41,930,null,1300,null,null,null,2022,4]
[10,"11 Rönneå, vid Djupadalsmölla","2022-07-07",19.5,7.7,84,8,1.8032786885245902,2.2999999999999998,29,46,31.205000000000002,null,55,220,null,770,null,null,null,{"$f":"YEAR(C135)","v":2022},{"$f":"MONTH(C135)","v":7}]
[10,"11 Rönneå, vid Djupadalsmölla","2022-08-26",20.5,7.1,79,7.9,1.8,1.7,29,33,47.4,null,35,110,null,680,null,null,null,2022,8]
[10,"11 Rönneå, vid Djupadalsmölla","2022-09-19",13.3,9.3000000000000007,89,8.1,1.8032786885245902,1.4,30,31,39.5,null,30,140,null,720,null,null,null,2022,9]
[10,"11 Rönneå, vid Djupadalsmölla","2022-11-18",6.6,10.9,88,8.1,1.9672131147540983,1.3,32,22,21.330000000000002,null,53,550,null,1100,null,null,null,2022,11]
[10,"11 Rönneå, vid Djupadalsmölla","2023-02-16",3.1,12.5,91,8,1.639344262295082,2.6,29,44,36.339999999999996,null,24,1200,null,1600,null,null,null,2023,2]
[10,"11 Rönneå, vid Djupadalsmölla","2023-04-13",8.1,10.7,91,8,1.639344262295082,4,29,65,35.550000000000004,null,22,870,null,1200,null,null,null,2023,4]
[10,"11 Rönneå, vid Djupadalsmölla","2023-07-12",19,7.6,81,8,1.639344262295082,1.2,30,27,23.700000000000003,null,62,97,null,600,null,null,null,2023,7]
[10,"11 Rönneå, vid Djupadalsmölla","2023-08-10",14,8.3000000000000007,91,7.7,1.5737704918032787,3.9,30,89,39.5,null,67,2000,null,2800,null,null,null,2023,8]
[10,"11 Rönneå, vid Djupadalsmölla","2023-09-14",18.100000000000001,7,74,7.9,1.8032786885245902,1.7,33,33,30.415000000000003,null,48,310,null,830,null,null,null,2023,9]
[10,"11 Rönneå, vid Djupadalsmölla","2023-11-15",6.4,10.4,85.4,7.8,1.639344262295082,3,29,69,55.300000000000004,null,33,1000,null,1700,null,null,null,2023,11]
[15,"14 Rönneå, uppstr Ljungbyheds ARV","2013-02-14",0.9,14.1,98.823778452992499,7.82,1.6765144000000001,4,26.5,45,38,null,23,1100,null,1700,null,null,null,2013,2]
[15,"14 Rönneå, uppstr Ljungbyheds ARV","2013-04-17",9.6999999999999993,9.8000000000000007,86.490677755478629,7.52,1.1943839999999999,4.5999999999999996,20.8,70,47,null,27,930,null,1700,null,null,null,2013,4]
[15,"14 Rönneå, uppstr Ljungbyheds ARV","2013-07-10",19.5,8.6999999999999993,94.710409276474266,7.79,1.9037999999999999,7.4,28.3,45,36,null,37,300,null,1100,null,null,null,2013,7]
[15,"14 Rönneå, uppstr Ljungbyheds ARV","2013-08-15",17.899999999999999,8.6,90.773973606897655,7.79,1.9719360000000004,8,28.7,45,34,null,48,280,null,1100,null,null,null,2013,8]
[15,"14 Rönneå, uppstr Ljungbyheds ARV","2013-09-11",17,8.9,92.269506198189248,7.81,2.0360640000000001,9.6999999999999993,29.4,45,31,null,39,190,null,1100,null,null,null,2013,9]
[15,"14 Rönneå, uppstr Ljungbyheds ARV","2013-11-19",6.4,11.5,93.519661284636371,8.08,1.7955840000000001,8.1,29.5,55,43,null,39,980,null,1800,null,null,null,2013,11]
[15,"14 Rönneå, uppstr Ljungbyheds ARV","2014-02-18",2.6,13.3,97.757332986362826,7.68,1.3627800000000001,4.9000000000000004,24.4,55,43,null,26,1200,null,2000,null,null,null,2014,2]
[15,"14 Rönneå, uppstr Ljungbyheds ARV","2014-04-15",7.3,11.8,98.179399711980949,7.38,1.2582600000000002,7.3,23.4,70,55,null,33,1200,null,1800,null,null,null,2014,4]
[15,"14 Rönneå, uppstr Ljungbyheds ARV","2014-07-23",22.4,7.8,89.509039344723121,7.5,1.9376400000000005,2.8,29.1,40,32,null,33,470,null,1100,null,null,null,2014,7]
[15,"14 Rönneå, uppstr Ljungbyheds ARV","2014-08-14",18.8,8.6,92.379774162871058,7.6,1.7487000000000004,4.2,27.9,65,47,null,40,590,null,1300,null,null,null,2014,8]
[15,"14 Rönneå, uppstr Ljungbyheds ARV","2014-09-24",13.4,9.4,90.325324951614988,7.77,2.0099999999999998,7,29.9,45,34,null,36,430,null,1100,null,null,null,2014,9]
[15,"14 Rönneå, uppstr Ljungbyheds ARV","2014-11-11",9.5,10.4,91.346545252481874,7.7,1.6321200000000002,4.9000000000000004,27.6,85,59,null,39,790,null,1700,null,null,null,2014,11]
[15,"14 Rönneå, uppstr Ljungbyheds ARV","2015-02-10",2.5,13.2,96.755071358599352,7.71,1.4823040000000001,6.2,25.3,65,43,null,21,1400,null,2100,null,null,null,2015,2]
[15,"14 Rönneå, uppstr Ljungbyheds ARV","2015-04-14",7,11.7,96.612459975402317,7.68,1.1963160000000002,7.2,21.6,100,63,null,45,1200,null,2000,null,null,null,2015,4]
[15,"14 Rönneå, uppstr Ljungbyheds ARV","2015-07-15",17.600000000000001,8.4,88.138143999680409,7.77,1.776348,8.4,27.3,70,43,null,41,310,null,1300,null,null,null,2015,7]
[15,"14 Rönneå, uppstr Ljungbyheds ARV","2015-08-13",19.7,8,87.419009695994632,7.78,1.5024440000000001,6.7,28.1,55,43,null,42,350,null,1200,null,null,null,2015,8]
[15,"14 Rönneå, uppstr Ljungbyheds ARV","2015-09-15",15.9,9.8000000000000007,99.339685182824908,7.74,1.9777480000000001,7,29.2,50,40,null,53,300,null,1300,null,null,null,2015,9]
[15,"14 Rönneå, uppstr Ljungbyheds ARV","2015-11-11",11.2,9.4,85.944414288532826,7.59,1.5266120000000001,12,27.5,85,55,null,63,1700,null,2600,null,null,null,2015,11]
[15,"14 Rönneå, uppstr Ljungbyheds ARV","2016-02-17",0.9,13.5,94.618511284780055,7.59,1.4420240000000002,5.5,24.4,65,43,null,37,1300,null,1800,null,null,null,2016,2]
[15,"14 Rönneå, uppstr Ljungbyheds ARV","2016-04-13",8.8000000000000007,10.3,88.946687222299033,7.6,1.4098000000000002,3.8,24.2,70,43,null,32,1100,null,1700,null,null,null,2016,4]
[15,"14 Rönneå, uppstr Ljungbyheds ARV","2016-07-13",18.600000000000001,8.4,89.88367431832755,7.43,1.1313839999999999,5.9,20.9,125,47,null,58,890,null,1700,null,null,null,2016,7]
[15,"14 Rönneå, uppstr Ljungbyheds ARV","2016-08-18",16.7,9.3000000000000007,95.832524296426357,7.8,1.7973760000000005,5.7,27.3,40,17,null,22,350,null,800,null,null,null,2016,8]
[15,"14 Rönneå, uppstr Ljungbyheds ARV","2016-09-14",18.100000000000001,8,84.773609433406463,7.71,1.8856400000000002,4.5999999999999996,28.1,35,34,null,41,350,null,1000,null,null,null,2016,9]
[15,"14 Rönneå, uppstr Ljungbyheds ARV","2016-11-08",2.5,12.7,93.090106534409983,7.62,1.3359960000000002,4.4000000000000004,26.6,65,51,null,32,2100,null,2600,null,null,null,2016,11]
[15,"14 Rönneå, uppstr Ljungbyheds ARV","2017-02-16",2.1,13.6,98.588358068422593,7.69,1.7893520000000007,3.1,30.5,30,27,null,23,1100,null,1600,null,null,null,2017,2]
[15,"14 Rönneå, uppstr Ljungbyheds ARV","2017-04-19",6.1,11.4,91.993871021671467,7.72,1.4924640000000002,4.2,25.5,65,36,null,39,1100,null,1600,null,null,null,2017,4]
[15,"14 Rönneå, uppstr Ljungbyheds ARV","2017-07-12",18.3,8.1999999999999993,87.23353966643937,7.78,1.8695920000000004,3.8,28.4,40,22,null,38,230,null,810,null,null,null,2017,7]
[15,"14 Rönneå, uppstr Ljungbyheds ARV","2017-08-17",18.2,8.3000000000000007,88.125046972526519,7.83,1.8776160000000004,5,28.7,45,34,null,37,310,null,980,null,null,null,2017,8]
[15,"14 Rönneå, uppstr Ljungbyheds ARV","2017-09-20",12.9,8.6999999999999993,82.677893085207842,7.35,1.1394080000000002,3.9,20.399999999999999,150,75,null,51,1200,null,1900,null,null,null,2017,9]
[15,"14 Rönneå, uppstr Ljungbyheds ARV","2017-11-09",6.8,11.1,91.193750467132958,7.51,1.4804280000000003,3.2,24.1,100,51,null,23,690,null,1400,null,null,null,2017,11]
[15,"14 Rönneå, uppstr Ljungbyheds ARV","2018-02-15",2.2999999999999998,11.8,86,7.64,1.52,5.6,25.2,70,38,null,38,1100,null,1800,null,null,null,2018,2]
[15,"14 Rönneå, uppstr Ljungbyheds ARV","2018-04-18",12.1,10.3,96,7.82,1.54,4.3,26.3,70,51,null,30,1900,null,1600,null,null,null,2018,4]
[15,"14 Rönneå, uppstr Ljungbyheds ARV","2018-07-19",21.8,7.3,83,7.67,1.81,3.7,26.9,45,24,null,52,460,null,1200,null,null,null,2018,7]
[15,"14 Rönneå, uppstr Ljungbyheds ARV","2018-08-15",19.899999999999999,8,88,7.65,1.67,12,26.6,55,28,null,69,420,null,1400,null,null,null,2018,8]
[15,"14 Rönneå, uppstr Ljungbyheds ARV","2018-09-11",16.7,8.3000000000000007,86,7.65,1.78,8.9,28.3,60,24,null,70,470,null,1300,null,null,null,2018,9]
[15,"14 Rönneå, uppstr Ljungbyheds ARV","2018-11-14",9.3000000000000007,9.8000000000000007,86,7.59,1.77,2.9,32.6,35,24,null,35,890,null,1200,null,null,null,2018,11]
[15,"14 Rönneå, uppstr Ljungbyheds ARV","2019-02-13",3.9,12.1,92,7.32,0.79,6.6,25.5,70,51,null,36,4900,null,4800,null,null,null,2019,2]
[15,"14 Rönneå, uppstr Ljungbyheds ARV","2019-04-09",9.5,11.6,102,7.6,1.48,3.4,28.2,65,33,null,27,1300,null,1700,null,null,null,2019,4]
[15,"14 Rönneå, uppstr Ljungbyheds ARV","2019-07-17",20.5,8.5,94,7.85,1.88,4.7,29,40,22,null,53,420,null,1000,null,null,null,2019,7]
[15,"14 Rönneå, uppstr Ljungbyheds ARV","2019-08-14",17.899999999999999,7.3,77,7.81,1.98,5.5,29.5,40,23,null,59,350,null,1000,null,null,null,2019,8]
[15,"14 Rönneå, uppstr Ljungbyheds ARV","2019-09-17",13.1,9.5,91,7.63,1.69,3.6,30.2,60,29,null,37,1100,null,1500,null,null,null,2019,9]
[15,"14 Rönneå, uppstr Ljungbyheds ARV","2019-11-13",5.7,11.6,93,7.69,4.03,3.9,28.7,70,37,null,36,1300,null,1900,null,null,null,2019,11]
[15,"14 Rönneå, uppstr Ljungbyheds ARV","2020-02-10",6,11.4,92,7.71,1.28,22,23.6,85,43,null,59,1600,null,2300,null,null,null,2020,2]
[15,"14 Rönneå, uppstr Ljungbyheds ARV","2020-04-15",9.3000000000000007,11,96,7.79,1.56,5.4,28.3,70,28,null,34,1400,null,1800,null,null,null,2020,4]
[15,"14 Rönneå, uppstr Ljungbyheds ARV","2020-07-15",17,9.4,97,7.79,1.39,3.5,29,55,27,null,39,590,null,1200,null,null,null,2020,7]
[15,"14 Rönneå, uppstr Ljungbyheds ARV","2020-08-12",21.5,8,90,7.98,2.06,2.7,31.3,40,28,null,32,270,null,1000,null,null,null,2020,8]
[15,"14 Rönneå, uppstr Ljungbyheds ARV","2020-09-14",16.2,8.9,91,7.89,2.02,3.4,31.1,40,31,null,37,290,null,860,null,null,null,2020,9]
[15,"14 Rönneå, uppstr Ljungbyheds ARV","2020-11-10",9.1999999999999993,10,87,7.63,1.6,2.6,30.2,70,40,null,34,1300,null,2000,null,null,null,2020,11]
[15,"14 Rönneå, uppstr Ljungbyheds ARV","2021-02-24",2.4,13.2,95,7.7,1.1800183558410908,5.4,24,110,35.550000000000004,null,35,2200,null,2700,null,null,null,2021,2]
[15,"14 Rönneå, uppstr Ljungbyheds ARV","2021-04-20",9.1999999999999993,10.4,90,7.9,1.6225252392814999,1.7,28,48,30.810000000000002,null,23,1100,null,1500,null,null,null,2021,4]
[15,"14 Rönneå, uppstr Ljungbyheds ARV","2021-07-13",21,7.7,85,8,1.8028058214238889,2.1,29,62,38.314999999999998,null,48,1000,null,1600,null,null,null,2021,7]
[15,"14 Rönneå, uppstr Ljungbyheds ARV","2021-08-24",15.1,8.5,83,7.7,1.540983606557377,1.7,28,79,59.25,null,35,910,null,1500,null,null,null,2021,8]
[15,"14 Rönneå, uppstr Ljungbyheds ARV","2021-09-16",16.399999999999999,8,82,8,1.8032786885245902,1.6,30,43,33.575000000000003,null,34,360,null,810,null,null,null,2021,9]
[15,"14 Rönneå, uppstr Ljungbyheds ARV","2021-11-22",5.6,11.3,89,7.9,1.5901639344262295,2.9,28,85,37.130000000000003,null,41,970,null,1500,null,null,null,2021,11]
[15,"14 Rönneå, uppstr Ljungbyheds ARV","2022-02-08",2.6,12.6,93,7.7,0.96721311475409832,7,20,130,43.45,null,43,1700,null,2100,null,null,null,{"$f":"YEAR(C199)","v":2022},{"$f":"MONTH(C199)","v":2}]
[15,"14 Rönneå, uppstr Ljungbyheds ARV","2022-04-21",10.4,10.199999999999999,90,7.9,1.5573770491803278,3.9,26,85,43.45,null,41,1100,null,1400,null,null,null,2022,4]
[15,"14 Rönneå, uppstr Ljungbyheds ARV","2022-07-07",18.8,7.9,84,7.9,1.639344262295082,3.6,26,69,32.785000000000004,null,41,390,null,910,null,null,null,2022,7]
[15,"14 Rönneå, uppstr Ljungbyheds ARV","2022-08-26",19.7,7.9,86,8,1.8,1.6,29,37,47.4,null,31,200,null,760,null,null,null,2022,8]
[15,"14 Rönneå, uppstr Ljungbyheds ARV","2022-09-19",12.8,9.1999999999999993,87,8.1,1.8032786885245902,2,29,38,34.760000000000005,null,28,290,null,840,null,null,null,2022,9]
[15,"14 Rönneå, uppstr Ljungbyheds ARV","2022-11-18",6.5,11,89,8,1.8032786885245902,2.2999999999999998,31,35,22.12,null,34,710,null,1100,null,null,null,2022,11]
[15,"14 Rönneå, uppstr Ljungbyheds ARV","2023-02-16",3.5,12.3,93,7.8,1.4098360655737705,3.3,26,62,47.400000000000006,null,24,1400,null,1700,null,null,null,2023,2]
[15,"14 Rönneå, uppstr Ljungbyheds ARV","2023-04-13",8,10.7,91,7.8,1.4754098360655739,3.4,26,70,36.735000000000007,null,17,930,null,1300,null,null,null,2023,4]
[15,"14 Rönneå, uppstr Ljungbyheds ARV","2023-07-12",19.5,8.4,91,8,1.639344262295082,1.1000000000000001,29,34,23.305000000000003,null,23,280,null,720,null,null,null,2023,7]
[15,"14 Rönneå, uppstr Ljungbyheds ARV","2023-08-10",13.4,8,88,7.5,0.83606557377049184,5.0999999999999996,21,180,79,null,56,1700,null,2600,null,null,null,2023,8]
[15,"14 Rönneå, uppstr Ljungbyheds ARV","2023-09-14",17.100000000000001,7.9,84,7.9,1.6065573770491803,2.4,29,55,26.07,null,31,480,null,900,null,null,null,2023,9]
[15,"14 Rönneå, uppstr Ljungbyheds ARV","2023-11-15",6.3,10.4,85,7.7,1.2131147540983607,3.1,24,130,82.95,null,34,1000,null,1700,null,null,null,2023,11]
[25,"24 Rönneå, vid Forsmöllan","2023-01-11",5.2,11.7,92,7.6,0.67213114754098358,9.3000000000000007,21,130,63.2,null,41,3300,null,3600,null,null,null,2023,1]
[25,"24 Rönneå, vid Forsmöllan","2023-02-16",3.7,12.2,93,7.8,1.2295081967213115,3.3,25,82,39.5,null,25,1400,null,1800,null,null,null,2023,2]
[25,"24 Rönneå, vid Forsmöllan","2023-03-15",3.3,12.8,96,7.7,0.81967213114754101,9,19,140,51.35,null,41,2000,null,2500,null,null,null,2023,3]
[25,"24 Rönneå, vid Forsmöllan","2023-04-13",8.6,11.3,91,7.8,1.3114754098360655,3.5,24,69,35.550000000000004,null,22,960,null,1500,null,null,null,2023,4]
[25,"24 Rönneå, vid Forsmöllan","2023-05-10",12.9,9.6999999999999993,92,8,1.4098360655737705,3.4,27,67,28.835000000000001,null,30,1000,null,1500,null,null,null,2023,5]
[25,"24 Rönneå, vid Forsmöllan","2023-06-14",19.3,9.5,102,8.1,1.6229508196721312,2.8,29,51,31.995000000000001,null,35,570,null,1000,null,null,null,2023,6]
[25,"24 Rönneå, vid Forsmöllan","2023-07-12",21.4,10.3,115,8.1,1.5573770491803278,3.7,29,56,20.934999999999999,null,29,460,null,860,null,null,null,2023,7]
[25,"24 Rönneå, vid Forsmöllan","2023-08-10",13.5,8.1999999999999993,90,7.4,0.73770491803278693,5.8,20,200,86.9,null,52,1500,null,2300,null,null,null,2023,8]
[25,"24 Rönneå, vid Forsmöllan","2023-09-14",17.2,9,93,7.9,1.459016393442623,2.2999999999999998,29,65,31.205000000000002,null,32,620,null,1000,null,null,null,2023,9]
[25,"24 Rönneå, vid Forsmöllan","2023-11-15",6.3,12.37,100,7.6,1.0655737704918034,3,22,140,75.05,null,35,1100,null,1700,null,null,null,2023,11]
[30,"25 Rönneå, vid Stackarps bro","2013-02-14",1.1000000000000001,14.5,102.20504626824926,7.77,0.73397639999999997,4.3,25.8,55,38,null,21,1200,null,1700,null,null,null,2013,2]
[30,"25 Rönneå, vid Stackarps bro","2013-04-17",10.7,10,90.371300392273042,7.63,0.59318399999999993,3.6,22.6,70,37,null,23,1100,null,1700,null,null,null,2013,4]
[30,"25 Rönneå, vid Stackarps bro","2013-07-10",20.3,9.1999999999999993,101.66317402800749,7.96,1.7534999999999998,6,29.2,65,38,null,28,460,null,1200,null,null,null,2013,7]
[30,"25 Rönneå, vid Stackarps bro","2013-08-15",18.899999999999999,8.9,95.786346643918137,7.75,1.7555040000000002,5.8,28.6,45,32,null,32,440,null,1200,null,null,null,2013,8]
[30,"25 Rönneå, vid Stackarps bro","2013-09-12",16.600000000000001,8.6,88.439153154409894,7.64,1.8717359999999998,7.2,29.5,40,33,null,37,340,null,1200,null,null,null,2013,9]
[30,"25 Rönneå, vid Stackarps bro","2013-11-20",5.4,11.5,91.128745778168025,7.68,1.6352640000000001,4.7,28.5,60,40,null,37,1100,null,1800,null,null,null,2013,11]
[30,"25 Rönneå, vid Stackarps bro","2014-02-18",3.2,13.4,100.12547622459967,7.65,1.13364,5,23.1,65,43,null,18,1300,null,2100,null,null,null,2014,2]
[30,"25 Rönneå, vid Stackarps bro","2014-04-15",8.4,11.1,94.919826748180597,7.5,1.0532400000000002,6,23.1,70,51,null,25,1300,null,1900,null,null,null,2014,4]
[30,"25 Rönneå, vid Stackarps bro","2014-07-23",23.3,8.5,99.067127729304445,7.67,1.6562400000000002,2.4,28.8,50,36,null,24,690,null,1400,null,null,null,2014,7]
[30,"25 Rönneå, vid Stackarps bro","2014-08-14",19.7,9.4,102.7173363927937,7.65,1.4210700000000003,3.7,28.6,70,47,null,32,740,null,1500,null,null,null,2014,8]
[30,"25 Rönneå, vid Stackarps bro","2014-09-24",13.7,10.199999999999999,98.660148289041132,7.81,1.7145300000000003,4.5999999999999996,29.8,65,40,null,30,590,null,1200,null,null,null,2014,9]
[30,"25 Rönneå, vid Stackarps bro","2014-11-12",8.8000000000000007,10.7,92.400927502776653,7.68,1.51353,4.7,27,100,59,null,32,950,null,1800,null,null,null,2014,11]
[30,"25 Rönneå, vid Stackarps bro","2015-02-10",2.7,13.1,96.552771234443526,7.74,1.361464,5.6,24,70,43,null,23,1400,null,2200,null,null,null,2015,2]
[30,"25 Rönneå, vid Stackarps bro","2015-04-15",7.8,11.8,99.417068467764395,7.34,2.0301119999999999,8.1,20.8,100,63,null,54,1200,null,2000,null,null,null,2015,4]
[30,"25 Rönneå, vid Stackarps bro","2015-07-15",18.7,9,96.490286926330654,7.93,1.5588360000000001,8.3000000000000007,26.95,92.5,120,null,44,480,null,1500,null,null,null,2015,7]
[30,"25 Rönneå, vid Stackarps bro","2015-08-13",19.399999999999999,9.6,104.31042045974874,7.9,1.6756480000000002,5.3,28.1,65,43,null,38,640,null,1500,null,null,null,2015,8]
[30,"25 Rönneå, vid Stackarps bro","2015-09-15",15.4,8.9,89.280336724669468,7.95,1.844824,6.3,29.5,50,40,null,37,520,null,1500,null,null,null,2015,9]
[30,"25 Rönneå, vid Stackarps bro","2015-11-11",11.2,10.5,96.001739364850494,7.76,1.4782759999999999,9.3000000000000007,27.9,85,47,null,43,1200,null,2100,null,null,null,2015,11]
[30,"25 Rönneå, vid Stackarps bro","2016-02-17",1,13.6,95.590186049459163,7.63,1.24868,4.4000000000000004,23.2,70,47,null,31,1300,null,1900,null,null,null,2016,2]
[30,"25 Rönneå, vid Stackarps bro","2016-04-13",9.6999999999999993,10.7,94.433699182002158,7.63,1.192288,3.5,23,70,43,null,30,1300,null,2000,null,null,null,2016,4]
[30,"25 Rönneå, vid Stackarps bro","2016-07-13",18.2,8,84.939804310868936,7.39,0.97090399999999999,6.1,21.1,125,47,null,53,890,null,1700,null,null,null,2016,7]
[30,"25 Rönneå, vid Stackarps bro","2016-08-18",17.7,9.9,104.08339523772487,7.99,1.6649800000000006,2.2000000000000002,29.1,40,18,null,19,610,null,1100,null,null,null,2016,8]
[30,"25 Rönneå, vid Stackarps bro","2016-09-14",18.5,9.1999999999999993,98.253402712625288,7.93,1.7371960000000002,2.5,29.3,40,34,null,19,530,null,1200,null,null,null,2016,9]
[30,"25 Rönneå, vid Stackarps bro","2016-11-08",3.1,12.4,92.400970905955376,7,1.400188,3.9,29.1,65,35,null,34,1700,null,2200,null,null,null,2016,11]
[30,"25 Rönneå, vid Stackarps bro","2017-02-16",2,13.6,98.31437012899957,7.67,1.4683920000000004,3,29.8,40,28,null,31,1300,null,1700,null,null,null,2017,2]
[30,"25 Rönneå, vid Stackarps bro","2017-04-19",6.8,11.5,94.480011745227841,7.69,0.61784800000000006,4.3,24.5,70,38,null,36,1300,null,1800,null,null,null,2017,4]
[30,"25 Rönneå, vid Stackarps bro","2017-07-12",19.3,8.9,96.521104418567077,7.95,1.7572560000000004,3.1,28.7,40,24,null,30,380,null,940,null,null,null,2017,7]
[30,"25 Rönneå, vid Stackarps bro","2017-08-17",18.399999999999999,9.1999999999999993,98.062652748198175,7.85,1.7371960000000002,3.2,29.9,55,38,null,32,420,null,1100,null,null,null,2017,8]
[30,"25 Rönneå, vid Stackarps bro","2017-09-20",13,10,95.24385313167592,7.4,0.95485600000000015,4.7,21.1,175,83,null,50,1200,null,2000,null,null,null,2017,9]
[30,"25 Rönneå, vid Stackarps bro","2017-11-09",6.6,11.8,96.451733551192447,7.53,1.2637800000000001,3.7,22.7,125,75,null,32,790,null,1500,null,null,null,2017,11]
[30,"25 Rönneå, vid Stackarps bro","2018-02-15",1.9,12.5,90,7.66,1.39,5.8,24.3,85,40,null,33,1200,null,1900,null,null,null,2018,2]
[30,"25 Rönneå, vid Stackarps bro","2018-04-18",11,10.3,94,7.76,1.35,4.5999999999999996,25.6,85,43,null,25,1100,null,1600,null,null,null,2018,4]
[30,"25 Rönneå, vid Stackarps bro","2018-07-19",22.3,9.6999999999999993,111,7.81,0.87,6.4,28.6,50,24,null,31,540,null,1300,null,null,null,2018,7]
[30,"25 Rönneå, vid Stackarps bro","2018-08-15",20.2,9.3000000000000007,103,7.79,1.54,10,27.9,50,28,null,47,550,null,1400,null,null,null,2018,8]
[30,"25 Rönneå, vid Stackarps bro","2018-09-12",16.100000000000001,9.6999999999999993,99,7.59,0.83,6.3,29.9,45,28,null,40,670,null,1300,null,null,null,2018,9]
[30,"25 Rönneå, vid Stackarps bro","2018-11-14",9.4,10.6,93,7.74,1.56,2.6,34.4,35,24,null,25,1100,null,1400,null,null,null,2018,11]
[30,"25 Rönneå, vid Stackarps bro","2019-02-13",3.8,12.1,92,7.33,0.64,7.2,25.6,70,47,null,38,4300,null,4600,null,null,null,2019,2]
[30,"25 Rönneå, vid Stackarps bro","2019-04-09",8.6999999999999993,12.3,106,7.73,1.18,6.5,26.1,70,30,null,26,1500,null,1900,null,null,null,2019,4]
[30,"25 Rönneå, vid Stackarps bro","2019-07-17",19.8,8.3000000000000007,91,7.91,1.61,4.4000000000000004,29.9,40,23,null,32,660,null,1200,null,null,null,2019,7]
[30,"25 Rönneå, vid Stackarps bro","2019-08-14",18,8.4,89,8,1.74,4.7,30.2,45,25,null,44,500,null,1200,null,null,null,2019,8]
[30,"25 Rönneå, vid Stackarps bro","2019-09-17",13.5,10.5,101,7.81,1.43,3.4,31.4,70,37,null,33,1000,null,1700,null,null,null,2019,9]
[30,"25 Rönneå, vid Stackarps bro","2019-11-13",6.2,12.2,99,7.65,1.08,3.3,27.3,100,47,null,36,1400,null,2000,null,null,null,2019,11]
[30,"25 Rönneå, vid Stackarps bro","2020-02-10",6.1,12.2,98,7.74,1.1100000000000001,23,22.7,125,47,null,55,1600,null,2200,null,null,null,{"$f":"YEAR(C263)","v":2020},{"$f":"MONTH(C263)","v":2}]
[30,"25 Rönneå, vid Stackarps bro","2020-04-15",8.6999999999999993,11.9,103,7.96,1.37,4.5999999999999996,26.9,70,30,null,35,1600,null,2100,null,null,null,2020,4]
[30,"25 Rönneå, vid Stackarps bro","2020-07-15",16.7,9.8000000000000007,101,7.85,1.26,3.5,29.7,65,28,null,33,860,null,1500,null,null,null,2020,7]
[30,"25 Rönneå, vid Stackarps bro","2020-08-12",22.2,8.8000000000000007,101,8.19,1.84,3.6,32.1,45,28,null,22,440,null,1200,null,null,null,2020,8]
[30,"25 Rönneå, vid Stackarps bro","2020-09-14",16.600000000000001,9.9,102,7.94,1.84,2.2000000000000002,31.9,40,32,null,25,520,null,970,null,null,null,2020,9]
[30,"25 Rönneå, vid Stackarps bro","2020-11-10",9.5,11.8,104,7.79,1.33,2.8,28.9,70,43,null,34,1500,null,2200,null,null,null,2020,11]
[30,"25 Rönneå, vid Stackarps bro","2021-02-24",2.7,14.1,102,7.7,1.0161269175298282,5.2,23,120,39.5,null,37,2200,null,2800,null,null,null,2021,2]
[30,"25 Rönneå, vid Stackarps bro","2021-04-20",9.9,11.9,104,8,1.442244657139111,1.9,27,65,31.995000000000001,null,20,1200,null,1600,null,null,null,2021,4]
[30,"25 Rönneå, vid Stackarps bro","2021-07-13",21.5,9.1,103,8.1,1.3602989379834798,2.9,26,92,39.5,null,34,1200,null,1800,null,null,null,2021,7]
[30,"25 Rönneå, vid Stackarps bro","2021-08-24",15.8,10.1,100,7.8,1.1639344262295082,2.1,28,120,63.2,null,35,1200,null,1800,null,null,null,2021,8]
[30,"25 Rönneå, vid Stackarps bro","2021-09-16",16.5,9.8000000000000007,100,8,1.6229508196721312,3.1,30,60,35.155000000000001,null,32,550,null,1100,null,null,null,2021,9]
[30,"25 Rönneå, vid Stackarps bro","2021-11-22",6.2,12.8,102,7.9,1.4754098360655739,3.1,26,91,39.105000000000004,null,58,1100,null,1600,null,null,null,2021,11]
[30,"25 Rönneå, vid Stackarps bro","2022-02-08",2.9,13.9,102,7.6,0.83606557377049184,8.8000000000000007,19,130,47.400000000000006,null,48,1700,null,2200,null,null,null,2022,2]
[30,"25 Rönneå, vid Stackarps bro","2022-04-21",10.6,11.6,103,7.9,1.3442622950819672,4.0999999999999996,25,98,43.45,null,36,1300,null,1500,null,null,null,2022,4]
[30,"25 Rönneå, vid Stackarps bro","2022-07-07",19.100000000000001,9.1999999999999993,99,8,1.540983606557377,3.5,27,76,32.785000000000004,null,35,600,null,1100,null,null,null,2022,7]
[30,"25 Rönneå, vid Stackarps bro","2022-08-23",21.9,10.7,120,8.1999999999999993,1.52,2,30,51,39.5,null,27,470,null,1100,null,null,null,2022,8]
[30,"25 Rönneå, vid Stackarps bro","2022-09-19",13.3,10.4,99,8,1.639344262295082,2.1,30,43,36.339999999999996,null,24,490,null,1000,null,null,null,2022,9]
[30,"25 Rönneå, vid Stackarps bro","2022-11-17",8,11.9,100,7.9,1.5081967213114753,2.2000000000000002,31,51,24.490000000000002,null,50,950,null,1400,null,null,null,2022,11]
[30,"25 Rönneå, vid Stackarps bro","2023-01-11",5.0999999999999996,12.9,102,7.6,0.65573770491803274,8.6999999999999993,21,140,63.2,null,40,3400,null,3800,null,null,null,2023,1]
[30,"25 Rönneå, vid Stackarps bro","2023-02-16",3.7,13,98,7.8,1.2131147540983607,3,25,71,51.35,null,29,1500,null,1900,null,null,null,2023,2]
[30,"25 Rönneå, vid Stackarps bro","2023-03-15",3.2,13.4,100,7.7,0.80327868852459017,9.5,19,150,51.35,null,44,2100,null,2600,null,null,null,2023,3]
[30,"25 Rönneå, vid Stackarps bro","2023-04-13",8.1999999999999993,12,102,7.9,1.3114754098360655,3.6,25,73,35.945,null,18,990,null,1400,null,null,null,2023,4]
[30,"25 Rönneå, vid Stackarps bro","2023-05-10",13,10.5,100,8,1.3934426229508197,3.7,27,66,30.02,null,27,1100,null,1500,null,null,null,2023,5]
[30,"25 Rönneå, vid Stackarps bro","2023-06-14",19.899999999999999,9.5,104,8.1,1.639344262295082,2.1,29,46,33.575000000000003,null,22,660,null,1100,null,null,null,2023,6]
[30,"25 Rönneå, vid Stackarps bro","2023-07-12",20.7,9.6,106,8.1,1.4754098360655739,2.2999999999999998,28,51,22.12,null,26,610,null,1000,null,null,null,2023,7]
[30,"25 Rönneå, vid Stackarps bro","2023-08-10",13.6,10.7,117,7.5,0.73770491803278693,7.6,21,200,79,null,50,1700,null,2400,null,null,null,2023,8]
[30,"25 Rönneå, vid Stackarps bro","2023-09-14",17.399999999999999,9.6999999999999993,100,8,1.4754098360655739,3.2,29,68,28.44,null,34,790,null,1200,null,null,null,2023,9]
[30,"25 Rönneå, vid Stackarps bro","2023-10-18",8.9,11.4,98,8,1.0819672131147542,4.7,25,160,67.150000000000006,null,34,1700,null,2200,null,null,null,2023,10]
[30,"25 Rönneå, vid Stackarps bro","2023-11-15",6.3,12.37,100,7.7,1.098360655737705,3,22,150,82.95,null,34,1100,null,1700,null,null,null,2023,11]
[35,"34 Rönneå, vid Tranarps bro","2013-02-14",2,13.4,96.868570568278997,7.69,1.313537,5.5,24,65,40,null,23,1300,null,1900,null,null,null,2013,2]
[35,"34 Rönneå, vid Tranarps bro","2013-04-17",12.4,9.6,90.213921212288668,7.63,0.49899599999999994,5.8,20.7,70,36,null,26,1200,null,1800,null,null,null,2013,4]
[35,"34 Rönneå, vid Tranarps bro","2013-07-10",19.100000000000001,8.3000000000000007,89.671703457838206,7.69,1.5070079999999999,6,27.4,70,40,null,27,780,null,1600,null,null,null,2013,7]
[35,"34 Rönneå, vid Tranarps bro","2013-08-15",17.8,8.6,90.594980068460046,7.61,1.3266479999999998,9.4,24.9,100,43,null,42,820,null,1600,null,null,null,2013,8]
[35,"34 Rönneå, vid Tranarps bro","2013-09-12",16.5,9.1,93.390227524104375,7.57,1.7354640000000001,7.9,28.9,50,31,null,34,720,null,1400,null,null,null,2013,9]
[35,"34 Rönneå, vid Tranarps bro","2013-11-20",5.9,12,96.336351220812688,7.64,1.3867679999999998,5.7,25.7,70,47,null,39,1400,null,2100,null,null,null,2013,11]
[35,"34 Rönneå, vid Tranarps bro","2014-02-18",3.8,13.2,100.24849694319717,7.6,1.0170600000000001,5.6,20.399999999999999,70,47,null,21,1300,null,2300,null,null,null,2014,2]
[35,"34 Rönneå, vid Tranarps bro","2014-04-15",10,11,97.779027538900067,7.18,0.79596,7.4,19.5,100,63,null,32,1300,null,1900,null,null,null,2014,4]
[35,"34 Rönneå, vid Tranarps bro","2014-07-23",23.2,7.2,83.772775375373101,7.55,1.4029800000000001,2.2000000000000002,26.7,70,47,null,33,990,null,1700,null,null,null,2014,7]
[35,"34 Rönneå, vid Tranarps bro","2014-08-14",19.600000000000001,8.3000000000000007,90.526632084723275,7.62,1.1657999999999999,6.1,25.2,125,67,null,33,900,null,1500,null,null,null,2014,8]
[35,"34 Rönneå, vid Tranarps bro","2014-09-24",13.9,9.6999999999999993,94.234230541038031,7.63,1.4391600000000002,7.4,27.3,100,55,null,34,910,null,1600,null,null,null,2014,9]
[35,"34 Rönneå, vid Tranarps bro","2014-11-12",9,10.199999999999999,88.513309410240311,7.58,1.28037,5.9,23.9,150,71,null,35,1100,null,2000,null,null,null,2014,11]
[35,"34 Rönneå, vid Tranarps bro","2015-02-10",2.9,13.1,97.084469773639626,7.68,1.12784,6.6,22.2,85,47,null,22,1500,null,2200,null,null,"översvämn",2015,2]
[35,"34 Rönneå, vid Tranarps bro","2015-04-15",8.4,11.4,97.485227471104423,7.41,0.84990800000000022,22,18.5,150,67,null,62,1600,null,2500,null,null,null,2015,4]
[35,"34 Rönneå, vid Tranarps bro","2015-07-15",17.8,8.5,89.541550067664005,7.73,1.2204839999999999,9.4,23,200,71,null,38,810,null,1800,null,null,null,2015,7]
[35,"34 Rönneå, vid Tranarps bro","2015-08-13",19.8,8.9,97.436425287205196,7.72,1.3816040000000001,6.9,25.7,125,59,null,40,970,null,1800,null,null,null,2015,8]
[35,"34 Rönneå, vid Tranarps bro","2015-09-15",15.8,9.5,96.098941396590817,7.81,1.6353680000000004,6.1,28.8,65,39,null,37,890,null,1800,null,null,null,2015,9]
[35,"34 Rönneå, vid Tranarps bro","2015-11-11",11.4,9.8000000000000007,90.016852636337916,7.54,1.12784,16,23.1,175,67,null,58,1200,null,2000,null,null,null,2015,11]
[35,"34 Rönneå, vid Tranarps bro","2016-02-17",1.4,13.6,96.676368714017556,7.56,1.0976300000000001,5.5,21.7,80,47,null,31,1400,null,2000,null,null,"översvämmat ",2016,2]
[35,"34 Rönneå, vid Tranarps bro","2016-04-13",9.6999999999999993,10.5,92.668583309441374,7.57,1.023112,6.1,21.2,85,47,null,32,1400,null,2000,null,null,null,2016,4]
[35,"34 Rönneå, vid Tranarps bro","2016-07-13",18.600000000000001,7.9,84.533455608903282,7.32,0.83449600000000013,8.6,19.399999999999999,175,47,null,54,950,null,1800,null,null,null,2016,7]
[35,"34 Rönneå, vid Tranarps bro","2016-08-18",16.899999999999999,8.8000000000000007,91.048686149511866,7.74,1.5165360000000001,2.6,28,55,19,null,19,1000,null,1400,null,null,null,2016,8]
[35,"34 Rönneå, vid Tranarps bro","2016-09-14",19.5,9.8000000000000007,106.68528861028138,8.0399999999999991,1.6810280000000004,2.2000000000000002,29.2,35,31,null,21,"<10",null,1200,null,null,null,2016,9]
[35,"34 Rönneå, vid Tranarps bro","2016-11-08",3.5,12.2,91.905492776293457,7.53,0.93479600000000018,7.2,22.3,100,51,null,33,1400,null,2000,null,null,null,2016,11]
[35,"34 Rönneå, vid Tranarps bro","2017-02-16",1.7,13.9,99.644689963783179,7.67,1.315936,5.0999999999999996,28.3,45,29,null,28,1600,null,2000,null,null,null,2017,2]
[35,"34 Rönneå, vid Tranarps bro","2017-04-19",7.6,11.4,95.568386882128678,7.54,0.44733800000000001,5.2,20.9,100,47,null,33,1600,null,2000,null,null,null,2017,4]
[35,"34 Rönneå, vid Tranarps bro","2017-07-12",18.899999999999999,8.1999999999999993,88.25258904271108,7.77,1.4964760000000001,4.4000000000000004,27.9,65,29,null,30,720,null,1300,null,null,null,2017,7]
[35,"34 Rönneå, vid Tranarps bro","2017-08-17",18.8,9,96.676507844865071,7.76,1.2758160000000003,5.0999999999999996,27,85,51,null,40,660,null,1300,null,null,null,2017,8]
[35,"34 Rönneå, vid Tranarps bro","2017-09-20",14.1,8.6999999999999993,84.887271855201789,7.14,0.74623200000000012,5.9,17.8,225,99,null,56,1200,null,2100,null,null,null,2017,9]
[35,"34 Rönneå, vid Tranarps bro","2017-11-09",6.9,11.4,93.896769626840069,7.46,1.0270720000000002,5,20.6,150,71,null,25,920,null,1600,null,null,null,2017,11]
[35,"34 Rönneå, vid Tranarps bro","2018-02-15",3.2,11.9,89,7.6,0.98,8,22.7,100,37,null,45,1200,null,2000,null,null,null,2018,2]
[35,"34 Rönneå, vid Tranarps bro","2018-04-18",12.1,10.3,96,7.64,1.2,6,23.8,85,40,null,28,1200,null,1800,null,null,null,2018,4]
[35,"34 Rönneå, vid Tranarps bro","2018-07-19",22.6,8.9,102,7.75,0.84,7.8,28.5,45,25,null,43,700,null,1600,null,null,null,2018,7]
[35,"34 Rönneå, vid Tranarps bro","2018-08-15",19.8,8,88,7.64,1.38,9.1,27.1,50,25,null,39,990,null,1700,null,null,null,2018,8]
[35,"34 Rönneå, vid Tranarps bro","2018-09-12",16.100000000000001,8.6,88,7.55,0.8,4.3,30.2,40,26,null,27,1100,null,1500,null,null,null,2018,9]
[35,"34 Rönneå, vid Tranarps bro","2018-11-14",9.8000000000000007,9.6,85,7.61,1.28,3.8,31.5,40,22,null,24,1400,null,1800,null,null,null,{"$f":"YEAR(C327)","v":2018},{"$f":"MONTH(C327)","v":11}]
[35,"34 Rönneå, vid Tranarps bro","2019-02-13",4.7,12.1,94,7.25,0.46,9.1999999999999993,21.5,100,55,null,42,3900,null,3900,null,null,null,2019,2]
[35,"34 Rönneå, vid Tranarps bro","2019-04-09",9.9,11.5,102,7.6,1.08,5.9,24.3,70,33,null,26,1700,null,2100,null,null,null,2019,4]
[35,"34 Rönneå, vid Tranarps bro","2019-07-17",19.8,8.1,89,7.72,1.52,3.8,28.8,45,23,null,29,1000,null,1400,null,null,null,2019,7]
[35,"34 Rönneå, vid Tranarps bro","2019-08-14",18.3,7.6,81,7.67,1.44,6.7,26.5,45,29,null,38,820,null,1400,null,null,null,2019,8]
[35,"34 Rönneå, vid Tranarps bro","2019-09-17",13.2,9.5,91,7.51,1.05,7,24.6,150,55,null,43,1200,null,2000,null,null,null,2019,9]
[35,"34 Rönneå, vid Tranarps bro","2019-11-13",6.4,11.9,97,7.56,0.86,4.8,24.1,125,51,null,44,1500,null,2100,null,null,null,2019,11]
[35,"34 Rönneå, vid Tranarps bro","2020-02-10",6.1,11.9,96,7.6,0.92,76,19.899999999999999,200,51,null,120,1800,null,2600,null,null,null,2020,2]
[35,"34 Rönneå, vid Tranarps bro","2020-04-15",9.6999999999999993,11.2,99,7.72,1.1499999999999999,7,24.6,85,34,null,33,1700,null,2200,null,null,null,2020,4]
[35,"34 Rönneå, vid Tranarps bro","2020-07-15",16.100000000000001,8.9,91,7.61,1.04,5.3,25.7,100,40,null,34,1100,null,1800,null,null,null,2020,7]
[35,"34 Rönneå, vid Tranarps bro","2020-08-12",21.9,8.1999999999999993,93,7.95,1.72,2.2000000000000002,31.4,40,24,null,20,880,null,1500,null,null,null,2020,8]
[35,"34 Rönneå, vid Tranarps bro","2020-09-14",17.3,9.6,100,7.92,1.76,2.4,31.6,40,30,null,24,890,null,1200,null,null,null,2020,9]
[35,"34 Rönneå, vid Tranarps bro","2020-11-10",9.5,11.2,98,7.55,1.01,4.5,25.2,125,51,null,35,1600,null,2400,null,null,null,2020,11]
[35,"34 Rönneå, vid Tranarps bro","2021-02-25",2.9,13.6,99,7.5,0.75390061623180804,5.4,20,130,43.45,null,38,2100,null,2700,null,null,null,2021,2]
[35,"34 Rönneå, vid Tranarps bro","2021-04-21",9.6999999999999993,11,96,7.7,1.2291857873344696,3,25,80,35.155000000000001,null,26,1400,null,1900,null,null,null,2021,4]
[35,"34 Rönneå, vid Tranarps bro","2021-07-13",21.5,7.7,87,7.9,1.2947423626589747,2.8,25,100,37.524999999999999,null,32,1000,null,1600,null,null,null,2021,7]
[35,"34 Rönneå, vid Tranarps bro","2021-08-25",15.6,9.4,90,7.6,0.98360655737704916,3.1,26,120,63.2,null,36,1500,null,2200,null,null,null,2021,8]
[35,"34 Rönneå, vid Tranarps bro","2021-09-15",16.600000000000001,8.6999999999999993,88,7.9,1.5573770491803278,1.7,30,48,32.785000000000004,null,27,830,null,1200,null,null,null,2021,9]
[35,"34 Rönneå, vid Tranarps bro","2021-11-24",5.8,12.3,97,7.7,1.2131147540983607,3.6,24,140,47.400000000000006,null,46,1200,null,1700,null,null,null,2021,11]
[35,"34 Rönneå, vid Tranarps bro","2022-02-09",3.2,13.2,98,7.7,0.67213114754098358,8,17,160,47.400000000000006,null,36,1700,null,2000,null,null,null,2022,2]
[35,"34 Rönneå, vid Tranarps bro","2022-04-22",10.9,10.6,95,7.8,1.1967213114754098,5,24,78,43.45,null,33,1400,null,1800,null,null,null,2022,4]
[35,"34 Rönneå, vid Tranarps bro","2022-07-08",17.600000000000001,8.1999999999999993,84,7.8,1.278688524590164,4.4000000000000004,24,97,47.400000000000006,null,39,1100,null,1500,null,null,null,2022,7]
[35,"34 Rönneå, vid Tranarps bro","2022-08-24",19.5,7.9,85,7.9,1.56,2,29,41,43.45,null,23,900,null,1300,null,null,null,2022,8]
[35,"34 Rönneå, vid Tranarps bro","2022-09-20",13,9.5,89,8.1,1.540983606557377,2.2999999999999998,30,41,35.550000000000004,null,24,960,null,1300,null,null,null,2022,9]
[35,"34 Rönneå, vid Tranarps bro","2022-11-16",8.9,10.9,93,7.8,1.278688524590164,3.3,28,110,31.6,null,30,1300,null,1600,null,null,null,2022,11]
[35,"34 Rönneå, vid Tranarps bro","2023-02-15",3.6,13.4,99,7.7,0.98360655737704916,5.7,22,100,51.35,null,39,1700,58,2100,null,null,null,2023,2]
[35,"34 Rönneå, vid Tranarps bro","2023-04-14",8.6,11.5,98,7.8,1.098360655737705,4.2,22,84,59.25,null,19,1100,32,1500,null,null,null,2023,4]
[35,"34 Rönneå, vid Tranarps bro","2023-07-12",19.100000000000001,8,86,7.9,1.2950819672131149,3.2,26,62,25.675000000000001,null,29,1200,47,1500,null,null,null,2023,7]
[35,"34 Rönneå, vid Tranarps bro","2023-08-14",16.3,6.9,70,7.2,0.54098360655737709,5,17,250,102.7,null,44,1100,36,1900,null,null,null,2023,8]
[35,"34 Rönneå, vid Tranarps bro","2023-09-13",17.3,8.4,87,7.8,1.2950819672131149,5,27,130,37.130000000000003,null,33,1400,57,1700,null,null,null,2023,9]
[35,"34 Rönneå, vid Tranarps bro","2023-11-15",6.1,11.4,92,7.6,0.83606557377049184,6.9,19,210,94.800000000000011,null,33,1200,36,1800,null,null,null,2023,11]
[40,"49 Rönneå, uppstr Ängelholm","2013-01-16",0.8,11.5,80.372228545271327,7.4,0.77801759999999998,6.1,20.9,125,55,9,30,1700,91,2300,null,null,null,2013,1,17,0.25]
[40,"49 Rönneå, uppstr Ängelholm","2013-02-14",2.5,13.1,96.022078393761475,7.61,1.1571157999999999,6,24.1,70,43,"<2",21,1500,120,2000,null,null,null,2013,2,7.6,0.154]
[40,"49 Rönneå, uppstr Ängelholm","2013-03-13",0.7,13.6,94.778710000065999,7.67,1.2545039999999998,5.9,25.7,70,39,5,24,1700,180,2400,null,null,null,2013,3,5.3,0.13700000000000001]
[40,"49 Rönneå, uppstr Ängelholm","2013-04-17",11.9,10.1,93.842500100082844,7.59,0.48095999999999994,5.2,22,85,38,6,28,1300,130,1900,null,null,null,2013,4,11,0.157]
[40,"49 Rönneå, uppstr Ängelholm","2013-05-14",14.4,9.5,93.29527065594641,7.84,1.1943839999999999,4.5,26.9,70,40,4,26,1300,47,1800,null,null,null,2013,5,13,0.156]
[40,"49 Rönneå, uppstr Ängelholm","2013-06-11",19.399999999999999,9,97.791019181014448,7.83,1.4068079999999998,5.6,30.4,70,38,6,36,1200,28,1900,null,null,null,2013,6,13,0.113]
[40,"49 Rönneå, uppstr Ängelholm","2013-07-10",19.2,8.4,90.925392420556577,7.57,1.3386719999999999,5.8,29.5,85,43,"<2",29,1100,33,1900,null,null,null,2013,7,14,0.16700000000000001]
[40,"49 Rönneå, uppstr Ängelholm","2013-08-15",17,8.6,89.159298124092984,7.47,1.234464,19,27.7,100,43,18,80,1400,89,2200,null,null,null,2013,8,34,0.14799999999999999]
[40,"49 Rönneå, uppstr Ängelholm","2013-09-12",16.3,8.9,90.964344543215077,7.66,1.615224,6.6,32.799999999999997,45,30,3,35,1100,35,1800,null,null,null,2013,9,15,6.4000000000000001E-2]
[40,"49 Rönneå, uppstr Ängelholm","2013-10-15",10.7,10.199999999999999,92.178726400118492,7.64,1.3587119999999999,12,27.9,70,40,7,46,1500,73,2300,null,null,null,2013,10,17,0.11600000000000001]
[40,"49 Rönneå, uppstr Ängelholm","2013-11-20",5.5,11.8,93.750642124550225,7.58,1.1943839999999999,6.1,26,85,51,10,23,1500,54,2200,null,null,null,2013,11,23,0.182]
[40,"49 Rönneå, uppstr Ängelholm","2013-12-12",4,12.8,97.735250189244667,8.11,0.73747200000000002,9.3000000000000007,23.9,85,51,5.4,39,1800,54,2900,null,null,null,2013,12,16,0.185]
[40,"49 Rönneå, uppstr Ängelholm","2014-01-14",2,13.7,99.037269909359864,7.57,0.49699199999999999,13,17.5,150,63,15,38,1600,49,2300,null,null,null,2014,1,21,0.24]
[40,"49 Rönneå, uppstr Ängelholm","2014-02-18",4,12.7,96.971693547141172,7.52,0.79997999999999991,8.4,20.3,85,47,5,26,1400,51,2200,null,null,null,2014,2,13,0.20599999999999999]
[40,"49 Rönneå, uppstr Ängelholm","2014-03-13",6.9,11.9,98.01504899643831,7.78,1.1979600000000001,3.9,24.8,70,36,3,23,1300,23,2200,null,null,null,2014,3,11,0.13900000000000001]
[40,"49 Rönneå, uppstr Ängelholm","2014-04-15",9.8000000000000007,11.8,104.39124584215698,7.21,0.76580999999999999,9.9,19.7,100,63,8,34,1500,61,2000,null,null,null,2014,4,16,0.24199999999999999]
[40,"49 Rönneå, uppstr Ängelholm","2014-05-13",12.5,10.1,95.126555088211774,7.52,0.88038000000000016,51,21.7,150,71,31,100,3500,110,4300,null,null,"grumligt",2014,5,40,0.23899999999999999]
[40,"49 Rönneå, uppstr Ängelholm","2014-06-10",21,8.6,96.259891049956536,7.8,1.4230800000000001,5.0999999999999996,27.6,85,47,4,29,1000,49,2100,null,null,null,2014,6,13,0.155]
[40,"49 Rönneå, uppstr Ängelholm","2014-07-23",23.7,7.4,86.832490121256939,7.44,1.1296200000000001,4,25.5,100,55,9,38,1000,44,1600,null,null,null,2014,7,31,0.23100000000000001]
[40,"49 Rönneå, uppstr Ängelholm","2014-08-14",19.3,8.3000000000000007,90.014063671247953,7.5,0.95274000000000014,6,23.2,150,71,6.8,31,1100,35,1600,null,null,null,2014,8,23,0.30399999999999999]
[40,"49 Rönneå, uppstr Ängelholm","2014-09-24",13.6,9.5,91.688346912337224,7.58,1.31454,7.1,27.8,125,55,9,32,1000,33,1500,null,null,null,2014,9,20,0.23300000000000001]
[40,"49 Rönneå, uppstr Ängelholm","2014-10-14",11.8,9.6,88.993409250797384,7.52,1.4070000000000003,44,28.4,175,63,6.6,88,1900,39,2900,null,null,null,2014,10,48,0.22]
[40,"49 Rönneå, uppstr Ängelholm","2014-11-12",8.9,10.1,87.432515723830221,7.51,1.0954500000000003,6,23.3,175,79,13,37,1200,60,2100,null,null,null,2014,11,22,0.35599999999999998]
[40,"49 Rönneå, uppstr Ängelholm","2014-12-09",4.4000000000000004,12.5,96.471656768240507,7.49,0.99696000000000007,20,21,200,71,19,53,1300,75,2200,null,null,null,2014,12,25,0.315]
[40,"49 Rönneå, uppstr Ängelholm","2015-01-20",2.4,12,87.71644130173172,7.37,0.64722000000000013,9,17.3,125,67,11,34,1500,58,2200,null,null,null,2015,1,22]
[40,"49 Rönneå, uppstr Ängelholm","2015-02-10",2.2000000000000002,12.9,93.774104487430847,7.57,1.0271399999999999,7,21.6,85,47,6,25,1300,74,2300,null,null,null,2015,2,16]
[40,"49 Rönneå, uppstr Ängelholm","2015-03-17",7.4,11.7,97.592580622611734,7.83,1.1197839999999999,6.7,23.7,85,51,7,27,1400,27,1900,null,null,null,2015,3,17]
[40,"49 Rönneå, uppstr Ängelholm","2015-04-15",8,11.4,96.526021861969056,7.36,0.82976800000000006,48,19.5,175,67,20,110,2500,120,3700,null,null,null,2015,4,34]
[40,"49 Rönneå, uppstr Ängelholm","2015-05-12",12.7,10.4,98.392753714254852,7.52,0.87004800000000004,5.4,21.2,125,59,5.4,30,1300,34,1800,null,null,null,2015,5,20]
[40,"49 Rönneå, uppstr Ängelholm","2015-06-09",15.4,9,90.283486575508448,7.71,1.002972,4.4000000000000004,22.6,175,59,3.1,39,1300,44,2000,null,null,null,2015,6,21]
[40,"49 Rönneå, uppstr Ängelholm","2015-07-15",18.2,8.4,89.186794526412385,7.64,1.1157560000000002,6.8,23.6,200,75,7.2,39,950,34,1900,null,null,null,2015,7,26]
[40,"49 Rönneå, uppstr Ängelholm","2015-08-13",19.8,8.6,94.152051401119635,7.61,1.2527079999999999,5.2,26.3,125,63,7,38,1100,29,1900,null,null,null,2015,8,24]
[40,"49 Rönneå, uppstr Ängelholm","2015-09-15",15.2,9.4,93.900011105233986,7.72,1.5628639999999998,5,30.3,70,40,"<2",36,1000,37,2000,null,null,null,2015,9,17]
[40,"49 Rönneå, uppstr Ängelholm","2015-10-13",9,10.1,87.64553186700266,7.67,1.6192560000000003,4.2,31.9,65,36,7,36,1200,38,1900,null,null,null,{"$f":"YEAR(C391)","v":2015},{"$f":"MONTH(C391)","v":10},26]
[40,"49 Rönneå, uppstr Ängelholm","2015-11-11",11.5,10,92.065802469536862,7.46,1.0875600000000001,13,24.5,175,63,14,78,1900,40,2800,null,null,null,2015,11,32]
[40,"49 Rönneå, uppstr Ängelholm","2015-12-08",6.3,10.5,85.168615041161516,7.23,0.59211599999999998,10,18,175,83,3.6,39,1800,170,2900,null,null,null,2015,12,31]
[40,"49 Rönneå, uppstr Ängelholm","2016-01-20",0.3,13.9,95.768009502512953,7.64,1.0532400000000002,4,24,85,47,12,33,1500,200,2200,null,null,"is",2016,1,24]
[40,"49 Rönneå, uppstr Ängelholm","2016-02-17",1.1000000000000001,13.3,93.746697611566574,7.42,0.94657999999999998,9,20.6,85,51,3.8,32,1400,55,2000,null,null,null,2016,2,24]
[40,"49 Rönneå, uppstr Ängelholm","2016-03-16",6,12.3,99.000573899548314,7.56,0.94657999999999998,5.9,21,85,47,4.0999999999999996,30,1200,59,1900,null,null,null,2016,3,14]
[40,"49 Rönneå, uppstr Ängelholm","2016-04-13",9.6,10.4,91.566258439306509,7.49,0.87004800000000004,5.2,21.7,100,47,4,33,1300,50,2000,null,null,null,2016,4,21]
[40,"49 Rönneå, uppstr Ängelholm","2016-05-17",13.9,9.4,91.319769802655429,7.72,1.1755160000000002,3.8,26.9,70,43,5.3,30,1400,26,1900,null,null,null,2016,5,17]
[40,"49 Rönneå, uppstr Ängelholm","2016-06-14",16.8,8.9,91.897059388696306,7.87,1.4924640000000002,4.2,30.6,60,20,4.4000000000000004,26,1200,22,1800,null,null,null,2016,6,11]
[40,"49 Rönneå, uppstr Ängelholm","2016-07-13",18.399999999999999,8.6999999999999993,92.7331607510135,7.31,0.81443600000000005,15,20.6,175,43,24,66,1200,50,2000,null,null,null,2016,7,35]
[40,"49 Rönneå, uppstr Ängelholm","2016-08-18",17,8.6999999999999993,90.196034148791725,7.62,1.3961760000000001,3.6,30.6,55,20,9.4,27,1400,27,1500,null,null,null,2016,8,17]
[40,"49 Rönneå, uppstr Ängelholm","2016-09-14",19.600000000000001,9.1999999999999993,100.34277291318723,7.88,1.2356960000000001,2,32.299999999999997,45,31,3,22,950,12,1500,null,null,null,2016,9,11]
[40,"49 Rönneå, uppstr Ängelholm","2016-10-12",9.1,10.9,94.817711418581382,7.85,1.6810280000000004,2.1,33.9,35,30,6.9,22,1000,21,1400,null,null,null,2016,10,16]
[40,"49 Rönneå, uppstr Ängelholm","2016-11-08",2.6,12.7,93.347227738857725,7.52,0.90671199999999996,8.4,23.2,125,43,7.8,41,1400,50,2000,null,null,null,2016,11,24]
[40,"49 Rönneå, uppstr Ängelholm","2016-12-14",3.9,12.5,95.18832861656567,7.59,1.1073120000000001,7.6,26.9,70,38,8.3000000000000007,28,2000,65,2600,null,null,null,2016,12,24]
[40,"49 Rönneå, uppstr Ängelholm","2017-01-18",1.3,12.4,87.898109751526221,7.63,1.1153360000000001,5.2,28,70,39,3.9,27,1600,null,2000,null,null,null,2017,1,19]
[40,"49 Rönneå, uppstr Ängelholm","2017-02-16",1.5,13.7,97.661509229016659,7.61,1.2276720000000001,5,30,50,29,9.1,32,1700,null,2000,null,null,null,2017,2,27]
[40,"49 Rönneå, uppstr Ängelholm","2017-03-14",5.2,11.2,88.287574429211361,7.58,0.99497600000000008,4.5,24,85,36,4.5999999999999996,30,1500,null,2100,null,null,null,2017,3,28]
[40,"49 Rönneå, uppstr Ängelholm","2017-04-19",7.3,11.3,94.019255656388552,7.46,0.40120000000000006,5,21.4,125,43,"<2",32,1600,36,2000,null,null,null,2017,4,22]
[40,"49 Rönneå, uppstr Ängelholm","2017-05-10",10.8,10.9,98.735512880876826,7.69,1.1153360000000001,4,26.4,85,28,4.9000000000000004,31,1300,31,1700,null,null,null,2017,5,20]
[40,"49 Rönneå, uppstr Ängelholm","2017-06-20",19,8.4,90.578651138227016,7.68,1.2437200000000002,5.3,26.3,100,40,8.8000000000000007,33,910,48,1600,null,null,null,2017,6,26]
[40,"49 Rönneå, uppstr Ängelholm","2017-07-12",18.7,8.1999999999999993,87.913372532879038,7.69,1.2758160000000003,4.7,28.2,70,32,8.6,32,940,25,1400,null,null,null,2017,7,26]
[40,"49 Rönneå, uppstr Ängelholm","2017-08-17",18.7,8.6,92.201829729604839,7.63,1.3279719999999999,5.0999999999999996,26.7,125,59,4,40,830,63,1500,null,null,null,2017,8,24]
[40,"49 Rönneå, uppstr Ängelholm","2017-09-20",13.4,7.6,73.028986131092964,6.93,0.59778799999999999,7.6,16.2,250,110,15,57,1100,47,2000,null,null,null,2017,9,48]
[40,"49 Rönneå, uppstr Ängelholm","2017-10-10",9.6,10.1,88.924924061249584,7.27,0.79437600000000008,4.2,18.7,250,95,21,53,1100,31,2100,null,null,null,2017,10,38]
[40,"49 Rönneå, uppstr Ängelholm","2017-11-09",6.6,11.1,90.730020543918315,7.31,0.8826400000000002,5.6,19.2,200,87,14,37,970,160,1700,null,null,null,2017,11,35]
[40,"49 Rönneå, uppstr Ängelholm","2017-12-19",1.7,14.6,104.66276787562836,7.29,0.61784800000000006,8.4,15.7,200,63,11,34,1200,50,1800,null,null,null,2017,12,27]
[40,"49 Rönneå, uppstr Ängelholm","2018-01-09",0.9,13.7,96,7.92,0.85,6.6,18.600000000000001,150,59,15,39,1200,41,1700,null,null,null,2018,1,24]
[40,"49 Rönneå, uppstr Ängelholm","2018-02-15",2.2000000000000002,12.11,88,7.51,0.88,12,22.3,125,43,10,48,1200,110,2000,null,null,null,2018,2,23]
[40,"49 Rönneå, uppstr Ängelholm","2018-03-20",2.5,13.4,98,7.58,1.02,11,22.3,100,37,11,48,1400,170,2200,null,null,null,2018,3,19]
[40,"49 Rönneå, uppstr Ängelholm","2018-04-18",11.6,10.1,93,7.56,1.08,5.0999999999999996,24.2,100,43,4.4000000000000004,35,1600,84,1800,null,null,null,2018,4,16]
[40,"49 Rönneå, uppstr Ängelholm","2018-05-15",19,8.9,96,7.89,1.31,4.4000000000000004,28.3,85,32,4.3,35,1300,26,1700,null,null,null,2018,5,18]
[40,"49 Rönneå, uppstr Ängelholm","2018-06-12",20,8.6999999999999993,96,8.8000000000000007,1.73,3,32,50,25,"<2",25,1000,20,1500,null,null,null,2018,6,10]
[40,"49 Rönneå, uppstr Ängelholm","2018-07-19",22.6,9.4,108,7.81,0.85,9,32.200000000000003,45,23,2.9,31,660,13,1400,null,null,null,2018,7,9]
[40,"49 Rönneå, uppstr Ängelholm","2018-08-15",20.5,8.4,93,7.67,1.46,10,33.5,50,27,2.6,38,1300,65,1800,null,null,null,2018,8,10]
[40,"49 Rönneå, uppstr Ängelholm","2018-09-12",16,8.6999999999999993,88,7.55,0.78,4,36.4,40,26,6.4,28,1300,20,1700,null,null,null,2018,9,12]
[40,"49 Rönneå, uppstr Ängelholm","2018-10-09",12.1,11.5,107,7.71,1.38,4.5,33.200000000000003,50,21,5,24,1300,29,1500,null,null,null,2018,10,13]
[40,"49 Rönneå, uppstr Ängelholm","2018-11-14",9.6,10.3,91,7.53,1.1399999999999999,4.9000000000000004,34.4,55,24,8.4,25,1600,84,1900,null,null,null,2018,11,14]
[40,"49 Rönneå, uppstr Ängelholm","2018-12-11",4.5,11,85,7.6,0.69,14,29.2,100,35,8,47,4000,110,4600,null,null,null,2018,12,16]
[40,"49 Rönneå, uppstr Ängelholm","2019-01-15",2.9,12.9,96,7.71,0.78,12,28.1,85,31,11,50,3200,90,3600,null,null,null,2019,1,14]
[40,"49 Rönneå, uppstr Ängelholm","2019-02-13",4.2,11.8,91,7.16,0.4,13,20.6,100,59,9.4,48,3600,59,3700,null,null,null,2019,2,20]
[40,"49 Rönneå, uppstr Ängelholm","2019-03-12",4.2,15.2,117,7.44,0.49,8.9,18.899999999999999,100,43,3.9,36,3500,28,3000,null,null,null,2019,3,15]
[40,"49 Rönneå, uppstr Ängelholm","2019-04-09",9.5,11.7,103,7.45,0.95,8,24.7,85,34,2.2999999999999998,28,1700,72,2000,null,null,null,2019,4,9]
[40,"49 Rönneå, uppstr Ängelholm","2019-05-14",13,10.3,98,7.77,0.95,3.6,24.9,85,35,8.4,24,1500,28,1600,null,null,null,2019,5,12]
[40,"49 Rönneå, uppstr Ängelholm","2019-06-11",18.8,9.1999999999999993,99,7.78,1.38,6.15,28.3,65,27,3.1,41,1000,13,1300,null,null,null,2019,6,12]
[40,"49 Rönneå, uppstr Ängelholm","2019-07-17",20.6,8.3000000000000007,92,7.67,1.42,3.9,31.7,45,27,3.7,26,1300,"<10",1600,null,null,null,2019,7,10]
[40,"49 Rönneå, uppstr Ängelholm","2019-08-14",17.8,7.2,76,7.46,1.2,9.4,27,100,39,13,54,1000,44,1800,null,null,null,2019,8,25]
[40,"49 Rönneå, uppstr Ängelholm","2019-09-17",12.5,9.4,89,7.35,0.46,5.4,24.9,150,55,10,36,1200,31,1900,null,null,null,2019,9,22]
[40,"49 Rönneå, uppstr Ängelholm","2019-10-16",11.6,9.1999999999999993,85,7.15,0.6,17,20.5,225,79,16,71,1200,48,3200,null,null,null,2019,10,31]
[40,"49 Rönneå, uppstr Ängelholm","2019-11-13",6,11.7,94,7.48,0.75,5.9,23.5,125,51,6.4,34,1200,61,2000,null,null,null,2019,11,18]
[40,"49 Rönneå, uppstr Ängelholm","2019-12-12",4.4000000000000004,10.9,84,7.4,0.56000000000000005,58,17.399999999999999,225,67,29,110,1100,88,3000,null,null,null,2019,12,36]
[40,"49 Rönneå, uppstr Ängelholm","2020-01-13",5.2,11.7,92,7.47,0.75,36,19.3,225,55,23,79,1300,55,2700,null,null,null,2020,1,28]
[40,"49 Rönneå, uppstr Ängelholm","2020-02-10",5.9,11.5,92,7.47,0.91,410,19,600,43,70,330,1800,34,3300,null,null,null,2020,2,29]
[40,"49 Rönneå, uppstr Ängelholm","2020-03-17",6.3,12,97,7.51,0.96,6.3,20.9,100,39,4.7,30,1600,32,1800,null,null,null,2020,3,12]
[40,"49 Rönneå, uppstr Ängelholm","2020-04-15",9.9,11.2,99,7.62,1.01,5.6,25.2,100,33,5.2,35,1700,49,2200,null,null,null,2020,4,12]
[40,"49 Rönneå, uppstr Ängelholm","2020-05-19",12.1,10.4,97,7.78,1.25,4.2,29.2,70,28,4,22,1400,37,1800,null,null,null,2020,5,9.6]
[40,"49 Rönneå, uppstr Ängelholm","2020-06-09",16.7,8.1999999999999993,84,7.8,1.33,6.3,29.1,85,29,3.4,30,1300,69,1700,null,null,null,2020,6,13]
[40,"49 Rönneå, uppstr Ängelholm","2020-07-15",16.399999999999999,9.8000000000000007,100,7.52,0.82,5,25,125,43,10,39,1100,31,1800,null,null,null,2020,7,22]
[40,"49 Rönneå, uppstr Ängelholm","2020-08-12",22.1,8.1999999999999993,94,7.82,1.66,2.2999999999999998,34.5,45,24,3.4,24,1000,16,1700,null,null,null,2020,8,12]
[40,"49 Rönneå, uppstr Ängelholm","2020-09-14",17.399999999999999,9.3000000000000007,97,7.77,1.65,2.5,31.6,40,31,6.2,24,1000,24,1300,null,null,null,2020,9,14]
[40,"49 Rönneå, uppstr Ängelholm","2020-10-13",10.5,9.3000000000000007,84,7.58,1.1399999999999999,5.0999999999999996,27.9,100,40,12,34,1200,33,1800,null,null,null,2020,10,21]
[40,"49 Rönneå, uppstr Ängelholm","2020-11-10",9.1999999999999993,11.1,97,7.43,0.9,4.5,25.2,125,51,11,33,1600,39,2200,null,null,null,2020,11,19]
[40,"49 Rönneå, uppstr Ängelholm","2020-12-16",6,11.9,96,7.46,1.1200000000000001,87,27.6,200,30,25,140,1900,63,3800,null,null,null,2020,12,30]
[40,"49 Rönneå, uppstr Ängelholm","2021-01-20",1.2,13.5,97,7.5,0.75390061623180804,24,23,290,39.105000000000004,null,62,2500,null,3000,null,null,null,2021,1]
[40,"49 Rönneå, uppstr Ängelholm","2021-02-25",3,13.1,96,7.4,0.72112232856955549,7.7,21,160,39.5,null,47,2300,null,2900,null,null,null,{"$f":"YEAR(C455)","v":2021},{"$f":"MONTH(C455)","v":2}]
[40,"49 Rönneå, uppstr Ängelholm","2021-03-18",4.0999999999999996,12.4,93,7.4,0.60639832175167174,6.1,18,140,43.45,null,33,2300,null,3000,null,null,null,2021,3]
[40,"49 Rönneå, uppstr Ängelholm","2021-04-21",10.1,10.6,94,7.6,1.0489052051920809,3.4,24,99,36.339999999999996,null,28,1500,null,2200,null,null,null,2021,4]
[40,"49 Rönneå, uppstr Ängelholm","2021-05-19",14.1,9.4,90,7.7,1.1636292120099647,4.4000000000000004,25,110,47.400000000000006,null,31,1200,null,1800,null,null,null,2021,5]
[40,"49 Rönneå, uppstr Ängelholm","2021-06-09",19,8.1,86,7.8,1.442244657139111,1.8,30,67,35.550000000000004,null,29,1100,null,1600,null,null,null,2021,6]
[40,"49 Rönneå, uppstr Ängelholm","2021-07-14",23.1,7.2,84,7.7,1.1636292120099647,2.6,27,110,43.45,null,31,1200,null,1600,null,null,null,2021,7]
[40,"49 Rönneå, uppstr Ängelholm","2021-08-25",16,8.4,85,7.5,0.86885245901639341,3.3,26,130,71.100000000000009,null,37,1500,null,2200,null,null,null,2021,8]
[40,"49 Rönneå, uppstr Ängelholm","2021-09-15",16.600000000000001,8.6999999999999993,88,7.8,1.5081967213114753,1.7,31,55,34.760000000000005,null,27,990,null,1300,null,null,null,2021,9]
[40,"49 Rönneå, uppstr Ängelholm","2021-10-21",10.9,9.5,88,7.4,1.0655737704918034,160,22,1200,51.35,null,290,2600,null,3500,null,null,null,2021,10]
[40,"49 Rönneå, uppstr Ängelholm","2021-11-24",5.9,12,95,7.6,1.0655737704918034,4.0999999999999996,23,150,43.45,null,38,1300,null,1800,null,null,null,2021,11]
[40,"49 Rönneå, uppstr Ängelholm","2021-12-08",0.1,13.6,93,7.5,0.85245901639344257,5.7,21,160,43.45,null,48,1800,null,2300,"",null,null,2021,12]
[40,"49 Rönneå, uppstr Ängelholm","2022-01-19",1.7,13.6,96,7.7,1.0819672131147542,6.6,23,130,35.945,"",33,1500,null,1900,"",null,null,2022,1]
[40,"49 Rönneå, uppstr Ängelholm","2022-02-09",3.3,12.7,94,7.6,0.5901639344262295,14,16,210,47.400000000000006,null,43,1700,null,1900,null,null,null,2022,2]
[40,"49 Rönneå, uppstr Ängelholm","2022-03-16",4.5999999999999996,12.8,96,7.7,1.098360655737705,6,23,110,30.810000000000002,"",32,1400,null,1800,"","",null,2022,3]
[40,"49 Rönneå, uppstr Ängelholm","2022-04-22",11.4,10.4,94,7.7,1.0655737704918034,4.8,24,97,35.945,null,37,1500,null,2000,null,null,null,2022,4]
[40,"49 Rönneå, uppstr Ängelholm","2022-05-16",14.8,9.5,94,7.8,1.098360655737705,3.9,26,110,43.45,null,35,1500,null,1900,null,null,null,2022,5]
[40,"49 Rönneå, uppstr Ängelholm","2022-06-17",17.899999999999999,8.6,86,7.8,1.2131147540983607,5.4,28,94,43.45,null,31,1400,null,1800,null,null,null,2022,6]
[40,"49 Rönneå, uppstr Ängelholm","2022-07-08",18.2,7.8,82,7.8,1.2295081967213115,4,27,98,39.5,null,33,1200,null,1700,null,null,null,2022,7]
[40,"49 Rönneå, uppstr Ängelholm","2022-08-24",20.2,8,89,7.9,1.61,1.7,33,41,34.76,null,18,1100,null,1400,null,null,null,2022,8]
[40,"49 Rönneå, uppstr Ängelholm","2022-09-20",13.1,9.3000000000000007,87,8.1,1.0491803278688525,1.8,34,45,35.550000000000004,null,23,1200,null,1500,null,null,null,2022,9]
[40,"49 Rönneå, uppstr Ängelholm","2022-10-19",11.2,9.6,86,7.6,1.2622950819672132,3.9,31,84,43.45,null,35,1300,null,1600,null,null,null,2022,10]
[40,"49 Rönneå, uppstr Ängelholm","2022-11-16",9.1999999999999993,10.199999999999999,88,7.8,1.180327868852459,5.7,30,120,34.365000000000002,null,30,1400,null,1700,null,null,null,2022,11]
[40,"49 Rönneå, uppstr Ängelholm","2022-12-21",0.3,12.9,89,7.4,1.0327868852459017,42,36,260,43.45,null,90,4500,null,5300,null,null,null,2022,12]
[40,"49 Rönneå, uppstr Ängelholm","2023-01-11",5.2,11.8,93,7.1,0.49180327868852458,72,18,560,71.100000000000009,null,100,3200,null,3800,null,null,null,2023,1]
[40,"49 Rönneå, uppstr Ängelholm","2023-02-15",3.7,13,97,7.8,0.86885245901639341,5,22,110,39.5,null,41,1700,null,2200,null,null,null,2023,2]
[40,"49 Rönneå, uppstr Ängelholm","2023-03-15",2.8,12.3,90,7.6,0.62295081967213117,19,18,230,59.25,null,53,1700,null,2100,null,null,null,2023,3]
[40,"49 Rönneå, uppstr Ängelholm","2023-04-14",8.6,11.2,95,7.6,1,5.5,22,99,55.300000000000004,null,21,1100,null,1500,null,null,null,2023,4]
[40,"49 Rönneå, uppstr Ängelholm","2023-05-10",13.5,9.4,90,7.8,1.1311475409836065,3.5,27,79,34.760000000000005,null,24,1700,null,2100,null,null,null,2023,5]
[40,"49 Rönneå, uppstr Ängelholm","2023-06-14",19.3,8.5,91,7.9,1.5081967213114753,1.8,33,44,27.650000000000002,null,38,1300,null,1600,null,null,null,2023,6]
[40,"49 Rönneå, uppstr Ängelholm","2023-07-12",18.899999999999999,7.4,81,7.9,1.2459016393442623,2.8,30,67,25.28,null,31,1200,null,1700,null,null,null,2023,7]
[40,"49 Rönneå, uppstr Ängelholm","2023-08-14",17.100000000000001,5.9,61,7,0.42622950819672129,6.8,15,260,110.60000000000001,null,49,950,null,1700,null,null,null,2023,8]
[40,"49 Rönneå, uppstr Ängelholm","2023-09-13",17.7,7.4,78,7.6,1.1147540983606556,4.0999999999999996,27,160,43.45,null,35,1600,null,1900,null,null,null,2023,9]
[40,"49 Rönneå, uppstr Ängelholm","2023-10-18",9.1,10,87,7.5,0.67213114754098358,7.3,20,280,102.7,null,43,1500,null,2000,null,null,null,2023,10]
[40,"49 Rönneå, uppstr Ängelholm","2023-11-15",5.7,10.7,86,7.4,0.77049180327868849,14,19,240,94.800000000000011,null,42,1300,null,2000,null,null,null,2023,11]
[45,"57 Rönneå, vid utfl t Skälderviken","2013-01-16",0.1,12.6,86.313847831430039,7.3,0.79405919999999997,6.9,21.2,125,59,null,34,1700,null,2300,null,null,"is",2013,1]
[45,"57 Rönneå, vid utfl t Skälderviken","2013-02-14",0.8,14.2,99.242230029813285,7.56,0.87435439999999998,6,18.600000000000001,85,40,null,23,1000,null,1500,null,null,null,2013,2]
[45,"57 Rönneå, vid utfl t Skälderviken","2013-03-13",0.2,14.2,97.554473693240269,7.6,1.0340640000000001,5.3,21.9,70,33,null,18,1300,null,1600,null,null,null,2013,3]
[45,"57 Rönneå, vid utfl t Skälderviken","2013-04-17",12.1,11.4,106.40436824643771,7.64,0.41282400000000002,5.9,18.7,100,47,null,25,1100,null,1500,null,null,null,2013,4]
[45,"57 Rönneå, vid utfl t Skälderviken","2013-05-14",14.7,9.1999999999999993,90.931915456248021,7.68,1.1863679999999999,4.7,30.3,70,43,null,31,1400,null,2100,null,null,null,2013,5]
[45,"57 Rönneå, vid utfl t Skälderviken","2013-06-11",19.899999999999999,9.1999999999999993,100.90958520311104,7.75,1.4068079999999998,5.7,31.4,70,38,null,38,1400,null,1800,null,null,null,2013,6]
[45,"57 Rönneå, vid utfl t Skälderviken","2013-07-10",18.8,8.4,90.231407321874073,7.49,1.2665280000000001,6.4,74.5,85,43,null,31,1200,null,2000,null,null,null,2013,7]
[45,"57 Rönneå, vid utfl t Skälderviken","2013-08-15",18.600000000000001,8.6,92.023761802097241,7.46,1.150296,23,28.2,125,55,null,70,1300,null,2200,null,null,null,2013,8]
[45,"57 Rönneå, vid utfl t Skälderviken","2013-09-12",17.2,8.4,87.436983119462923,7.62,1.6833600000000002,8,43,45,30,null,46,1100,null,1800,null,null,null,2013,9]
[45,"57 Rönneå, vid utfl t Skälderviken","2013-10-15",11.2,9.6999999999999993,88.687321127528534,7.48,1.3667279999999999,28,33.9,70,40,null,66,2600,null,3500,null,null,null,2013,10]
[45,"57 Rönneå, vid utfl t Skälderviken","2013-11-20",5.7,12.2,97.434966712075948,7.51,1.4909760000000001,8,17.600000000000001,100,51,null,38,1100,null,1500,null,null,null,2013,11]
[45,"57 Rönneå, vid utfl t Skälderviken","2013-12-12",4.7,12.8,99.577927386752179,7.43,0.5811599999999999,9.9,17.7,70,40,null,32,1000,null,1600,null,null,null,2013,12]
[45,"57 Rönneå, vid utfl t Skälderviken","2014-01-14",3,13.7,101.80950040285248,7.54,0.42885600000000001,11,13.3,100,47,null,31,910,null,1300,null,null,null,2014,1]
[45,"57 Rönneå, vid utfl t Skälderviken","2014-02-18",3.9,13.1,99.757368390160806,7.5,0.65123999999999993,18,16.7,100,43,null,28,980,null,1100,null,null,null,2014,2]
[45,"57 Rönneå, vid utfl t Skälderviken","2014-03-13",7,13.1,108.17292527160431,7.65,1.1296200000000001,4.8,23.7,70,34,null,25,1300,null,1900,null,null,null,2014,3]
[45,"57 Rönneå, vid utfl t Skälderviken","2014-04-15",9.3000000000000007,11.4,99.648374647996192,7.2,0.59094000000000002,14,15.7,125,63,null,36,1500,null,2000,null,null,null,2014,4]
[45,"57 Rönneå, vid utfl t Skälderviken","2014-05-13",12.4,10.3,96.792019634018061,7.34,0.82812000000000008,94,22.4,200,83,null,140,7300,null,8500,null,null,"grumligt",2014,5]
[45,"57 Rönneå, vid utfl t Skälderviken","2014-06-10",22,8.6999999999999993,99.13829456912714,7.67,1.2462000000000002,5.7,25,100,71,null,29,1100,null,1800,null,null,null,2014,6]
[45,"57 Rönneå, vid utfl t Skälderviken","2014-07-23",24.5,7.6,90.373961208895665,7.46,1.0452000000000001,4.3,27.1,100,51,null,38,1100,null,1700,null,null,null,2014,7]
[45,"57 Rönneå, vid utfl t Skälderviken","2014-08-14",19.600000000000001,8.6,93.79867902754458,7.5,0.85224,6.6,21,125,63,null,39,860,null,1300,null,null,null,2014,8]
[45,"57 Rönneå, vid utfl t Skälderviken","2014-09-24",13.1,9.8000000000000007,93.546509953800111,7.56,1.1215800000000002,6.5,24.6,100,47,null,34,980,null,1500,null,null,null,2014,9]
[45,"57 Rönneå, vid utfl t Skälderviken","2014-10-14",11.7,10.3,95.264260211816108,7.52,1.02912,5,21.4,200,83,null,97,1800,null,2800,null,null,null,2014,10]
[45,"57 Rönneå, vid utfl t Skälderviken","2014-11-12",9.3000000000000007,10.4,90.907289152557937,7.52,0.82008000000000014,6.6,18.3,150,63,null,30,1100,null,1600,null,null,null,2014,11]
[45,"57 Rönneå, vid utfl t Skälderviken","2014-12-09",5,12.5,98.018214080550308,7.52,0.79596,35,16.8,300,99,null,55,1500,null,2500,null,null,null,2014,12]
[45,"57 Rönneå, vid utfl t Skälderviken","2015-01-20",3.1,11.9,88.675125304908804,7.35,0.51456000000000002,15,14.6,100,51,null,39,1200,null,1800,null,null,null,2015,1]
[45,"57 Rönneå, vid utfl t Skälderviken","2015-02-10",2.6,12.9,94.817262821359435,7.54,0.65656399999999993,6.8,16.3,85,40,null,22,1200,null,1800,null,null,null,2015,2]
[45,"57 Rönneå, vid utfl t Skälderviken","2015-03-17",8.1999999999999993,11.8,100.40913762774633,7.75,0.75726399999999994,6.4,17.7,85,43,null,23,1100,null,1500,null,null,null,2015,3]
[45,"57 Rönneå, vid utfl t Skälderviken","2015-04-15",7.8,11.5,96.889515879600879,7.25,0.61426999999999998,141,19.399999999999999,175,43,null,320,7200,null,8700,null,null,null,2015,4]
[45,"57 Rönneå, vid utfl t Skälderviken","2015-05-12",12.5,10.7,100.77763756869959,7.56,0.67267600000000005,4.9000000000000004,16.5,125,55,null,21,1000,null,1300,null,null,null,2015,5]
[45,"57 Rönneå, vid utfl t Skälderviken","2015-06-09",15,9.4,93.503670372957245,7.6,0.737124,4.5999999999999996,17.399999999999999,150,55,null,31,1100,null,1600,null,null,null,2015,6]
[45,"57 Rönneå, vid utfl t Skälderviken","2015-07-15",18.100000000000001,8.8000000000000007,93.250970376747105,7.56,0.82574000000000003,6.5,19,200,75,null,39,820,null,1700,null,null,null,{"$f":"YEAR(C519)","v":2015},{"$f":"MONTH(C519)","v":7}]
[45,"57 Rönneå, vid utfl t Skälderviken","2015-08-13",20.5,8.5,94.275172912528333,7.52,1.0432519999999998,6.4,23.1,150,63,null,39,1000,null,1700,null,null,null,2015,8]
[45,"57 Rönneå, vid utfl t Skälderviken","2015-09-15",15.4,9.6,96.302385680542329,7.64,1.3695200000000001,8.3000000000000007,203,85,43,null,45,1000,null,1800,null,null,null,2015,9]
[45,"57 Rönneå, vid utfl t Skälderviken","2015-10-13",8.9,10.199999999999999,88.298184196343385,7.52,1.4259120000000001,4.5,133,70,32,null,34,1000,null,1600,null,null,null,2015,10]
[45,"57 Rönneå, vid utfl t Skälderviken","2015-11-11",11,9.9,90.096525558460655,7.34,0.76934799999999992,38,20.2,250,95,null,90,2100,null,3200,null,null,null,2015,11]
[45,"57 Rönneå, vid utfl t Skälderviken","2015-12-08",6.7,11.5,94.23972606010264,7.28,0.475304,8.5,14.4,125,63,null,32,1000,null,1600,null,null,null,2015,12]
[45,"57 Rönneå, vid utfl t Skälderviken","2016-01-20",0.1,13.6,93.164153214876862,7.61,1.1577600000000001,3.8,24.7,85,51,null,31,1600,null,2100,null,null,null,2016,1]
[45,"57 Rönneå, vid utfl t Skälderviken","2016-02-17",1.8,14.3,102.79936816388144,7.33,0.56391999999999998,4.9000000000000004,14.8,70,43,null,25,1000,null,1400,null,null,null,2016,2]
[45,"57 Rönneå, vid utfl t Skälderviken","2016-03-16",5.9,12.8,102.75877463553356,7.49,0.63642399999999999,4.9000000000000004,15.5,85,43,null,23,970,null,1300,null,null,null,2016,3]
[45,"57 Rönneå, vid utfl t Skälderviken","2016-04-13",9.5,11.4,100.12986691137435,7.57,0.77136199999999999,5.2,17.600000000000001,100,43,null,28,990,null,1400,null,null,null,2016,4]
[45,"57 Rönneå, vid utfl t Skälderviken","2016-05-17",13.8,10,96.93718360471631,7.72,1.1113240000000002,4,24.4,70,36,null,29,1100,null,1700,null,null,null,2016,5]
[45,"57 Rönneå, vid utfl t Skälderviken","2016-06-14",16.7,8.4,86.558409041933487,7.68,1.3480320000000001,6.3,107.3,65,22,null,34,1100,null,1700,null,null,null,2016,6]
[45,"57 Rönneå, vid utfl t Skälderviken","2016-07-13",18.8,8.9,95.602324424366572,7.36,0.77030399999999999,13,18.7,175,43,null,54,1000,null,1700,null,null,null,2016,7]
[45,"57 Rönneå, vid utfl t Skälderviken","2016-08-18",16.5,8.6999999999999993,89.285162577989894,7.5,1.1755160000000002,4.3,233,70,23,null,33,1000,null,1300,null,null,null,2016,8]
[45,"57 Rönneå, vid utfl t Skälderviken","2016-09-14",20,8.4,92.307068122134282,7.86,1.295876,4.0999999999999996,67.900000000000006,50,32,null,29,880,null,1300,null,null,null,2016,9]
[45,"57 Rönneå, vid utfl t Skälderviken","2016-10-12",9.5,10.8,94.859873916038865,7.64,1.3961760000000001,3,39.9,40,27,null,26,980,null,1300,null,null,null,2016,10]
[45,"57 Rönneå, vid utfl t Skälderviken","2016-11-08",2.4,12.2,89.178381990093911,7.48,0.85455600000000009,7.6,22.6,125,47,null,34,2000,null,2500,null,null,null,2016,11]
[45,"57 Rönneå, vid utfl t Skälderviken","2016-12-14",3.8,12.8,97.210663702494244,7.5,0.85054400000000019,10,21.3,100,40,null,28,1800,null,2200,null,null,null,2016,12]
[45,"57 Rönneå, vid utfl t Skälderviken","2017-01-18",2.2000000000000002,12.4,90.139449274739718,7.61,0.87060400000000004,6.6,22.5,70,33,null,26,1400,null,1700,null,null,null,2017,1]
[45,"57 Rönneå, vid utfl t Skälderviken","2017-02-16",1.4,13.8,98.098080018635471,7.56,1.1073120000000001,4.9000000000000004,25.6,50,26,null,28,1500,null,1900,null,null,null,2017,2]
[45,"57 Rönneå, vid utfl t Skälderviken","2017-03-14",5.5,11.4,90.572654255921407,7.55,0.66599200000000014,4.0999999999999996,16.899999999999999,70,28,null,24,1100,null,1500,null,null,null,2017,3]
[45,"57 Rönneå, vid utfl t Skälderviken","2017-04-19",7.3,11.9,99.011428523099426,7.59,0.32697799999999999,6.2,162.1,100,36,null,30,1100,null,1400,null,null,null,2017,4]
[45,"57 Rönneå, vid utfl t Skälderviken","2017-05-10",10.199999999999999,11.8,105.38941606669054,7.69,0.94683200000000001,3.9,22,70,26,null,27,1300,null,1400,null,null,null,2017,5]
[45,"57 Rönneå, vid utfl t Skälderviken","2017-06-20",18.899999999999999,8.5,91.481342300371253,7.69,1.295876,5.8,27,100,38,null,34,910,null,1600,null,null,null,2017,6]
[45,"57 Rönneå, vid utfl t Skälderviken","2017-07-12",19.2,8.1999999999999993,88.760502124829046,7.55,0.52757799999999999,6.3,23.9,100,36,null,45,920,null,1500,null,null,null,2017,7]
[45,"57 Rönneå, vid utfl t Skälderviken","2017-08-17",18.7,9.1999999999999993,98.634515524693541,7.59,0.95886800000000028,6.6,20.399999999999999,125,55,null,44,730,null,1300,null,null,null,2017,8]
[45,"57 Rönneå, vid utfl t Skälderviken","2017-09-20",14,9.1999999999999993,89.57134390604341,7.09,0.54763800000000007,39,12.9,250,91,null,110,420,null,1700,null,null,null,2017,9]
[45,"57 Rönneå, vid utfl t Skälderviken","2017-10-10",10.4,10.199999999999999,91.530983483759925,7.29,0.60982400000000003,9.4,14.7,225,83,null,49,850,null,1400,null,null,null,2017,10]
[45,"57 Rönneå, vid utfl t Skälderviken","2017-11-09",7.8,11,92.676928232661709,7.26,0.51754800000000012,13,13.5,200,75,null,58,660,null,1300,null,null,null,2017,11]
[45,"57 Rönneå, vid utfl t Skälderviken","2017-12-19",3,14.9,110.72712087609504,7.21,0.50150000000000006,29,13,200,47,null,57,770,null,1400,null,null,null,2017,12]
[45,"57 Rönneå, vid utfl t Skälderviken","2018-01-09",1.9,13.7,99,7.23,0.44,11,12.1,150,51,null,47,730,null,1200,null,null,null,2018,1]
[45,"57 Rönneå, vid utfl t Skälderviken","2018-02-15",2.2000000000000002,12.5,91,7.4,0.68,7.7,15.4,125,38,null,38,840,null,1400,null,null,null,2018,2]
[45,"57 Rönneå, vid utfl t Skälderviken","2018-03-20",3.3,12.6,94,7.51,0.87,7.1,19.600000000000001,125,34,null,40,1200,null,1900,null,null,"prov taget längre nedstr. pga bygge",2018,3]
[45,"57 Rönneå, vid utfl t Skälderviken","2018-04-18",11.5,10.6,98,7.51,0.84,5.8,19.5,100,40,null,32,1000,null,1500,null,null,"broarbete - prov längre nedstr ",2018,4]
[45,"57 Rönneå, vid utfl t Skälderviken","2018-05-15",19.600000000000001,8.9,97,7.73,1.23,5.0999999999999996,71.5,85,33,null,27,1200,null,1800,null,null,null,2018,5]
[45,"57 Rönneå, vid utfl t Skälderviken","2018-06-12",20.6,8.4,93,7.76,1.69,5.7,31.6,55,24,null,33,1000,null,1500,null,null,null,2018,6]
[45,"57 Rönneå, vid utfl t Skälderviken","2018-07-19",23.4,9.9,116,7.84,0.86,9.3000000000000007,54,45,23,null,26,820,null,1500,null,null,null,2018,7]
[45,"57 Rönneå, vid utfl t Skälderviken","2018-08-15",20.3,8.3000000000000007,92,7.56,1.18,11,62.5,65,24,null,38,1300,null,1800,null,null,null,2018,8]
[45,"57 Rönneå, vid utfl t Skälderviken","2018-09-12",16.100000000000001,8.8000000000000007,90,7.47,0.73,6.1,211,45,23,null,40,890,null,1600,null,null,null,2018,9]
[45,"57 Rönneå, vid utfl t Skälderviken","2018-10-09",12.1,11.1,104,7.52,1.1499999999999999,5.2,221,65,26,null,26,1200,null,1300,null,null,null,2018,10]
[45,"57 Rönneå, vid utfl t Skälderviken","2018-11-14",9.5,9.1999999999999993,81,7.47,0.99,8.5,35.700000000000003,65,26,null,34,1600,null,1900,null,null,null,2018,11]
[45,"57 Rönneå, vid utfl t Skälderviken","2018-12-11",4.5,11.1,86,7.57,0.56999999999999995,11,23.4,100,43,null,42,3100,null,3500,null,null,null,2018,12]
[45,"57 Rönneå, vid utfl t Skälderviken","2019-01-15",3.4,12.9,97,7.67,0.63,16,22.9,100,40,null,45,3100,null,3500,null,null,null,2019,1]
[45,"57 Rönneå, vid utfl t Skälderviken","2019-02-13",4.4000000000000004,12.3,95,7.25,0.43,21,16,125,47,null,52,2000,null,2300,null,null,null,2019,2]
[45,"57 Rönneå, vid utfl t Skälderviken","2019-03-12",4.0999999999999996,12.8,98,7.33,0.48,10,18.899999999999999,100,47,null,40,2400,null,3100,null,null,null,2019,3]
[45,"57 Rönneå, vid utfl t Skälderviken","2019-04-09",8.8000000000000007,12.3,106,7.46,0.71,4.9000000000000004,19.100000000000001,85,34,null,23,1300,null,1500,null,null,null,2019,4]
[45,"57 Rönneå, vid utfl t Skälderviken","2019-05-14",12.6,10.5,99,7.71,0.77,3.9,21.3,85,35,null,23,1100,null,1500,null,null,null,2019,5]
[45,"57 Rönneå, vid utfl t Skälderviken","2019-06-11",19.899999999999999,9.6,105,7.69,1.35,6,28.1,60,26,null,46,1100,null,1500,null,null,null,2019,6]
[45,"57 Rönneå, vid utfl t Skälderviken","2019-07-17",20.7,8.3000000000000007,92,7.58,1.38,4,62,50,26,null,31,1200,null,1600,null,null,null,2019,7]
[45,"57 Rönneå, vid utfl t Skälderviken","2019-08-14",18.399999999999999,7.3,78,7.39,1.02,7.4,22.8,125,51,null,50,830,null,1600,null,null,null,2019,8]
[45,"57 Rönneå, vid utfl t Skälderviken","2019-09-17",13,9.9,94,7.2,0.49,5.7,14.2,150,63,null,40,540,null,1200,null,null,null,2019,9]
[45,"57 Rönneå, vid utfl t Skälderviken","2019-10-16",11.7,9.6999999999999993,90,7.09,0.53,20,17.5,200,51,null,78,940,null,2700,null,null,null,2019,10]
[45,"57 Rönneå, vid utfl t Skälderviken","2019-11-13",5.9,11.8,95,7.42,0.79,8.4,24.2,175,55,null,42,1500,null,2100,null,null,null,2019,11]
[45,"57 Rönneå, vid utfl t Skälderviken","2019-12-12",5.4,11.1,88,7.3,0.56000000000000005,108,13.3,250,59,null,160,790,null,1800,null,null,null,2019,12]
[45,"57 Rönneå, vid utfl t Skälderviken","2020-01-13",5.0999999999999996,11.6,91,7.41,0.78,40,19.399999999999999,250,55,null,93,1300,null,2800,null,null,null,2020,1]
[45,"57 Rönneå, vid utfl t Skälderviken","2020-02-10",5.9,11.7,94,7.3,0.62,436,13.2,600,51,null,470,1400,null,3100,null,null,null,2020,2]
[45,"57 Rönneå, vid utfl t Skälderviken","2020-03-17",6.7,12.2,100,7.43,0.69,7.8,16.399999999999999,100,40,null,35,1300,null,1500,null,null,null,2020,3]
[45,"57 Rönneå, vid utfl t Skälderviken","2020-04-15",9.6,11.8,104,7.65,0.88,5.3,20.7,100,32,null,26,1300,null,1600,null,null,null,2020,4]
[45,"57 Rönneå, vid utfl t Skälderviken","2020-05-19",11.4,10.1,93,7.62,0.9,4.9000000000000004,20,70,28,null,23,1000,null,1200,null,null,null,2020,5]
[45,"57 Rönneå, vid utfl t Skälderviken","2020-06-09",17.600000000000001,8.5,89,7.67,1.34,6.2,29.8,85,30,null,34,1200,null,1700,null,null,null,2020,6]
[45,"57 Rönneå, vid utfl t Skälderviken","2020-07-15",16.3,9.6999999999999993,99,7.37,0.61,6,15.4,125,43,null,44,730,null,1300,null,null,null,2020,7]
[45,"57 Rönneå, vid utfl t Skälderviken","2020-08-12",22.8,8.1999999999999993,95,7.72,1.56,3.3,84.5,50,27,null,29,1000,null,1500,null,null,null,2020,8]
[45,"57 Rönneå, vid utfl t Skälderviken","2020-09-14",17.3,9,94,7.72,1.52,2.9,32.1,40,31,null,24,1100,null,1300,null,null,null,2020,9]
[45,"57 Rönneå, vid utfl t Skälderviken","2020-10-13",11.3,9,82,7.49,1.19,5.5,29.5,85,40,null,38,1300,null,2000,null,null,null,2020,10]
[45,"57 Rönneå, vid utfl t Skälderviken","2020-11-10",9.6,11.4,100,7.44,0.73,6.6,17.2,125,51,null,35,870,null,1500,null,null,null,{"$f":"YEAR(C583)","v":2020},{"$f":"MONTH(C583)","v":11}]
[45,"57 Rönneå, vid utfl t Skälderviken","2020-12-16",6.6,11.7,96,7.34,0.94,130,22,300,47,null,190,2300,null,3700,null,null,null,2020,12]
[45,"57 Rönneå, vid utfl t Skälderviken","2021-01-20",1.3,13.5,97,7.5,0.75390061623180804,8.8000000000000007,24,180,43.45,null,26,2500,null,2900,null,null,null,2021,1]
[45,"57 Rönneå, vid utfl t Skälderviken","2021-02-25",4.5,12.6,96,7.4,0.75390061623180804,7.6,21,170,43.45,null,56,2300,null,3000,null,null,null,2021,2]
[45,"57 Rönneå, vid utfl t Skälderviken","2021-03-18",4.7,12.4,94,7.4,0.60639832175167174,6,19,160,43.45,null,34,2300,null,3000,null,null,null,2021,3]
[45,"57 Rönneå, vid utfl t Skälderviken","2021-04-21",10.4,10.5,93,7.6,1.114461780516586,3.6,26,94,35.155000000000001,null,32,1500,null,2100,null,null,null,2021,4]
[45,"57 Rönneå, vid utfl t Skälderviken","2021-05-19",14.5,8.8000000000000007,86,7.7,1.114461780516586,11,26,150,43.45,null,37,1400,null,2100,null,null,null,2021,5]
[45,"57 Rönneå, vid utfl t Skälderviken","2021-06-09",18.600000000000001,8,84,7.8,1.3766880818146061,2.2000000000000002,29,75,39.5,null,33,1200,null,1800,null,null,null,2021,6]
[45,"57 Rönneå, vid utfl t Skälderviken","2021-07-14",22.7,7.3,84,7.6,0.96695948603644943,3.3,22,130,47.400000000000006,null,28,1000,null,1600,null,null,null,2021,7]
[45,"57 Rönneå, vid utfl t Skälderviken","2021-08-25",16.2,8.1999999999999993,83,7.5,0.78688524590163933,3.9,23,150,67.150000000000006,null,41,1400,null,2100,null,null,null,2021,8]
[45,"57 Rönneå, vid utfl t Skälderviken","2021-09-15",16.899999999999999,7.9,81,7.7,1.5245901639344261,1.9,33,53,30.415000000000003,null,29,1100,null,1400,null,null,null,2021,9]
[45,"57 Rönneå, vid utfl t Skälderviken","2021-10-21",10.9,9.5,88,7.4,1.1639344262295082,140,24,1200,47.400000000000006,null,240,2700,null,3400,null,null,null,2021,10]
[45,"57 Rönneå, vid utfl t Skälderviken","2021-11-24",6,11.8,94,7.6,1.0327868852459017,3.8,24,150,51.35,null,35,1400,null,1900,null,null,null,2021,11]
[45,"57 Rönneå, vid utfl t Skälderviken","2021-12-08",0.1,13.6,93,7.5,0.90163934426229508,5.8,22,150,47.400000000000006,null,50,1800,null,2300,"",null,null,2021,12]
[45,"57 Rönneå, vid utfl t Skälderviken","2022-01-19",1.9,13.4,95,7.7,1.0819672131147542,6.3,23,130,33.18,"",32,1600,null,2000,"",null,null,2022,1]
[45,"57 Rönneå, vid utfl t Skälderviken","2022-02-09",3.9,12.7,95,7.4,0.57377049180327866,17,16,210,43.45,null,63,1800,null,2100,null,null,null,2022,2]
[45,"57 Rönneå, vid utfl t Skälderviken","2022-03-16",4.7,12.8,97,7.6,1.098360655737705,6.5,23,110,32.39,"",34,1500,null,2000,"","",null,2022,3]
[45,"57 Rönneå, vid utfl t Skälderviken","2022-04-22",11.4,10.4,94,7.7,1.0819672131147542,4.9000000000000004,24,85,31.995000000000001,null,35,1500,null,1900,null,null,null,2022,4]
[45,"57 Rönneå, vid utfl t Skälderviken","2022-05-16",14.8,9.4,93,7.8,1.098360655737705,4,26,110,39.5,null,35,1500,null,1900,null,null,null,2022,5]
[45,"57 Rönneå, vid utfl t Skälderviken","2022-06-17",18.100000000000001,8.3000000000000007,86,7.8,1.2131147540983607,6,28,100,51.35,null,32,1400,null,1700,null,null,null,2022,6]
[45,"57 Rönneå, vid utfl t Skälderviken","2022-07-08",18.7,7.3,77,7.7,1.2131147540983607,3.4,99,68,36.339999999999996,null,43,1100,null,1500,null,null,null,2022,7]
[45,"57 Rönneå, vid utfl t Skälderviken","2022-08-24",20.7,7.9,87,7.7,1.61,2.6,340,37,35.549999999999997,null,25,1000,null,1400,null,null,null,2022,8]
[45,"57 Rönneå, vid utfl t Skälderviken","2022-09-20",13.6,8,76,8,1.5737704918032787,3,180,44,31.6,null,31,230,null,1600,null,null,null,2022,9]
[45,"57 Rönneå, vid utfl t Skälderviken","2022-10-19",11.1,8.9,78,7.7,1.3114754098360655,3.2,72,85,43.45,null,28,1400,null,1700,null,null,null,2022,10]
[45,"57 Rönneå, vid utfl t Skälderviken","2022-11-17",8.5,9.8000000000000007,83,7.7,1.2622950819672132,null,null,110,33.97,null,52,1400,null,1600,null,null,"Resultat för konduktivitet och turbiditet saknas pga labtekniskt misstag",2022,11]
[45,"57 Rönneå, vid utfl t Skälderviken","2022-12-21",0.9,12.9,90,7.6,1.2295081967213115,28,36,140,39.105000000000004,null,85,2700,null,3300,null,null,null,2022,12]
[45,"57 Rönneå, vid utfl t Skälderviken","2023-01-11",5.0999999999999996,11.7,92,7.2,0.52459016393442626,37,19,340,67.150000000000006,null,64,3100,null,3600,null,null,null,2023,1]
[45,"57 Rönneå, vid utfl t Skälderviken","2023-02-15",3.8,13,96,7.6,0.86885245901639341,5.5,23,120,51.35,null,36,1800,null,2100,null,null,null,2023,2]
[45,"57 Rönneå, vid utfl t Skälderviken","2023-03-15",3.9,12.3,90,7.7,0.67213114754098358,28,19,290,59.25,null,77,2000,null,2700,null,null,null,2023,3]
[45,"57 Rönneå, vid utfl t Skälderviken","2023-04-14",8.8000000000000007,11.3,96,7.7,1.0327868852459017,5.2,23,82,55.300000000000004,null,23,1200,null,1600,null,null,null,2023,4]
[45,"57 Rönneå, vid utfl t Skälderviken","2023-05-10",13.5,9.5,91,7.8,1.1639344262295082,3.7,79,83,33.18,null,24,1700,null,2200,null,null,null,2023,5]
[45,"57 Rönneå, vid utfl t Skälderviken","2023-06-14",20.100000000000001,8.5,94,7.9,1.4918032786885247,1.9,150,44,27.650000000000002,null,25,1300,null,1600,null,null,null,2023,6]
[45,"57 Rönneå, vid utfl t Skälderviken","2023-07-12",19.100000000000001,7.4,80,7.7,1.278688524590164,3.9,330,60,26.07,null,39,1100,null,1400,null,null,null,2023,7]
[45,"57 Rönneå, vid utfl t Skälderviken","2023-08-14",17.3,5.9,62,7.1,0.4098360655737705,7.2,15,270,106.65,null,53,990,null,1800,null,null,null,2023,8]
[45,"57 Rönneå, vid utfl t Skälderviken","2023-09-13",17.899999999999999,7,74,7.5,1.098360655737705,5.2,29,170,43.45,null,41,1700,null,2300,null,null,null,2023,9]
[45,"57 Rönneå, vid utfl t Skälderviken","2023-10-18",9.5,10.1,88,7.5,0.68852459016393441,7,20,280,106.65,null,48,1600,null,2100,null,null,null,2023,10]
[45,"57 Rönneå, vid utfl t Skälderviken","2023-11-15",5.9,11.4,92,7.5,0.78688524590163933,16,20,260,71.100000000000009,null,45,1400,null,2000,null,null,null,2023,11]
[47,"73 Hålsaxabäcken","2013-01-16",0.3,12,82.67741827555075,7.26,1.2231719999999999,3.3,25.6,70,51,null,28,2000,null,2700,null,null,"is",2013,1]
[47,"73 Hålsaxabäcken","2013-03-13",0.7,13.2,91.991100882417001,7.34,1.5671279999999999,2.8,27.9,50,36,null,15,1900,null,2400,null,null,null,2013,3]
[47,"73 Hålsaxabäcken","2013-05-14",10.199999999999999,9.1,81.274888661600329,7.57,1.7915760000000003,2.8,28.4,70,43,null,25,880,null,1400,null,null,null,2013,5]
[47,"73 Hålsaxabäcken","2013-06-11",13.2,6.5,62.183788312838509,7.52,2.16432,3.3,31.9,65,33,null,29,780,null,1300,null,null,null,2013,6]
[47,"73 Hålsaxabäcken","2013-10-15",6.7,8.6999999999999993,71.294401454164586,7.28,1.4388719999999997,3.4,31.1,70,63,null,37,1900,null,2900,null,null,null,2013,10]
[47,"73 Hålsaxabäcken","2013-12-12",5.0999999999999996,10.4,81.766160697938773,6.96,0.84969600000000001,2.4,26.9,85,63,null,40,2200,null,3600,null,null,null,2013,12]
[47,"73 Hålsaxabäcken","2014-01-14",2.8,11.7,86.471481153244,7.08,0.60520799999999997,16,19.600000000000001,125,95,null,70,1900,null,3400,null,null,null,2014,1]
[47,"73 Hålsaxabäcken","2014-03-13",2.4,12,87.71644130173172,7.34,1.1255999999999999,3.8,23.2,70,47,null,25,1200,null,2000,null,null,null,2014,3]
[47,"73 Hålsaxabäcken","2014-05-13",10.9,9.4,85.347115538882989,7.31,0.91655999999999993,4.5,18.27,125,87,null,40,880,null,2000,null,null,null,2014,5]
[47,"73 Hålsaxabäcken","2014-06-10",15,7.8,77.588152011602816,7.5,1.7929200000000005,3.2,28.9,70,51,null,26,1000,null,1900,null,null,null,2014,6]
[47,"73 Hålsaxabäcken","2014-10-14",10.4,9.1,81.659995068844637,7.25,1.7768400000000006,1.1000000000000001,29.9,125,91,null,86,1500,null,2600,null,null,null,2014,10]
[47,"73 Hålsaxabäcken","2014-12-09",4.7,11.4,88.686591578826153,7.16,0.92058000000000006,5.5,21.7,125,87,null,46,2600,null,3500,null,null,null,2014,12]
[47,"73 Hålsaxabäcken","2015-01-20",3,10.7,79.515449219746088,6.9,0.55074000000000001,4.7,16,100,71,null,48,2000,null,3000,null,null,null,2015,1]
[47,"73 Hålsaxabäcken","2015-03-17",4.9000000000000004,10.9,85.246700538803694,7.44,1.1399239999999999,4.7,22.7,85,51,null,28,1200,null,1900,null,null,null,2015,3]
[47,"73 Hålsaxabäcken","2015-05-12",10.5,10.5,94.445303075599625,7.59,1.272848,5,22.7,100,55,null,33,820,null,1500,null,null,null,2015,5]
[47,"73 Hålsaxabäcken","2015-06-09",9.8000000000000007,9.8000000000000007,86.6978143434863,7.51,1.5628639999999998,3.8,25.4,100,47,null,30,1000,null,1600,null,null,null,2015,6]
[47,"73 Hålsaxabäcken","2015-10-13",7.7,9.1999999999999993,77.318446237243123,7.5,2.0663640000000005,3.3,31.9,50,32,null,26,620,null,1500,null,null,null,2015,10]
[47,"73 Hålsaxabäcken","2015-12-08",5,11.3,88.60846552881749,6.99,0.77740399999999998,2.6,20,125,87,null,44,2100,null,3300,null,null,null,2015,12]
[47,"73 Hålsaxabäcken","2016-01-20",0.7,13,90.597296323592516,7.35,1.0371600000000001,2.9,22.3,65,43,null,27,1500,null,1900,null,null,null,2016,1]
[47,"73 Hålsaxabäcken","2016-03-16",3.5,11.9,89.645521642450191,7.29,0.9908880000000001,3.4,20.100000000000001,70,51,null,31,1200,null,1900,null,null,null,2016,3]
[47,"73 Hålsaxabäcken","2016-05-17",9.1,9.6,83.509177029209297,7.55,1.4884520000000001,3.1,25.4,70,38,null,32,1100,null,1500,null,null,null,2016,5]
[47,"73 Hålsaxabäcken","2016-06-14",13.7,6.9,66.740688548469009,7.59,1.8174360000000005,2.5,29.5,50,19,null,34,1000,null,1500,null,null,null,2016,6]
[47,"73 Hålsaxabäcken","2016-10-12",7.9,8.8000000000000007,74.326390028561605,7.48,1.8254600000000005,2.5,30.8,40,25,null,26,680,null,1000,null,null,null,2016,10]
[47,"73 Hålsaxabäcken","2016-12-14",3.7,12,90.889404594720219,7.32,1.307912,1.5,32.9,60,43,null,16,2200,null,2700,null,null,null,2016,12]
[47,"73 Hålsaxabäcken","2017-01-18",0.9,12.8,89.712366255198873,7.35,1.4443200000000003,2.2000000000000002,31.8,45,36,null,18,1900,null,2300,null,null,null,2017,1]
[47,"73 Hålsaxabäcken","2017-03-14",3.5,11,82.865608240920338,7.32,0.96689200000000008,2.5,23.4,65,43,null,25,1900,null,2500,null,null,null,2017,3]
[47,"73 Hålsaxabäcken","2017-05-10",7,10.5,86.703489721514913,7.52,1.3721040000000002,3,25.5,70,31,null,32,1100,null,1500,null,null,null,2017,5]
[47,"73 Hålsaxabäcken","2017-06-20",16.2,7.1,72.418039627611762,7.49,1.5767160000000002,2.9,26.8,85,43,null,43,830,null,1500,null,null,null,{"$f":"YEAR(C647)","v":2017},{"$f":"MONTH(C647)","v":6}]
[47,"73 Hålsaxabäcken","2017-10-10",7.2,9.1999999999999993,76.353928982578992,7.01,1.119348,3.5,21.9,200,100,null,53,480,null,2300,null,null,null,2017,10]
[47,"73 Hålsaxabäcken","2017-12-19",3.3,10.5,78.670493950544198,6.93,0.36509200000000008,11,16,150,63,null,63,1100,null,2100,null,null,null,2017,12]
[47,"73 Hålsaxabäcken","2018-01-09",2,12.9,93,7.04,0.88,4.5999999999999996,18.2,125,40,null,52,1100,null,1900,null,null,null,2018,1]
[47,"73 Hålsaxabäcken","2018-03-20",1.7,11.6,83,7.34,1.22,8.8000000000000007,22.3,100,36,null,69,1100,null,1900,null,null,null,2018,3]
[47,"73 Hålsaxabäcken","2018-05-15",12.2,8.6999999999999993,81,7.58,1.6,6.5,27.3,100,38,null,58,840,null,1500,null,null,null,2018,5]
[47,"73 Hålsaxabäcken","2018-06-12",15.9,6.2,63,7.54,1.08,5.4,32.9,70,29,null,50,1100,null,1600,null,null,null,2018,6]
[47,"73 Hålsaxabäcken","2018-10-09",10,9.5,84,7.4,1.57,3.7,43.9,50,23,null,20,1100,null,1400,null,null,null,2018,10]
[47,"73 Hålsaxabäcken","2018-12-11",4.7,14.3,111,7.01,0.85,2.9,50.7,45,36,null,27,8100,null,8400,null,null,null,2018,12]
[47,"73 Hålsaxabäcken","2019-01-15",2.1,11.2,81,7.23,0.79,2.9,41,55,40,null,24,7100,null,7000,null,null,null,2019,1]
[47,"73 Hålsaxabäcken","2019-03-12",2.5,14.4,106,6.9,0.65,3.1,26,70,51,null,27,3100,null,3900,null,null,null,2019,3]
[47,"73 Hålsaxabäcken","2019-05-14",7.7,11.3,95,7.52,1.22,2.2000000000000002,25.5,70,32,null,17,790,null,1200,null,null,null,2019,5]
[47,"73 Hålsaxabäcken","2019-06-11",13.7,6,58,7.42,1.81,2.6,28.6,60,26,null,39,860,null,1300,null,null,"stillastående ",2019,6]
[47,"73 Hålsaxabäcken","2019-10-16",11.5,7.5,69,6.7,0.89,3,29.5,125,71,null,49,2900,null,4300,null,null,null,2019,10]
[47,"73 Hålsaxabäcken","2019-12-12",4.8,10.1,79,6.97,0.56999999999999995,5.6,18.100000000000001,125,75,null,58,3200,null,3400,null,null,null,2019,12]
[47,"73 Hålsaxabäcken","2020-01-13",5.6,11.2,89,7.12,0.66,4.0999999999999996,18.2,150,63,null,46,2200,null,3000,null,null,null,2020,1]
[47,"73 Hålsaxabäcken","2020-03-17",6.3,11.3,92,7.04,0.86,3.8,19.899999999999999,100,51,null,36,1400,null,1900,null,null,null,2020,3]
[47,"73 Hålsaxabäcken","2020-05-19",10.8,8.8000000000000007,80,7.45,1.32,2.6,24.6,70,34,null,19,700,null,1200,null,null,null,2020,5]
[47,"73 Hålsaxabäcken","2020-06-09",10.7,8.6,78,7.5,1.66,1.8,27.5,60,29,null,18,730,null,1200,null,null,null,2020,6]
[47,"73 Hålsaxabäcken","2020-10-13",6.7,9.1999999999999993,75,7.48,1.55,1.5,39.299999999999997,55,43,null,23,1800,null,2300,null,null,null,2020,10]
[47,"73 Hålsaxabäcken","2020-12-16",6.6,10.5,86,7.21,1.17,4,28.5,85,47,null,39,1900,null,3000,null,null,null,2020,12]
[50,"6  Bäljaneå, uppstr Röstånga","2013-02-14",0.7,13.9,96.869416838302755,8.07,2.3824152000000001,5.6,37,30,16,null,18,2800,null,3200,null,null,null,2013,2]
[50,"6  Bäljaneå, uppstr Röstånga","2013-04-16",8.3000000000000007,10.9,92.980143140609457,7.9,1.8076080000000001,9.8000000000000007,31.5,65,33,null,30,1800,null,2500,null,null,null,2013,4]
[50,"6  Bäljaneå, uppstr Röstånga","2013-07-09",18.2,9.1999999999999993,97.680774957499267,8.06,2.7615120000000002,6.1,39.9,45,25,null,50,340,null,1100,null,null,null,2013,7]
[50,"6  Bäljaneå, uppstr Röstånga","2013-08-15",13.3,10,95.879083639784838,7.71,1.5029999999999999,73,31.5,125,47,null,140,2900,null,3700,null,null,null,2013,8]
[50,"6  Bäljaneå, uppstr Röstånga","2013-09-11",15.5,9.5,95.499274187469823,7.82,2.1001920000000003,13,33.700000000000003,65,30,null,51,520,null,1100,null,null,null,2013,9]
[50,"6  Bäljaneå, uppstr Röstånga","2013-11-19",6.6,11.9,97.26912112366017,8.3000000000000007,2.1082080000000003,9.9,37.1,50,31,null,29,4100,null,4800,null,null,null,2013,11]
[50,"6  Bäljaneå, uppstr Röstånga","2014-02-18",2.7,13.5,99.500947455342569,7.92,1.6843800000000002,9.6999999999999993,30.4,40,24,null,27,3800,null,4300,null,null,null,2014,2]
[50,"6  Bäljaneå, uppstr Röstånga","2014-04-16",9.9,11.9,105.52749673926951,8.0399999999999991,2.0582400000000001,7,33.6,60,28,null,27,2600,null,3200,null,null,null,2014,4]
[50,"6  Bäljaneå, uppstr Röstånga","2014-07-22",21.5,8.8000000000000007,99.39032128695338,7.93,2.9828400000000004,10,46.3,55,31,null,110,1000,null,1600,null,null,null,2014,7]
[50,"6  Bäljaneå, uppstr Röstånga","2014-08-14",15.2,9.6,95.897883681941082,7.39,2.1627600000000005,5.9,35.4,70,36,null,40,1400,null,1900,null,null,null,2014,8]
[50,"6  Bäljaneå, uppstr Röstånga","2014-09-23",11.3,10.7,98.057017427037323,8.06,2.9466600000000001,6.1,43.6,40,24,null,41,1100,null,1000,null,null,null,2014,9]
[50,"6  Bäljaneå, uppstr Röstånga","2014-11-11",9.6,11.4,100.37070636616289,8,2.4924000000000004,5.8,39.1,50,32,null,35,2700,null,3400,null,null,null,2014,11]
[50,"6  Bäljaneå, uppstr Röstånga","2015-02-10",3.5,13.6,102.45202473422879,8,2.1046299999999998,8.9,34.4,45,21,null,26,2800,null,3800,null,null,null,2015,2]
[50,"6  Bäljaneå, uppstr Röstånga","2015-04-14",6.6,12.1,98.903896268595631,8.06,0.99290200000000017,10,31.9,70,34,null,48,2700,null,3600,null,null,null,2015,4]
[50,"6  Bäljaneå, uppstr Röstånga","2015-07-14",20.7,9,100.18779481118818,8.24,2.4671500000000002,6.9,37.799999999999997,45,28,null,51,640,null,1200,null,null,null,2015,7]
[50,"6  Bäljaneå, uppstr Röstånga","2015-08-13",13.5,9.9,95.339402929690181,7.97,2.4671500000000002,8.9,38.9,45,28,null,64,700,null,1200,null,null,null,2015,8]
[50,"6  Bäljaneå, uppstr Röstånga","2015-09-16",14.1,9.8000000000000007,95.620145308158342,8.07,2.6907040000000002,11,39.299999999999997,60,24,null,54,680,null,1100,null,null,null,2015,9]
[50,"6  Bäljaneå, uppstr Röstånga","2015-11-10",10.7,10.5,94.889865411886703,7.79,1.8367680000000002,51,33.700000000000003,175,13,null,66,4000,null,4700,null,null,null,2015,11]
[50,"6  Bäljaneå, uppstr Röstånga","2016-02-17",0.1,14.9,102.06955021335776,8,2.1751200000000002,5.8,34.200000000000003,40,19,null,27,2900,null,3200,null,null,null,2016,2]
[50,"6  Bäljaneå, uppstr Röstånga","2016-04-12",10.5,11.9,107.03801015234625,8.3800000000000008,2.5275699999999999,5.9,37.5,45,22,null,24,1300,null,1700,null,null,null,2016,4]
[50,"6  Bäljaneå, uppstr Röstånga","2016-07-12",17,9.6,99.526658371080529,7.93,1.7171360000000004,12,28.2,125,40,null,92,2000,null,2900,null,null,null,2016,7]
[50,"6  Bäljaneå, uppstr Röstånga","2016-08-18",13.6,9.3000000000000007,89.758065924709072,7.88,2.4673800000000004,5.0999999999999996,38.299999999999997,45,15,null,99,940,null,1100,null,null,null,2016,8]
[50,"6  Bäljaneå, uppstr Röstånga","2016-09-13",16.8,9.3000000000000007,96.027264305042209,8.0500000000000007,2.9006760000000003,12,43.9,40,23,null,91,810,null,1200,null,null,null,2016,9]
[50,"6  Bäljaneå, uppstr Röstånga","2016-11-10",2.9,13.1,97.084469773639626,7.99,2.4473200000000004,2.6,43.9,30,19,null,25,3100,null,3700,null,null,null,2016,11]
[50,"6  Bäljaneå, uppstr Röstånga","2017-02-16",0.1,14,95.904275368255597,8.02,2.8384900000000006,2.7,47.5,15,13,null,21,3200,null,3500,null,null,null,2017,2]
[50,"6  Bäljaneå, uppstr Röstånga","2017-04-18",6.3,12.9,104.63572705056987,8.14,2.0461200000000006,5.3,36.4,50,23,null,30,3800,null,4500,null,null,null,2017,4]
[50,"6  Bäljaneå, uppstr Röstånga","2017-07-11",17,8.6999999999999993,90.196034148791725,8.07,2.9588500000000009,10,46.1,50,24,null,88,470,null,1100,null,null,null,2017,7]
[50,"6  Bäljaneå, uppstr Röstånga","2017-08-17",13.6,10,96.514049381407602,8.01,2.7381900000000003,4.0999999999999996,42,45,27,null,76,920,null,1300,null,null,null,2017,8]
[50,"6  Bäljaneå, uppstr Röstånga","2017-09-19",13.6,11.4,110.02601629480466,7.84,1.8776160000000004,15,32.1,100,34,null,65,4000,null,4400,null,null,null,2017,9]
[50,"6  Bäljaneå, uppstr Röstånga","2017-11-08",6.2,12.1,97.894578728560049,7.96,2.1103120000000004,8.1,35,70,24,null,44,3300,null,3700,null,null,null,2017,11]
[50,"6  Bäljaneå, uppstr Röstånga","2018-02-15",2.2000000000000002,12.2,89,8,2.4500000000000002,7.4,38.1,40,15,null,32,2900,null,3300,null,null,null,2018,2]
[50,"6  Bäljaneå, uppstr Röstånga","2018-04-17",10.3,10.199999999999999,91,8.19,2.36,6.9,38.1,50,23,null,28,1900,null,2400,null,null,null,2018,4]
[50,"6  Bäljaneå, uppstr Röstånga","2018-07-18",19.399999999999999,8.8000000000000007,96,8.08,2.72,14,41.7,50,20,null,120,210,null,1100,null,null,null,2018,7]
[50,"6  Bäljaneå, uppstr Röstånga","2018-08-15",16.399999999999999,8.8000000000000007,90,7.89,2.8,4,49.1,35,17,null,58,1000,null,1400,null,null,null,2018,8]
[50,"6  Bäljaneå, uppstr Röstånga","2018-09-11",14.3,9.5,93,7.91,3.15,5.5,47.9,40,15,null,54,690,null,1000,null,null,null,2018,9]
[50,"6  Bäljaneå, uppstr Röstånga","2018-11-13",9.8000000000000007,10.1,89,7.54,2.46,3.3,47.6,30,17,null,18,1000,null,1200,null,null,null,2018,11]
[50,"6  Bäljaneå, uppstr Röstånga","2019-02-13",4,12.2,93,7.74,1.1399999999999999,11,34.1,50,27,null,43,9200,null,10000,null,null,null,2019,2]
[50,"6  Bäljaneå, uppstr Röstånga","2019-04-09",9.1999999999999993,12,105,8.41,2.4300000000000002,5.4,42.4,35,15,null,18,2500,null,2600,null,null,null,2019,4]
[50,"6  Bäljaneå, uppstr Röstånga","2019-07-16",16.7,9.4,97,7.63,2.4900000000000002,12,41.3,40,19,null,82,620,null,890,null,null,null,2019,7]
[50,"6  Bäljaneå, uppstr Röstånga","2019-08-14",13.5,10,96,7.95,2.66,8.5,41.05,45,19,null,85,590,null,1100,null,null,null,2019,8]
[50,"6  Bäljaneå, uppstr Röstånga","2019-09-17",11.8,10.6,98,7.92,2.48,6.2,44.6,40,19,null,64,1400,null,2000,null,null,null,2019,9]
[50,"6  Bäljaneå, uppstr Röstånga","2019-11-13",4.5999999999999996,12.5,97,7.98,2.29,6.1,44.5,40,21,null,78,4700,null,4900,null,null,null,2019,11]
[50,"6  Bäljaneå, uppstr Röstånga","2020-02-10",6,12.9,104,7.75,1.5,252,27.4,300,33,null,260,4300,null,4100,null,null,null,2020,2]
[50,"6  Bäljaneå, uppstr Röstånga","2020-04-15",7.3,12.1,101,8.1999999999999993,2.74,7.2,44.5,35,13,null,26,2100,null,2200,null,null,null,{"$f":"YEAR(C711)","v":2020},{"$f":"MONTH(C711)","v":4}]
[50,"6  Bäljaneå, uppstr Röstånga","2020-07-15",14.8,9.6999999999999993,96,7.91,2.3199999999999998,6.4,39.1,45,18,null,67,980,null,1400,null,null,null,2020,7]
[50,"6  Bäljaneå, uppstr Röstånga","2020-08-12",15.2,9,90,8.0500000000000007,2.96,10,45.8,40,14,null,58,760,null,1200,null,null,null,2020,8]
[50,"6  Bäljaneå, uppstr Röstånga","2020-09-14",14.6,9.8000000000000007,97,8.0399999999999991,2.99,5.5,46.2,35,19,null,59,120,null,900,null,null,null,2020,9]
[50,"6  Bäljaneå, uppstr Röstånga","2020-11-10",9.1,11,96,8.01,2.41,4.9000000000000004,45.7,40,25,null,40,4400,null,5000,null,null,null,2020,11]
[50,"6  Bäljaneå, uppstr Röstånga","2021-02-24",1.8,14,99,7.9,1.4258555133079849,17,28,170,21.330000000000002,null,61,5200,null,5200,null,null,null,2021,2]
[50,"6  Bäljaneå, uppstr Röstånga","2021-04-20",7.9,12,100,8.1999999999999993,2.4583715746689392,1.9,40,41,18.96,null,20,2100,null,2400,null,null,null,2021,4]
[50,"6  Bäljaneå, uppstr Röstånga","2021-07-13",17.8,9,94,7.9,2.1305886980464139,6.8,36,93,36.735000000000007,null,73,3500,null,4300,null,null,null,2021,7]
[50,"6  Bäljaneå, uppstr Röstånga","2021-08-24",12.4,10.3,95,8.1,2.7868852459016393,5.2,44,58,30.810000000000002,null,51,2600,null,3000,null,null,null,2021,8]
[50,"6  Bäljaneå, uppstr Röstånga","2021-09-16",14.7,9.6,95,8.1,1.9672131147540983,15,34,160,35.550000000000004,null,69,1700,null,2100,null,null,null,2021,9]
[50,"6  Bäljaneå, uppstr Röstånga","2021-11-22",4.9000000000000004,12.8,99,8.1999999999999993,2.622950819672131,4.4000000000000004,42,54,21.330000000000002,null,44,3400,null,3800,null,null,null,2021,11]
[50,"6  Bäljaneå, uppstr Röstånga","2022-02-08",2.1,13.3,99,7.9,1.4262295081967213,20,27,170,19.355000000000004,null,62,3900,null,4100,null,null,null,2022,2]
[50,"6  Bäljaneå, uppstr Röstånga","2022-04-21",8.5,11.5,98,8.1,2.459016393442623,5.3,39,57,20.934999999999999,null,34,2800,null,2900,null,null,null,2022,4]
[50,"6  Bäljaneå, uppstr Röstånga","2022-07-07",15.3,9.3000000000000007,92,8.1,2.2950819672131146,10,35,77,26.465000000000003,null,75,610,null,970,null,null,null,2022,7]
[50,"6  Bäljaneå, uppstr Röstånga","2022-08-26",16.3,9.1999999999999993,94,8.1999999999999993,2.95,6.9,44,40,20.145,null,110,570,null,1200,null,null,null,2022,8]
[50,"6  Bäljaneå, uppstr Röstånga","2022-09-19",10.6,10.6,95,8.1,2.459016393442623,10,41,79,26.465000000000003,null,67,670,null,1100,null,null,null,2022,9]
[50,"6  Bäljaneå, uppstr Röstånga","2022-11-18",5.2,12.1,95,8.1999999999999993,3.1147540983606556,4,49,27,18.565000000000001,null,48,1500,null,1600,null,null,null,2022,11]
[50,"6  Bäljaneå, uppstr Röstånga","2023-02-16",3.9,12.4,95,8.1,2.2950819672131146,4.4000000000000004,39,52,19.355000000000004,null,47,4100,53,4100,null,null,"Obalans Tot-N/kvävefraktioner inom analysernas mätosäkerhet",2023,2]
[50,"6  Bäljaneå, uppstr Röstånga","2023-04-13",7.2,11.7,97,8.1,2.2950819672131146,3.9,37,56,22.12,null,26,2400,35,2400,null,null,"Obalans Tot-N/kvävefraktioner inom analysernas mätosäkerhet",2023,4]
[50,"6  Bäljaneå, uppstr Röstånga","2023-07-13",15.6,9,90,8.1,2.459016393442623,6.8,40,48,19.75,null,74,740,12,980,null,null,null,2023,7]
[50,"6  Bäljaneå, uppstr Röstånga","2023-08-10",12.9,10.3,113,7.9,1.639344262295082,12,32,130,43.45,null,78,5000,32,5600,null,null,null,2023,8]
[50,"6  Bäljaneå, uppstr Röstånga","2023-09-14",13.3,9.6999999999999993,93,8.1999999999999993,3.278688524590164,7.1,47,51,22.91,null,46,1300,"<10",1700,null,null,null,2023,9]
[50,"6  Bäljaneå, uppstr Röstånga","2023-11-15",6.1,11.8,96.5,8,2.2950819672131146,11,37,120,43.45,null,46,3900,36,4100,null,null,null,2023,11]
[55,"8  Bäljaneå, före utfl t Rönneå","2013-02-14",1.6,12.5,89.357743042525044,7.44,1.8048599999999999,8.4,30.5,50,24,null,17,1800,null,2200,null,null,null,2013,2]
[55,"8  Bäljaneå, före utfl t Rönneå","2013-04-16",9.4,10.3,90.250667993814446,7.52,1.3627199999999999,12,24.9,70,37,null,41,1400,null,2200,null,null,null,2013,4]
[55,"8  Bäljaneå, före utfl t Rönneå","2013-07-09",18.8,9.3000000000000007,99.899058106360584,7.64,2.6011919999999997,6,39.799999999999997,60,17,null,26,1200,null,1600,null,null,null,2013,7]
[55,"8  Bäljaneå, före utfl t Rönneå","2013-08-15",13.5,7.9,76.078917489348726,7.36,1.5230399999999997,18,27.4,85,29,null,46,1300,null,1700,null,null,null,2013,8]
[55,"8  Bäljaneå, före utfl t Rönneå","2013-09-11",15.3,8.9,89.092865615467957,7.62,2.4248400000000001,4.4000000000000004,38.299999999999997,40,16,null,20,1400,null,1500,null,null,null,2013,9]
[55,"8  Bäljaneå, före utfl t Rönneå","2013-11-19",7,10.5,86.703489721514913,7.79,2.0080080000000002,20,34.700000000000003,55,36,null,38,2800,null,3500,null,null,null,2013,11]
[55,"8  Bäljaneå, före utfl t Rönneå","2014-02-18",3,12.8,95.12128504792058,7.44,1.3105199999999999,9.4,25.7,55,29,null,22,2600,null,3300,null,null,null,2014,2]
[55,"8  Bäljaneå, före utfl t Rönneå","2014-04-16",9.3000000000000007,11.7,102.27070029662767,7.48,1.6763400000000004,5.9,28.7,70,33,null,26,1800,null,2500,null,null,null,2014,4]
[55,"8  Bäljaneå, före utfl t Rönneå","2014-07-22",19.2,9.1999999999999993,99.58495360346673,7.65,2.8260600000000005,5.63,42.3,50,19,null,31,1800,null,2500,null,null,null,2014,7]
[55,"8  Bäljaneå, före utfl t Rönneå","2014-08-14",14.6,7.5,73.970949058103287,7.78,2.4843600000000006,18,37.799999999999997,65,38,null,83,1300,null,1800,null,null,null,2014,8]
[55,"8  Bäljaneå, före utfl t Rönneå","2014-09-23",10.7,9.6,86.756448376582114,7.52,2.7376200000000006,6.05,40.6,50,17,null,26,1400,null,1400,null,null,null,2014,9]
[55,"8  Bäljaneå, före utfl t Rönneå","2014-11-11",9.5,9.6,84.319887925367865,7.44,1.9999499999999997,6.6,32.4,85,51,null,36,1800,null,2500,null,null,null,2014,11]
[55,"8  Bäljaneå, före utfl t Rönneå","2015-02-10",3.7,13.3,100.73575675914823,7.47,1.7844040000000003,7.4,29,65,28,null,23,2100,null,2900,null,null,null,2015,2]
[55,"8  Bäljaneå, före utfl t Rönneå","2015-04-14",6.6,11.6,94.816958406256973,7.58,1.518556,11,25.9,100,43,null,44,2000,null,2800,null,null,null,2015,4]
[55,"8  Bäljaneå, före utfl t Rönneå","2015-07-14",15.6,9.5,95.699239256032868,7.63,2.29596,4.5,35.700000000000003,60,25,null,28,840,null,1800,null,null,null,2015,7]
[55,"8  Bäljaneå, före utfl t Rönneå","2015-08-13",13.2,8,76.533893308108929,7.5,2.4872900000000002,3.9,37.200000000000003,55,24,null,34,1100,null,1500,null,null,null,2015,8]
[55,"8  Bäljaneå, före utfl t Rönneå","2015-09-16",12.8,8.6999999999999993,82.493615980130869,7.5,2.4168000000000003,4.5999999999999996,38.4,45,17,null,29,1400,null,1700,null,null,null,2015,9]
[55,"8  Bäljaneå, före utfl t Rönneå","2015-11-10",10.6,9.6,86.553205547900546,7.46,1.6353680000000004,49,31.6,175,63,null,120,3900,null,4600,null,null,null,2015,11]
[55,"8  Bäljaneå, före utfl t Rönneå","2016-02-17",0.4,12.8,88.442364328006263,7.33,1.6393960000000001,5.0999999999999996,27.5,65,30,null,24,1800,null,2200,null,null,null,2016,2]
[55,"8  Bäljaneå, före utfl t Rönneå","2016-04-12",9.1,11.5,100.03703498290697,7.59,2.0140000000000002,4.5999999999999996,30.9,65,26,null,25,1100,null,1600,null,null,null,2016,4]
[55,"8  Bäljaneå, före utfl t Rönneå","2016-07-12",17,8.8000000000000007,91.232770173490508,7.48,1.3640800000000002,18,24.8,150,43,null,77,2100,null,2900,null,null,null,2016,7]
[55,"8  Bäljaneå, före utfl t Rönneå","2016-08-18",13.3,7.6,72.868103566236471,7.46,2.7281600000000004,8.4,41.3,60,8.6999999999999993,null,22,2100,null,2000,null,null,null,2016,8]
[55,"8  Bäljaneå, före utfl t Rönneå","2016-09-13",15.2,9.6,95.897883681941082,7.68,2.8605560000000008,8.3000000000000007,43.5,50,13,null,23,1600,null,1700,null,null,null,2016,9]
[55,"8  Bäljaneå, före utfl t Rönneå","2016-11-10",3.7,11.6,87.85975777489621,7.58,0.95485600000000004,10,41.4,55,17,null,35,2900,null,3400,null,null,null,2016,11]
[55,"8  Bäljaneå, före utfl t Rönneå","2017-02-16",1.2,12.2,86.236671526194115,7.56,2.5576499999999998,5.6,41.7,35,13,null,17,2200,null,2400,null,null,null,2017,2]
[55,"8  Bäljaneå, före utfl t Rönneå","2017-04-18",6.6,12.2,99.721283841063368,7.55,1.6449200000000004,5.7,30.4,70,32,null,25,2700,null,3300,null,null,null,2017,4]
[55,"8  Bäljaneå, före utfl t Rönneå","2017-07-11",16.7,10.3,106.13709680141842,7.86,2.7181300000000004,4.7,41.6,40,15,null,23,1100,null,1400,null,null,null,2017,7]
[55,"8  Bäljaneå, före utfl t Rönneå","2017-08-17",13.1,8.6,82.091835265579675,7.59,1.047132,3.4,40.4,50,21,null,37,1200,null,1500,null,null,null,2017,8]
[55,"8  Bäljaneå, före utfl t Rönneå","2017-09-19",12.7,10.5,99.338837884584223,7.41,1.7091120000000004,13,29.5,100,40,null,50,2800,null,3400,null,null,null,2017,9]
[55,"8  Bäljaneå, före utfl t Rönneå","2017-11-08",6.3,10.7,86.790874375278875,7.39,1.7692920000000003,6.8,29.5,125,29,null,36,2100,null,2600,null,null,null,2017,11]
[55,"8  Bäljaneå, före utfl t Rönneå","2018-02-15",2.5,10.9,80,7.4,3.64,8.5,30.1,70,23,null,26,1700,null,2200,null,null,null,2018,2]
[55,"8  Bäljaneå, före utfl t Rönneå","2018-04-17",9.5,11.8,104,7.67,1.99,5.4,32.799999999999997,70,26,null,23,1100,null,1300,null,null,null,2018,4]
[55,"8  Bäljaneå, före utfl t Rönneå","2018-07-18",18.2,8.4,89,7.75,1.18,2.7,46,35,12,null,10,1200,null,1500,null,null,null,2018,7]
[55,"8  Bäljaneå, före utfl t Rönneå","2018-08-15",17.399999999999999,6.1,64,7.49,2.83,3.5,43.1,40,12,null,14,1800,null,1500,null,null,null,2018,8]
[55,"8  Bäljaneå, före utfl t Rönneå","2018-09-11",14.1,8.1999999999999993,80,7.47,3.12,4,46.9,40,9.5,null,11,1200,null,1300,null,null,null,2018,9]
[55,"8  Bäljaneå, före utfl t Rönneå","2018-11-13",9.3000000000000007,9.1,80,7.6,2.0499999999999998,3.6,34.4,30,13,null,15,1300,null,1400,null,null,null,2018,11]
[55,"8  Bäljaneå, före utfl t Rönneå","2019-02-13",4.5,11.3,87,7.25,0.84,7.7,30.5,55,32,null,29,6300,null,7300,null,null,null,2019,2]
[55,"8  Bäljaneå, före utfl t Rönneå","2019-04-09",6.2,10.4,84,7.39,2.04,4.5999999999999996,36.5,50,19,null,11,1900,null,2200,null,null,null,2019,4]
[55,"8  Bäljaneå, före utfl t Rönneå","2019-07-16",16,9.1999999999999993,93,7.63,2.56,4.0999999999999996,42.4,35,14,null,18,1400,null,1500,null,null,null,2019,7]
[55,"8  Bäljaneå, före utfl t Rönneå","2019-08-14",13.7,8.1999999999999993,79,7.53,2.6,2.6,42.2,40,11,null,13,1000,null,1400,null,null,null,2019,8]
[55,"8  Bäljaneå, före utfl t Rönneå","2019-09-17",11.5,8.1999999999999993,75,7.48,2.59,2.9,44.6,35,15,null,19,1800,null,2200,null,null,null,2019,9]
[55,"8  Bäljaneå, före utfl t Rönneå","2019-11-13",5.0999999999999996,11.5,90,7.39,1.95,5.2,37.9,60,25,null,25,3400,null,3500,null,null,null,{"$f":"YEAR(C775)","v":2019},{"$f":"MONTH(C775)","v":11}]
[55,"8  Bäljaneå, före utfl t Rönneå","2020-02-10",6.1,11,89,7.36,1.28,95,24.2,300,32,null,140,3200,null,3500,null,null,null,2020,2]
[55,"8  Bäljaneå, före utfl t Rönneå","2020-04-15",7.1,10.7,89,7.59,2.31,6.2,38.6,60,18,null,20,1700,null,1900,null,null,null,2020,4]
[55,"8  Bäljaneå, före utfl t Rönneå","2020-07-15",14.5,7.9,78,7.49,2.54,3.4,41.4,45,13,null,19,1000,null,1200,null,null,null,2020,7]
[55,"8  Bäljaneå, före utfl t Rönneå","2020-08-12",14,7.5,73,7.45,2.87,7.4,45.3,55,12,null,12,1000,null,1100,null,null,null,2020,8]
[55,"8  Bäljaneå, före utfl t Rönneå","2020-09-14",14.3,7.4,73,8.0500000000000007,2.9,5.3,45.4,45,13,null,14,1500,null,1500,null,null,null,2020,9]
[55,"8  Bäljaneå, före utfl t Rönneå","2020-11-10",9.3000000000000007,9.3000000000000007,81,7.48,2.1800000000000002,3.2,40.200000000000003,50,27,null,23,3100,null,3600,null,null,null,2020,11]
[55,"8  Bäljaneå, före utfl t Rönneå","2021-02-24",2.1,12.9,92,7.7,1.2619640749967223,15,25,170,24.885000000000002,null,53,3700,null,4100,null,null,null,2021,2]
[55,"8  Bäljaneå, före utfl t Rönneå","2021-04-20",6.2,10.199999999999999,81,7.8,2.1305886980464139,5.5,35,100,24.885000000000002,null,24,1900,null,2300,null,null,null,2021,4]
[55,"8  Bäljaneå, före utfl t Rönneå","2021-07-13",16.8,6.6,67,7.9,1.8028058214238889,2.8,31,94,36.339999999999996,null,43,1900,null,2500,null,null,null,2021,7]
[55,"8  Bäljaneå, före utfl t Rönneå","2021-08-24",12.2,8.1999999999999993,75,8,2.622950819672131,2.5,41,53,28.44,null,30,2100,null,2400,null,null,null,2021,8]
[55,"8  Bäljaneå, före utfl t Rönneå","2021-09-16",13.7,7,68,7.9,2.622950819672131,2.2000000000000002,43,49,23.305000000000003,null,25,1600,null,2100,null,null,null,2021,9]
[55,"8  Bäljaneå, före utfl t Rönneå","2021-11-22",5.4,11,86,7.9,2.1311475409836067,5.3,35,76,27.255000000000003,null,43,2400,null,2800,null,null,null,2021,11]
[55,"8  Bäljaneå, före utfl t Rönneå","2022-02-08",2.9,11.9,89,7.5,1.098360655737705,15,23,140,30.02,null,48,2700,null,3000,null,null,null,2022,2]
[55,"8  Bäljaneå, före utfl t Rönneå","2022-04-21",7.4,9.8000000000000007,81,7.8,2.1311475409836067,6.4,33,88,26.465000000000003,null,32,1900,null,2000,null,null,null,2022,4]
[55,"8  Bäljaneå, före utfl t Rönneå","2022-07-07",14.3,6.9,67,7.8,2.2950819672131146,3.2,35,79,28.044999999999998,null,26,900,null,1100,null,null,null,2022,7]
[55,"8  Bäljaneå, före utfl t Rönneå","2022-08-26",15.8,7.2,73,7.8,2.95,8,44,77,17.38,null,20,1200,null,1500,null,null,null,2022,8]
[55,"8  Bäljaneå, före utfl t Rönneå","2022-09-19",9.6999999999999993,7.9,69,7.9,2.2950819672131146,8.5,37,85,16.984999999999999,null,30,980,null,1300,null,null,null,2022,9]
[55,"8  Bäljaneå, före utfl t Rönneå","2022-11-18",5.7,10.199999999999999,81,8.1,2.9508196721311477,4,45,48,16.195,null,48,1400,null,1600,null,null,null,2022,11]
[55,"8  Bäljaneå, före utfl t Rönneå","2023-02-16",4.5999999999999996,10.8,84,7.7,1.9672131147540983,5,33,69,22.515000000000001,null,38,2900,83,2900,null,null,"Obalans Tot-N/kvävefraktioner inom analysernas mätosäkerhet",2023,2]
[55,"8  Bäljaneå, före utfl t Rönneå","2023-04-13",6.9,10,83,7.8,1.8032786885245902,4.0999999999999996,31,95,24.094999999999999,null,30,1800,28,2000,null,null,null,2023,4]
[55,"8  Bäljaneå, före utfl t Rönneå","2023-07-13",13.9,7.2,69,7.8,2.622950819672131,4,42,60,14.22,null,39,1200,290,1600,null,null,null,2023,7]
[55,"8  Bäljaneå, före utfl t Rönneå","2023-08-10",12.9,8.8000000000000007,97,7.6,1.3278688524590163,12,28,150,47.400000000000006,null,67,4400,52,4800,null,null,null,2023,8]
[55,"8  Bäljaneå, före utfl t Rönneå","2023-09-14",12.3,8.1,75,7.8,2.9508196721311477,4,46,52,12.245000000000001,null,24,1400,14,1600,null,null,null,2023,9]
[55,"8  Bäljaneå, före utfl t Rönneå","2023-11-15",6.6,10.3,85.1,7.6,1.8032786885245902,8.1999999999999993,31,120,63.2,null,35,2600,39,3000,null,null,null,2023,11]
[57,"10 Snällerödsbäcken, ned N Rörum","2021-02-24",1.4,13.8,97,7.2,0.34417202045365153,3.3,12,130,59.25,null,30,1400,null,2000,null,null,null,2021,2]
[57,"10 Snällerödsbäcken, ned N Rörum","2021-04-20",6.3,12,96,7.5,0.60639832175167174,3,15,140,47.400000000000006,null,25,1100,null,1400,null,null,null,2021,4]
[57,"10 Snällerödsbäcken, ned N Rörum","2021-07-13",17.3,9.3000000000000007,97,7.9,1.1964074996722172,3.1,21,100,35.155000000000001,null,22,1000,null,1400,null,null,null,2021,7]
[57,"10 Snällerödsbäcken, ned N Rörum","2021-08-24",10.8,10.4,92,7.6,0.75409836065573765,3.1,18,160,63.2,null,30,1200,null,1600,null,null,null,2021,8]
[57,"10 Snällerödsbäcken, ned N Rörum","2021-09-16",13.5,9.3000000000000007,90,7.7,0.93442622950819676,3.4,19,130,51.35,null,38,1000,null,1500,null,null,null,2021,9]
[57,"10 Snällerödsbäcken, ned N Rörum","2021-11-22",4.2,12.7,96,7.2,0.4098360655737705,3.6,12,250,82.95,null,38,750,null,1500,null,null,null,2021,11]
[57,"10 Snällerödsbäcken, ned N Rörum","2022-02-08",2.4,13,95,6.9,0.19672131147540983,3.1,9.8000000000000007,180,67.150000000000006,null,36,1100,null,1600,null,null,null,2022,2]
[57,"10 Snällerödsbäcken, ned N Rörum","2022-04-21",7.3,11.4,94,7.4,0.55737704918032782,4.9000000000000004,13,150,51.35,null,40,780,null,1100,null,null,null,2022,4]
[57,"10 Snällerödsbäcken, ned N Rörum","2022-07-07",13.5,9.4,90,7.7,1.0655737704918034,6.6,19,170,47.400000000000006,null,28,890,null,1200,null,null,null,2022,7]
[57,"10 Snällerödsbäcken, ned N Rörum","2022-08-26",15.7,8.9,90,7.9,1.39,4.3,23,47,22.12,null,21,860,null,1100,null,null,null,2022,8]
[57,"10 Snällerödsbäcken, ned N Rörum","2022-09-19",8.8000000000000007,10.6,91,7.9,1.3278688524590163,3.6,23,54,24.885000000000002,null,20,820,null,950,null,null,null,2022,9]
[57,"10 Snällerödsbäcken, ned N Rörum","2022-11-18",4.9000000000000004,12,93,7.8,0.86885245901639341,4.7,19,110,35.155000000000001,null,18,660,null,1000,null,null,null,2022,11]
[57,"10 Snällerödsbäcken, ned N Rörum","2023-02-16",3.8,12.1,92,7.4,0.44262295081967212,3,14,140,63.2,null,35,1300,null,1600,null,null,null,2023,2]
[57,"10 Snällerödsbäcken, ned N Rörum","2023-04-13",6.3,11.6,95,7.4,0.50819672131147542,3.7,14,140,47.400000000000006,null,30,920,null,1100,null,null,null,2023,4]
[57,"10 Snällerödsbäcken, ned N Rörum","2023-07-13",14.6,9.3000000000000007,91,7.7,1.2295081967213115,3.5,21,67,24.490000000000002,null,23,830,null,1000,null,null,null,2023,7]
[57,"10 Snällerödsbäcken, ned N Rörum","2023-08-10",12.5,9.8000000000000007,108,6.8,0.19672131147540983,3.8,11,300,122.45,null,45,710,null,1500,null,null,null,2023,8]
[57,"10 Snällerödsbäcken, ned N Rörum","2023-09-14",11.6,9.5,87,7.7,1.0163934426229508,6.1,19,140,51.35,null,31,790,null,1200,null,null,null,2023,9]
[57,"10 Snällerödsbäcken, ned N Rörum","2023-11-15",5.8,11.5,93.7,7.1,0.31147540983606559,2.8,11,260,142.20000000000002,null,39,670,null,1500,null,null,null,2023,11]
[60,"59 Klingstorpabäcken, Färingstofta","2013-02-14",0.5,14.5,100.47568759429679,6.99,0.23062099999999996,2.7,10.199999999999999,125,59,null,12,700,null,1200,null,null,null,2013,2]
[60,"59 Klingstorpabäcken, Färingstofta","2013-04-16",8.3000000000000007,11.3,96.392258485218974,7.14,0.43687200000000004,12,9.43,100,71,null,35,690,null,1600,null,null,null,2013,4]
[60,"59 Klingstorpabäcken, Färingstofta","2013-07-10",15.7,9.3000000000000007,93.880199970750596,7.28,0.53105999999999998,3,12.5,85,40,null,18,500,null,980,null,null,null,2013,7]
[60,"59 Klingstorpabäcken, Färingstofta","2013-08-15",14.6,9.5,93.696535473597493,7.15,0.52905599999999997,3.4,12.3,100,36,null,21,540,null,990,null,null,null,2013,8]
[60,"59 Klingstorpabäcken, Färingstofta","2013-09-12",13.7,9.5,91.889353798616739,7.19,0.54709199999999991,2.6,12.33,70,34,null,21,410,null,840,null,null,null,2013,9]
[60,"59 Klingstorpabäcken, Färingstofta","2013-11-20",4.0999999999999996,12.4,94.935432981857602,7.17,0.424848,2.7,13.8,85,51,null,23,640,null,1200,null,null,null,2013,11]
[60,"59 Klingstorpabäcken, Färingstofta","2014-02-18",2.6,13.2,97.022315445111971,6.83,0.13466999999999998,2.6,11.3,100,59,null,12,670,null,1300,null,null,null,2014,2]
[60,"59 Klingstorpabäcken, Färingstofta","2014-04-16",10.199999999999999,11.3,100.92376284352569,6.98,0.23315999999999998,3.3,11,100,67,null,17,430,null,1100,null,null,null,2014,4]
[60,"59 Klingstorpabäcken, Färingstofta","2014-07-23",16.5,8.9,91.337695051047135,7.3,0.55878000000000005,3.2,13.7,125,47,null,24,660,null,1200,null,null,null,2014,7]
[60,"59 Klingstorpabäcken, Färingstofta","2014-08-14",15.2,9.6,95.897883681941082,7.58,0.47637000000000007,5,12.79,125,55,null,25,580,null,1200,null,null,null,2014,8]
[60,"59 Klingstorpabäcken, Färingstofta","2014-09-24",10.8,10.1,91.4888697336565,7.16,0.55476000000000003,4.8,13.4,100,43,null,17,580,null,960,null,null,null,2014,9]
[60,"59 Klingstorpabäcken, Färingstofta","2014-11-12",8.5,10.6,90.867343351678215,7.08,0.29547000000000001,5.8,10.9,225,95,null,18,290,null,1400,null,null,null,2014,11]
[60,"59 Klingstorpabäcken, Färingstofta","2015-02-12",3.1,13.4,99.852662108048563,6.72,0.15507800000000002,3.8,9.8000000000000007,150,83,null,18,780,null,1500,null,null,null,2015,2]
[60,"59 Klingstorpabäcken, Färingstofta","2015-04-15",7.4,11.4,95.090206760493487,7.06,0.18126,4.3,9.1999999999999993,150,87,null,30,490,null,1200,null,null,null,2015,4]
[60,"59 Klingstorpabäcken, Färingstofta","2015-07-15",14.6,9.1999999999999993,90.737697511273367,7.31,0.40481399999999995,4.2,11.3,200,71,null,21,420,null,1200,null,null,null,2015,7]
[60,"59 Klingstorpabäcken, Färingstofta","2015-08-13",13.6,10,96.514049381407602,7.17,0.49947200000000003,3.5,12.4,150,63,null,28,530,null,1200,null,null,null,2015,8]
[60,"59 Klingstorpabäcken, Färingstofta","2015-09-15",14,9,87.624140777651178,7,0.52766800000000003,7.2,12.2,125,59,null,25,490,null,1200,null,null,null,2015,9]
[60,"59 Klingstorpabäcken, Färingstofta","2015-11-11",11.6,9.6999999999999993,89.509353274908349,6.84,0.28397399999999995,4.0999999999999996,12.4,150,91,null,29,970,null,1700,null,null,null,2015,11]
[60,"59 Klingstorpabäcken, Färingstofta","2016-02-17",0.1,13,89.053969984808774,6.71,0.15306400000000001,2.1,9.4,125,71,null,20,720,null,1200,null,null,null,2016,2]
[60,"59 Klingstorpabäcken, Färingstofta","2016-04-13",7.8,10.9,91.834410703273889,7.16,0.32224000000000003,3.2,11.2,125,59,null,21,700,null,1200,null,null,null,2016,4]
[60,"59 Klingstorpabäcken, Färingstofta","2016-07-13",15.5,9.1999999999999993,92.483507634181294,6.85,0.23470200000000002,9.9,4.9000000000000004,300,79,null,41,430,null,1400,null,null,null,2016,7]
[60,"59 Klingstorpabäcken, Färingstofta","2016-08-18",13.1,9.5,90.682841281744999,7.24,0.5135360000000001,3.7,12.8,100,24,null,20,670,null,930,null,null,null,{"$f":"YEAR(C839)","v":2016},{"$f":"MONTH(C839)","v":8}]
[60,"59 Klingstorpabäcken, Färingstofta","2016-09-14",13.2,9.1,87.057303637973888,7.14,0.53560200000000002,3.3,12.2,85,43,null,22,500,null,980,null,null,null,2016,9]
[60,"59 Klingstorpabäcken, Färingstofta","2016-11-08",1,14,98.401662109737373,7.04,0.34503200000000006,2.9,13.3,125,55,null,18,980,null,1500,null,null,null,2016,11]
[60,"59 Klingstorpabäcken, Färingstofta","2017-02-16",0.1,13.7,93.849183753221538,7.22,0.44533200000000006,4.4000000000000004,14.3,70,35,null,21,900,null,1200,null,null,null,2017,2]
[60,"59 Klingstorpabäcken, Färingstofta","2017-04-19",3.3,12.8,95.90307833971103,7,0.25676800000000005,2.9,11.2,125,51,null,25,640,null,1000,null,null,null,2017,4]
[60,"59 Klingstorpabäcken, Färingstofta","2017-07-12",15.7,9.1,91.861270939121539,7.39,0.39117000000000002,6.6,11.4,150,43,null,27,410,null,950,null,null,null,2017,7]
[60,"59 Klingstorpabäcken, Färingstofta","2017-08-17",13.7,9.8000000000000007,94.791122865941489,7.41,0.49949400000000005,4.0999999999999996,12.7,150,59,null,24,540,null,1100,null,null,null,2017,8]
[60,"59 Klingstorpabäcken, Färingstofta","2017-09-20",13.2,9,86.100629971622539,6.68,0.18254600000000004,3.2,8.1999999999999993,225,91,null,28,100,null,1000,null,null,null,2017,9]
[60,"59 Klingstorpabäcken, Färingstofta","2017-11-09",6.6,12.2,99.721283841063368,6.74,0.17251600000000003,4,8.9,300,160,null,45,240,null,1300,null,null,null,2017,11]
[60,"59 Klingstorpabäcken, Färingstofta","2018-02-15",1.7,11.4,82,7,0.25,3.6,10.1,200,59,null,20,730,null,1300,null,null,null,2018,2]
[60,"59 Klingstorpabäcken, Färingstofta","2018-04-18",8.5,10.9,93,7.16,0.26,3.6,10.1,125,59,null,28,690,null,1100,null,null,null,2018,4]
[60,"59 Klingstorpabäcken, Färingstofta","2018-07-19",17.7,8.9,94,7.6,0.57999999999999996,3.2,13.4,125,32,null,19,680,null,1200,null,null,null,2018,7]
[60,"59 Klingstorpabäcken, Färingstofta","2018-08-15",17,8.8000000000000007,91,7.22,0.47,4,13.5,125,36,null,27,590,null,1100,null,null,null,2018,8]
[60,"59 Klingstorpabäcken, Färingstofta","2018-09-12",13.6,9.4,91,7.31,0.55000000000000004,2.7,13.5,100,34,null,16,550,null,930,null,null,null,2018,9]
[60,"59 Klingstorpabäcken, Färingstofta","2018-11-14",9.1,10,87,7.2,0.46,1.7,17.2,45,25,null,9,680,null,870,null,null,null,2018,11]
[60,"59 Klingstorpabäcken, Färingstofta","2019-02-13",4.3,11.8,91,6.76,0.16,3,15.3,85,59,null,21,1700,null,2800,null,null,null,2019,2]
[60,"59 Klingstorpabäcken, Färingstofta","2019-04-09",5.5,12.2,97,6.92,0.28999999999999998,2.7,12.9,85,38,null,14,970,null,1300,null,null,null,2019,4]
[60,"59 Klingstorpabäcken, Färingstofta","2019-07-17",13.4,9.6999999999999993,93,7.24,0.51,3.1,13.2,65,36,null,21,620,null,1100,null,null,null,2019,7]
[60,"59 Klingstorpabäcken, Färingstofta","2019-08-14",12.9,8.8000000000000007,84,7.51,0.56000000000000005,3.5,13.3,100,31,null,19,620,null,1000,null,null,null,2019,8]
[60,"59 Klingstorpabäcken, Färingstofta","2019-09-17",11.2,11,101,7.13,0.46,3.4,14.3,100,43,null,20,710,null,1200,null,null,null,2019,9]
[60,"59 Klingstorpabäcken, Färingstofta","2019-11-13",4.5,12.3,95,7.11,0.28000000000000003,3.4,11.9,200,67,null,26,480,null,1300,null,null,null,2019,11]
[60,"59 Klingstorpabäcken, Färingstofta","2020-02-10",5.7,11.5,92,7.82,0.11,7.1,9.1999999999999993,250,83,null,38,770,null,2000,null,null,null,2020,2]
[60,"59 Klingstorpabäcken, Färingstofta","2020-04-15",6.4,11.9,97,7.29,0.46,5.0999999999999996,14,100,36,null,23,1100,null,1400,null,null,null,2020,4]
[60,"59 Klingstorpabäcken, Färingstofta","2020-07-15",14.6,9.9,98,7.17,0.51,3.1,13.5,100,31,null,21,710,null,1200,null,null,null,2020,7]
[60,"59 Klingstorpabäcken, Färingstofta","2020-08-12",15.3,9.1999999999999993,92,7.33,0.62,2.5,14.3,85,29,null,19,770,null,1200,null,null,null,2020,8]
[60,"59 Klingstorpabäcken, Färingstofta","2020-09-14",14.5,9.5,93,7.25,0.56000000000000005,2.4,13.3,85,29,null,17,640,null,890,null,null,null,2020,9]
[60,"59 Klingstorpabäcken, Färingstofta","2020-11-10",8.9,11.1,96,7.21,0.34,3.3,13.7,150,63,null,24,680,null,1600,null,null,null,2020,11]
[60,"59 Klingstorpabäcken, Färingstofta","2021-02-24",1.8,13.7,97,7,0.21305886980464142,2.4,11,140,55.300000000000004,null,26,1400,null,1800,null,null,null,2021,2]
[60,"59 Klingstorpabäcken, Färingstofta","2021-04-20",5.9,12.1,96,7.2,0.31139373279139898,2,11,110,86.9,null,22,1000,null,1300,null,null,null,2021,4]
[60,"59 Klingstorpabäcken, Färingstofta","2021-07-13",16.600000000000001,8.6999999999999993,89,7.6,0.5736200340894192,2.4,13,140,43.45,null,26,770,null,1200,null,null,null,2021,7]
[60,"59 Klingstorpabäcken, Färingstofta","2021-08-24",11.9,10.4,94,7.3,0.4098360655737705,2.9,13,150,59.25,null,25,1100,null,1500,null,null,null,2021,8]
[60,"59 Klingstorpabäcken, Färingstofta","2021-09-16",14.9,8.9,88,7.3,0.39344262295081966,2.9,11,140,63.2,null,31,550,null,1100,null,null,null,2021,9]
[60,"59 Klingstorpabäcken, Färingstofta","2021-11-22",4.3,12.7,96,7.1,0.29508196721311475,3.4,11,190,59.25,null,33,130,null,1200,null,null,null,2021,11]
[60,"59 Klingstorpabäcken, Färingstofta","2022-02-08",2.7,13,96,6.6,9.6721311475409841E-2,2.8,8.6,180,63.2,null,38,980,null,1400,null,null,null,2022,2]
[60,"59 Klingstorpabäcken, Färingstofta","2022-04-21",8.4,11.2,95,7.1,0.24590163934426229,3.9,9.8000000000000007,120,51.35,null,27,680,null,950,null,null,null,2022,4]
[60,"59 Klingstorpabäcken, Färingstofta","2022-07-07",14.7,9.1,89,7.3,0.47540983606557374,6,12,190,43.45,null,34,690,null,1000,null,null,null,2022,7]
[60,"59 Klingstorpabäcken, Färingstofta","2022-08-26",16.5,8.3000000000000007,86,7.5,0.61,3.5,13,120,51.35,null,26,680,null,1100,null,null,null,2022,8]
[60,"59 Klingstorpabäcken, Färingstofta","2022-09-19",8.9,10.3,89,7.5,0.55737704918032782,3.5,13,100,39.105000000000004,null,23,550,null,870,null,null,null,2022,9]
[60,"59 Klingstorpabäcken, Färingstofta","2022-11-18",4.7,11.8,91,7.3,0.57377049180327866,4.2,14,92,24.094999999999999,null,15,780,null,1100,null,null,null,2022,11]
[60,"59 Klingstorpabäcken, Färingstofta","2023-02-16",3.7,12.5,95,7,0.21311475409836064,2.4,11,140,71.100000000000009,null,34,1200,null,1500,null,null,null,2023,2]
[60,"59 Klingstorpabäcken, Färingstofta","2023-04-13",7.3,11.4,95,7.1,0.19672131147540983,2.4,10,130,55.300000000000004,null,16,820,null,1100,null,null,null,2023,4]
[60,"59 Klingstorpabäcken, Färingstofta","2023-07-12",15.3,8.9,88,7.6,0.60655737704918034,2.5,13,120,31.205000000000002,null,21,660,null,960,null,null,null,2023,7]
[60,"59 Klingstorpabäcken, Färingstofta","2023-08-10",12.6,9.9,112,6.8,0.19672131147540983,10,12,220,102.7,null,29,920,null,1600,null,null,null,2023,8]
[60,"59 Klingstorpabäcken, Färingstofta","2023-09-14",14,6.1,89,7.3,0.36065573770491804,3.8,10,160,51.35,null,28,300,null,830,null,null,null,2023,9]
[60,"59 Klingstorpabäcken, Färingstofta","2023-11-15",5.9,11.45,92.5,6.8,0.16393442622950818,3.1,9.3000000000000007,240,126.4,null,30,570,null,1300,null,null,null,2023,11]
[70,"15 Ybbarpsån, utfl ur Ybbarpssjön","2013-02-14",1.3,10.3,73.012139551670984,6.39,0.22661019999999998,6.4,10.6,125,51,null,14,400,null,970,null,null,null,2013,2]
[70,"15 Ybbarpsån, utfl ur Ybbarpssjön","2013-04-17",9.6999999999999993,9.5,83.843003946637438,7.13,0.30260399999999998,7.2,9.9,85,27,null,14,220,null,570,null,null,null,2013,4]
[70,"15 Ybbarpsån, utfl ur Ybbarpssjön","2013-07-10",21,7.5,83.94757940403187,7,0.39278399999999997,6.8,10.4,125,47,null,21,"<10",null,540,null,null,null,2013,7]
[70,"15 Ybbarpsån, utfl ur Ybbarpssjön","2013-08-15",17.5,8,83.774287882942431,6.94,0.34268399999999999,8,9.4,150,51,null,37,"<10",null,700,null,null,null,2013,8]
[70,"15 Ybbarpsån, utfl ur Ybbarpssjön","2013-09-12",16.600000000000001,8.3000000000000007,85.354066416465372,7.09,0.32264399999999993,7.3,9.18,125,43,null,26,"<10",null,600,null,null,null,2013,9]
[70,"15 Ybbarpsån, utfl ur Ybbarpssjön","2013-11-20",4.7,11.1,86.352733905699154,7.13,0.31863600000000003,8.1999999999999993,11.4,100,38,null,21,190,null,800,null,null,null,2013,11]
[70,"15 Ybbarpsån, utfl ur Ybbarpssjön","2014-02-18",2.6,10.5,77.176841831339075,6.54,0.14673,7.6,11.3,125,55,null,18,530,null,1300,null,null,null,2014,2]
[70,"15 Ybbarpsån, utfl ur Ybbarpssjön","2014-04-15",8.1,10.8,91.672751447594109,7.07,0.21708000000000002,4.5999999999999996,10.9,85,51,null,16,260,null,840,null,null,null,2014,4]
[70,"15 Ybbarpsån, utfl ur Ybbarpssjön","2014-07-23",15.4,6.6,66.207890155372851,7.01,0.37185000000000001,6.8,11.3,200,55,null,26,"<10",null,700,null,null,null,2014,7]
[70,"15 Ybbarpsån, utfl ur Ybbarpssjön","2014-08-14",19.7,6.3,68.842470135595761,7.08,0.31758000000000003,11,10.08,250,79,null,47,39,null,990,null,null,"utplanterat mossa",2014,8]
[70,"15 Ybbarpsån, utfl ur Ybbarpssjön","2014-09-24",12.8,8.8000000000000007,83.441818462661104,6.94,0.32160000000000005,8.9,10.78,200,59,null,24,84,null,750,null,null,null,2014,9]
[70,"15 Ybbarpsån, utfl ur Ybbarpssjön","2014-11-12",8.1,9.1,77.242781312324666,6.86,0.2412,10.199999999999999,10.4,275,95,null,28,190,null,1300,null,null,null,2014,11]
[70,"15 Ybbarpsån, utfl ur Ybbarpssjön","2015-02-10",2.7,10.4,76.652581743375009,6.54,0.187302,6.4,10.199999999999999,200,67,null,17,570,null,1300,null,null,null,2015,2]
[70,"15 Ybbarpsån, utfl ur Ybbarpssjön","2015-04-15",8.6999999999999993,10.7,92.17540226328002,7.02,0.17521799999999998,4.5999999999999996,9.6999999999999993,150,63,null,27,380,null,950,null,null,null,2015,4]
[70,"15 Ybbarpsån, utfl ur Ybbarpssjön","2015-07-15",18.3,6,63.829419268126372,7.04,0.34640799999999999,6.3,10.6,225,71,null,23,"<10",null,890,null,null,null,2015,7]
[70,"15 Ybbarpsån, utfl ur Ybbarpssjön","2015-08-13",20,6.5,71.428088427841999,6.83,0.38668799999999998,7.4,10.7,225,63,null,31,22,null,760,null,null,null,2015,8]
[70,"15 Ybbarpsån, utfl ur Ybbarpssjön","2015-09-15",15.2,8.8000000000000007,87.906393375112671,7.04,0.33230999999999999,6.8,10.1,175,59,null,27,50,null,820,null,null,null,2015,9]
[70,"15 Ybbarpsån, utfl ur Ybbarpssjön","2015-11-11",10.9,10,90.794803764769128,7.07,0.29203000000000001,9.5,10,150,43,null,20,130,null,710,null,null,null,2015,11]
[70,"15 Ybbarpsån, utfl ur Ybbarpssjön","2016-02-17",2.4,11.5,84.061589580826237,6.46,0.16111999999999999,5.5,9.3000000000000007,125,63,null,22,590,null,1100,null,null,null,2016,2]
[70,"15 Ybbarpsån, utfl ur Ybbarpssjön","2016-04-13",9.8000000000000007,10.4,92.005843793087507,7.08,0.205428,3.8,9.6999999999999993,100,47,null,23,280,null,770,null,null,null,{"$f":"YEAR(C903)","v":2016},{"$f":"MONTH(C903)","v":4}]
[70,"15 Ybbarpsån, utfl ur Ybbarpssjön","2016-07-13",19,7.6,81.952112934586339,6.96,0.33500200000000002,6.9,9.5,175,30,null,30,27,null,710,null,null,null,2016,7]
[70,"15 Ybbarpsån, utfl ur Ybbarpssjön","2016-08-18",17.2,7.9,82.23240079092345,7.05,0.36509200000000008,6.8,10.199999999999999,175,32,null,28,32,null,630,null,null,null,2016,8]
[70,"15 Ybbarpsån, utfl ur Ybbarpssjön","2016-09-14",18.5,8.5,90.777600332316851,6.97,0.36910400000000004,5.0999999999999996,10.199999999999999,150,51,null,27,"<10",null,580,null,null,null,2016,9]
[70,"15 Ybbarpsån, utfl ur Ybbarpssjön","2016-11-08",2.2000000000000002,12.6,91.59331135981617,7.14,0.27682800000000002,6.9,9.6,125,34,null,21,170,null,660,null,null,null,2016,11]
[70,"15 Ybbarpsån, utfl ur Ybbarpssjön","2017-02-16",2.2999999999999998,9.1,66.334422463409666,6.58,0.30290600000000006,7.3,11.3,100,34,null,15,330,null,730,null,null,null,2017,2]
[70,"15 Ybbarpsån, utfl ur Ybbarpssjön","2017-04-19",6.9,11.5,94.720425500759703,7.12,0.21263600000000005,3.9,10,100,36,null,26,200,null,650,null,null,null,2017,4]
[70,"15 Ybbarpsån, utfl ur Ybbarpssjön","2017-07-12",18.899999999999999,6.8,73.185073840296994,7.11,0.36308600000000008,7.8,10.8,175,47,null,24,"<10",null,780,null,null,null,2017,7]
[70,"15 Ybbarpsån, utfl ur Ybbarpssjön","2017-08-17",18.5,7.6,81.165854414777414,7.24,0.39718800000000004,6.9,10.199999999999999,175,59,null,24,27,null,690,null,null,null,2017,8]
[70,"15 Ybbarpsån, utfl ur Ybbarpssjön","2017-09-20",13.6,7.6,73.350677529869785,6.73,0.31093000000000004,10.7,9.6,200,55,null,29,110,null,780,null,null,null,2017,9]
[70,"15 Ybbarpsån, utfl ur Ybbarpssjön","2017-11-09",6.2,9.1,73.623195572718728,6.49,0.18254600000000004,6.8,8.6999999999999993,300,91,null,23,190,null,1100,null,null,null,2017,11]
[70,"15 Ybbarpsån, utfl ur Ybbarpssjön","2018-02-15",3.5,10.1,76,6.49,0.2,6.4,9.5,225,59,null,22,410,null,1100,null,null,null,2018,2]
[70,"15 Ybbarpsån, utfl ur Ybbarpssjön","2018-04-18",11.6,9.8000000000000007,90,6.98,0.2,4.5999999999999996,9.1,125,47,null,25,300,null,820,null,null,null,2018,4]
[70,"15 Ybbarpsån, utfl ur Ybbarpssjön","2018-07-19",21.7,5.9,67,7.35,0.36,8.6999999999999993,10.3,225,43,null,35,"<10",null,720,null,null,null,2018,7]
[70,"15 Ybbarpsån, utfl ur Ybbarpssjön","2018-08-16",19.899999999999999,7.4,81,7.33,0.27,9.6999999999999993,9.4,250,43,null,42,"<10",null,800,null,null,null,2018,8]
[70,"15 Ybbarpsån, utfl ur Ybbarpssjön","2018-09-12",15.6,8.3000000000000007,84,7.1,0.26,6.5,9.4,225,43,null,30,56,null,810,null,null,null,2018,9]
[70,"15 Ybbarpsån, utfl ur Ybbarpssjön","2018-11-14",8.8000000000000007,9.5,82,7.13,0.27,8,11.4,100,23,null,17,240,null,630,null,null,null,2018,11]
[70,"15 Ybbarpsån, utfl ur Ybbarpssjön","2019-02-13",3.4,9.1999999999999993,69,6.5,0.23,7.4,11.9,85,38,null,19,790,null,1100,null,null,null,2019,2]
[70,"15 Ybbarpsån, utfl ur Ybbarpssjön","2019-04-09",8.9,10.5,91,6.66,0.15,2.1,10.4,85,43,null,17,500,null,890,null,null,null,2019,4]
[70,"15 Ybbarpsån, utfl ur Ybbarpssjön","2019-07-17",19.600000000000001,6.5,71,6.94,0.35,6.4,11,200,51,null,28,"<10",null,690,null,null,null,2019,7]
[70,"15 Ybbarpsån, utfl ur Ybbarpssjön","2019-08-14",18.600000000000001,7.1,76,7.13,0.36,8.1,10.199999999999999,125,40,null,35,"<10",null,750,null,null,null,2019,8]
[70,"15 Ybbarpsån, utfl ur Ybbarpssjön","2019-09-17",13,9.9,94,7.07,0.34,9.1999999999999993,10.1,175,36,null,30,68,null,720,null,null,null,2019,9]
[70,"15 Ybbarpsån, utfl ur Ybbarpssjön","2019-11-13",4.9000000000000004,10.6,83,6.67,0.28000000000000003,8.6,10.1,225,67,null,32,240,null,1100,null,null,null,2019,11]
[70,"15 Ybbarpsån, utfl ur Ybbarpssjön","2020-02-10",5,11.9,93,7.78,0.15,7,8.6999999999999993,250,79,null,29,540,null,1400,null,null,null,2020,2]
[70,"15 Ybbarpsån, utfl ur Ybbarpssjön","2020-04-15",9,10.9,95,7.12,0.2,4.7,10.1,150,47,null,26,460,null,920,null,null,null,2020,4]
[70,"15 Ybbarpsån, utfl ur Ybbarpssjön","2020-07-15",17.8,8.6999999999999993,92,7.05,0.34,8.1,10,225,51,null,34,50,null,810,null,null,null,2020,7]
[70,"15 Ybbarpsån, utfl ur Ybbarpssjön","2020-08-12",22.3,7.5,86,7.1,0.38,5.4,10.5,200,47,null,35,20,null,780,null,null,null,2020,8]
[70,"15 Ybbarpsån, utfl ur Ybbarpssjön","2020-09-14",15.7,8.8000000000000007,89,7.14,0.37,6.7,9.6999999999999993,175,40,null,25,63,null,640,null,null,null,2020,9]
[70,"15 Ybbarpsån, utfl ur Ybbarpssjön","2020-11-10",8.9,10,87,7.07,0.3,9.8000000000000007,10.9,125,37,null,25,380,null,1000,null,null,null,2020,11]
[70,"15 Ybbarpsån, utfl ur Ybbarpssjön","2021-02-24",1.8,9.3000000000000007,66,6.7,0.22944801363576767,5.6,11,190,55.300000000000004,null,27,940,null,1300,null,null,null,2021,2]
[70,"15 Ybbarpsån, utfl ur Ybbarpssjön","2021-04-20",12.3,10.8,100,7,0.19666972597351515,3.1,9.6999999999999993,140,43.45,null,22,520,null,890,null,null,null,2021,4]
[70,"15 Ybbarpsån, utfl ur Ybbarpssjön","2021-07-13",25.4,7.6,93,7.4,0.39333945194703029,5.9,11,200,63.2,null,30,9.8000000000000007,null,580,null,null,null,2021,7]
[70,"15 Ybbarpsån, utfl ur Ybbarpssjön","2021-08-24",17.899999999999999,7.4,77,7.1,0.31147540983606559,4.5,9.1,160,59.25,null,28,75,null,580,null,null,null,2021,8]
[70,"15 Ybbarpsån, utfl ur Ybbarpssjön","2021-09-16",16.600000000000001,7.9,81,7.3,0.32786885245901637,3.9,10,170,59.25,null,28,130,null,720,null,null,null,2021,9]
[70,"15 Ybbarpsån, utfl ur Ybbarpssjön","2021-11-22",6.1,10.8,86,7,0.22950819672131148,6.4,9.5,230,55.300000000000004,null,32,380,null,950,null,null,null,2021,11]
[70,"15 Ybbarpsån, utfl ur Ybbarpssjön","2022-02-08",2.2000000000000002,12.4,91,6.8,0.14754098360655737,6.5,8.9,210,55.300000000000004,null,30,590,null,1000,null,null,null,2022,2]
[70,"15 Ybbarpsån, utfl ur Ybbarpssjön","2022-04-21",11.9,9.8000000000000007,90,7,0.19672131147540983,4.2,9.4,140,51.35,null,25,390,null,680,null,null,null,2022,4]
[70,"15 Ybbarpsån, utfl ur Ybbarpssjön","2022-07-07",20.2,6.8,76,7.2,0.36065573770491804,7.4,10,220,67.150000000000006,null,25,22,null,540,null,null,null,2022,7]
[70,"15 Ybbarpsån, utfl ur Ybbarpssjön","2022-08-26",22,6.5,75,7.3,0.43,4.9000000000000004,10,180,63.2,null,23,18,null,540,null,null,null,2022,8]
[70,"15 Ybbarpsån, utfl ur Ybbarpssjön","2022-09-19",13.9,8.1,79,7.3,0.31147540983606559,5.3,9.1,170,55.300000000000004,null,27,64,null,580,null,null,null,2022,9]
[70,"15 Ybbarpsån, utfl ur Ybbarpssjön","2022-11-18",4.7,11.7,91,7.4,0.31147540983606559,11,10,150,29.625,null,38,270,null,660,null,null,null,2022,11]
[70,"15 Ybbarpsån, utfl ur Ybbarpssjön","2023-02-16",3.4,11.3,85,6.8,0.19672131147540983,6,10,180,71.100000000000009,null,21,730,null,1000,null,null,null,2023,2]
[70,"15 Ybbarpsån, utfl ur Ybbarpssjön","2023-04-13",8.4,10.3,89,6.8,0.16393442622950818,4.2,9.1999999999999993,170,63.2,null,33,450,null,830,null,null,null,2023,4]
[70,"15 Ybbarpsån, utfl ur Ybbarpssjön","2023-07-13",21.1,7.5,84,7.2,0.32786885245901637,7.8,9.6999999999999993,160,47.400000000000006,null,33,15,null,480,null,null,null,2023,7]
[70,"15 Ybbarpsån, utfl ur Ybbarpssjön","2023-08-10",14.5,8.3000000000000007,92,7.1,0.26229508196721313,6.3,9,170,39.5,null,26,85,null,560,null,null,null,2023,8]
[70,"15 Ybbarpsån, utfl ur Ybbarpssjön","2023-09-14",17.899999999999999,5.5,58,7,0.4098360655737705,10,11,290,59.25,null,35,66,null,710,null,null,null,2023,9]
[70,"15 Ybbarpsån, utfl ur Ybbarpssjön","2023-11-15",6.1,10.4,85,6.7,0.19672131147540983,7.1,9.1,300,138.25,null,32,400,null,1100,null,null,null,2023,11]
[75,"16 Ybbarpsån, nedstr Perstorp AB","2013-01-16",1,11.5,80.829936732998561,6.94,0.35893079999999999,8.1999999999999993,23,175,63,null,24,2000,null,1800,null,null,null,2013,1,null,0.28199999999999997]
[75,"16 Ybbarpsån, nedstr Perstorp AB","2013-02-14",1.7,14.1,101.07842651002466,6.95,0.43918259999999998,7.5,24.1,125,55,null,19,1100,null,1800,null,null,null,2013,2,null,0.22800000000000001]
[75,"16 Ybbarpsån, nedstr Perstorp AB","2013-03-13",4.0999999999999996,12.8,97.997866303853016,7.27,0.66532799999999992,8.6,37.4,100,47,null,18,1600,null,2400,null,null,null,2013,3,null,0.193]
[75,"16 Ybbarpsån, nedstr Perstorp AB","2013-04-17",10.9,9.8000000000000007,88.978907689473758,7.37,0.76151999999999986,6.7,44,85,36,null,30,2100,null,2900,null,null,null,2013,4,null,0.13]
[75,"16 Ybbarpsån, nedstr Perstorp AB","2013-05-14",13.3,10,95.879083639784838,7.65,0.81763200000000003,7.2,43.3,70,55,null,35,1300,null,5100,null,null,null,2013,5,null,0.16]
[75,"16 Ybbarpsån, nedstr Perstorp AB","2013-06-11",21,9,100.73709528483823,7.57,0.59518799999999994,8,43.2,150,55,null,52,1100,null,3100,null,null,null,2013,6,null,0.186]
[75,"16 Ybbarpsån, nedstr Perstorp AB","2013-07-10",19.8,8.6999999999999993,95.24684269648148,7.28,0.64729199999999987,6.1,40.700000000000003,125,55,null,32,2400,null,3900,null,null,null,2013,7,null,0.218]
[75,"16 Ybbarpsån, nedstr Perstorp AB","2013-08-15",17.5,9.1999999999999993,96.340431065383797,7.34,0.73947599999999991,7.5,43,150,55,null,43,2600,null,4000,null,null,null,2013,8,null,0.26400000000000001]
[75,"16 Ybbarpsån, nedstr Perstorp AB","2013-09-12",16.100000000000001,9.4,95.680021644642238,7.25,0.68336399999999997,7.6,32.4,100,51,null,43,1500,null,3400,null,null,null,2013,9,null,0.216]
[75,"16 Ybbarpsån, nedstr Perstorp AB","2013-10-15",11.5,10.7,98.510408642404428,7.35,0.89578800000000014,6.6,56.3,85,38,null,26,1400,null,2300,null,null,null,2013,10,null,0.16800000000000001]
[75,"16 Ybbarpsån, nedstr Perstorp AB","2013-11-20",5.7,12.1,96.636319443944188,7.32,0.63326400000000005,8.8000000000000007,37.299999999999997,100,43,null,28,2000,null,3200,null,null,null,2013,11,null,0.18099999999999999]
[75,"16 Ybbarpsån, nedstr Perstorp AB","2013-12-12",5.3,12.3,97.213318809643795,7.22,0.99799199999999999,14,88.2,125,47,null,41,4200,null,5900,null,null,null,2013,12,null,0.17]
[75,"16 Ybbarpsån, nedstr Perstorp AB","2014-01-14",3.6,13.4,101.21915553204752,7.2,0.40681199999999995,8.1,23.9,125,55,null,29,720,null,1500,null,null,null,2014,1,null,0.215]
[75,"16 Ybbarpsån, nedstr Perstorp AB","2014-02-18",3.2,13.2,98.631066131695192,6.78,0.27537,5.4,22.1,125,55,null,18,1400,null,2500,null,null,null,2014,2,null,0.23100000000000001]
[75,"16 Ybbarpsån, nedstr Perstorp AB","2014-03-13",8.3000000000000007,12.2,104.06951801059039,7.39,0.58491000000000004,5.6,53.9,125,63,null,20,2700,null,3900,null,null,null,2014,3,null,0.192]
[75,"16 Ybbarpsån, nedstr Perstorp AB","2014-04-15",7.7,11.7,98.328893584320056,7.05,0.31557000000000002,5,21.1,85,51,null,22,1300,null,1900,null,null,null,2014,4,null,0.183]
[75,"16 Ybbarpsån, nedstr Perstorp AB","2014-05-13",12.7,10.3,97.446669543925481,7.01,0.35376000000000007,21,19.899999999999999,125,83,null,72,930,null,2200,null,null,null,2014,5,null,0.22900000000000001]
[75,"16 Ybbarpsån, nedstr Perstorp AB","2014-06-10",20.8,8.9,99.255827268651629,7.36,0.59898000000000007,5,37.4,200,79,null,18,2000,null,3700,null,null,null,{"$f":"YEAR(C967)","v":2014},{"$f":"MONTH(C967)","v":6},null,0.38700000000000001]
[75,"16 Ybbarpsån, nedstr Perstorp AB","2014-07-23",22,7.9,90.022129551276379,7.19,0.6432000000000001,6.9,39,175,59,null,33,2400,null,3800,null,null,null,2014,7,null,0.39600000000000002]
[75,"16 Ybbarpsån, nedstr Perstorp AB","2014-08-14",19.100000000000001,8.8000000000000007,95.073613304695925,7.18,0.51858000000000004,14,30.7,225,79,null,54,800,null,1800,null,null,null,2014,8,null,0.46300000000000002]
[75,"16 Ybbarpsån, nedstr Perstorp AB","2014-09-24",13.2,10,95.667366635136148,7.23,0.59496000000000004,9.6999999999999993,42,150,67,null,43,2100,null,5600,null,null,null,2014,9,null,0.32900000000000001]
[75,"16 Ybbarpsån, nedstr Perstorp AB","2014-10-14",12.8,10.1,95.768450735554225,7.23,0.77183999999999997,8.1999999999999993,48.9,175,63,null,46,3000,null,4400,null,null,null,2014,10,null,0.34100000000000003]
[75,"16 Ybbarpsån, nedstr Perstorp AB","2014-11-12",8.6,10.8,92.809298499102425,7.11,0.44622000000000006,10.5,25.8,250,95,null,30,720,null,2100,null,null,null,2014,11,null,0.51300000000000001]
[75,"16 Ybbarpsån, nedstr Perstorp AB","2014-12-09",4.2,12.8,98.260694382434238,7.15,0.49848000000000003,13,38,300,87,null,37,2900,null,4300,null,null,null,2014,12,null,0.38800000000000001]
[75,"16 Ybbarpsån, nedstr Perstorp AB","2015-01-20",2.2000000000000002,13,94.501035529969073,6.57,0.17085,6,12.7,200,91,3,28,740,null,1700,null,null,null,2015,1]
[75,"16 Ybbarpsån, nedstr Perstorp AB","2015-02-10",4.3,12.7,97.754015295978732,6.92,0.38870199999999999,7.1,26,175,63,4,21,980,null,2400,null,null,null,2015,2]
[75,"16 Ybbarpsån, nedstr Perstorp AB","2015-03-17",8.4,11.4,97.485227471104423,7.4,0.48940200000000006,6.8,36.1,150,67,6,27,2400,null,3500,null,null,null,2015,3]
[75,"16 Ybbarpsån, nedstr Perstorp AB","2015-04-15",8.6999999999999993,11.3,97.344116408884517,7.17,0.37258999999999998,5.0999999999999996,24.1,150,63,"<2",32,1600,null,2500,null,null,null,2015,4]
[75,"16 Ybbarpsån, nedstr Perstorp AB","2015-05-12",15.4,10,100.31498508389826,7.28,0.41287000000000001,6.1,33.1,150,59,15,62,3700,null,4400,null,null,null,2015,5]
[75,"16 Ybbarpsån, nedstr Perstorp AB","2015-06-09",17.3,9.1999999999999993,95.956460111072644,7.29,0.44509399999999999,6.5,30.9,225,67,"<2",36,2000,null,2600,null,null,null,2015,6]
[75,"16 Ybbarpsån, nedstr Perstorp AB","2015-07-15",17.7,8.8000000000000007,92.51857354464434,7.31,0.55586400000000002,6.8,35.4,225,75,2.4,31,2400,null,3600,null,null,null,2015,7]
[75,"16 Ybbarpsån, nedstr Perstorp AB","2015-08-13",19.2,9.1999999999999993,99.58495360346673,7.27,0.63239600000000007,7.8,39.299999999999997,225,71,5.9,42,2400,null,3700,null,null,null,2015,8]
[75,"16 Ybbarpsån, nedstr Perstorp AB","2015-09-15",15.2,9.6999999999999993,96.896819970294629,7.16,0.56996199999999997,9.8000000000000007,44.7,150,63,5,51,4700,null,6500,null,null,null,2015,9]
[75,"16 Ybbarpsån, nedstr Perstorp AB","2015-10-13",9.1999999999999993,10.4,90.687750749901582,7.23,0.62232599999999993,8.9,34,150,55,2.8,32,3500,null,4900,null,null,null,2015,10]
[75,"16 Ybbarpsån, nedstr Perstorp AB","2015-11-11",11.9,10.199999999999999,94.771633764440097,7.2,0.65253599999999989,8.6999999999999993,64.5,150,63,3.4,34,4400,null,6400,null,null,null,2015,11]
[75,"16 Ybbarpsån, nedstr Perstorp AB","2015-12-08",6.5,11.4,92.944248028095799,6.97,0.27189000000000002,11,20.5,200,87,3.1,42,1700,null,3000,null,null,null,2015,12]
[75,"16 Ybbarpsån, nedstr Perstorp AB","2016-01-20",1.2,12.6,89.064103379511948,7.09,0.50853000000000004,8.4,34.9,175,75,5,37,1600,null,2700,null,null,null,2016,1]
[75,"16 Ybbarpsån, nedstr Perstorp AB","2016-02-17",1.7,13,93.192875505696477,6.75,0.25779200000000002,5.8,17.899999999999999,125,71,"<2",26,690,null,1400,null,null,null,2016,2]
[75,"16 Ybbarpsån, nedstr Perstorp AB","2016-03-16",7.5,11.6,97.001684536130924,7.13,0.36252000000000001,5.4,25.5,125,59,3,26,1500,null,2500,null,null,null,2016,3]
[75,"16 Ybbarpsån, nedstr Perstorp AB","2016-04-13",10.1,10.5,93.55660057190039,7.44,0.62031200000000009,4.5,45,100,55,2.7,35,2100,null,3800,null,null,null,2016,4]
[75,"16 Ybbarpsån, nedstr Perstorp AB","2016-05-17",15.1,10.199999999999999,101.67650044622462,7.48,0.71413599999999999,4.4000000000000004,46.2,125,55,"<2",42,2000,null,3000,null,null,null,2016,5]
[75,"16 Ybbarpsån, nedstr Perstorp AB","2016-06-14",18.3,8.8000000000000007,93.616481593252018,7.68,0.83449600000000013,5,60.5,150,34,5.6,39,1200,null,2700,null,null,null,2016,6]
[75,"16 Ybbarpsån, nedstr Perstorp AB","2016-07-13",18.3,8.8000000000000007,93.616481593252018,7.53,0.82246000000000019,6,46,150,34,11,41,1600,null,2900,null,null,null,2016,7]
[75,"16 Ybbarpsån, nedstr Perstorp AB","2016-08-18",17.100000000000001,9.1,94.533238795062829,7.38,0.68204000000000009,6.6,43.3,175,35,2.6,32,1800,null,2300,null,null,null,2016,8]
[75,"16 Ybbarpsån, nedstr Perstorp AB","2016-09-14",18.2,8.9,94.495532295841684,7.31,0.61784800000000006,5.3,48,150,55,6.8,39,260,null,1700,null,null,null,2016,9]
[75,"16 Ybbarpsån, nedstr Perstorp AB","2016-10-12",9.6,10.7,94.207592817363405,7.41,0.68605200000000011,8,40.4,150,51,4.0999999999999996,34,460,null,1600,null,null,null,2016,10]
[75,"16 Ybbarpsån, nedstr Perstorp AB","2016-11-08",1.2,13.6,96.132683012806552,7.31,0.60982400000000003,8.1,38.6,125,29,5.2,43,2200,null,1900,null,null,null,2016,11]
[75,"16 Ybbarpsån, nedstr Perstorp AB","2016-12-14",4.2,12.6,96.725371032708708,7.36,0.74623200000000012,9.1999999999999993,51.5,100,40,14,41,1200,null,2300,null,null,null,2016,12]
[75,"16 Ybbarpsån, nedstr Perstorp AB","2017-01-18",3.2,12,89.66460557426835,7.26,0.57171000000000005,11,68.8,100,47,11,52,1400,null,2400,null,null,null,2017,1]
[75,"16 Ybbarpsån, nedstr Perstorp AB","2017-02-16",3.2,12.7,94.895040899434008,7.15,0.64593200000000006,8,51.8,100,37,6.4,35,1000,null,2000,null,null,null,2017,2]
[75,"16 Ybbarpsån, nedstr Perstorp AB","2017-03-14",4.5999999999999996,11.1,86.1239259315483,7.13,0.38114000000000003,6.3,26.5,125,47,2.9,32,680,null,1400,null,null,null,2017,3]
[75,"16 Ybbarpsån, nedstr Perstorp AB","2017-04-19",5.7,12.3,98.233613980207735,7.16,0.32096000000000002,4.2,25.9,100,40,2.2999999999999998,29,1500,null,2100,null,null,null,2017,4]
[75,"16 Ybbarpsån, nedstr Perstorp AB","2017-05-10",11,11.2,101.92738244997568,7.37,0.65997400000000017,4.2,50.7,100,37,2.8,35,1200,null,2500,null,null,null,2017,5]
[75,"16 Ybbarpsån, nedstr Perstorp AB","2017-06-20",20,8.8000000000000007,96.702642794616864,7.48,0.74823800000000007,5.6,48.4,150,43,6.8,43,960,null,1900,null,null,null,2017,6]
[75,"16 Ybbarpsån, nedstr Perstorp AB","2017-07-12",17.5,8.9,93.198895269773459,7.42,0.71814800000000001,6.6,44.4,175,47,4.2,38,470,null,1600,null,null,null,2017,7]
[75,"16 Ybbarpsån, nedstr Perstorp AB","2017-08-17",17.8,9.1,95.862130072440294,7.42,0.69608200000000009,6.2,39.700000000000003,175,63,2.8,31,720,null,1900,null,null,null,2017,8]
[75,"16 Ybbarpsån, nedstr Perstorp AB","2017-09-20",13.5,9.9,95.339402929690181,6.95,0.45937400000000006,11,23.2,200,55,4.4000000000000004,34,410,null,1200,null,null,null,2017,9]
[75,"16 Ybbarpsån, nedstr Perstorp AB","2017-10-10",10.8,11,99.641343274279365,7.08,0.44332600000000005,9.1,27.5,250,71,8.8000000000000007,32,890,null,1900,null,null,null,2017,10]
[75,"16 Ybbarpsån, nedstr Perstorp AB","2017-11-09",6.5,12.2,99.46665139848848,6.78,0.28284599999999999,7.8,18.399999999999999,300,100,18,36,460,null,1700,null,null,null,2017,11]
[75,"16 Ybbarpsån, nedstr Perstorp AB","2017-12-19",2.5,14.7,107.74996583116747,6.62,0.19859400000000002,6.4,12.6,250,47,10,28,430,null,1300,null,null,null,2017,12]
[75,"16 Ybbarpsån, nedstr Perstorp AB","2018-01-09",3.1,13.4,100,6.81,0.33,6.1,27.6,225,51,11,30,1400,null,2200,null,null,null,2018,1]
[75,"16 Ybbarpsån, nedstr Perstorp AB","2018-02-15",2.1,12.2,88,6.87,0.38,6.9,21,225,55,6.9,32,920,null,1800,null,null,null,2018,2]
[75,"16 Ybbarpsån, nedstr Perstorp AB","2018-03-20",5.5,11.8,94,7.02,0.41,8.6999999999999993,27.9,175,47,8.5,36,1000,null,2200,null,null,null,2018,3]
[75,"16 Ybbarpsån, nedstr Perstorp AB","2018-04-18",10.9,10.4,94,7.24,0.46,4.0999999999999996,35.799999999999997,125,55,7.9,32,870,null,1600,null,null,null,2018,4]
[75,"16 Ybbarpsån, nedstr Perstorp AB","2018-05-15",20.5,8.8000000000000007,98,7.53,0.55000000000000004,3.5,45.2,150,47,11,47,750,null,1700,null,null,null,2018,5]
[75,"16 Ybbarpsån, nedstr Perstorp AB","2018-06-12",20.5,8.8000000000000007,98,7.52,0.92,6.6,82.4,200,51,8.5,63,200,null,1600,null,null,null,2018,6]
[75,"16 Ybbarpsån, nedstr Perstorp AB","2018-07-19",21.1,8.6,96,7.52,0.74,4.8,62.6,175,43,7.2,41,590,null,1800,null,null,null,2018,7]
[75,"16 Ybbarpsån, nedstr Perstorp AB","2018-08-16",20.3,8.4,93,7.45,0.79,6.4,70.400000000000006,200,47,25,60,340,null,1700,null,null,null,2018,8]
[75,"16 Ybbarpsån, nedstr Perstorp AB","2018-09-12",16.399999999999999,9.4,96,7.19,0.64,4.2,49.7,150,47,18,39,300,null,1400,null,null,null,2018,9]
[75,"16 Ybbarpsån, nedstr Perstorp AB","2018-10-09",13.7,10.6,103,7.41,0.69,4.5999999999999996,36.9,100,32,6.9,31,530,null,1300,null,null,null,2018,10]
[75,"16 Ybbarpsån, nedstr Perstorp AB","2018-11-14",10,10.199999999999999,91,7.22,0.57999999999999996,6.6,54.6,100,27,20,42,2900,null,3500,null,null,null,2018,11]
[75,"16 Ybbarpsån, nedstr Perstorp AB","2018-12-11",4.3,11,85,7.55,0.65,9.3000000000000007,59.1,85,27,9.1999999999999993,28,1200,null,2100,null,null,null,2018,12]
[75,"16 Ybbarpsån, nedstr Perstorp AB","2019-01-15",2.6,12.8,94,7.16,0.54,15,36.799999999999997,125,32,10,54,1400,null,2600,null,null,null,2019,1]
[75,"16 Ybbarpsån, nedstr Perstorp AB","2019-02-13",4.2,12.2,94,6.89,0.37,8,24.5,85,43,4.3,26,1000,null,1600,null,null,null,2019,2]
[75,"16 Ybbarpsån, nedstr Perstorp AB","2019-03-12",5.2,14.5,114,6.87,0.24,5.6,17.5,100,37,3.5,24,1600,null,1700,null,null,null,2019,3]
[75,"16 Ybbarpsån, nedstr Perstorp AB","2019-04-09",8.6,11,95,7.28,0.67,3.6,49.8,85,47,17,58,870,null,2000,null,null,null,2019,4]
[75,"16 Ybbarpsån, nedstr Perstorp AB","2019-05-14",14.9,10.6,105,7.4,0.7,5.4,47.3,100,40,16,54,1700,null,2800,null,null,null,2019,5]
[75,"16 Ybbarpsån, nedstr Perstorp AB","2019-06-11",18,10.199999999999999,108,7.41,0.63,2.7,44,100,40,6.2,39,2000,null,2800,null,null,null,2019,6]
[75,"16 Ybbarpsån, nedstr Perstorp AB","2019-07-17",18,8.8000000000000007,93,7.26,0.65,4,38.9,150,47,5.6,37,900,null,1700,null,null,null,2019,7]
[75,"16 Ybbarpsån, nedstr Perstorp AB","2019-08-14",17,8,83,7.14,0.64,5.5,46.3,125,39,4.2,40,1400,null,2300,null,null,null,2019,8]
[75,"16 Ybbarpsån, nedstr Perstorp AB","2019-09-17",12.6,10.8,102,7.12,0.51,7.5,28.1,150,36,5,33,1800,null,2700,null,null,null,2019,9]
[75,"16 Ybbarpsån, nedstr Perstorp AB","2019-10-16",12.5,10.4,98,7.18,0.76,8,34.799999999999997,175,47,4.2,32,1300,null,2500,null,null,null,{"$f":"YEAR(C1031)","v":2019},{"$f":"MONTH(C1031)","v":10}]
[75,"16 Ybbarpsån, nedstr Perstorp AB","2019-11-13",5.3,12.3,97,7.11,0.66,8.6999999999999993,37.700000000000003,200,67,7.4,41,2800,null,3700,null,null,null,2019,11]
[75,"16 Ybbarpsån, nedstr Perstorp AB","2019-12-12",4.5999999999999996,11.6,90,6.95,0.37,10,20.9,250,67,14,52,1300,null,2100,null,null,null,2019,12]
[75,"16 Ybbarpsån, nedstr Perstorp AB","2020-01-13",5.2,12.9,102,6.92,0.3,7.9,18.5,200,63,8.4,32,1200,null,2000,null,null,null,2020,1]
[75,"16 Ybbarpsån, nedstr Perstorp AB","2020-02-10",5.5,12.2,97,6.88,0.25,7.5,18.2,300,83,9.3000000000000007,34,1100,null,2000,null,null,null,2020,2]
[75,"16 Ybbarpsån, nedstr Perstorp AB","2020-03-17",6.6,12.7,104,6.92,0.25,8.4,20.2,200,59,6.8,32,2100,null,2300,null,null,null,2020,3]
[75,"16 Ybbarpsån, nedstr Perstorp AB","2020-04-15",9,11.4,99,7.3,0.59,4.3,39.9,125,47,4.5,33,2300,null,3000,null,null,null,2020,4]
[75,"16 Ybbarpsån, nedstr Perstorp AB","2020-05-19",12.1,10.3,96,7.3,0.56000000000000005,5.8,33.799999999999997,125,36,3.8,5.6,920,null,2000,null,null,null,2020,5]
[75,"16 Ybbarpsån, nedstr Perstorp AB","2020-06-09",16.399999999999999,8.8000000000000007,90,7.4,0.6,5.2,44.6,125,36,5,45,2600,null,3500,null,null,null,2020,6]
[75,"16 Ybbarpsån, nedstr Perstorp AB","2020-07-15",17.2,9.5,99,7.15,0.55000000000000004,6.1,46.9,175,38,3.3,41,4200,null,5700,null,null,null,2020,7]
[75,"16 Ybbarpsån, nedstr Perstorp AB","2020-08-12",21.6,8.4,95,7.41,0.69,3.5,54.9,150,47,14,54,2000,null,2900,null,null,null,2020,8]
[75,"16 Ybbarpsån, nedstr Perstorp AB","2020-09-14",16.3,9.6999999999999993,99,7.24,0.51,5.0999999999999996,28.9,150,39,7.4,29,1400,null,2000,null,null,null,2020,9]
[75,"16 Ybbarpsån, nedstr Perstorp AB","2020-10-13",9.4,9.3000000000000007,81,7.24,0.64,5.5,36.9,125,37,8.4,35,1400,null,2300,null,null,null,2020,10]
[75,"16 Ybbarpsån, nedstr Perstorp AB","2020-11-10",10.8,10.9,99,7.36,0.62,7.8,36.9,125,40,8.1,32,1900,null,2800,null,null,null,2020,11]
[75,"16 Ybbarpsån, nedstr Perstorp AB","2020-12-16",6.8,11.9,98,7.23,0.56000000000000005,12,46.6,125,40,11,38,2300,null,3500,null,null,null,2020,12]
[75,"16 Ybbarpsån, nedstr Perstorp AB","2021-01-20",1.9,13.6,100,7.3,0.42611773960928284,10,26,220,47.400000000000006,null,41,1700,null,2200,null,null,null,2021,1]
[75,"16 Ybbarpsån, nedstr Perstorp AB","2021-02-24",3.1,13.4,99,7.1,0.44250688344040906,5.3,23,190,47.400000000000006,null,32,1200,null,1700,null,null,null,2021,2]
[75,"16 Ybbarpsån, nedstr Perstorp AB","2021-03-18",5.0999999999999996,12.8,99,7.3,0.44250688344040906,5,32,150,39.5,null,32,1400,null,1900,null,null,null,2021,3]
[75,"16 Ybbarpsån, nedstr Perstorp AB","2021-04-20",12.7,10.9,102,7.3,0.34417202045365153,2.8,30,130,39.5,null,40,1400,null,2000,null,null,null,2021,4]
[75,"16 Ybbarpsån, nedstr Perstorp AB","2021-05-19",14.5,10,98,7.3,0.39333945194703029,4.0999999999999996,25,150,51.35,null,31,400,null,1100,null,null,null,2021,5]
[75,"16 Ybbarpsån, nedstr Perstorp AB","2021-06-09",20.3,8.8000000000000007,96,7.5,0.54084174642716665,2.2999999999999998,43,160,63.2,null,42,720,null,1600,null,null,null,2021,6]
[75,"16 Ybbarpsån, nedstr Perstorp AB","2021-07-13",23.7,8.1,96,7.5,0.5080634587649141,3.6,20,180,55.300000000000004,null,28,230,null,940,null,null,null,2021,7]
[75,"16 Ybbarpsån, nedstr Perstorp AB","2021-08-24",18.100000000000001,9.1999999999999993,96,7.4,0.54098360655737709,3.4,33,160,55.300000000000004,null,33,1200,null,1900,null,null,null,2021,8]
[75,"16 Ybbarpsån, nedstr Perstorp AB","2021-09-16",17,9.3000000000000007,96,7.5,0.65573770491803274,3.1,53,150,55.300000000000004,null,46,2400,null,3400,null,null,null,2021,9]
[75,"16 Ybbarpsån, nedstr Perstorp AB","2021-10-21",12.1,10.1,98,7.3,0.60655737704918034,6.8,28,170,47.400000000000006,null,100,2200,null,2800,null,null,null,2021,10]
[75,"16 Ybbarpsån, nedstr Perstorp AB","2021-11-22",6.2,12.4,100,7.2,0.32786885245901637,6.3,26,220,55.300000000000004,null,45,1100,null,1700,null,null,null,2021,11]
[75,"16 Ybbarpsån, nedstr Perstorp AB","2021-12-08",2.6,13.2,97,6.9,0.24590163934426229,6.5,18,250,67.150000000000006,null,35,800,null,1300,"",null,null,2021,12]
[75,"16 Ybbarpsån, nedstr Perstorp AB","2022-01-19",2.8,13.6,100,7.1,0.24590163934426229,8.3000000000000007,22,250,51.35,"",28,890,null,1300,"",null,null,2022,1]
[75,"16 Ybbarpsån, nedstr Perstorp AB","2022-02-08",2.9,13.4,99,6.9,0.18032786885245902,7.3,18,200,55.300000000000004,null,32,1100,null,1600,null,null,null,2022,2]
[75,"16 Ybbarpsån, nedstr Perstorp AB","2022-03-16",7,12.3,99,7.4,0.45901639344262296,4.3,39,150,43.45,"",33,760,null,1400,"","",null,2022,3]
[75,"16 Ybbarpsån, nedstr Perstorp AB","2022-04-21",12.1,10.7,99,7.3,0.42622950819672129,3.3,43,180,51.35,null,40,860,null,1200,null,null,null,2022,4]
[75,"16 Ybbarpsån, nedstr Perstorp AB","2022-05-16",16.899999999999999,9.8000000000000007,101,7.5,0.45901639344262296,3.6,47,140,43.45,null,63,2600,null,3400,null,null,null,2022,5]
[75,"16 Ybbarpsån, nedstr Perstorp AB","2022-06-17",19.3,9,97,7.4,0.47540983606557374,3.5,40,160,63.2,null,39,2300,null,3000,null,null,null,2022,6]
[75,"16 Ybbarpsån, nedstr Perstorp AB","2022-07-07",20.100000000000001,8.8000000000000007,97,7.4,0.52459016393442626,4.2,34,190,51.35,null,49,420,null,1200,null,null,null,2022,7]
[75,"16 Ybbarpsån, nedstr Perstorp AB","2022-08-26",21.4,8.5,96,7.5,0.54,3.1,41,150,67.150000000000006,null,23,2100,null,2600,null,null,null,2022,8]
[75,"16 Ybbarpsån, nedstr Perstorp AB","2022-09-19",14.3,10,98,7.5,0.52459016393442626,4.5,34,160,51.35,null,30,2100,null,2600,null,null,null,2022,9]
[75,"16 Ybbarpsån, nedstr Perstorp AB","2022-10-19",11.4,10.199999999999999,90,7.5,0.54098360655737709,5.3,30,150,55.300000000000004,null,25,1300,null,1700,null,null,null,2022,10]
[75,"16 Ybbarpsån, nedstr Perstorp AB","2022-11-18",5.7,12.5,99,7.5,0.65573770491803274,11,32,140,32.39,null,23,1200,null,1500,null,null,null,2022,11]
[75,"16 Ybbarpsån, nedstr Perstorp AB","2022-12-21",4,12.8,98,7.3,0.63934426229508201,11,33,220,55.300000000000004,null,34,1700,null,2600,null,null,null,2022,12]
[75,"16 Ybbarpsån, nedstr Perstorp AB","2023-01-11",5,12.7,100,7.2,0.22950819672131148,11,17,180,71.100000000000009,null,44,1300,null,1800,null,null,null,2023,1]
[75,"16 Ybbarpsån, nedstr Perstorp AB","2023-02-16",4.2,12.5,97,7.1,0.29508196721311475,5.9,21,160,67.150000000000006,null,42,1500,null,1700,null,null,null,2023,2]
[75,"16 Ybbarpsån, nedstr Perstorp AB","2023-03-15",3.8,13.2,101,7.2,0.34426229508196721,4.7,23,160,59.25,null,26,750,null,1200,null,null,null,2023,3]
[75,"16 Ybbarpsån, nedstr Perstorp AB","2023-04-13",9,11.3,99,7.3,0.37704918032786883,4.8,25,150,59.25,null,38,1100,null,1700,null,null,null,2023,4]
[75,"16 Ybbarpsån, nedstr Perstorp AB","2023-05-10",13.8,9.9,97,7.6,0.54098360655737709,2.8,30,120,47.400000000000006,null,32,370,null,1100,null,null,null,2023,5]
[75,"16 Ybbarpsån, nedstr Perstorp AB","2023-06-14",20.5,8.8000000000000007,98,7.5,0.60655737704918034,3.5,41,150,55.300000000000004,null,47,3000,null,3700,null,null,null,2023,6]
[75,"16 Ybbarpsån, nedstr Perstorp AB","2023-07-13",20.6,9.6999999999999993,87,7.4,0.65573770491803274,3.5,45,130,43.45,null,49,1900,null,2400,null,null,null,2023,7]
[75,"16 Ybbarpsån, nedstr Perstorp AB","2023-08-10",14.7,10.199999999999999,112,7.3,0.39344262295081966,7.9,16,160,43.45,null,51,310,null,770,null,null,null,2023,8]
[75,"16 Ybbarpsån, nedstr Perstorp AB","2023-09-14",17.7,9.1,95,7.4,0.62295081967213117,7.5,32,240,63.2,null,38,1900,null,2500,null,null,null,2023,9]
[75,"16 Ybbarpsån, nedstr Perstorp AB","2023-10-18",9.9,10.7,96,7.5,0.54098360655737709,6.9,29,220,59.25,null,34,2100,null,2500,null,null,null,2023,10]
[75,"16 Ybbarpsån, nedstr Perstorp AB","2023-11-15",6.3,11.9,98,7,0.29508196721311475,7.3,15,280,118.5,null,41,750,null,1400,null,null,null,2023,11]
[80,"17 Ybbarpsån, Storarydsdammens utl","2013-02-12",0.7,14,97.566319117715011,7.05,0.44314920000000002,6.4,25.8,100,55,null,25,1200,null,1900,null,null,null,2013,2]
[80,"17 Ybbarpsån, Storarydsdammens utl","2013-04-17",8.9,10.3,89.163852668856563,7.38,0.73947599999999991,5.8,44,70,38,null,17,1700,null,2600,null,null,null,2013,4]
[80,"17 Ybbarpsån, Storarydsdammens utl","2013-07-10",20.7,9.6,106.86698113193404,7.6,0.63727200000000006,4.0999999999999996,37.799999999999997,125,59,null,16,1700,null,3200,null,null,null,2013,7]
[80,"17 Ybbarpsån, Storarydsdammens utl","2013-08-14",19,7.2,77.638843832766014,7.24,0.71542799999999995,4.3,40.6,125,47,null,26,1900,null,3200,null,null,null,2013,8]
[80,"17 Ybbarpsån, Storarydsdammens utl","2013-09-12",16.600000000000001,8.9,91.52423989235443,7.34,0.72945599999999999,4.2,37.200000000000003,100,43,null,23,1700,null,2900,null,null,null,2013,9]
[80,"17 Ybbarpsån, Storarydsdammens utl","2013-11-20",5.5,11,87.394666387292574,7.25,0.56312399999999996,5.2,34.299999999999997,125,47,null,24,2000,null,2900,null,null,null,2013,11]
[80,"17 Ybbarpsån, Storarydsdammens utl","2014-02-26",3.8,12.5,94.932288771967038,6.86,0.24321000000000001,5.7,20,100,26,null,24,1500,null,2000,null,null,null,2014,2]
[80,"17 Ybbarpsån, Storarydsdammens utl","2014-04-15",8.3000000000000007,11.2,95.539229649066584,6.96,0.64521000000000006,3.9,22.1,100,51,null,18,1100,null,1900,null,null,null,2014,4]
[80,"17 Ybbarpsån, Storarydsdammens utl","2014-07-23",22.9,8.8000000000000007,101.86375618514725,7.48,0.60098999999999991,3.9,36.700000000000003,175,55,null,23,1900,null,3400,null,null,null,2014,7]
[80,"17 Ybbarpsån, Storarydsdammens utl","2014-08-13",14.6,6.6,65.094435171130897,6.74,0.42813000000000001,8.1999999999999993,21.9,225,79,null,33,640,null,1800,null,null,"mossa utplanterad 2014-08-14",2014,8]
[80,"17 Ybbarpsån, Storarydsdammens utl","2014-09-24",14.2,8.4,82.137678316998702,7.08,0.4824,7.7,30.4,200,71,null,32,810,null,1800,null,null,null,2014,9]
[80,"17 Ybbarpsån, Storarydsdammens utl","2014-11-12",8.9,9.4,81.37283641623803,7.01,0.42612,8.5,24.9,250,100,null,29,860,null,2200,null,null,null,2014,11]
[80,"17 Ybbarpsån, Storarydsdammens utl","2015-02-12",2.6,12.8,94.082245280108594,6.88,0.32224000000000003,5.4,21.4,175,71,null,22,920,null,2000,null,null,null,2015,2]
[80,"17 Ybbarpsån, Storarydsdammens utl","2015-04-15",8.6,10.9,93.668643855575581,7.17,0.39877200000000002,4.9000000000000004,25.2,150,59,null,30,1400,null,2300,null,null,null,2015,4]
[80,"17 Ybbarpsån, Storarydsdammens utl","2015-07-15",18.600000000000001,8.3000000000000007,88.813630576442691,7.38,0.52162599999999992,4.7,32.4,225,71,null,25,2000,null,3400,null,null,null,{"$f":"YEAR(C1095)","v":2015},{"$f":"MONTH(C1095)","v":7}]
[80,"17 Ybbarpsån, Storarydsdammens utl","2015-08-12",19.2,9.1999999999999993,99.58495360346673,7.47,0.61024199999999995,5.0999999999999996,33.299999999999997,250,75,null,31,1700,null,2900,null,null,null,2015,8]
[80,"17 Ybbarpsån, Storarydsdammens utl","2015-09-16",15.1,8.6999999999999993,86.724073910015122,7.27,0.67469000000000012,6.3,48.5,175,67,null,32,3500,null,4800,null,null,null,2015,9]
[80,"17 Ybbarpsån, Storarydsdammens utl","2015-11-11",10.4,10.1,90.633620900585811,7.31,0.60621399999999992,6.9,45.5,125,47,null,25,3400,null,4100,null,null,null,2015,11]
[80,"17 Ybbarpsån, Storarydsdammens utl","2016-02-18",2.7,12.9,95.078683123994011,6.81,0.24168000000000001,4.5,16.5,150,63,null,25,500,null,1300,null,null,null,2016,2]
[80,"17 Ybbarpsån, Storarydsdammens utl","2016-04-13",9.4,10.6,92.879328226643992,7.34,0.49947200000000003,3.8,37.1,100,55,null,30,1600,null,3000,null,null,null,2016,4]
[80,"17 Ybbarpsån, Storarydsdammens utl","2016-07-13",18.5,8.3000000000000007,88.641656795085879,7.3,0.67802800000000008,5,38,175,38,null,33,1000,null,2100,null,null,null,2016,7]
[80,"17 Ybbarpsån, Storarydsdammens utl","2016-08-17",17.399999999999999,9.1999999999999993,96.148499485506619,7.36,0.74021400000000015,5.6,42,150,33,null,25,830,null,1800,null,null,null,2016,8]
[80,"17 Ybbarpsån, Storarydsdammens utl","2016-09-14",17.899999999999999,8.1,85.496417001845458,7.41,0.71413599999999999,3.5,52.7,125,51,null,20,910,null,2100,null,null,null,2016,9]
[80,"17 Ybbarpsån, Storarydsdammens utl","2016-11-08",3.8,10.8,82.021497498979528,7.27,0.54964400000000002,5.5,34.299999999999997,125,35,null,30,430,null,1500,null,null,null,2016,11]
[80,"17 Ybbarpsån, Storarydsdammens utl","2017-02-14",1.1000000000000001,13,91.632110447395888,7.13,0.54763800000000007,6.3,44.2,100,43,null,31,1200,null,2300,null,null,null,2017,2]
[80,"17 Ybbarpsån, Storarydsdammens utl","2017-04-19",6.7,11.5,94.23972606010264,7.17,0.30491200000000002,3.9,25.6,100,47,null,37,1000,null,1600,null,null,null,2017,4]
[80,"17 Ybbarpsån, Storarydsdammens utl","2017-07-12",19.2,9,97.420063307739198,7.56,0.61784800000000006,4.9000000000000004,37.799999999999997,175,47,null,25,920,null,1700,null,null,null,2017,7]
[80,"17 Ybbarpsån, Storarydsdammens utl","2017-08-16",19,8.6999999999999993,93.813602964592263,7.21,0.5416200000000001,4.6500000000000004,26.35,175,67,null,30,260,null,1200,null,null,null,2017,8]
[80,"17 Ybbarpsån, Storarydsdammens utl","2017-09-20",13.3,8.6999999999999993,83.414802766612794,6.85,0.357068,10.4,14.8,225,67,null,36,350,null,1200,null,null,null,2017,9]
[80,"17 Ybbarpsån, Storarydsdammens utl","2017-11-09",6.7,11.6,95.059201938886133,6.69,0.23470200000000002,7.2,13.1,300,110,null,24,300,null,1400,null,null,null,2017,11]
[80,"17 Ybbarpsån, Storarydsdammens utl","2018-02-14",2.2000000000000002,12.2,89,6.78,0.3,6.2,19.149999999999999,200,71,null,25,940,null,1700,null,null,null,2018,2]
[80,"17 Ybbarpsån, Storarydsdammens utl","2018-04-18",11,10,91,7.2,0.37,4.3,26.6,125,43,null,26,1100,null,1800,null,null,null,2018,4]
[80,"17 Ybbarpsån, Storarydsdammens utl","2018-07-19",21.6,9.4,106,7.69,0.62,3.8,49.7,150,43,null,27,450,null,1500,null,null,null,2018,7]
[80,"17 Ybbarpsån, Storarydsdammens utl","2018-08-15",19.5,6.5,71,7.24,0.6,4.0999999999999996,49.7,150,47,null,28,360,null,1600,null,null,null,2018,8]
[80,"17 Ybbarpsån, Storarydsdammens utl","2018-09-12",16.600000000000001,6.5,67,7.09,0.45,4.4000000000000004,60.1,150,47,null,23,710,null,1900,null,null,null,2018,9]
[80,"17 Ybbarpsån, Storarydsdammens utl","2018-11-14",8.9,9.3000000000000007,81,7.21,0.67,4.0999999999999996,46.3,85,30,null,21,1100,null,1700,null,null,null,2018,11]
[80,"17 Ybbarpsån, Storarydsdammens utl","2019-02-13",2.6,11.8,87,6.83,0.33,7.5,27.6,100,43,null,22,1300,null,2100,null,null,null,2019,2]
[80,"17 Ybbarpsån, Storarydsdammens utl","2019-04-09",8.4,11,94,7.08,0.36,3.9,29.7,100,47,null,36,1500,null,2300,null,null,null,2019,4]
[80,"17 Ybbarpsån, Storarydsdammens utl","2019-07-17",19.2,8.9,96,7.5,0.67,3.2,42.2,150,47,null,25,970,null,1800,null,null,null,2019,7]
[80,"17 Ybbarpsån, Storarydsdammens utl","2019-08-14",18.600000000000001,6.5,70,7.17,0.66,4.7,40.200000000000003,125,43,null,33,1100,null,2200,null,null,null,2019,8]
[80,"17 Ybbarpsån, Storarydsdammens utl","2019-09-17",14.3,9.1,89,7.08,0.51,7.8,32.700000000000003,150,43,null,40,1700,null,2800,null,null,null,2019,9]
[80,"17 Ybbarpsån, Storarydsdammens utl","2019-11-13",5.7,11.5,92,6.95,0.4,7.1,20.8,225,67,null,31,1300,null,2100,null,null,null,2019,11]
[80,"17 Ybbarpsån, Storarydsdammens utl","2020-02-13",4.2,12.9,99,6.76,0.23,6.5,15.1,200,71,null,29,1000,null,1700,null,null,null,2020,2]
[80,"17 Ybbarpsån, Storarydsdammens utl","2020-04-15",9,10.8,94,7.23,0.45,5.2,35.200000000000003,150,51,null,34,1900,null,3200,null,null,null,2020,4]
[80,"17 Ybbarpsån, Storarydsdammens utl","2020-07-15",17.399999999999999,9.6,100,7.41,0.61,6.2,37.799999999999997,200,47,null,35,1500,null,2600,null,null,null,2020,7]
[80,"17 Ybbarpsån, Storarydsdammens utl","2020-08-12",21.5,9.6999999999999993,110,7.66,0.61,3.1,40.700000000000003,150,null,null,null,null,null,null,null,null,null,2020,8]
[80,"17 Ybbarpsån, Storarydsdammens utl","2020-09-14",15.8,8.1999999999999993,83,7.22,1.92,5.8,36.1,150,43,null,32,1000,null,1800,null,null,null,2020,9]
[80,"17 Ybbarpsån, Storarydsdammens utl","2020-11-10",9.8000000000000007,9.4,83,7.12,0.5,5.3,26.7,150,51,null,30,1800,null,2700,null,null,null,2020,11]
[80,"17 Ybbarpsån, Storarydsdammens utl","2021-02-24",2.4,13.6,98,7.2,0.40972859577815657,5,26,190,51.35,null,34,1400,null,1900,null,null,null,2021,2]
[80,"17 Ybbarpsån, Storarydsdammens utl","2021-04-20",11.9,11.2,103,7.2,0.32778287662252525,3.1,26,130,43.45,null,26,1200,null,1600,null,null,null,2021,4]
[80,"17 Ybbarpsån, Storarydsdammens utl","2021-07-13",23.5,9.1999999999999993,108,7.7,0.62278746558279796,2.4,42,160,63.2,null,23,670,null,1700,null,null,null,2021,7]
[80,"17 Ybbarpsån, Storarydsdammens utl","2021-08-24",17.2,8.6,88,7.1,0.39344262295081966,3.6,28,180,79,null,25,1100,null,1800,null,null,null,2021,8]
[80,"17 Ybbarpsån, Storarydsdammens utl","2021-09-16",17,8.1,84,7.5,0.57377049180327866,2.2999999999999998,41,140,59.25,null,32,1300,null,2000,null,null,null,2021,9]
[80,"17 Ybbarpsån, Storarydsdammens utl","2021-11-22",6.8,12.2,99,7.2,0.32786885245901637,5.7,24,220,51.35,null,38,1000,null,1600,null,null,null,2021,11]
[80,"17 Ybbarpsån, Storarydsdammens utl","2022-02-08",2.8,13.2,98,6.9,0.18032786885245902,5.9,17,200,55.300000000000004,null,31,1100,null,1500,null,null,null,2022,2]
[80,"17 Ybbarpsån, Storarydsdammens utl","2022-04-21",11.1,11.1,100,7.3,0.29508196721311475,3.5,21,140,55.300000000000004,null,26,610,null,890,null,null,null,2022,4]
[80,"17 Ybbarpsån, Storarydsdammens utl","2022-07-07",19.399999999999999,7.5,82,7.3,0.50819672131147542,4.8,34,200,67.150000000000006,null,35,400,null,1300,null,null,null,2022,7]
[80,"17 Ybbarpsån, Storarydsdammens utl","2022-08-26",21.6,8.9,102,7.7,0.62,2.7,39,120,59.25,null,18,1200,null,1700,null,null,null,2022,8]
[80,"17 Ybbarpsån, Storarydsdammens utl","2022-09-19",14.7,8.6999999999999993,85,7.6,0.50819672131147542,5.9,37,170,51.35,null,34,1700,null,2200,null,null,null,2022,9]
[80,"17 Ybbarpsån, Storarydsdammens utl","2022-11-18",8,11.6,98,7.6,0.55737704918032782,7.2,31,140,33.575000000000003,null,48,1600,null,1900,null,null,null,2022,11]
[80,"17 Ybbarpsån, Storarydsdammens utl","2023-02-16",3.9,11.9,91,7.1,0.29508196721311475,5.6,20,160,67.150000000000006,null,27,1100,null,1500,null,null,null,2023,2]
[80,"17 Ybbarpsån, Storarydsdammens utl","2023-04-13",8.6,11.2,97,7.3,0.29508196721311475,3.4,19,140,51.35,null,29,670,null,1100,null,null,null,2023,4]
[80,"17 Ybbarpsån, Storarydsdammens utl","2023-07-13",20.100000000000001,9.6999999999999993,106,7.7,0.5901639344262295,4.2,40,140,43.45,null,32,1700,null,2100,null,null,null,2023,7]
[80,"17 Ybbarpsån, Storarydsdammens utl","2023-08-10",14.8,8,88,7.2,0.42622950819672129,5.5,26,230,75.05,null,29,610,null,1400,null,null,null,2023,8]
[80,"17 Ybbarpsån, Storarydsdammens utl","2023-09-14",17.899999999999999,7.2,76,7.3,0.62295081967213117,4.7,36,230,63.2,null,37,2200,null,2700,null,null,null,2023,9]
[80,"17 Ybbarpsån, Storarydsdammens utl","2023-11-15",6.6,11.3,94,6.9,0.22950819672131148,6.3,14,280,138.25,null,40,630,null,1400,null,null,null,2023,11]
[85,"22 Ybbarpsån, vid Herrevadskloster","2013-01-16",1,12.2,85.750019838485429,6.9,0.37096200000000001,6.4,19.600000000000001,150,71,null,24,1100,null,1800,null,null,null,2013,1,null,0.307]
[85,"22 Ybbarpsån, vid Herrevadskloster","2013-02-12",1.3,13.3,94.277811265749904,7.03,0.45322039999999997,5.7,23.8,125,59,null,16,1000,null,1800,null,null,null,2013,2,null,0.26]
[85,"22 Ybbarpsån, vid Herrevadskloster","2013-03-13",3,11.3,83.974259456367378,7.12,0.55711199999999994,5.7,24.9,100,51,null,15,1000,null,1600,null,null,null,2013,3,null,0.23599999999999999]
[85,"22 Ybbarpsån, vid Herrevadskloster","2013-04-17",9.9,10,88.678568688461766,7.28,0.58717200000000003,5.6,27.1,125,55,null,27,800,null,1600,null,null,null,2013,4,null,0.23799999999999999]
[85,"22 Ybbarpsån, vid Herrevadskloster","2013-05-14",13.4,9.6,92.247140376117429,7.5,0.72945599999999999,3.8,34.1,85,31,null,21,840,null,1500,null,null,null,2013,5,null,0.17899999999999999]
[85,"22 Ybbarpsån, vid Herrevadskloster","2013-06-11",20.100000000000001,8.6,94.681040229102692,7.48,0.847692,2.2999999999999998,37.200000000000003,70,40,null,22,490,null,1200,null,null,null,2013,6,null,0.13200000000000001]
[85,"22 Ybbarpsån, vid Herrevadskloster","2013-07-10",19.8,8.1,88.678094924310344,7.42,0.85570800000000002,3.9,37,100,47,null,23,400,null,1300,null,null,null,2013,7,null,0.188]
[85,"22 Ybbarpsån, vid Herrevadskloster","2013-08-15",16.7,9,92.741152544928724,7.44,0.90781199999999995,10,37.700000000000003,150,75,null,36,240,null,1700,null,null,null,2013,8,null,0.27700000000000002]
[85,"22 Ybbarpsån, vid Herrevadskloster","2013-09-11",16.8,9.1999999999999993,94.994713075955715,7.53,0.85370399999999991,7.5,37.700000000000003,70,47,null,21,200,null,1300,null,null,null,2013,9,null,0.13700000000000001]
[85,"22 Ybbarpsån, vid Herrevadskloster","2013-10-15",10.1,10.5,93.55660057190039,7.25,0.81362400000000012,6.4,34,100,55,null,24,710,null,1600,null,null,null,2013,10,null,0.21]
[85,"22 Ybbarpsån, vid Herrevadskloster","2013-11-19",6.4,11.5,93.519661284636371,7.45,0.33266399999999996,4.8,30.6,100,59,null,20,840,null,1700,null,null,null,2013,11,null,0.22900000000000001]
[85,"22 Ybbarpsån, vid Herrevadskloster","2013-12-12",3.3,12.8,95.90307833971103,7.11,0.51101999999999992,14,28.8,150,63,null,37,1100,null,2400,null,null,null,2013,12,null,0.246]
[85,"22 Ybbarpsån, vid Herrevadskloster","2014-01-14",2.5,13.1,96.022078393761475,7.01,0.40602000000000005,6,24.9,125,67,null,21,1200,null,2000,null,null,null,{"$f":"YEAR(C1159)","v":2014},{"$f":"MONTH(C1159)","v":1},null,0.28000000000000003]
[85,"22 Ybbarpsån, vid Herrevadskloster","2014-02-18",2.6,12.9,94.817262821359435,6.93,0.33165,4,20.9,125,59,null,20,1000,null,2100,null,null,null,2014,2,null,0.255]
[85,"22 Ybbarpsån, vid Herrevadskloster","2014-03-13",7.1,11.6,96.029467883867582,7.21,0.34974000000000005,4.8,21.3,125,51,null,19,1300,null,2000,null,null,null,2014,3,null,0.247]
[85,"22 Ybbarpsån, vid Herrevadskloster","2014-04-15",7.4,11.1,92.58783289837524,6.94,0.38793,5.5,24.2,100,67,null,20,1300,null,2100,null,null,null,2014,4,null,0.24199999999999999]
[85,"22 Ybbarpsån, vid Herrevadskloster","2014-05-13",12.8,9.9,93.872045770493756,6.97,0.4824,10,21,175,87,null,40,760,null,2000,null,null,null,2014,5,null,0.36099999999999999]
[85,"22 Ybbarpsån, vid Herrevadskloster","2014-06-10",21.3,8.3000000000000007,93.407161532049926,7.33,0.51858000000000004,3.3,22.8,125,130,null,16,440,null,1500,null,null,null,2014,6,null,0.28999999999999998]
[85,"22 Ybbarpsån, vid Herrevadskloster","2014-07-23",23,7.6,88.124605590334397,7.28,0.70350000000000013,2.5,32.200000000000003,125,140,null,22,560,null,1500,null,null,null,2014,7,null,0.30099999999999999]
[85,"22 Ybbarpsån, vid Herrevadskloster","2014-08-14",18.8,8.1999999999999993,88.083040480877045,7.25,0.63516000000000006,5.6,30,150,79,null,30,590,null,1700,null,null,null,2014,8,null,0.315]
[85,"22 Ybbarpsån, vid Herrevadskloster","2014-09-24",13.1,9.5,90.682841281744999,7.19,1.1055000000000001,6.5,27.8,175,79,null,31,700,null,1500,null,null,null,2014,9,null,0.38500000000000001]
[85,"22 Ybbarpsån, vid Herrevadskloster","2014-10-14",11.6,9.6,88.5865764370227,7.03,0.63114000000000003,9.6999999999999993,26.1,250,110,null,49,790,null,2200,null,null,null,2014,10,null,0.48299999999999998]
[85,"22 Ybbarpsån, vid Herrevadskloster","2014-11-11",9.1,10.199999999999999,88.728500593534861,7.18,0.50651999999999997,6.6,23.06,250,100,null,32,870,null,2000,null,null,null,2014,11,null,0.51100000000000001]
[85,"22 Ybbarpsån, vid Herrevadskloster","2014-12-09",3.9,12.3,93.665315358700624,7.07,0.50651999999999997,8.5,22.4,250,110,null,32,850,null,2000,null,null,null,2014,12,null,0.52800000000000002]
[85,"22 Ybbarpsån, vid Herrevadskloster","2015-01-20",2.7,11.6,85.497110406072125,6.66,0.21507000000000001,5,14.6,200,91,5,28,840,null,1900,null,null,null,2015,1]
[85,"22 Ybbarpsån, vid Herrevadskloster","2015-02-10",2.8,12.7,93.862206038136648,6.86,0.31418400000000002,4.5,16.399999999999999,175,79,3,19,850,null,1800,null,null,null,2015,2]
[85,"22 Ybbarpsån, vid Herrevadskloster","2015-03-17",6.7,11.3,92.60077430253564,7.23,0.39273000000000002,7.6,21.3,175,75,5,25,1200,null,2100,null,null,null,2015,3]
[85,"22 Ybbarpsån, vid Herrevadskloster","2015-04-14",7.3,11.6,96.515342089743982,7.36,0.38668799999999998,5.3,20.9,175,79,5,28,1100,null,1900,null,null,null,2015,4]
[85,"22 Ybbarpsån, vid Herrevadskloster","2015-05-12",14.6,10,98.627932077471058,7.28,0.43099600000000005,6.1,20.7,150,71,2.4,33,1000,null,1700,null,null,null,2015,5]
[85,"22 Ybbarpsån, vid Herrevadskloster","2015-06-09",16,9,91.419466760417734,7.24,0.45919199999999999,5.3,24.9,200,71,2.9,35,1400,null,2500,null,null,null,2015,6]
[85,"22 Ybbarpsån, vid Herrevadskloster","2015-07-15",18.100000000000001,8.1999999999999993,86.892949669241617,7.33,0.62031200000000009,4.4000000000000004,29.3,200,75,"<2",28,960,null,2100,null,null,null,2015,7]
[85,"22 Ybbarpsån, vid Herrevadskloster","2015-08-13",18.8,8.1999999999999993,88.083040480877045,7.31,0.68476000000000004,3.6,29.8,200,79,2.8,31,780,null,1800,null,null,null,2015,8]
[85,"22 Ybbarpsån, vid Herrevadskloster","2015-09-15",15.2,9.3000000000000007,92.901074816880438,7.47,0.70691400000000004,4.7,33.6,175,71,2,30,1000,null,2200,null,null,null,2015,9]
[85,"22 Ybbarpsån, vid Herrevadskloster","2015-10-13",8.6999999999999993,9.9,85.283783402474043,7.29,0.71899800000000003,5.8,37.200000000000003,125,71,2.4,31,1500,null,2500,null,null,null,2015,10]
[85,"22 Ybbarpsån, vid Herrevadskloster","2015-11-11",11.4,9.6999999999999993,89.098313323722223,7.09,0.62836800000000004,11,30.6,225,83,5.5,43,1600,null,2700,null,null,null,2015,11]
[85,"22 Ybbarpsån, vid Herrevadskloster","2015-12-08",5.5,10.6,84.216678518663755,6.82,0.35647800000000002,6.2,23,175,95,2.8,31,1400,null,2500,null,null,null,2015,12]
[85,"22 Ybbarpsån, vid Herrevadskloster","2016-01-20",1,12.9,90.670102943972296,6.9,0.38591999999999999,6.6,20.3,200,83,5.3,34,1200,null,2200,null,null,null,2016,1]
[85,"22 Ybbarpsån, vid Herrevadskloster","2016-02-17",2,12.4,89.639572764676089,6.88,0.32626799999999995,4.0999999999999996,18,125,67,2.1,25,920,null,1800,null,null,null,2016,2]
[85,"22 Ybbarpsån, vid Herrevadskloster","2016-03-16",5.6,11.8,93.995429661789487,7.03,0.35446400000000006,4.0999999999999996,18.3,125,63,2.6,22,960,null,1700,null,null,null,2016,3]
[85,"22 Ybbarpsån, vid Herrevadskloster","2016-04-13",9.6,10.9,95.968482402734708,7.24,0.44106600000000001,4.4000000000000004,21.4,125,59,2.2000000000000002,29,1100,null,1900,null,null,null,2016,4]
[85,"22 Ybbarpsån, vid Herrevadskloster","2016-05-17",13.7,10.1,97.69289193326621,7.42,0.58775800000000011,3.9,29.9,125,59,2.2999999999999998,32,830,null,1900,null,null,null,2016,5]
[85,"22 Ybbarpsån, vid Herrevadskloster","2016-06-14",16.5,8.6999999999999993,89.285162577989894,7.59,0.74422600000000005,2.7,36.200000000000003,100,35,3.2,24,410,null,1500,null,null,null,2016,6]
[85,"22 Ybbarpsån, vid Herrevadskloster","2016-07-13",19.100000000000001,9,97.234377243439013,7.26,0.69808800000000004,4.8,35.700000000000003,175,40,4.9000000000000004,41,360,null,1500,null,null,null,2016,7]
[85,"22 Ybbarpsån, vid Herrevadskloster","2016-08-18",17.3,9.1,94.913455109865339,7.64,0.88665200000000011,2.4,39.299999999999997,100,35,"<2",22,260,null,1200,null,null,null,2016,8]
[85,"22 Ybbarpsån, vid Herrevadskloster","2016-09-14",18.7,8.6999999999999993,93.273944028786289,7.72,0.93078400000000006,2.2999999999999998,41,100,55,3.1,18,210,null,1200,null,null,null,2016,9]
[85,"22 Ybbarpsån, vid Herrevadskloster","2016-10-12",8.4,11,94.064693173872669,7.61,0.87060400000000004,3.4,43.7,125,47,2.6,26,350,null,1300,null,null,null,2016,10]
[85,"22 Ybbarpsån, vid Herrevadskloster","2016-11-08",2.2999999999999998,12.7,92.57661156981348,7.37,0.70210000000000006,4.3,37.6,100,35,4.2,19,690,null,1500,null,null,null,2016,11]
[85,"22 Ybbarpsån, vid Herrevadskloster","2016-12-14",4.0999999999999996,12.3,94.169824651358752,7.31,0.61784800000000006,5.4,33.799999999999997,100,47,5.5,23,590,null,1500,null,null,null,2016,12]
[85,"22 Ybbarpsån, vid Herrevadskloster","2017-01-18",2.2999999999999998,12,87.473963688012745,7.31,0.66799800000000009,5.6,37.200000000000003,100,51,2.9,23,800,null,1600,null,null,null,2017,1]
[85,"22 Ybbarpsån, vid Herrevadskloster","2017-02-16",2.7,13,95.815727179218769,7.21,0.64192000000000005,5.5,38,85,39,4.7,19,1100,null,1500,null,null,null,2017,2]
[85,"22 Ybbarpsån, vid Herrevadskloster","2017-03-14",5.0999999999999996,11.1,87.269652283376956,7.03,0.39518200000000009,4.2,23.5,100,51,2.1,24,770,null,1400,null,null,null,2017,3]
[85,"22 Ybbarpsån, vid Herrevadskloster","2017-04-19",6.2,12.2,98.703624833754759,7.2,0.36509200000000008,4.7,22.6,125,47,"<2",28,560,null,1300,null,null,null,2017,4]
[85,"22 Ybbarpsån, vid Herrevadskloster","2017-05-10",10.7,10.9,98.504717427577631,7.28,0.51153000000000004,4.4000000000000004,25.6,100,39,3.4,28,480,null,1200,null,null,null,2017,5]
[85,"22 Ybbarpsån, vid Herrevadskloster","2017-06-20",20,8.6999999999999993,95.603749126496211,7.49,0.54763800000000007,4.4000000000000004,31.2,100,40,2.2999999999999998,25,250,null,1100,null,null,null,2017,6]
[85,"22 Ybbarpsån, vid Herrevadskloster","2017-07-12",19.100000000000001,8.4,90.752085427209735,7.49,0.67401600000000006,4.5,36.5,100,40,"<2",28,280,null,1100,null,null,null,2017,7]
[85,"22 Ybbarpsån, vid Herrevadskloster","2017-08-17",18.2,8.6,91.310289634184088,7.44,0.74021400000000015,4.5,32.700000000000003,150,63,"<2",30,220,null,1100,null,null,null,2017,8]
[85,"22 Ybbarpsån, vid Herrevadskloster","2017-09-20",13.9,7.6,73.833005372359693,6.87,0.54964400000000002,5.2,26.5,200,79,4.2,44,340,null,1500,null,null,null,2017,9]
[85,"22 Ybbarpsån, vid Herrevadskloster","2017-10-10",10.8,10.5,95.112191307266656,7.04,0.53159000000000001,7.6,20.5,300,95,9.1999999999999993,36,360,null,1600,null,null,null,2017,10]
[85,"22 Ybbarpsån, vid Herrevadskloster","2017-11-09",6.5,10.199999999999999,83.160642972506764,6.72,0.31093000000000004,5.4,15.3,300,110,9.4,20,260,null,1500,null,null,null,2017,11]
[85,"22 Ybbarpsån, vid Herrevadskloster","2017-12-19",2.7,12.9,95.078683123994011,6.62,0.22467200000000001,4.9000000000000004,13.5,250,59,8.6999999999999993,27,440,null,1400,null,null,null,2017,12]
[85,"22 Ybbarpsån, vid Herrevadskloster","2018-01-09",2.5,11.9,87,6.6,0.25,5.0999999999999996,14.2,225,83,14,32,680,null,1500,null,null,null,2018,1]
[85,"22 Ybbarpsån, vid Herrevadskloster","2018-02-15",1.9,11.4,82,6.79,0.35,6,16.100000000000001,225,63,5.9,32,760,null,1700,null,null,null,2018,2]
[85,"22 Ybbarpsån, vid Herrevadskloster","2018-03-20",3.5,12.1,91,7.11,0.47,7,21.7,175,55,7.8,33,960,null,1700,null,null,null,2018,3]
[85,"22 Ybbarpsån, vid Herrevadskloster","2018-04-18",11.6,9.6999999999999993,90,7.11,0.42,5.4,24.3,125,51,3.5,33,750,null,1500,null,null,null,2018,4]
[85,"22 Ybbarpsån, vid Herrevadskloster","2018-05-15",20.100000000000001,8.6999999999999993,96,7.46,0.49,5.5,27.5,150,43,3.3,40,570,null,1400,null,null,null,2018,5]
[85,"22 Ybbarpsån, vid Herrevadskloster","2018-06-12",19.600000000000001,8.3000000000000007,91,7.39,0.62,4.2,34.700000000000003,125,40,2.1,36,300,null,1200,null,null,null,2018,6]
[85,"22 Ybbarpsån, vid Herrevadskloster","2018-07-19",21.8,8.1999999999999993,93,7.47,0.69,5.5,43.3,125,43,3.9,29,76,null,1100,null,null,null,2018,7]
[85,"22 Ybbarpsån, vid Herrevadskloster","2018-08-16",19.899999999999999,8.1999999999999993,90,7.44,0.86,7.4,46.7,125,43,2.1,35,"<10",null,1100,null,null,null,2018,8]
[85,"22 Ybbarpsån, vid Herrevadskloster","2018-09-11",16.5,8.4,86,7.72,0.72,4.7,48.2,100,40,3.3,30,29,null,1000,null,null,null,2018,9]
[85,"22 Ybbarpsån, vid Herrevadskloster","2018-10-09",12.1,11.5,107,7.36,0.71,4.5,49.1,70,37,"<2",19,110,null,950,null,null,null,2018,10]
[85,"22 Ybbarpsån, vid Herrevadskloster","2018-11-14",11,9.3000000000000007,85,7.24,0.64,3.4,47.9,70,34,2.5,18,400,null,1100,null,null,null,2018,11]
[85,"22 Ybbarpsån, vid Herrevadskloster","2018-12-11",4.7,11.1,86,7.42,0.57999999999999996,5.0999999999999996,45.2,85,32,2.9,19,1300,null,1900,null,null,null,2018,12]
[85,"22 Ybbarpsån, vid Herrevadskloster","2019-01-15",1.9,13,94,7.16,0.53,6.9,43.7,85,34,3.6,23,1900,null,2600,null,null,null,2019,1]
[85,"22 Ybbarpsån, vid Herrevadskloster","2019-02-13",3.7,11.7,89,6.99,0.41,5.3,36.200000000000003,70,47,3.4,22,1500,null,2600,null,null,null,2019,2]
[85,"22 Ybbarpsån, vid Herrevadskloster","2019-03-12",5.3,12.2,96,6.85,0.26,4.8,23.1,100,43,2.9,27,1300,null,2200,null,null,null,2019,3]
[85,"22 Ybbarpsån, vid Herrevadskloster","2019-04-09",10.7,11.4,103,6.92,0.31,4.3,18.7,100,51,2.1,23,960,null,1700,null,null,null,2019,4]
[85,"22 Ybbarpsån, vid Herrevadskloster","2019-05-14",13.4,10.3,99,7.28,0.44,6,28.2,100,47,4.2,29,790,null,1600,null,null,null,{"$f":"YEAR(C1223)","v":2019},{"$f":"MONTH(C1223)","v":5}]
[85,"22 Ybbarpsån, vid Herrevadskloster","2019-06-11",17.399999999999999,10.199999999999999,107,7.38,0.57999999999999996,3.5,33.1,85,34,"<2",27,650,null,1500,null,null,null,2019,6]
[85,"22 Ybbarpsån, vid Herrevadskloster","2019-07-17",20.399999999999999,8,89,7.41,0.68,3.6,37,70,43,2.2999999999999998,26,390,null,1300,null,null,null,2019,7]
[85,"22 Ybbarpsån, vid Herrevadskloster","2019-08-14",17,7.7,80,7.37,0.74,6.5,37.1,100,43,2.2000000000000002,35,84,null,1200,null,null,null,2019,8]
[85,"22 Ybbarpsån, vid Herrevadskloster","2019-09-17",12.2,10.5,98,7.21,0.7,6.3,36,100,43,2.1,30,430,null,1300,null,null,null,2019,9]
[85,"22 Ybbarpsån, vid Herrevadskloster","2019-10-16",11.7,9.5,88,6.9,0.51,7.3,29.9,200,83,3.1,27,820,null,2300,null,null,null,2019,10]
[85,"22 Ybbarpsån, vid Herrevadskloster","2019-11-13",5.2,11.7,92,6.99,0.48,5.8,22.4,200,59,2.8,29,1100,null,1900,null,null,null,2019,11]
[85,"22 Ybbarpsån, vid Herrevadskloster","2019-12-12",4.2,10.6,81,6.88,0.4,6.4,20,250,87,9.5,37,870,null,2100,null,null,null,2019,12]
[85,"22 Ybbarpsån, vid Herrevadskloster","2020-01-13",4.8,11.6,90,6.77,0.34,7.4,16.899999999999999,250,87,6.8,33,1200,null,2100,null,null,null,2020,1]
[85,"22 Ybbarpsån, vid Herrevadskloster","2020-02-10",5.8,11.1,89,6.83,0.3,7.6,16,250,91,10,38,1200,null,2100,null,null,null,2020,2]
[85,"22 Ybbarpsån, vid Herrevadskloster","2020-03-17",6.5,11.5,94,6.81,0.28000000000000003,6.8,15.3,200,71,3.9,32,1300,null,1800,null,null,null,2020,3]
[85,"22 Ybbarpsån, vid Herrevadskloster","2020-04-15",9.4,11.1,97,7.23,0.4,6.5,21.9,175,55,4,34,1200,null,2100,null,null,null,2020,4]
[85,"22 Ybbarpsån, vid Herrevadskloster","2020-05-19",12.3,10.199999999999999,96,7.3,0.53,7.2,28.1,150,43,3.6,38,1100,null,1800,null,null,null,2020,5]
[85,"22 Ybbarpsån, vid Herrevadskloster","2020-06-09",16.2,8.5,87,7.47,0.61,5.2,31.4,125,21,2.9,36,640,null,1500,null,null,null,2020,6]
[85,"22 Ybbarpsån, vid Herrevadskloster","2020-07-15",17.5,9.3000000000000007,97,7.41,0.7,5,35.799999999999997,125,40,"<2",32,440,null,1400,null,null,null,2020,7]
[85,"22 Ybbarpsån, vid Herrevadskloster","2020-08-12",21.2,8,90,7.49,0.76,4.5,38.299999999999997,100,43,"<2",30,240,null,1300,null,null,null,2020,8]
[85,"22 Ybbarpsån, vid Herrevadskloster","2020-09-14",16,9.4,95,7.41,1.6,5.0999999999999996,37.9,100,40,4.3,30,300,null,1000,null,null,null,2020,9]
[85,"22 Ybbarpsån, vid Herrevadskloster","2020-10-13",10.5,9.8000000000000007,88,7.36,0.71,5,34.299999999999997,85,40,3.7,27,490,null,1300,null,null,null,2020,10]
[85,"22 Ybbarpsån, vid Herrevadskloster","2020-11-10",9.1,10.8,94,7.14,0.59,4.8,29.6,125,47,4.8,29,890,null,1800,null,null,null,2020,11]
[85,"22 Ybbarpsån, vid Herrevadskloster","2020-12-16",5.5,11.8,94,7.1,0.63,9.4,28.7,175,55,6.7,42,1300,null,2500,null,null,null,2020,12]
[85,"22 Ybbarpsån, vid Herrevadskloster","2021-01-20",1,12.9,92,7.3,0.40972859577815657,5.6,24,190,59.25,null,20,1600,null,2100,null,null,null,2021,1]
[85,"22 Ybbarpsån, vid Herrevadskloster","2021-02-24",2.8,12.4,90,7.1,0.39333945194703029,4.5,22,200,63.2,null,26,1600,null,2200,null,null,null,2021,2]
[85,"22 Ybbarpsån, vid Herrevadskloster","2021-03-18",3.7,12,89,7.1,0.31139373279139898,3.6,20,150,51.35,null,27,1400,null,2100,null,null,null,2021,3]
[85,"22 Ybbarpsån, vid Herrevadskloster","2021-04-20",10,10.9,96,7.3,0.39333945194703029,3,23,120,47.400000000000006,null,28,1000,null,1500,null,null,null,2021,4]
[85,"22 Ybbarpsån, vid Herrevadskloster","2021-05-19",13.6,9.4,90,7.3,0.44250688344040906,6.2,27,140,51.35,null,34,680,null,1400,null,null,null,2021,5]
[85,"22 Ybbarpsån, vid Herrevadskloster","2021-06-09",19.2,8.1,87,7.4,0.52445260259604043,4,28,130,55.300000000000004,null,29,390,null,1200,null,null,null,2021,6]
[85,"22 Ybbarpsån, vid Herrevadskloster","2021-07-13",21.5,7.6,86,7.4,0.65556575324505051,4.5999999999999996,31,140,63.2,null,24,240,null,1100,null,null,null,2021,7]
[85,"22 Ybbarpsån, vid Herrevadskloster","2021-08-24",16.2,8.8000000000000007,88,7.3,0.5901639344262295,5.9,34,150,67.150000000000006,null,38,450,null,1300,null,null,null,2021,8]
[85,"22 Ybbarpsån, vid Herrevadskloster","2021-09-16",16,8.4,85,7.4,0.5901639344262295,5.8,33,160,71.100000000000009,null,43,530,null,1400,null,null,null,2021,9]
[85,"22 Ybbarpsån, vid Herrevadskloster","2021-10-21",10.8,9.8000000000000007,91,7.3,0.54098360655737709,6.1,25,270,82.95,null,61,980,null,1900,null,null,null,2021,10]
[85,"22 Ybbarpsån, vid Herrevadskloster","2021-11-22",5.0999999999999996,11.6,90,7.4,0.45901639344262296,6.1,21,230,63.2,null,40,720,null,1400,null,null,null,2021,11]
[85,"22 Ybbarpsån, vid Herrevadskloster","2021-12-08",0.9,12,85,6.9,0.36065573770491804,4.3,21,240,67.150000000000006,null,37,860,null,1400,"",null,null,2021,12]
[85,"22 Ybbarpsån, vid Herrevadskloster","2022-01-19",1.9,12.5,89,7.1,0.26229508196721313,6.9,17,240,63.2,"",27,930,null,1400,"",null,null,2022,1]
[85,"22 Ybbarpsån, vid Herrevadskloster","2022-02-08",2.8,12,89,7,0.22950819672131148,5.7,17,210,63.2,null,29,1000,null,1500,null,null,null,2022,2]
[85,"22 Ybbarpsån, vid Herrevadskloster","2022-03-16",5.8,11.7,92,7.1,0.26229508196721313,4.9000000000000004,15,180,51.35,"",30,1100,null,1800,"","",null,2022,3]
[85,"22 Ybbarpsån, vid Herrevadskloster","2022-04-21",8.6,10.8,91,7.1,0.34426229508196721,5.4,20,160,51.35,null,36,940,null,1300,null,null,null,2022,4]
[85,"22 Ybbarpsån, vid Herrevadskloster","2022-05-16",14.5,9.9,97,7.4,0.4098360655737705,7.6,23,150,51.35,null,40,480,null,1000,null,null,null,2022,5]
[85,"22 Ybbarpsån, vid Herrevadskloster","2022-06-17",17.899999999999999,8.6,90,7.4,0.50819672131147542,11,28,130,59.25,null,40,520,null,1400,null,null,null,2022,6]
[85,"22 Ybbarpsån, vid Herrevadskloster","2022-07-07",18.7,8,86,7.4,0.55737704918032782,6.8,28,180,51.35,null,35,270,null,840,null,null,null,2022,7]
[85,"22 Ybbarpsån, vid Herrevadskloster","2022-08-26",20.5,7.4,83,7.5,0.67,5.4,35,130,71.099999999999994,null,23,92,null,770,null,null,null,2022,8]
[85,"22 Ybbarpsån, vid Herrevadskloster","2022-09-19",12.8,9.8000000000000007,92,7.7,0.65573770491803274,5.7,36,140,59.25,null,21,310,null,960,null,null,null,2022,9]
[85,"22 Ybbarpsån, vid Herrevadskloster","2022-10-19",10.8,10.199999999999999,90,7.5,0.60655737704918034,4.9000000000000004,35,130,55.300000000000004,null,12,670,null,1300,null,null,null,2022,10]
[85,"22 Ybbarpsån, vid Herrevadskloster","2022-11-18",4.5999999999999996,12.2,94,7.4,0.60655737704918034,12,29,110,35.155000000000001,null,28,920,null,1300,null,null,null,2022,11]
[85,"22 Ybbarpsån, vid Herrevadskloster","2022-12-21",1.5,12.6,90,7.2,0.60655737704918034,8.1,33,130,55.300000000000004,null,25,1300,null,2100,null,null,null,2022,12]
[85,"22 Ybbarpsån, vid Herrevadskloster","2023-01-11",4.5999999999999996,11.4,89,7.3,0.34426229508196721,6.1,24,160,59.25,null,35,1900,null,2300,null,null,null,2023,1]
[85,"22 Ybbarpsån, vid Herrevadskloster","2023-02-16",3.7,11.9,90,7.1,0.29508196721311475,5.3,19,180,79,null,37,1400,null,1800,null,null,null,2023,2]
[85,"22 Ybbarpsån, vid Herrevadskloster","2023-03-15",2.4,12.3,90,7.2,0.26229508196721313,4.0999999999999996,18,170,82.95,null,29,1100,null,1500,null,null,null,2023,3]
[85,"22 Ybbarpsån, vid Herrevadskloster","2023-04-13",8.1999999999999993,11,94,7.2,0.32786885245901637,4,18,160,75.05,null,34,630,null,1000,null,null,null,2023,4]
[85,"22 Ybbarpsån, vid Herrevadskloster","2023-05-10",12.6,9.8000000000000007,92,7.5,0.42622950819672129,6.7,21,130,55.300000000000004,null,44,470,null,970,null,null,null,2023,5]
[85,"22 Ybbarpsån, vid Herrevadskloster","2023-06-14",18.100000000000001,8.1,85,7.5,0.63934426229508201,5.5,28,110,63.2,null,36,94,null,950,null,null,null,2023,6]
[85,"22 Ybbarpsån, vid Herrevadskloster","2023-07-13",19.3,7.9,85,7.6,0.57377049180327866,6.4,31,100,43.45,null,37,300,null,810,null,null,null,2023,7]
[85,"22 Ybbarpsån, vid Herrevadskloster","2023-08-10",13.3,8.4,96,7,0.39344262295081966,8.6999999999999993,27,260,98.75,null,43,540,null,1300,null,null,null,2023,8]
[85,"22 Ybbarpsån, vid Herrevadskloster","2023-09-14",16.5,8.1999999999999993,84,7.4,0.65573770491803274,6.9,27,180,47.400000000000006,null,37,320,null,990,null,null,null,2023,9]
[85,"22 Ybbarpsån, vid Herrevadskloster","2023-10-18",9,9.9,86,7.4,0.54098360655737709,7.5,27,240,86.9,null,34,690,null,1400,null,null,null,2023,10]
[85,"22 Ybbarpsån, vid Herrevadskloster","2023-11-15",6.5,10.9,89.5,7,0.34426229508196721,4.2,17,270,142.20000000000002,null,36,650,null,1500,null,null,null,2023,11]
[86,"23 Skärån, vid Järbäck","2021-02-24",3.6,12.7,94,7.3,0.49167431493378788,1.7,14,70,29.625,null,16,2100,null,2300,null,null,null,2021,2]
[86,"23 Skärån, vid Järbäck","2021-04-20",7.4,11.3,93,7.5,0.65556575324505051,1.2,16,44,20.934999999999999,null,15,1900,null,2100,null,null,null,2021,4]
[86,"23 Skärån, vid Järbäck","2021-07-13",16.899999999999999,8.1,83,7.6,0.70473318473842927,1.7,14,100,51.35,null,33,1100,null,1800,null,null,null,2021,7]
[86,"23 Skärån, vid Järbäck","2021-08-24",11.7,9.5,86,7.4,0.83606557377049184,1.8,16,92,43.45,null,31,1700,null,2100,null,null,null,2021,8]
[86,"23 Skärån, vid Järbäck","2021-09-16",12.7,8.1,77,7.4,0.88524590163934425,1.5,18,46,23.305000000000003,null,17,2200,null,2200,null,null,null,2021,9]
[86,"23 Skärån, vid Järbäck","2021-11-22",5.5,11.5,90,7.4,0.63934426229508201,2,15,81,30.02,null,26,1500,null,1800,null,null,null,2021,11]
[86,"23 Skärån, vid Järbäck","2022-02-08",3.7,12.5,95,7.3,0.39344262295081966,3.6,12,82,33.575000000000003,null,32,1300,null,1700,null,null,null,2022,2]
[86,"23 Skärån, vid Järbäck","2022-04-21",8.6,10.8,92,7.4,0.67213114754098358,5.0999999999999996,16,55,59.25,null,36,1800,null,2000,null,null,null,2022,4]
[86,"23 Skärån, vid Järbäck","2022-07-07",12.7,8.9,84,7.5,0.83606557377049184,2.1,18,48,16.59,null,15,2300,null,2400,null,null,null,2022,7]
[86,"23 Skärån, vid Järbäck","2022-08-26",12.8,9.3000000000000007,88,7.6,0.89,0.84,20,16,7.5049999999999999,null,8.5,3000,null,3300,null,null,null,{"$f":"YEAR(C1287)","v":2022},{"$f":"MONTH(C1287)","v":8}]
[86,"23 Skärån, vid Järbäck","2022-09-19",9.6999999999999993,9.8000000000000007,86,7.6,0.88524590163934425,1.2,19,26,9.875,null,9.7999999999999989,2700,null,2600,null,null,"Obalans NO2+NO3/Tot-N inom analysernas mätosäkerhet",2022,9]
[86,"23 Skärån, vid Järbäck","2022-11-18",6,10.6,85,7.4,0.85245901639344257,3.7,17,36,22.12,null,15,2000,null,2300,null,null,null,2022,11]
[86,"23 Skärån, vid Järbäck","2023-02-16",4.8,11.3,88,7.3,0.5901639344262295,2.2999999999999998,15,58,35.550000000000004,null,19,2000,null,2100,null,null,null,2023,2]
[86,"23 Skärån, vid Järbäck","2023-04-13",7.1,10.9,91,7.3,0.57377049180327866,3.5,14,65,27.255000000000003,null,28,1500,null,1600,null,null,null,2023,4]
[86,"23 Skärån, vid Järbäck","2023-07-13",13.4,9.3000000000000007,89,7.5,0.88524590163934425,1.1000000000000001,19,49,8.2949999999999999,null,10,2700,null,2800,null,null,null,2023,7]
[86,"23 Skärån, vid Järbäck","2023-08-10",12.4,8.6,95,7.2,0.37704918032786883,3.9,10,130,59.25,null,49,640,null,1300,null,null,null,2023,8]
[86,"23 Skärån, vid Järbäck","2023-09-14",12.6,8.8000000000000007,83,7.5,0.86885245901639341,2.9,18,76,30.02,null,28,1700,null,2100,null,null,null,2023,9]
[86,"23 Skärån, vid Järbäck","2023-11-15",6.5,10.9,89.5,7.2,0.54098360655737709,2.6,13,120,63.2,null,28,1200,null,1700,null,null,null,2023,11]
[87,"26 Klövabäcken, vid Frumölla","2021-02-25",3.8,12.9,96,7.3,0.47528517110266161,2.5,14,82,31.6,null,26,2200,null,2500,null,null,null,2021,2]
[87,"26 Klövabäcken, vid Frumölla","2021-04-20",6.9,11.8,96,7.8,1.0489052051920809,0.77,21,35,15.405000000000001,null,13,2600,null,2600,null,null,null,2021,4]
[87,"26 Klövabäcken, vid Frumölla","2021-07-13",14.6,9.1999999999999993,90,7.9,1.1636292120099647,1.7,22,88,31.6,null,23,2300,null,2700,null,null,null,2021,7]
[87,"26 Klövabäcken, vid Frumölla","2021-08-24",10.3,10.199999999999999,89,7.8,1.3934426229508197,1.5,24,37,30.02,null,25,2600,null,3100,null,null,null,2021,8]
[87,"26 Klövabäcken, vid Frumölla","2021-09-16",12.1,8.9,83,7.7,1.4426229508196722,4.2,26,79,31.205000000000002,null,51,2700,null,4800,null,null,null,2021,9]
[87,"26 Klövabäcken, vid Frumölla","2021-11-22",4.7,12.2,93,7.7,0.85245901639344257,1.4,18,73,28.835000000000001,null,21,2000,null,2300,null,null,null,2021,11]
[87,"26 Klövabäcken, vid Frumölla","2022-02-08",4.2,12.6,96,7.3,0.37704918032786883,2.7,12,65,28.044999999999998,null,22,1700,null,2100,null,null,null,2022,2]
[87,"26 Klövabäcken, vid Frumölla","2022-04-21",8.1999999999999993,11.4,95,7.7,0.98360655737704916,2.2000000000000002,20,35,15.8,null,26,2600,null,2700,null,null,null,2022,4]
[87,"26 Klövabäcken, vid Frumölla","2022-07-07",11.4,9.6999999999999993,88,7.8,1.5081967213114753,2.4,26,32,10.665000000000001,null,16,2800,null,2800,null,null,null,2022,7]
[87,"26 Klövabäcken, vid Frumölla","2022-08-23",11.2,9.6999999999999993,87,8,1.64,1.3,28,14,9.875,null,18,3100,null,3300,null,null,null,2022,8]
[87,"26 Klövabäcken, vid Frumölla","2022-09-19",9.3000000000000007,10.1,88,8,1.639344262295082,1.3,27,16,5.9250000000000007,null,21,2900,null,3100,null,null,null,2022,9]
[87,"26 Klövabäcken, vid Frumölla","2022-11-17",6.5,11,89,7.8,1.459016393442623,1.1000000000000001,25,24,11.455,null,32,2400,null,2600,null,null,null,2022,11]
[87,"26 Klövabäcken, vid Frumölla","2023-02-16",4.9000000000000004,11.7,91,7.7,0.85245901639344257,1.7,19,43,20.540000000000003,null,22,2600,null,2700,null,null,null,2023,2]
[87,"26 Klövabäcken, vid Frumölla","2023-04-13",7.6,11.4,95,7.6,0.80327868852459017,3.3,17,52,23.700000000000003,null,25,1900,null,2000,null,null,null,2023,4]
[87,"26 Klövabäcken, vid Frumölla","2023-07-13",12.6,9.5,89,7.8,1.5737704918032787,1,26,17,7.5049999999999999,null,14,2800,null,2800,null,null,null,2023,7]
[87,"26 Klövabäcken, vid Frumölla","2023-08-10",11.9,10.3,113,7.2,0.34426229508196721,5,11,160,67.150000000000006,null,35,980,null,1600,null,null,null,2023,8]
[87,"26 Klövabäcken, vid Frumölla","2023-09-14",12.5,9.6,85,7.8,1.3278688524590163,1.9,24,63,17.775000000000002,null,22,2500,null,2900,null,null,null,2023,9]
[87,"26 Klövabäcken, vid Frumölla","2023-11-15",6.1,11.1,91,7.4,0.57377049180327866,3.3,14,130,63.2,null,25,1400,null,1700,null,null,null,2023,11]
[90,"28 Perstorpsbäcken, uppstr Perstorp","2013-02-14",0.6,13.9,96.593585978589701,6.73,0.25468580000000002,13.3,10.1,150,63,null,18,440,null,1200,null,null,null,2013,2]
[90,"28 Perstorpsbäcken, uppstr Perstorp","2013-04-17",6.4,10.6,86.200731271056128,6.78,0.13226399999999999,12,8.1999999999999993,250,95,null,39,500,null,1400,null,null,null,2013,4]
[90,"28 Perstorpsbäcken, uppstr Perstorp","2013-07-10",15,9,89.524790782618652,7.08,0.51703200000000005,37,12.1,400,83,null,32,420,null,1100,null,null,null,2013,7]
[90,"28 Perstorpsbäcken, uppstr Perstorp","2013-08-15",13.5,9.5,91.487305841621875,6.8,0.27454799999999996,23,10.8,350,110,null,41,460,null,1800,null,null,null,2013,8]
[90,"28 Perstorpsbäcken, uppstr Perstorp","2013-09-12",12.7,9,85.147575329643615,7.02,0.51703200000000005,23,11.61,225,63,null,27,270,null,900,null,null,null,2013,9]
[90,"28 Perstorpsbäcken, uppstr Perstorp","2013-11-20",4.0999999999999996,11.8,90.341782998864488,6.79,0.24448799999999998,19,10.8,250,91,null,30,370,null,1300,null,null,null,2013,11]
[90,"28 Perstorpsbäcken, uppstr Perstorp","2014-02-18",2.7,12.7,93.604595013544483,6.14,6.2310000000000004E-2,4.2,9.5,175,87,null,19,700,null,1700,null,null,null,2014,2]
[90,"28 Perstorpsbäcken, uppstr Perstorp","2014-04-15",5.6,11.7,93.198858223977709,6.15,6.2310000000000004E-2,10,8.5,250,140,null,25,370,null,1500,null,null,null,2014,4]
[90,"28 Perstorpsbäcken, uppstr Perstorp","2014-07-23",15.4,9.1,91.286636426347414,6.88,0.38390999999999997,35,11.5,300,110,null,35,360,null,1300,null,null,null,2014,7]
[90,"28 Perstorpsbäcken, uppstr Perstorp","2014-08-14",14.4,9.6,94.277326136535308,6.76,0.20301000000000002,27,9.76,500,180,null,47,140,null,1300,null,null,null,2014,8]
[90,"28 Perstorpsbäcken, uppstr Perstorp","2014-09-24",10.1,10.6,94.447615815442305,6.67,0.25325999999999999,33,10.62,500,210,null,52,140,null,1300,null,null,null,2014,9]
[90,"28 Perstorpsbäcken, uppstr Perstorp","2014-11-12",8.4,10,85.513357430793349,6.33,0.14874000000000001,12.2,9,500,190,null,38,160,null,1800,null,null,null,2014,11]
[90,"28 Perstorpsbäcken, uppstr Perstorp","2015-02-10",3.2,11,82.192555109745996,6.56,0.18528800000000001,9.1,9.1999999999999993,200,83,null,21,490,null,1500,null,null,null,2015,2]
[90,"28 Perstorpsbäcken, uppstr Perstorp","2015-04-15",6.6,11.5,93.999570833789249,6.3,9.2644000000000004E-2,12,7.2,400,150,null,41,330,null,1500,null,null,null,2015,4]
[90,"28 Perstorpsbäcken, uppstr Perstorp","2015-07-15",13.5,9.3000000000000007,89.561257297587744,6.86,0.32425399999999999,28,10.7,700,180,null,46,280,null,1800,null,null,null,2015,7]
[90,"28 Perstorpsbäcken, uppstr Perstorp","2015-08-13",12.9,9.9,94.081740407305475,6.82,0.40884199999999998,30,11.1,600,140,null,65,380,null,1600,null,null,null,2015,8]
[90,"28 Perstorpsbäcken, uppstr Perstorp","2015-09-15",13.5,8.6999999999999993,83.783111665485293,6.99,0.53975200000000012,24,12.6,300,83,null,32,450,null,1300,null,null,null,2015,9]
[90,"28 Perstorpsbäcken, uppstr Perstorp","2015-11-11",10.9,9.4,85.347115538882989,5.97,9.0629999999999988E-2,20,9.9,400,170,null,58,1100,null,2800,null,null,null,2015,11]
[90,"28 Perstorpsbäcken, uppstr Perstorp","2016-02-17",0.1,12.3,84.258756216395994,6.37,0.17924600000000002,7.1,9.6,150,75,null,25,600,null,1400,null,null,null,2016,2]
[90,"28 Perstorpsbäcken, uppstr Perstorp","2016-04-13",7.6,10.6,88.861833416716124,6.91,0.27189000000000002,19,9.9,250,79,null,33,390,null,1200,null,null,null,2016,4]
[90,"28 Perstorpsbäcken, uppstr Perstorp","2016-07-13",14.8,8.9,88.154575722751161,6.19,8.0240000000000006E-2,10,8.4,500,110,null,49,280,null,1600,null,null,null,2016,7]
[90,"28 Perstorpsbäcken, uppstr Perstorp","2016-08-18",12.6,9.4,88.732775379459156,7.12,0.50150000000000006,26,12,350,40,null,29,440,null,960,null,null,null,2016,8]
[90,"28 Perstorpsbäcken, uppstr Perstorp","2016-09-14",14,8.3000000000000007,80.808929828278309,7.04,0.60581200000000013,22,13.1,250,67,null,33,340,null,930,null,null,null,2016,9]
[90,"28 Perstorpsbäcken, uppstr Perstorp","2016-11-08",1.7,12.8,91.759138959455015,6.12,0.15646800000000002,9.6999999999999993,10.6,300,110,null,38,1100,null,2200,null,null,null,2016,11]
[90,"28 Perstorpsbäcken, uppstr Perstorp","2017-02-16",0.6,13.4,93.118996554899425,6.86,0.34703800000000001,20,12.3,150,43,null,26,530,null,1200,null,null,null,2017,2]
[90,"28 Perstorpsbäcken, uppstr Perstorp","2017-04-19",3.2,12,89.66460557426835,6.61,0.16048000000000001,9.4,9.6,250,71,null,26,430,null,1300,null,null,null,2017,4]
[90,"28 Perstorpsbäcken, uppstr Perstorp","2017-07-12",19,9.6999999999999993,104.5967757191431,7.12,0.39718800000000004,25,11.4,400,75,null,34,320,null,1200,null,null,null,2017,7]
[90,"28 Perstorpsbäcken, uppstr Perstorp","2017-08-17",13,9.8000000000000007,93.338976069042417,6.94,0.30491200000000002,32,10.5,500,170,null,51,210,null,1500,null,null,null,2017,8]
[90,"28 Perstorpsbäcken, uppstr Perstorp","2017-09-20",12.1,9,84.003448615608704,6.27,0.16048000000000001,11.4,8.6999999999999993,450,140,null,52,180,null,1500,null,null,null,2017,9]
[90,"28 Perstorpsbäcken, uppstr Perstorp","2017-11-09",6.6,11,89.912632971450577,6.37,0.17051000000000002,8.6999999999999993,8.9,400,120,null,39,250,null,1400,null,null,null,2017,11]
[90,"28 Perstorpsbäcken, uppstr Perstorp","2018-02-15",1.7,11.8,85,6.65,0.21,14,9.1,250,63,null,26,370,null,1300,null,null,null,2018,2]
[90,"28 Perstorpsbäcken, uppstr Perstorp","2018-04-18",7.7,10.6,89,6.76,0.25,15,9.3000000000000007,250,91,null,40,310,null,1200,null,null,null,2018,4]
[90,"28 Perstorpsbäcken, uppstr Perstorp","2018-07-19",17.3,7.5,78,7.07,0.67,27,13.7,400,63,null,29,140,null,1200,null,null,null,2018,7]
[90,"28 Perstorpsbäcken, uppstr Perstorp","2018-08-16",16.600000000000001,8.9,92,6.64,0.08,15,13.3,400,670,null,40,440,null,2600,null,null,null,2018,8]
[90,"28 Perstorpsbäcken, uppstr Perstorp","2018-09-12",13.2,8.9,85,6.89,0.39,20,12.5,300,87,null,25,350,null,1200,null,null,null,2018,9]
[90,"28 Perstorpsbäcken, uppstr Perstorp","2018-11-14",8.9,9.8000000000000007,85,6.74,0.18,17,13.6,250,79,null,45,390,null,1400,null,null,null,2018,11]
[90,"28 Perstorpsbäcken, uppstr Perstorp","2019-02-13",4.0999999999999996,11.3,87,5.91,0.06,3.7,10.3,200,91,null,20,1200,null,2400,null,null,null,2019,2]
[90,"28 Perstorpsbäcken, uppstr Perstorp","2019-04-09",4.8,12.2,95,6.69,0.26,15.3,11,150,51,null,18,500,null,1100,null,null,null,{"$f":"YEAR(C1351)","v":2019},{"$f":"MONTH(C1351)","v":4}]
[90,"28 Perstorpsbäcken, uppstr Perstorp","2019-07-17",13.3,8.1,78,6.84,0.43,21,11.4,350,79,null,34,360,null,1200,null,null,null,2019,7]
[90,"28 Perstorpsbäcken, uppstr Perstorp","2019-08-14",13.7,8.4,81,6.1,7.0000000000000007E-2,12,8.8000000000000007,450,160,null,60,73,null,2000,null,null,null,2019,8]
[90,"28 Perstorpsbäcken, uppstr Perstorp","2019-09-17",11,10.199999999999999,93,6.29,0.18,16,9.6,450,130,null,48,59,null,1500,null,null,null,2019,9]
[90,"28 Perstorpsbäcken, uppstr Perstorp","2019-11-13",4.8,11.7,91,6.24,0.15,11.1,8.8000000000000007,400,110,null,38,260,null,1500,null,null,null,2019,11]
[90,"28 Perstorpsbäcken, uppstr Perstorp","2020-02-10",5.7,10.9,87,5.75,0.04,6.2,6.6,350,130,null,52,590,null,2000,null,null,null,2020,2]
[90,"28 Perstorpsbäcken, uppstr Perstorp","2020-04-15",5.9,11.9,96,6.9,0.28000000000000003,24,10.6,250,63,null,37,480,null,1200,null,null,null,2020,4]
[90,"28 Perstorpsbäcken, uppstr Perstorp","2020-07-15",13.7,9.9,96,6.77,0.28999999999999998,26,10.4,450,95,null,38,360,null,1800,null,null,null,2020,7]
[90,"28 Perstorpsbäcken, uppstr Perstorp","2020-08-12",16.7,8.6999999999999993,90,7.04,0.51,33,12.4,450,87,null,39,380,null,1500,null,null,null,2020,8]
[90,"28 Perstorpsbäcken, uppstr Perstorp","2020-09-14",14,8.9,87,6.86,0.42,23,11.9,400,83,null,39,510,null,1600,null,null,null,2020,9]
[90,"28 Perstorpsbäcken, uppstr Perstorp","2020-11-10",8.8000000000000007,10.9,94,6.55,0.21,13,11.5,300,75,null,28,440,null,1600,null,null,null,2020,11]
[90,"28 Perstorpsbäcken, uppstr Perstorp","2021-02-24",1.1000000000000001,13.4,93,6.5,0.10489052051920808,7.5,8.3000000000000007,230,63.2,null,34,1000,null,1800,null,null,null,2021,2]
[90,"28 Perstorpsbäcken, uppstr Perstorp","2021-04-20",8.5,11.5,98,6.9,0.22944801363576767,12,10,260,63.2,null,30,760,null,1200,null,null,null,2021,4]
[90,"28 Perstorpsbäcken, uppstr Perstorp","2021-07-13",16.899999999999999,8.6,89,7.1,0.34417202045365153,24,11,490,98.75,null,39,670,null,1400,null,null,null,2021,7]
[90,"28 Perstorpsbäcken, uppstr Perstorp","2021-08-24",12.1,9.8000000000000007,90,7.1,0.34426229508196721,20,11,380,90.850000000000009,null,32,760,null,1600,null,null,null,2021,8]
[90,"28 Perstorpsbäcken, uppstr Perstorp","2021-09-16",13.3,8.5,82,7.1,0.37704918032786883,16,11,340,90.850000000000009,null,38,660,null,1300,null,null,null,2021,9]
[90,"28 Perstorpsbäcken, uppstr Perstorp","2021-11-22",4.2,12,91,6.2,8.8524590163934436E-2,5.6,8.6,390,114.55000000000001,null,38,650,null,1600,null,null,null,2021,11]
[90,"28 Perstorpsbäcken, uppstr Perstorp","2022-02-08",2.8,12,89,6,3.9344262295081964E-2,3.8,7.9,240,79,null,31,1000,null,1600,null,null,null,2022,2]
[90,"28 Perstorpsbäcken, uppstr Perstorp","2022-04-21",6.6,11.2,91,6.9,0.24590163934426229,14,9.6,310,75.05,null,37,550,null,1000,null,null,null,2022,4]
[90,"28 Perstorpsbäcken, uppstr Perstorp","2022-07-07",14.2,8.8000000000000007,86,6.9,0.29508196721311475,22,9.8000000000000007,610,90.850000000000009,null,44,590,null,1500,null,null,null,2022,7]
[90,"28 Perstorpsbäcken, uppstr Perstorp","2022-08-26",17.399999999999999,7.6,80,7.4,0.61,24,13,310,86.9,null,28,370,null,890,null,null,null,2022,8]
[90,"28 Perstorpsbäcken, uppstr Perstorp","2022-09-19",10.6,9.6,86,7.1,0.29508196721311475,20,11,390,146.15,null,38,830,null,1900,null,null,null,2022,9]
[90,"28 Perstorpsbäcken, uppstr Perstorp","2022-11-18",4.5,11.7,91,7,0.29508196721311475,23,12,330,63.2,null,27,630,null,1100,null,null,null,2022,11]
[90,"28 Perstorpsbäcken, uppstr Perstorp","2023-02-16",4.0999999999999996,11.8,91,6.6,0.12786885245901639,7.7,9.3000000000000007,230,98.75,null,24,870,200,1300,null,null,null,2023,2]
[90,"28 Perstorpsbäcken, uppstr Perstorp","2023-04-13",5.9,11.3,91,6.7,0.18032786885245902,13,9.3000000000000007,240,63.2,null,38,550,140,1000,null,null,null,2023,4]
[90,"28 Perstorpsbäcken, uppstr Perstorp","2023-07-12",15,8,79,7.3,0.45901639344262296,21,12,400,63.2,null,38,810,95,1300,null,null,null,2023,7]
[90,"28 Perstorpsbäcken, uppstr Perstorp","2023-08-10",12.4,8.1999999999999993,93,5.2,3.2786885245901641E-2,12,7.6,440,193.55,null,44,630,130,1700,null,null,null,2023,8]
[90,"28 Perstorpsbäcken, uppstr Perstorp","2023-09-14",12.5,9,85,7.1,0.42622950819672129,72,11,730,86.9,null,49,570,55,1100,null,null,null,2023,9]
[90,"28 Perstorpsbäcken, uppstr Perstorp","2023-11-15",6.1,11.1,91,5.8,3.9344262295081964E-2,3.7,7.6,430,185.65,null,32,490,160,1500,null,null,null,2023,11]
[95,"29 Perstorpsbäcken, nedstr Perstorp","2013-02-14",2.4,12.8,93.564204055180511,6.81,0.37099899999999997,10.3,15.7,125,47,null,17,1300,null,2200,null,null,null,2013,2]
[95,"29 Perstorpsbäcken, nedstr Perstorp","2013-04-17",7.5,10.5,87.803248933566792,6.82,0.20641200000000001,9,11.7,200,79,null,28,1000,null,2000,null,null,null,2013,4]
[95,"29 Perstorpsbäcken, nedstr Perstorp","2013-07-10",16.100000000000001,7.5,76.340442801576245,6.9,0.76552799999999988,16.399999999999999,26.1,200,59,null,29,2200,null,3500,null,null,null,2013,7]
[95,"29 Perstorpsbäcken, nedstr Perstorp","2013-08-14",13.9,9,87.433822151478594,6.9,0.37474799999999997,12.1,17.600000000000001,100,34,null,27,1900,null,2500,null,null,null,2013,8]
[95,"29 Perstorpsbäcken, nedstr Perstorp","2013-09-12",14.2,8.3000000000000007,81.159848813224926,7.02,0.75751199999999996,9.4,28.6,85,35,null,29,3500,null,4500,null,null,null,2013,9]
[95,"29 Perstorpsbäcken, nedstr Perstorp","2013-11-20",4.5,11.6,89.764448226531314,6.8,0.39077999999999996,14,16.5,175,71,null,29,1500,null,2500,null,null,null,2013,11]
[95,"29 Perstorpsbäcken, nedstr Perstorp","2014-02-18",2.8,13,96.07942350360446,6.56,0.18693000000000001,4.8,13.2,150,71,null,18,1100,null,1900,null,null,null,2014,2]
[95,"29 Perstorpsbäcken, nedstr Perstorp","2014-04-15",5.7,12,95.837672175812429,6.44,0.16079999999999997,10,11.4,225,110,null,23,1000,null,1900,null,null,null,2014,4]
[95,"29 Perstorpsbäcken, nedstr Perstorp","2014-07-23",17.5,7.9,82.727109284405657,6.84,0.63516000000000006,17,21.4,250,75,null,33,1200,null,2300,null,null,null,2014,7]
[95,"29 Perstorpsbäcken, nedstr Perstorp","2014-08-14",15,9,89.524790782618652,6.83,0.39798,17,16.079999999999998,400,150,null,41,950,null,2100,null,null,null,2014,8]
[95,"29 Perstorpsbäcken, nedstr Perstorp","2014-09-24",10.9,10.1,91.702751802416813,6.83,0.40400999999999998,27,14.44,300,120,null,52,1000,null,1900,null,null,null,2014,9]
[95,"29 Perstorpsbäcken, nedstr Perstorp","2014-11-12",8.5,10,85.723908822337933,6.63,0.30753000000000003,12.1,13.2,400,160,null,36,880,null,2500,null,null,null,2014,11]
[95,"29 Perstorpsbäcken, nedstr Perstorp","2015-02-10",3.8,12.6,95.691747082142768,6.67,0.28800199999999998,9,13.4,150,67,null,18,1200,null,2200,null,null,null,2015,2]
[95,"29 Perstorpsbäcken, nedstr Perstorp","2015-04-15",7.1,11.7,96.857308124245748,6.59,0.17924600000000002,9.4,9.8000000000000007,250,110,null,36,730,null,1800,null,null,null,2015,4]
[95,"29 Perstorpsbäcken, nedstr Perstorp","2015-07-15",14.8,8.5,84.192572319481457,6.87,0.54378000000000004,19,17.8,500,140,null,38,1300,null,2800,null,null,null,2015,7]
[95,"29 Perstorpsbäcken, nedstr Perstorp","2015-08-13",14.2,8.8000000000000007,86.048996332093878,6.89,0.59815800000000008,18,19.399999999999999,500,120,null,34,1600,null,2700,null,null,null,2015,8]
[95,"29 Perstorpsbäcken, nedstr Perstorp","2015-09-15",14.6,8.8000000000000007,86.792580228174529,6.86,0.33029600000000003,20,10,125,59,null,79,950,null,1900,null,null,null,2015,9]
[95,"29 Perstorpsbäcken, nedstr Perstorp","2015-11-11",11.3,9.6999999999999993,88.892810190865617,6.44,0.159106,22,11.7,350,150,null,60,1300,null,2800,null,null,null,2015,11]
[95,"29 Perstorpsbäcken, nedstr Perstorp","2016-02-17",0.8,12.2,85.264451152374804,6.6,0.35043599999999997,6,14.9,100,59,null,26,1300,null,2200,null,null,null,2016,2]
[95,"29 Perstorpsbäcken, nedstr Perstorp","2016-04-13",7.5,10.4,86.967027515151869,6.93,0.410856,11,16,200,59,null,31,1500,null,2300,null,null,null,2016,4]
[95,"29 Perstorpsbäcken, nedstr Perstorp","2016-07-13",15.5,9.1,91.47825211641846,6.46,0.186558,8.8000000000000007,11.4,400,83,null,45,730,null,1900,null,null,null,2016,7]
[95,"29 Perstorpsbäcken, nedstr Perstorp","2016-08-18",14,7.8,75.940922007297672,6.96,0.68003400000000014,14,20.3,175,31,null,28,1600,null,2000,null,null,null,2016,8]
[95,"29 Perstorpsbäcken, nedstr Perstorp","2016-09-14",14.9,6.5,64.519695202012912,6.94,0.94683200000000001,7.9,33.200000000000003,125,34,null,17,4100,null,4100,null,null,null,2016,9]
[95,"29 Perstorpsbäcken, nedstr Perstorp","2016-11-08",1.4,13.4,95.254657409399655,6.5,0.16649800000000003,7.3,13.7,250,91,null,35,1600,null,2600,null,null,null,2016,11]
[95,"29 Perstorpsbäcken, nedstr Perstorp","2017-02-16",1.7,12.9,92.476007232575753,6.9,0.53359600000000007,12,21.5,100,47,null,26,2400,null,3200,null,null,null,2017,2]
[95,"29 Perstorpsbäcken, nedstr Perstorp","2017-04-19",3.8,12.5,94.932288771967038,6.77,0.26679800000000004,6.6,13.8,225,63,null,26,1200,null,2100,null,null,null,2017,4]
[95,"29 Perstorpsbäcken, nedstr Perstorp","2017-07-12",15.2,7.8,77.917030491577137,7.01,0.62186000000000008,13,21.9,300,59,null,38,2300,null,2900,null,null,null,2017,7]
[95,"29 Perstorpsbäcken, nedstr Perstorp","2017-08-17",14.2,9,88.004655339641474,6.93,0.49748800000000004,19,17.600000000000001,400,130,null,37,1200,null,2400,null,null,null,2017,8]
[95,"29 Perstorpsbäcken, nedstr Perstorp","2017-09-20",12.1,9.1999999999999993,85.870191918177795,6.51,0.29688800000000004,9.1,12.5,350,110,null,40,1100,null,2100,null,null,null,2017,9]
[95,"29 Perstorpsbäcken, nedstr Perstorp","2017-11-09",6.9,11.1,91.42580200508111,6.61,0.29087000000000002,8.3000000000000007,12.6,300,110,null,25,950,null,2000,null,null,null,2017,11]
[95,"29 Perstorpsbäcken, nedstr Perstorp","2018-02-15",2,11.8,85,6.76,0.34,11.5,13.7,175,51,null,26,1100,null,2200,null,null,null,2018,2]
[95,"29 Perstorpsbäcken, nedstr Perstorp","2018-04-18",8.8000000000000007,10.3,89,6.8,0.4,9.9,14.8,225,59,null,33,1200,null,2200,null,null,null,2018,4]
[95,"29 Perstorpsbäcken, nedstr Perstorp","2018-07-19",18.600000000000001,5.9,63,6.97,0.73,6.7,24.7,100,30,null,32,2200,null,2900,null,null,null,2018,7]
[95,"29 Perstorpsbäcken, nedstr Perstorp","2018-08-16",17,7.8,81,6.96,0.38,16,20.100000000000001,175,51,null,41,1600,null,2800,null,null,null,2018,8]
[95,"29 Perstorpsbäcken, nedstr Perstorp","2018-09-12",14.1,7.3,71,6.87,0.63,7.6,22.5,125,36,null,18,2500,null,3000,null,null,null,2018,9]
[95,"29 Perstorpsbäcken, nedstr Perstorp","2018-11-14",9.6,9.1999999999999993,81,6.8,0.31,13,20.399999999999999,125,38,null,26,1600,null,2200,null,null,null,{"$f":"YEAR(C1415)","v":2018},{"$f":"MONTH(C1415)","v":11}]
[95,"29 Perstorpsbäcken, nedstr Perstorp","2019-02-13",4.5,11.6,90,6.33,0.13,4.8,14.3,125,75,null,25,2000,null,2600,null,null,null,2019,2]
[95,"29 Perstorpsbäcken, nedstr Perstorp","2019-04-09",5.6,11.5,92,6.7,0.39,9.6,17.600000000000001,125,38,null,15,2000,null,2500,null,null,null,2019,4]
[95,"29 Perstorpsbäcken, nedstr Perstorp","2019-07-17",14.4,6.3,62,6.81,0.75,14,25.5,200,40,null,34,1700,null,2500,null,null,null,2019,7]
[95,"29 Perstorpsbäcken, nedstr Perstorp","2019-08-14",14.4,8.4,82,6.61,0.2,13,12.5,400,130,null,52,580,null,2300,null,null,null,2019,8]
[95,"29 Perstorpsbäcken, nedstr Perstorp","2019-09-17",11.6,10.6,98,6.61,0.28000000000000003,11,14.3,300,91,null,37,780,null,2100,null,null,null,2019,9]
[95,"29 Perstorpsbäcken, nedstr Perstorp","2019-11-13",5.3,12,95,6.54,0.28000000000000003,10,13.3,300,87,null,34,1100,null,2100,null,null,null,2019,11]
[95,"29 Perstorpsbäcken, nedstr Perstorp","2020-02-10",6.3,11.4,92,6.16,0.08,9.4,8.5,300,110,null,53,1200,null,2300,null,null,null,2020,2]
[95,"29 Perstorpsbäcken, nedstr Perstorp","2020-04-15",6.6,11.4,93,6.94,0.45,14,17.899999999999999,200,40,null,24,1800,null,2700,null,null,null,2020,4]
[95,"29 Perstorpsbäcken, nedstr Perstorp","2020-07-15",14.7,9,89,6.9,0.47,15,20,300,63,null,38,2000,null,3300,null,null,null,2020,7]
[95,"29 Perstorpsbäcken, nedstr Perstorp","2020-08-12",17.2,7.3,76,6.95,0.91,12,36.6,175,35,null,49,4100,null,4700,null,null,null,2020,8]
[95,"29 Perstorpsbäcken, nedstr Perstorp","2020-09-14",14.6,7.5,74,6.91,0.78,8.9,33.5,175,36,null,31,4300,null,4500,null,null,null,2020,9]
[95,"29 Perstorpsbäcken, nedstr Perstorp","2020-11-10",9.1,10.6,92,6.7,0.31,9.1999999999999993,15.9,225,67,null,29,1300,null,2300,null,null,null,2020,11]
[95,"29 Perstorpsbäcken, nedstr Perstorp","2021-02-24",1.8,13.5,96,6.8,0.18028058214238887,6.5,12,210,63.2,null,43,1500,null,2300,null,null,null,2021,2]
[95,"29 Perstorpsbäcken, nedstr Perstorp","2021-04-20",7.6,11.2,93,7.1,0.39333945194703029,7.1,17,200,55.300000000000004,null,27,2200,null,2700,null,null,null,2021,4]
[95,"29 Perstorpsbäcken, nedstr Perstorp","2021-07-13",17.8,7.3,77,7.4,0.59000917792054541,9.3000000000000007,21,300,79,null,34,2100,null,2700,null,null,null,2021,7]
[95,"29 Perstorpsbäcken, nedstr Perstorp","2021-08-24",13.1,9.1999999999999993,86,7,0.44262295081967212,9.1999999999999993,19,260,79,null,33,2200,null,2700,null,null,null,2021,8]
[95,"29 Perstorpsbäcken, nedstr Perstorp","2021-09-16",14.5,8.3000000000000007,82,7.1,0.36065573770491804,4.8,14,140,39.5,null,34,1900,null,2300,null,null,null,2021,9]
[95,"29 Perstorpsbäcken, nedstr Perstorp","2021-11-22",4.4000000000000004,12.3,94,6.8,0.21311475409836064,7.3,12,330,90.850000000000009,null,39,1400,null,2100,null,null,null,2021,11]
[95,"29 Perstorpsbäcken, nedstr Perstorp","2022-02-08",3.2,12.6,94,6.6,0.12950819672131147,7.3,12,200,63.2,null,32,1400,null,2000,null,null,null,2022,2]
[95,"29 Perstorpsbäcken, nedstr Perstorp","2022-04-21",7.6,10.8,90,7,0.39344262295081966,8.3000000000000007,15,210,59.25,null,31,1800,null,2100,null,null,null,2022,4]
[95,"29 Perstorpsbäcken, nedstr Perstorp","2022-07-07",14.7,8.5,84,7,0.39344262295081966,12,16,470,110.60000000000001,null,40,1900,null,2500,null,null,null,2022,7]
[95,"29 Perstorpsbäcken, nedstr Perstorp","2022-08-26",17.5,5.7,60,7.2,0.93,4.5999999999999996,39,69,30.02,null,15,270,null,5300,null,null,null,2022,8]
[95,"29 Perstorpsbäcken, nedstr Perstorp","2022-09-19",10.4,8.3000000000000007,74,7.3,0.5901639344262295,6.3,28,130,37.524999999999999,null,23,4400,null,4500,null,null,null,2022,9]
[95,"29 Perstorpsbäcken, nedstr Perstorp","2022-11-18",4.5999999999999996,10.9,84,7.3,0.45901639344262296,11,21,190,43.45,null,48,2500,null,3200,null,null,null,2022,11]
[95,"29 Perstorpsbäcken, nedstr Perstorp","2023-02-16",4.3,11.9,92,6.9,0.22950819672131148,7.2,13,190,82.95,null,43,1700,260,2200,null,null,null,2023,2]
[95,"29 Perstorpsbäcken, nedstr Perstorp","2023-04-13",6.3,11.2,92,7,0.29508196721311475,22,12,200,51.35,null,52,1400,260,2100,null,null,null,2023,4]
[95,"29 Perstorpsbäcken, nedstr Perstorp","2023-07-12",16.899999999999999,7.3,75,7.4,0.60655737704918034,5,24,110,24.490000000000002,null,30,3300,98,3600,null,null,null,2023,7]
[95,"29 Perstorpsbäcken, nedstr Perstorp","2023-08-10",12.9,9.5,104,5.7,3.2786885245901641E-2,3.7,9,400,158,null,39,840,99,1700,null,null,null,2023,8]
[95,"29 Perstorpsbäcken, nedstr Perstorp","2023-09-14",12.3,7.6,71,7.1,0.62295081967213117,25,24,350,51.35,null,33,2800,140,3100,null,null,null,2023,9]
[95,"29 Perstorpsbäcken, nedstr Perstorp","2023-11-15",5.9,12,97,6.5,0.12786885245901639,5.2,9.6,400,165.9,null,34,950,180,1800,null,null,null,2023,11]
[100,"76 Oderbäcken, uppstr Oderljunga ARV","2023-02-16",4,12.1,93,6.6,0.10491803278688525,4,9.3000000000000007,190,82.95,null,34,1000,70,1300,null,null,null,2023,2]
[100,"76 Oderbäcken, uppstr Oderljunga ARV","2023-04-13",6.3,11.5,94,6.7,0.1098360655737705,4.5,8.9,180,59.25,null,33,770,48,1000,null,null,null,2023,4]
[100,"76 Oderbäcken, uppstr Oderljunga ARV","2023-07-12",16.899999999999999,8.6999999999999993,90,7.2,0.4098360655737705,17,13,300,43.45,null,32,950,110,1300,null,null,null,2023,7]
[100,"76 Oderbäcken, uppstr Oderljunga ARV","2023-08-10",12.4,8.9,98,5.0999999999999996,3.2786885245901641E-2,2.2999999999999998,7.6,400,177.75,null,33,570,23,1400,null,null,null,2023,8]
[100,"76 Oderbäcken, uppstr Oderljunga ARV","2023-09-14",11.9,9.1999999999999993,89,6.8,0.29508196721311475,26,11,570,110.60000000000001,null,59,960,89,1400,null,null,null,2023,9]
[100,"76 Oderbäcken, uppstr Oderljunga ARV","2023-11-15",6.1,11.7,96,6,5.4098360655737705E-2,4,7.4,410,154.05000000000001,null,35,530,83,1400,null,null,null,2023,11]
[105,"30 Bäljaneå, vid Hyllstofta","2013-07-10",15.9,9.8000000000000007,99.339685182824908,7.31,0.46893599999999991,15.5,15.1,300,75,null,25,1100,null,1700,null,null,null,2013,7]
[105,"30 Bäljaneå, vid Hyllstofta","2013-08-14",14.7,9.9,97.850648154006024,7.3,0.32464799999999999,22.6,14.3,125,38,null,38,1400,null,2100,null,null,null,2013,8]
[105,"30 Bäljaneå, vid Hyllstofta","2013-09-12",14.5,9.9,97.432600182755436,7.26,0.51502799999999993,11,17.559999999999999,150,47,null,22,1600,null,2200,null,null,null,2013,9]
[105,"30 Bäljaneå, vid Hyllstofta","2013-11-20",4.8,12.4,96.721913306569576,6.97,0.25851600000000002,10,12.5,225,83,null,27,880,null,1700,null,null,null,2013,11]
[105,"30 Bäljaneå, vid Hyllstofta","2014-07-23",19.2,8.8000000000000007,95.255173012011667,7.08,0.33968999999999999,10,13.2,350,99,null,30,800,null,1700,null,null,null,2014,7]
[105,"30 Bäljaneå, vid Hyllstofta","2014-08-14",16.399999999999999,9.6999999999999993,99.344416588147737,7.01,0.28341,17,12.24,400,150,null,38,410,null,1700,null,null,null,2014,8]
[105,"30 Bäljaneå, vid Hyllstofta","2014-09-24",11.9,10.5,97.559034757511881,6.94,0.31758000000000003,21,13.18,400,140,null,33,810,null,1600,null,null,null,2014,9]
[105,"30 Bäljaneå, vid Hyllstofta","2014-11-12",8.3000000000000007,10.6,90.4210566321523,6.72,0.20100000000000001,11.3,10.6,400,150,null,32,390,null,2000,null,null,null,2014,11]
[105,"30 Bäljaneå, vid Hyllstofta","2015-07-15",16,9.1999999999999993,93.451010466204792,7.01,0.32224000000000003,17,11.5,500,160,null,32,650,null,2000,null,null,null,2015,7]
[105,"30 Bäljaneå, vid Hyllstofta","2015-08-13",16.3,9.5,97.096772265229575,7.14,0.35647800000000002,16,12.7,450,140,null,28,850,null,2000,null,null,null,2015,8]
[105,"30 Bäljaneå, vid Hyllstofta","2015-09-15",14.2,9.9,96.805120873605617,7.42,0.55586400000000002,22,18.2,300,79,null,51,1600,null,2800,null,null,null,2015,9]
[105,"30 Bäljaneå, vid Hyllstofta","2015-11-11",10.7,10.4,93.986152407963971,6.83,0.21751200000000001,19,11.1,300,110,null,46,900,null,2000,null,null,null,2015,11]
[105,"30 Bäljaneå, vid Hyllstofta","2016-07-13",16.3,9.3000000000000007,95.052629691224737,6.74,0.19658800000000004,11,10.6,350,71,null,42,600,null,1600,null,null,null,2016,7]
[105,"30 Bäljaneå, vid Hyllstofta","2016-08-18",14.3,10,97.994274840128355,7.43,0.53760800000000009,12,17.8,200,37,null,22,1400,null,1800,null,null,null,2016,8]
[105,"30 Bäljaneå, vid Hyllstofta","2016-09-14",14.9,9.8000000000000007,97.275848150727157,7.47,0.62186000000000008,14,19.899999999999999,150,47,null,22,1900,null,2200,null,null,null,2016,9]
[105,"30 Bäljaneå, vid Hyllstofta","2016-11-08",2.1,13.6,98.588358068422593,6.7,0.144432,9.1999999999999993,12.4,225,91,null,32,1300,null,2200,null,null,null,2016,11]
[105,"30 Bäljaneå, vid Hyllstofta","2017-07-12",16.3,9.3000000000000007,95.052629691224737,7.34,0.40922400000000003,12,14.8,350,63,null,38,1200,null,1800,null,null,null,2017,7]
[105,"30 Bäljaneå, vid Hyllstofta","2017-08-17",15.5,9.8000000000000007,98.515040740758337,7.08,0.33299600000000007,15,13,400,130,null,33,960,null,1900,null,null,null,2017,8]
[105,"30 Bäljaneå, vid Hyllstofta","2017-09-20",11.9,10,92.913366435725592,6.52,0.15646800000000002,8.3000000000000007,10,350,120,null,42,440,null,1900,null,null,null,2017,9]
[105,"30 Bäljaneå, vid Hyllstofta","2017-11-09",6.3,12.3,99.768949048217792,6.6,0.17251600000000003,7.2,9.9,300,110,null,32,720,null,1700,null,null,null,2017,11]
[105,"30 Bäljaneå, vid Hyllstofta","2018-07-19",18.899999999999999,9.8000000000000007,105,7.25,0.52,15,14.6,175,37,null,28,800,null,1400,null,null,null,2018,7]
[105,"30 Bäljaneå, vid Hyllstofta","2018-08-15",18.2,8.9,94,7.25,0.42,10,18.3,175,29,null,35,1800,null,2400,null,null,null,2018,8]
[105,"30 Bäljaneå, vid Hyllstofta","2018-09-12",14.2,10.199999999999999,100,7.27,0.6,13,22.6,175,43,null,17,1800,null,2600,null,null,null,2018,9]
[105,"30 Bäljaneå, vid Hyllstofta","2018-11-14",8.9,10.6,92,7.03,0.26,10,17.600000000000001,100,36,null,18,1000,null,1500,null,null,null,2018,11]
[105,"30 Bäljaneå, vid Hyllstofta","2019-07-17",15.8,8.5,86,7.36,0.48,20,17.2,250,51,null,41,1100,null,1800,null,null,null,2019,7]
[105,"30 Bäljaneå, vid Hyllstofta","2019-08-14",14.6,8.8000000000000007,87,6.91,0.26,15,12.9,300,99,null,43,1000,null,2100,null,null,null,2019,8]
[105,"30 Bäljaneå, vid Hyllstofta","2019-09-17",11.7,11.3,105,6.81,0.22,10,12.7,250,75,null,35,700,null,1800,null,null,null,2019,9]
[105,"30 Bäljaneå, vid Hyllstofta","2019-11-13",5.4,12.3,97,6.7,0.2,8.6,11.4,300,83,null,30,680,null,1800,null,null,null,{"$f":"YEAR(C1479)","v":2019},{"$f":"MONTH(C1479)","v":11}]
[105,"30 Bäljaneå, vid Hyllstofta","2020-07-15",14.6,10.3,102,7.09,0.3,15,12.5,300,67,null,37,780,null,1900,null,null,null,2020,7]
[105,"30 Bäljaneå, vid Hyllstofta","2020-08-12",18.2,9.3000000000000007,99,7.56,0.56000000000000005,14,19,200,38,null,25,1600,null,2200,null,null,null,2020,8]
[105,"30 Bäljaneå, vid Hyllstofta","2020-09-14",14.8,10.1,100,7.41,0.55000000000000004,13,19.5,175,37,null,30,1700,null,2000,null,null,null,2020,9]
[105,"30 Bäljaneå, vid Hyllstofta","2020-11-10",8.9,11.7,101,6.94,0.24,9.5,13,225,67,null,30,800,null,1800,null,null,null,2020,11]
[105,"30 Bäljaneå, vid Hyllstofta","2021-02-24",1.6,14.1,99,6.9,0.14094663694768586,5.8,10,200,55.300000000000004,null,37,1300,null,1900,null,null,null,2021,2]
[105,"30 Bäljaneå, vid Hyllstofta","2021-04-20",8.4,12.2,103,7.2,0.26222630129802021,7.3,13,190,43.45,null,27,1600,null,1900,null,null,null,2021,4]
[105,"30 Bäljaneå, vid Hyllstofta","2021-07-13",18.8,9.1,98,7.3,0.44250688344040906,13,14,330,63.2,null,35,1500,null,2000,null,null,null,2021,7]
[105,"30 Bäljaneå, vid Hyllstofta","2021-08-24",12.1,10.7,98,7.4,0.36065573770491804,12,15,280,71.100000000000009,null,29,1600,null,2000,null,null,null,2021,8]
[105,"30 Bäljaneå, vid Hyllstofta","2021-09-16",14.1,9.8000000000000007,95,7.2,0.29508196721311475,9.6,11,310,90.850000000000009,null,72,1100,null,1900,null,null,null,2021,9]
[105,"30 Bäljaneå, vid Hyllstofta","2021-11-22",4.4000000000000004,13,99,6.7,0.16065573770491803,6.4,10,310,94.800000000000011,null,47,1100,null,1700,null,null,null,2021,11]
[105,"30 Bäljaneå, vid Hyllstofta","2022-02-08",3,13.2,98,6.4,6.7213114754098358E-2,3.4,9.4,190,59.25,null,29,1400,null,1800,null,null,null,2022,2]
[105,"30 Bäljaneå, vid Hyllstofta","2022-04-21",8.3000000000000007,11.8,99,7.2,0.27868852459016391,8.3000000000000007,12,190,90.850000000000009,null,29,1300,null,1500,null,null,null,2022,4]
[105,"30 Bäljaneå, vid Hyllstofta","2022-07-07",14.6,9.9,98,7.2,0.27868852459016391,13,12,480,114.55000000000001,null,37,1300,null,1800,null,null,null,2022,7]
[105,"30 Bäljaneå, vid Hyllstofta","2022-08-26",18.100000000000001,9.1999999999999993,98,7.7,0.62,16,22,180,38.314999999999998,null,16,2200,null,2400,null,null,null,2022,8]
[105,"30 Bäljaneå, vid Hyllstofta","2022-09-19",9.6999999999999993,11.1,98,7.5,0.4098360655737705,11,13,160,31.995000000000001,null,21,1200,null,1300,null,null,null,2022,9]
[105,"30 Bäljaneå, vid Hyllstofta","2022-11-18",4.3,13,100,7.2,0.36065573770491804,13,14,190,47.400000000000006,null,23,1400,null,1700,null,null,null,2022,11]
[105,"30 Bäljaneå, vid Hyllstofta","2023-02-16",4,12.4,95,7,0.18032786885245902,5.9,11,190,67.150000000000006,null,35,1400,130,1700,null,null,null,2023,2]
[105,"30 Bäljaneå, vid Hyllstofta","2023-04-13",6.4,12.1,99,7,0.19672131147540983,7,12,160,51.35,null,32,1200,110,1500,null,null,null,2023,4]
[105,"30 Bäljaneå, vid Hyllstofta","2023-07-12",17,9.5,98,7.5,0.39344262295081966,12,12,200,29.625,null,31,1200,43,1300,null,null,null,2023,7]
[105,"30 Bäljaneå, vid Hyllstofta","2023-08-10",12.6,10.1,114,6.1,5.9016393442622953E-2,4,7.7,380,146.15,null,43,660,41,1500,null,null,null,2023,8]
[105,"30 Bäljaneå, vid Hyllstofta","2023-09-14",12.2,10.199999999999999,95,7.4,0.44262295081967212,22,16,360,71.100000000000009,null,37,1400,71,1700,null,null,null,2023,9]
[105,"30 Bäljaneå, vid Hyllstofta","2023-11-15",5.9,12,97,6.5,0.10163934426229508,5,8.5,410,146.15,null,38,790,110,1600,null,null,null,2023,11]
[110,"32 Bäljaneå, uppstr Klippan","2013-02-14",0.5,15,103.94036647685876,7.13,0.25669120000000001,7.8,12,125,47,null,14,1100,null,1700,null,null,null,2013,2]
[110,"32 Bäljaneå, uppstr Klippan","2013-04-17",7,11.2,92.48372236961589,7.09,0.28055999999999998,10,11.6,150,47,null,20,900,null,1600,null,null,null,2013,4]
[110,"32 Bäljaneå, uppstr Klippan","2013-07-10",17.3,9.4,98.042470113487283,7.45,0.49298399999999992,10.3,15.2,200,67,null,25,1200,null,1700,null,null,null,2013,7]
[110,"32 Bäljaneå, uppstr Klippan","2013-08-15",15.3,9.8000000000000007,98.102256520402904,6.83,0.212424,27,10.7,400,110,null,44,480,null,1600,null,null,null,2013,8]
[110,"32 Bäljaneå, uppstr Klippan","2013-09-12",14.2,9.9,96.805120873605617,7.33,0.59318399999999993,7.9,19,125,43,null,18,1500,null,2000,null,null,null,2013,9]
[110,"32 Bäljaneå, uppstr Klippan","2013-11-20",4.0999999999999996,12.6,96.466649642855302,7.19,0.29458799999999996,8.6,13.1,200,79,null,26,1000,null,1700,null,null,null,2013,11]
[110,"32 Bäljaneå, uppstr Klippan","2014-02-18",3.2,13.4,100.12547622459967,6.73,0.12462000000000001,4,11,125,63,null,16,1300,null,1800,null,null,null,2014,2]
[110,"32 Bäljaneå, uppstr Klippan","2014-04-15",7,11.9,98.263955017716896,6.63,0.17286000000000001,8,10.4,200,99,null,22,830,null,1500,null,null,null,2014,4]
[110,"32 Bäljaneå, uppstr Klippan","2014-07-23",19.7,8.3000000000000007,90.697222559594437,7.06,0.37185000000000001,9.1,13.6,300,95,null,28,950,null,1700,null,null,null,2014,7]
[110,"32 Bäljaneå, uppstr Klippan","2014-08-14",16.899999999999999,9.8000000000000007,101.39512775741093,7.06,0.28944000000000003,15,12.16,400,140,null,34,460,null,1600,null,null,null,2014,8]
[110,"32 Bäljaneå, uppstr Klippan","2014-09-24",11.4,11.1,101.95786370034192,7.09,0.33767999999999998,18,13.13,400,130,null,34,850,null,1700,null,null,null,2014,9]
[110,"32 Bäljaneå, uppstr Klippan","2014-11-12",8.1999999999999993,11,93.601738466543182,6.81,0.20502000000000004,10.199999999999999,10.8,400,150,null,32,430,null,1900,null,null,null,2014,11]
[110,"32 Bäljaneå, uppstr Klippan","2015-02-10",3.3,13.3,99.649292337355973,6.91,0.20945600000000003,5.8,11.6,125,59,null,15,1200,null,1800,null,null,null,2015,2]
[110,"32 Bäljaneå, uppstr Klippan","2015-04-15",7.4,11.9,99.260829864023918,6.84,0.16514800000000002,9,9.5,200,79,null,30,750,null,1500,null,null,null,2015,4]
[110,"32 Bäljaneå, uppstr Klippan","2015-07-15",16.100000000000001,9.4,95.680021644642238,7.09,0.30008600000000002,16,11.6,500,55,null,36,780,null,2000,null,null,null,2015,7]
[110,"32 Bäljaneå, uppstr Klippan","2015-08-13",16.2,10.199999999999999,104.03718369037182,7.18,0.37460399999999999,14,13.1,400,130,null,54,1000,null,2100,null,null,null,2015,8]
[110,"32 Bäljaneå, uppstr Klippan","2015-09-15",14.3,9.8000000000000007,96.034389343325799,7.37,0.53975200000000012,11,17.899999999999999,175,63,null,25,1600,null,2400,null,null,null,2015,9]
[110,"32 Bäljaneå, uppstr Klippan","2015-11-11",11.3,10.3,94.391334532568663,6.84,0.22959599999999999,22,11.3,250,120,null,80,900,null,2000,null,null,null,2015,11]
[110,"32 Bäljaneå, uppstr Klippan","2016-02-17",0.9,14.3,100.22553417572999,6.88,0.21348400000000001,5.8,11.6,125,63,null,21,1100,null,1600,null,null,null,2016,2]
[110,"32 Bäljaneå, uppstr Klippan","2016-04-13",8.8000000000000007,11.2,96.718727853373693,7.27,0.29404399999999997,7.3,12.4,150,59,null,24,1100,null,1600,null,null,null,2016,4]
[110,"32 Bäljaneå, uppstr Klippan","2016-07-13",16.2,9.4,95.877404577401506,6.88,0.222666,11,10.7,350,9.5,null,42,620,null,1500,null,null,null,2016,7]
[110,"32 Bäljaneå, uppstr Klippan","2016-08-18",14.7,10,98.839038539400008,7.41,0.53359600000000007,8.8000000000000007,16,175,33,null,28,1200,null,1500,null,null,null,2016,8]
[110,"32 Bäljaneå, uppstr Klippan","2016-09-14",15.6,9.4,94.691878842811477,7.45,0.62988400000000011,6.3,19.100000000000001,125,39,null,28,1600,null,2000,null,null,null,2016,9]
[110,"32 Bäljaneå, uppstr Klippan","2016-11-08",2.2000000000000002,13.8,100.31648387027485,6.85,0.15245600000000001,11,12.4,225,79,null,35,1200,null,1900,null,null,null,2016,11]
[110,"32 Bäljaneå, uppstr Klippan","2017-02-16",1,14.2,99.807400139876478,7.22,0.34503200000000006,7.6,15.1,85,35,null,20,1400,null,1700,null,null,null,2017,2]
[110,"32 Bäljaneå, uppstr Klippan","2017-04-19",5.5,12.3,97.723126960336245,6.96,0.20661800000000002,5.2,11.7,200,63,null,22,1100,null,1600,null,null,null,2017,4]
[110,"32 Bäljaneå, uppstr Klippan","2017-07-12",16.399999999999999,9.1999999999999993,94.223570372263836,7.39,0.39919400000000005,11,14.3,300,67,null,28,1100,null,1700,null,null,null,2017,7]
[110,"32 Bäljaneå, uppstr Klippan","2017-08-17",15.5,10,100.52555177628402,7.13,0.28485200000000005,11,11.8,350,100,null,38,960,null,1700,null,null,null,2017,8]
[110,"32 Bäljaneå, uppstr Klippan","2017-09-20",12.1,10.199999999999999,95.203908431023208,6.64,0.15045000000000003,7,10.5,350,130,null,38,450,null,1900,null,null,null,2017,9]
[110,"32 Bäljaneå, uppstr Klippan","2017-11-09",6.6,12.3,100.53867141353111,6.83,0.19658800000000004,6.4,11.1,250,99,null,30,900,null,1800,null,null,null,2017,11]
[110,"32 Bäljaneå, uppstr Klippan","2018-02-15",1.9,12.7,92,6.99,0.26,8.3000000000000007,11.6,150,43,null,21,1000,null,1600,null,null,null,2018,2]
[110,"32 Bäljaneå, uppstr Klippan","2018-04-18",10,11,98,7.05,0.27,7.9,11.8,200,55,null,33,920,null,1600,null,null,null,2018,4]
[110,"32 Bäljaneå, uppstr Klippan","2018-07-19",18.899999999999999,9.8000000000000007,105,7.4,0.68,5.0999999999999996,19.399999999999999,125,27,null,13,1300,null,1800,null,null,null,2018,7]
[110,"32 Bäljaneå, uppstr Klippan","2018-08-16",17.8,9.1999999999999993,97,7.37,0.48,17,19.399999999999999,250,43,null,23,1200,null,1900,null,null,null,2018,8]
[110,"32 Bäljaneå, uppstr Klippan","2018-09-12",14.3,9.8000000000000007,96,7.32,0.6,3.7,17.7,85,25,null,10,1400,null,1700,null,null,null,2018,9]
[110,"32 Bäljaneå, uppstr Klippan","2018-11-14",9.1999999999999993,10.5,92,7.08,0.28999999999999998,9.9,17.7,70,26,null,15,1100,null,1300,null,null,null,2018,11]
[110,"32 Bäljaneå, uppstr Klippan","2019-02-12",4,12.4,95,6.33,0.09,4.0999999999999996,12.6,125,79,null,24,2200,null,2500,null,null,null,2019,2]
[110,"32 Bäljaneå, uppstr Klippan","2019-04-09",6.8,12.4,102,7,0.24,5.4,14,100,38,null,14,1800,null,2000,null,null,null,2019,4]
[110,"32 Bäljaneå, uppstr Klippan","2019-07-17",16.399999999999999,8.4,86,7.44,0.56999999999999995,6.3,17.8,150,40,null,20,1300,null,1700,null,null,null,2019,7]
[110,"32 Bäljaneå, uppstr Klippan","2019-08-14",15.1,8.6999999999999993,87,7.14,0.34,12,13.8,250,67,null,31,1000,null,1900,null,null,null,2019,8]
[110,"32 Bäljaneå, uppstr Klippan","2019-09-17",12.5,10.5,99,6.87,0.19,9.6999999999999993,12,400,99,null,37,460,null,1700,null,null,null,2019,9]
[110,"32 Bäljaneå, uppstr Klippan","2019-11-13",5.7,12.3,98,6.88,0.21,8,11.9,250,83,null,29,1000,null,1800,null,null,null,{"$f":"YEAR(C1543)","v":2019},{"$f":"MONTH(C1543)","v":11}]
[110,"32 Bäljaneå, uppstr Klippan","2020-02-10",6,11.9,96,6.59,0.13,7.4,9.6999999999999993,250,87,null,40,1400,null,2100,null,null,null,2020,2]
[110,"32 Bäljaneå, uppstr Klippan","2020-04-15",7.5,12.1,101,7.26,0.32,9.9,13.7,150,40,null,23,1400,null,1900,null,null,null,2020,4]
[110,"32 Bäljaneå, uppstr Klippan","2020-07-15",14.8,10.199999999999999,101,7.09,0.31,12,12.7,300,75,null,37,1000,null,2000,null,null,null,2020,7]
[110,"32 Bäljaneå, uppstr Klippan","2020-08-12",18.100000000000001,9,95,7.54,0.57999999999999996,6.5,19.399999999999999,125,36,null,23,1600,null,2200,null,null,null,2020,8]
[110,"32 Bäljaneå, uppstr Klippan","2020-09-14",15.3,10,100,7.45,0.56999999999999995,9.3000000000000007,19.8,125,28,null,17,1700,null,1900,null,null,null,2020,9]
[110,"32 Bäljaneå, uppstr Klippan","2020-11-10",9.1,11.7,102,7.06,0.24,7.7,13.6,225,67,null,28,820,null,1800,null,null,null,2020,11]
[110,"32 Bäljaneå, uppstr Klippan","2021-02-24",2,13.8,98,6.9,0.16389143831126263,5.2,11,170,55.300000000000004,null,30,1500,null,2000,null,null,null,2021,2]
[110,"32 Bäljaneå, uppstr Klippan","2021-04-20",8.6,12,102,7.3,0.27861544512914649,5.3,13,170,47.400000000000006,null,24,1600,null,1900,null,null,null,2021,4]
[110,"32 Bäljaneå, uppstr Klippan","2021-07-13",19,9,97,7.2,0.40972859577815657,11,14,290,75.05,null,32,1500,null,1900,null,null,null,2021,7]
[110,"32 Bäljaneå, uppstr Klippan","2021-08-24",12.6,10.6,98,7.3,0.29508196721311475,7.8,15,260,79,null,31,1500,null,2000,null,null,null,2021,8]
[110,"32 Bäljaneå, uppstr Klippan","2021-09-16",14.2,9.8000000000000007,96,7.6,0.49180327868852458,9.3000000000000007,17,200,43.45,null,29,1700,null,1900,null,null,null,2021,9]
[110,"32 Bäljaneå, uppstr Klippan","2021-11-22",4.5,12.9,99,6.9,0.16393442622950818,6.8,11,320,79,null,40,1100,null,1700,null,null,null,2021,11]
[110,"32 Bäljaneå, uppstr Klippan","2022-02-08",3.2,13.2,99,6.4,6.5573770491803282E-2,2.5,9.6,180,63.2,null,23,1400,null,1800,null,null,null,2022,2]
[110,"32 Bäljaneå, uppstr Klippan","2022-04-21",9.8000000000000007,11.5,100,7.3,0.26229508196721313,7.2,12,180,51.35,null,29,1400,null,1600,null,null,null,2022,4]
[110,"32 Bäljaneå, uppstr Klippan","2022-07-07",15.1,9.6999999999999993,97,7.1,0.26229508196721313,16,11,510,110.60000000000001,null,42,1300,null,1700,null,null,null,2022,7]
[110,"32 Bäljaneå, uppstr Klippan","2022-08-23",15.4,9.6999999999999993,96,7.7,0.62,6.9,20,120,43.45,null,21,1900,null,2100,null,null,null,2022,8]
[110,"32 Bäljaneå, uppstr Klippan","2022-09-19",10.3,10.9,97,7.6,0.47540983606557374,11,16,160,37.92,null,24,1600,null,1800,null,null,null,2022,9]
[110,"32 Bäljaneå, uppstr Klippan","2022-11-17",6.2,12.1,97,7.3,0.36065573770491804,8.8000000000000007,14,240,55.300000000000004,null,46,1300,null,1500,null,null,null,2022,11]
[110,"32 Bäljaneå, uppstr Klippan","2023-02-16",4,12.5,95,7.1,0.18032786885245902,5.3,12,180,75.05,null,19,1500,null,1800,null,null,null,2023,2]
[110,"32 Bäljaneå, uppstr Klippan","2023-04-13",6.9,12.1,99,7.1,0.19672131147540983,5.3,12,170,51.35,null,17,1300,null,1500,null,null,null,2023,4]
[110,"32 Bäljaneå, uppstr Klippan","2023-07-12",17.100000000000001,9.6,99,7.6,0.45901639344262296,8.3000000000000007,17,190,37.524999999999999,null,28,1700,null,1800,null,null,null,2023,7]
[110,"32 Bäljaneå, uppstr Klippan","2023-08-10",12.7,10.1,115,5.9,3.2786885245901641E-2,5.5,8.4,410,154.05000000000001,null,42,710,null,1400,null,null,null,2023,8]
[110,"32 Bäljaneå, uppstr Klippan","2023-09-14",13.5,9.9,94,7.4,0.4098360655737705,18,16,360,67.150000000000006,null,35,1600,null,1900,null,null,null,2023,9]
[110,"32 Bäljaneå, uppstr Klippan","2023-11-15",6.3,11.97,96.7,6.7,0.14426229508196722,5.6,9.8000000000000007,360,154.05000000000001,null,36,950,null,1600,null,null,null,2023,11]
[120,"33 Bäljaneå, nedstr Klippan","2013-01-16",0.7,11.5,80.143762132408753,6.97,0.30880079999999999,5,13.1,175,71,9,25,1300,150,1800,null,null,null,2013,1,16,0.33800000000000002]
[120,"33 Bäljaneå, nedstr Klippan","2013-02-14",0.3,15.3,105.41370830132722,7.19,0.34693419999999997,6.9,13.5,125,51,6,21,1100,440,2000,null,null,null,2013,2,10,0.26]
[120,"33 Bäljaneå, nedstr Klippan","2013-03-13",0.8,13.6,95.048896366581744,7.24,0.47094000000000003,7.5,15.77,100,43,7,22,1400,570,2300,null,null,null,2013,3,7.9,0.20599999999999999]
[120,"33 Bäljaneå, nedstr Klippan","2013-04-17",8.6,10.8,92.809298499102425,7.13,0.29057999999999995,9.6,11.5,150,51,5,24,890,290,1700,null,null,null,2013,4,11,0.248]
[120,"33 Bäljaneå, nedstr Klippan","2013-05-14",12.2,10.4,97.291023396937419,7.41,0.44488800000000006,6.6,15.2,125,63,5,24,1500,92,2100,null,null,null,2013,5,17,0.28499999999999998]
[120,"33 Bäljaneå, nedstr Klippan","2013-06-11",16,9.6999999999999993,98.529869730672431,7.38,0.55510799999999993,8.1999999999999993,17.100000000000001,175,55,10,29,1500,19,2100,null,null,null,2013,6,16,0.33100000000000002]
[120,"33 Bäljaneå, nedstr Klippan","2013-07-10",17.100000000000001,8.4,87.261451195442604,7.22,0.58917599999999992,9.9,17,200,67,8,32,1300,28,2000,null,null,null,2013,7,22,0.44800000000000001]
[120,"33 Bäljaneå, nedstr Klippan","2013-08-15",15.6,9.5,95.699239256032868,7.01,0.33667199999999992,21,11.7,300,83,6,43,1200,14,1400,null,null,null,2013,8,19,0.51100000000000001]
[120,"33 Bäljaneå, nedstr Klippan","2013-09-12",14.6,9,88.765138869723941,7.24,0.63727200000000006,7.4,18.36,125,43,"<2",25,1400,41,1900,null,null,null,2013,9,16,0.249]
[120,"33 Bäljaneå, nedstr Klippan","2013-10-15",10.1,10.9,97.120661546068035,7.1,0.36873600000000001,21,12.38,250,83,5,34,760,"<10",1500,null,null,null,2013,10,13,0.42]
[120,"33 Bäljaneå, nedstr Klippan","2013-11-20",4.5999999999999996,12.3,95.434620626850844,7.11,0.32264399999999993,8.1,13.6,200,91,8,22,1400,97,1700,null,null,null,2013,11,22,0.39100000000000001]
[120,"33 Bäljaneå, nedstr Klippan","2013-12-12",3.9,13,98.995861761228284,6.8,0.14829599999999998,4.5,15.1,150,27,3.6,18,1000,130,1900,null,null,null,2013,12,10,0.28799999999999998]
[120,"33 Bäljaneå, nedstr Klippan","2014-01-14",2.8,13.7,101.2529309230293,6.73,0.11055,4.3,11.8,150,83,3.5,19,1100,94,1800,null,null,null,2014,1,13,0.35099999999999998]
[120,"33 Bäljaneå, nedstr Klippan","2014-02-18",3.3,13.4,100.39853513688497,6.8,0.14673,3.9,11.4,150,67,4,16,1100,160,1900,null,null,null,2014,2,10,0.28699999999999998]
[120,"33 Bäljaneå, nedstr Klippan","2014-03-13",6.1,13.6,109.74707420129228,7.26,0.36381000000000002,6.7,15.1,125,47,4,19,1100,450,2400,null,null,null,2014,3,11,0.378]
[120,"33 Bäljaneå, nedstr Klippan","2014-04-15",7.3,11.8,98.179399711980949,6.71,0.18894000000000002,8.4,10.5,200,95,5,22,800,93,1600,null,null,null,2014,4,18,0.374]
[120,"33 Bäljaneå, nedstr Klippan","2014-05-13",12,10.5,97.781529532501693,6.97,0.23315999999999998,13,10.19,250,110,5,38,410,29,1600,null,null,null,2014,5,18,0.44900000000000001]
[120,"33 Bäljaneå, nedstr Klippan","2014-06-10",18.600000000000001,9.3000000000000007,99.514067995291214,7.32,0.49044000000000004,9.6999999999999993,15.7,225,75,3,23,1300,26,2100,null,null,null,2014,6,16,0.436]
[120,"33 Bäljaneå, nedstr Klippan","2014-07-23",20,8.1,89.010387117772339,7.07,0.45627000000000001,8.8000000000000007,15.1,250,91,12,40,1100,33,1900,null,null,null,2014,7,46,0.54300000000000004]
[120,"33 Bäljaneå, nedstr Klippan","2014-08-14",17.100000000000001,9.5,98.688545994845811,7.01,0.32160000000000005,14,12.4,400,140,6.7,36,470,17,1800,null,null,"hämtat mossa",2014,8,25,0.80100000000000005]
[120,"33 Bäljaneå, nedstr Klippan","2014-09-24",11.9,10.8,100.34643575058364,7.11,0.43215000000000003,17,14.8,400,130,7,35,1100,26,1800,null,null,null,2014,9,20,0.75800000000000001]
[120,"33 Bäljaneå, nedstr Klippan","2014-10-14",11.4,10.199999999999999,93.691009886800686,7.04,0.38390999999999997,28,13.2,650,150,8.9,67,800,30,1900,null,null,null,2014,10,30,0.71]
[120,"33 Bäljaneå, nedstr Klippan","2014-11-12",8.3000000000000007,10.6,90.4210566321523,6.84,0.23516999999999999,10.4,11.4,400,150,9.8000000000000007,35,690,82,2000,null,null,null,2014,11,22,0.77600000000000002]
[120,"33 Bäljaneå, nedstr Klippan","2014-12-09",4.4000000000000004,12.3,94.928110259948667,6.86,0.17286000000000001,16,9.3000000000000007,500,140,11,39,770,160,2000,null,null,null,2014,12,23,0.57899999999999996]
[120,"33 Bäljaneå, nedstr Klippan","2015-01-20",3.1,12.8,95.38164738679265,6.71,0.16079999999999997,3.8,11.2,150,67,5,22,1300,130,2000,null,null,null,2015,1,17]
[120,"33 Bäljaneå, nedstr Klippan","2015-02-10",3.1,13.1,97.617154747420599,6.97,0.24369399999999999,5.5,12.2,150,63,5,21,1200,290,2100,null,null,null,2015,2,18]
[120,"33 Bäljaneå, nedstr Klippan","2015-03-17",7.6,11.8,98.921663614834955,7.24,0.31821199999999999,8.6999999999999993,13.5,175,63,9,18,1300,67,2100,null,null,null,2015,3,19]
[120,"33 Bäljaneå, nedstr Klippan","2015-04-15",7.4,11.9,99.260829864023918,6.88,0.19737200000000002,11,9.9,225,91,2.9,35,800,79,1600,null,null,null,2015,4,20]
[120,"33 Bäljaneå, nedstr Klippan","2015-05-12",12.8,10.6,100.50946314820541,7.23,0.37863199999999997,9.1999999999999993,13.5,225,83,7,28,1100,23,1800,null,null,null,2015,5,22]
[120,"33 Bäljaneå, nedstr Klippan","2015-06-09",13.7,9.6999999999999993,93.823866510166553,7.18,0.41689799999999999,8.9,13.7,350,100,7,39,1100,220,2300,null,null,null,2015,6,24]
[120,"33 Bäljaneå, nedstr Klippan","2015-07-15",15.8,9.1,92.05267017989226,7.06,0.34640799999999999,17,12.2,500,150,7.6,39,800,78,2200,null,null,null,2015,7,27]
[120,"33 Bäljaneå, nedstr Klippan","2015-08-13",16.3,9.8000000000000007,100.16298612623682,7.19,0.43703800000000004,14,14,450,130,8.9,64,1100,24,2200,null,null,null,2015,8,24]
[120,"33 Bäljaneå, nedstr Klippan","2015-09-15",15.4,8.9,89.280336724669468,7.12,0.62836800000000004,11,19.5,200,67,9,44,1700,22,2600,null,null,null,2015,9,28]
[120,"33 Bäljaneå, nedstr Klippan","2015-10-13",8.4,10.1,86.368491005101276,7.2,0.57399,11,17.600000000000001,200,67,"<2",30,1600,"<10",2200,null,null,null,2015,10,21]
[120,"33 Bäljaneå, nedstr Klippan","2015-11-11",11.4,10,91.853931261569301,6.77,0.19334399999999999,24,11.3,300,140,3.1,69,910,38,2100,null,null,null,2015,11,21]
[120,"33 Bäljaneå, nedstr Klippan","2015-12-08",6.3,11.3,91.657652377630981,6.62,0.12688199999999999,4.9000000000000004,10.7,200,100,2.9,32,1000,80,1800,null,null,null,2015,12,30]
[120,"33 Bäljaneå, nedstr Klippan","2016-01-20",0.3,13.4,92.323117074365015,7.16,0.31356000000000001,6,14.2,125,47,5.0999999999999996,23,1300,150,1800,null,null,null,2016,1,15]
[120,"33 Bäljaneå, nedstr Klippan","2016-02-17",1.1000000000000001,14,98.680734327964799,6.91,0.24570799999999998,4.8,12.4,125,63,2,24,1100,150,1800,null,null,null,2016,2,20]
[120,"33 Bäljaneå, nedstr Klippan","2016-03-16",6,12.5,100.61033932880925,7.05,0.23966599999999999,5.5,11.9,125,59,2.2000000000000002,24,1000,120,1700,null,null,null,2016,3,16]
[120,"33 Bäljaneå, nedstr Klippan","2016-04-13",8.8000000000000007,11.5,99.309408063731937,7.18,0.33029600000000003,6.6,12.9,150,63,"<2",28,1200,23,1700,null,null,null,{"$f":"YEAR(C1607)","v":2016},{"$f":"MONTH(C1607)","v":4},20]
[120,"33 Bäljaneå, nedstr Klippan","2016-05-17",12.7,10.9,103.12317456590172,7.33,0.49748800000000004,6.7,16.399999999999999,125,55,"<2",30,1500,14,1900,null,null,null,2016,5,20]
[120,"33 Bäljaneå, nedstr Klippan","2016-06-14",14.7,8.5,84.013182758490018,7.38,0.69006400000000012,6,20.7,125,30,22,47,1800,47,2600,null,null,null,2016,6,37]
[120,"33 Bäljaneå, nedstr Klippan","2016-07-13",16.7,9.1999999999999993,94.802067045927132,6.91,0.23068999999999998,12,11.3,350,71,6.7,50,630,47,1500,null,null,null,2016,7,25]
[120,"33 Bäljaneå, nedstr Klippan","2016-08-18",15,9.1999999999999993,91.514230577787941,7.29,0.60982400000000003,8.6999999999999993,17.7,200,36,8.4,35,1500,"<10",1800,null,null,null,2016,8,24]
[120,"33 Bäljaneå, nedstr Klippan","2016-09-14",17,7.9,81.902145951201703,7.23,0.81443600000000005,5.4,25.2,85,36,18,50,2300,61,2700,null,null,null,2016,9,41]
[120,"33 Bäljaneå, nedstr Klippan","2016-10-12",9,10.1,87.64553186700266,7.33,0.80240000000000011,5.5,24.1,85,32,22,53,2300,21,2700,null,null,null,2016,10,42]
[120,"33 Bäljaneå, nedstr Klippan","2016-11-08",2.2000000000000002,13.6,98.862621785198399,6.84,0.17051000000000002,11,12.8,225,83,9.6999999999999993,41,1200,110,1900,null,null,null,2016,11,19]
[120,"33 Bäljaneå, nedstr Klippan","2016-12-14",3.7,13.1,99.220933349236233,7.13,0.29488200000000003,8.3000000000000007,14.3,150,55,6.7,28,1100,88,1700,null,null,null,2016,12,18]
[120,"33 Bäljaneå, nedstr Klippan","2017-01-18",1,13,91.372971959041848,7.19,0.30691800000000002,11,15.8,125,51,4.2,19,1300,100,1800,null,null,null,2017,1,19]
[120,"33 Bäljaneå, nedstr Klippan","2017-02-16",1.5,14,99.80008242381264,7.24,0.46940400000000004,9.1999999999999993,17.600000000000001,85,36,8.6,29,1400,820,2400,null,null,null,2017,2,24]
[120,"33 Bäljaneå, nedstr Klippan","2017-03-14",5.5,11.5,91.367151223078608,7.06,0.25877400000000006,4.9000000000000004,13.6,125,47,5.6,24,1400,220,2000,null,null,null,2017,3,19]
[120,"33 Bäljaneå, nedstr Klippan","2017-04-19",5.2,12.5,98.535239318316258,6.94,0.21664800000000003,5.3,12.1,200,67,3.2,24,1100,51,1700,null,null,null,2017,4,24]
[120,"33 Bäljaneå, nedstr Klippan","2017-05-10",9,11.6,100.66219501556742,7.3,0.40721800000000002,6,15.8,125,33,6.3,28,1500,34,2000,null,null,null,2017,5,21]
[120,"33 Bäljaneå, nedstr Klippan","2017-06-20",18.3,8.6999999999999993,92.552657938783227,7.26,0.44934400000000002,8.3000000000000007,15.2,250,71,9.4,48,1100,270,2200,null,null,null,2017,6,34]
[120,"33 Bäljaneå, nedstr Klippan","2017-07-12",16.5,8.5,87.232630104932667,7.28,0.42527200000000009,11,15.7,250,63,9.6,39,1300,24,1900,null,null,null,2017,7,28]
[120,"33 Bäljaneå, nedstr Klippan","2017-08-17",16,9.5,96.498326024885387,7.1,0.36509200000000008,13,13.8,400,110,7.2,40,1100,54,2000,null,null,null,2017,8,28]
[120,"33 Bäljaneå, nedstr Klippan","2017-09-20",12.8,10.1,95.768450735554225,6.59,0.15245600000000001,7.5,10.6,400,150,8.1999999999999993,43,400,43,2000,null,null,null,2017,9,28]
[120,"33 Bäljaneå, nedstr Klippan","2017-10-10",8.6999999999999993,11.7,100.78992583928749,6.71,0.17452200000000001,7.4,10.4,500,140,15,40,330,76,1800,null,null,null,2017,10,27]
[120,"33 Bäljaneå, nedstr Klippan","2017-11-09",6.6,11.9,97.26912112366017,6.85,0.21464200000000005,6.3,11.5,350,99,11,29,890,150,1800,null,null,null,2017,11,31]
[120,"33 Bäljaneå, nedstr Klippan","2017-12-19",4.2,14.4,110.54328118023852,6.6,0.15646800000000002,6.2,10.4,250,47,7.4,24,1000,190,1800,null,null,null,2017,12,18]
[120,"33 Bäljaneå, nedstr Klippan","2018-01-09",2.2000000000000002,13.7,100,6.81,0.23,6,11.8,225,71,10,22,1000,320,1800,null,null,null,2018,1,20]
[120,"33 Bäljaneå, nedstr Klippan","2018-02-15",1.8,12.6,91,7.06,0.32,9.1,12.8,200,47,10,26,1000,310,1900,null,null,null,2018,2,20]
[120,"33 Bäljaneå, nedstr Klippan","2018-03-20",4.2,12.6,97,7.1,0.32,6.3,13.2,175,43,9.5,33,840,410,2100,null,null,null,2018,3,18]
[120,"33 Bäljaneå, nedstr Klippan","2018-04-18",10.199999999999999,10.6,95,6.98,0.33,8,13,200,63,8.1999999999999993,40,960,370,1800,null,null,null,2018,4,20]
[120,"33 Bäljaneå, nedstr Klippan","2018-05-15",17.899999999999999,8.9,94,7.38,0.52,7.6,17.899999999999999,200,47,10,39,1300,160,2000,null,null,null,2018,5,23]
[120,"33 Bäljaneå, nedstr Klippan","2018-06-12",17.2,8.5,88,7.24,0.72,5.3,22.3,100,36,9.1999999999999993,36,1900,19,2500,null,null,null,2018,6,17]
[120,"33 Bäljaneå, nedstr Klippan","2018-07-19",19.3,7.8,85,7.22,0.8,4.0999999999999996,26,85,24,6,37,2700,80,3300,null,null,null,2018,7,29]
[120,"33 Bäljaneå, nedstr Klippan","2018-08-16",17.7,8.5,89,7.35,0.6,5.6,21,85,24,6.1,21,1600,18,1800,null,null,null,2018,8,13]
[120,"33 Bäljaneå, nedstr Klippan","2018-09-12",14.3,8.5,83,7.19,0.84,3.4,28.1,70,27,29,47,2200,51,2700,null,null,null,2018,9,36]
[120,"33 Bäljaneå, nedstr Klippan","2018-10-09",11.5,11.8,109,7.21,0.34,6.8,21,50,28,"<2",20,1200,28,1400,null,null,null,2018,10,11]
[120,"33 Bäljaneå, nedstr Klippan","2018-11-14",9.6,9.8000000000000007,86,7.05,0.35,5.4,19.2,70,36,3.2,19,1100,140,1500,null,null,null,2018,11,9]
[120,"33 Bäljaneå, nedstr Klippan","2018-12-11",4.3,11.3,87,7.22,0.11,7.9,16,175,59,3.8,32,1700,270,2400,null,null,null,2018,12,14]
[120,"33 Bäljaneå, nedstr Klippan","2019-01-15",2.2999999999999998,13.3,97,6.91,0.12,7.6,14.6,175,59,3.9,26,1500,160,2200,null,null,null,2019,1,13]
[120,"33 Bäljaneå, nedstr Klippan","2019-02-12",4,12.2,93,6.43,0.1,4.0999999999999996,12.9,125,79,2.1,23,2000,130,2500,null,null,null,2019,2,13]
[120,"33 Bäljaneå, nedstr Klippan","2019-03-12",4.8,13.1,102,6.6,0.09,3.5,11.4,150,67,"<2",20,1600,120,2400,null,null,null,2019,3,13]
[120,"33 Bäljaneå, nedstr Klippan","2019-04-09",7.3,12.4,103,7.01,0.3,5.3,14.9,100,43,3.9,23,1600,420,2300,null,null,null,2019,4,11]
[120,"33 Bäljaneå, nedstr Klippan","2019-05-14",12,11.6,108,7.25,0.32,5.2,14.5,125,51,5.9,25,1500,42,1600,null,null,null,2019,5,13]
[120,"33 Bäljaneå, nedstr Klippan","2019-06-11",15.7,8.6999999999999993,88,7.29,0.52,5.3,17.8,125,37,9,34,1700,90,2300,null,null,null,2019,6,24]
[120,"33 Bäljaneå, nedstr Klippan","2019-07-17",16.399999999999999,7.5,77,7.18,0.6,6,21.4,150,40,18,37,1900,50,2700,null,null,null,2019,7,27]
[120,"33 Bäljaneå, nedstr Klippan","2019-08-14",18.399999999999999,8.3000000000000007,88,7.1,0.38,12,13.2,200,55,10,36,880,31,1700,null,null,null,2019,8,20]
[120,"33 Bäljaneå, nedstr Klippan","2019-09-17",12.5,10.3,97,6.82,0.22,12,13.2,350,110,7.2,45,520,23,2000,null,null,null,2019,9,23]
[120,"33 Bäljaneå, nedstr Klippan","2019-10-16",11.3,10.6,97,6.34,0.09,6.6,10.9,400,120,4.4000000000000004,43,390,57,2200,null,null,null,2019,10,26]
[120,"33 Bäljaneå, nedstr Klippan","2019-11-13",5.7,12.2,97,6.84,0.24,8.1999999999999993,12.5,250,83,6.3,33,220,110,1900,null,null,null,2019,11,17]
[120,"33 Bäljaneå, nedstr Klippan","2019-12-12",4.7,11.4,89,6.64,0.12,7.4,10.199999999999999,300,110,11,40,1400,170,2200,null,null,null,2019,12,25]
[120,"33 Bäljaneå, nedstr Klippan","2020-01-13",5.5,12.2,97,6.57,0.12,7,9.1999999999999993,400,95,6.7,37,1200,130,2100,null,null,null,2020,1,17]
[120,"33 Bäljaneå, nedstr Klippan","2020-02-10",6,11.8,95,6.7,0.15,7.8,10,250,79,11,41,1400,120,2100,null,null,null,2020,2,17]
[120,"33 Bäljaneå, nedstr Klippan","2020-03-17",6.2,12.6,102,6.96,0.21,6.9,10.9,200,55,6.4,27,1400,180,1800,null,null,null,2020,3,15]
[120,"33 Bäljaneå, nedstr Klippan","2020-04-15",7.6,11.8,99,7.17,0.34,9.4,14.3,175,40,5.9,30,1400,150,2000,null,null,null,2020,4,13]
[120,"33 Bäljaneå, nedstr Klippan","2020-05-19",11.5,10.3,95,7.27,0.42,9,15.4,175,38,5.5,26,1400,120,1900,null,null,null,2020,5,11]
[120,"33 Bäljaneå, nedstr Klippan","2020-06-09",13.6,8.9,86,7.24,0.49,5.6,16.5,250,28,12,50,1300,120,2200,null,null,null,2020,6,23]
[120,"33 Bäljaneå, nedstr Klippan","2020-07-15",15.2,9.8000000000000007,98,7.06,0.34,12,14.2,300,83,10,50,1200,29,2200,null,null,null,2020,7,22]
[120,"33 Bäljaneå, nedstr Klippan","2020-08-12",18.899999999999999,7.8,84,7.46,0.46,3.4,62.9,100,36,20,49,3100,74,3600,null,null,null,2020,8,32]
[120,"33 Bäljaneå, nedstr Klippan","2020-09-14",16,8.8000000000000007,89,7.25,0.72,6.5,23.9,100,26,16,33,2000,110,2200,null,null,null,2020,9,22]
[120,"33 Bäljaneå, nedstr Klippan","2020-10-13",8,10.1,86,7.11,0.34,8.6999999999999993,14.6,250,71,7.8,33,690,48,1800,null,null,null,2020,10,17]
[120,"33 Bäljaneå, nedstr Klippan","2020-11-10",9.1,11.4,99,6.97,0.27,6.8,13.7,250,75,6.5,33,720,86,1900,null,null,null,2020,11,17]
[120,"33 Bäljaneå, nedstr Klippan","2020-12-16",6.4,11.9,97,7.03,0.25,13,13,225,63,8,44,1100,130,2200,null,null,null,2020,12,15]
[120,"33 Bäljaneå, nedstr Klippan","2021-01-20",1.8,13.4,98,7.2,0.24583715746689394,8.6,14,210,55.300000000000004,null,25,1800,null,2200,null,null,null,2021,1]
[120,"33 Bäljaneå, nedstr Klippan","2021-02-24",1.3,12.8,96,7,0.19666972597351515,5.4,12,180,51.35,null,36,1500,null,2200,null,null,null,2021,2]
[120,"33 Bäljaneå, nedstr Klippan","2021-03-18",2.9,13.5,98,6.8,0.13930772256457324,3.1,10,190,55.300000000000004,null,23,1700,null,2300,null,null,null,2021,3]
[120,"33 Bäljaneå, nedstr Klippan","2021-04-20",8.3000000000000007,11.7,98,7.2,0.31139373279139898,5.0999999999999996,14,170,43.45,null,28,1600,null,2000,null,null,null,2021,4]
[120,"33 Bäljaneå, nedstr Klippan","2021-05-19",11.4,10.4,94,7.3,0.36056116428477775,7.4,14,240,59.25,null,24,1300,null,1900,null,null,null,2021,5]
[120,"33 Bäljaneå, nedstr Klippan","2021-06-09",15.2,8.6999999999999993,86,7.4,0.52445260259604043,4.4000000000000004,17,180,59.25,null,34,1600,null,2300,null,null,null,2021,6]
[120,"33 Bäljaneå, nedstr Klippan","2021-07-13",19.8,8.1999999999999993,89,7.5,0.45889602727153533,9.8000000000000007,16,300,79,null,38,1500,null,2000,null,null,null,2021,7]
[120,"33 Bäljaneå, nedstr Klippan","2021-08-24",11.9,10,93,7.2,0.32786885245901637,7.9,15,270,86.9,null,40,1500,null,1900,null,null,null,{"$f":"YEAR(C1671)","v":2021},{"$f":"MONTH(C1671)","v":8}]
[120,"33 Bäljaneå, nedstr Klippan","2021-09-16",14.7,8.6999999999999993,86,7.5,0.63934426229508201,8.3000000000000007,19,160,47.400000000000006,null,38,1700,null,2100,null,null,null,2021,9]
[120,"33 Bäljaneå, nedstr Klippan","2021-10-21",10.9,10,93,7.1,0.22950819672131148,27,11,450,75.05,null,120,1100,null,1800,null,null,null,2021,10]
[120,"33 Bäljaneå, nedstr Klippan","2021-11-22",4.5999999999999996,12.6,97,6.9,0.18032786885245902,6.9,11,330,90.850000000000009,null,46,1200,null,1700,null,null,null,2021,11]
[120,"33 Bäljaneå, nedstr Klippan","2021-12-08",0.8,13.9,97,7,0.22950819672131148,4.4000000000000004,12,230,59.25,null,34,1300,null,1800,"",null,null,2021,12]
[120,"33 Bäljaneå, nedstr Klippan","2022-01-19",2.2000000000000002,13.6,98,7.1,0.22950819672131148,5.5,13,210,51.35,"",24,1500,null,2200,"",null,null,2022,1]
[120,"33 Bäljaneå, nedstr Klippan","2022-02-08",3.2,13.2,98,6.5,7.5409836065573763E-2,3.2,9.6999999999999993,200,67.150000000000006,null,25,1400,null,1800,null,null,null,2022,2]
[120,"33 Bäljaneå, nedstr Klippan","2022-03-16",5.2,12.7,98,7.2,0.27868852459016391,6.3,14,150,35.945,"",30,1500,null,2000,"","",null,2022,3]
[120,"33 Bäljaneå, nedstr Klippan","2022-04-21",9.5,11.3,97,7.2,0.36065573770491804,7.2,14,170,94.800000000000011,null,33,1500,null,2000,null,null,null,2022,4]
[120,"33 Bäljaneå, nedstr Klippan","2022-05-16",13.1,10.5,100,7.5,0.42622950819672129,8.5,15,220,67.150000000000006,null,37,1500,null,1900,null,null,null,2022,5]
[120,"33 Bäljaneå, nedstr Klippan","2022-06-17",15.4,9.5,93,7.5,0.45901639344262296,13,16,280,79,null,39,1700,null,2000,null,null,null,2022,6]
[120,"33 Bäljaneå, nedstr Klippan","2022-07-07",15.3,9.3000000000000007,92,7.2,0.36065573770491804,15,13,470,90.850000000000009,null,65,1400,null,1900,null,null,null,2022,7]
[120,"33 Bäljaneå, nedstr Klippan","2022-08-23",16.7,7.4,74,7.6,0.84,5.6,25,110,47.4,null,42,2300,null,2600,null,null,null,2022,8]
[120,"33 Bäljaneå, nedstr Klippan","2022-09-19",10.5,9.4,84,7.4,0.70491803278688525,26,22,240,34.760000000000005,null,46,2500,null,2800,null,null,null,2022,9]
[120,"33 Bäljaneå, nedstr Klippan","2022-10-19",10.1,10.3,89,7.1,0.32786885245901637,6.3,15,200,82.95,null,24,1400,null,1500,null,null,null,2022,10]
[120,"33 Bäljaneå, nedstr Klippan","2022-11-17",6.4,11.5,93,7.3,0.36065573770491804,8.9,15,270,71.100000000000009,null,49,1500,null,1700,null,null,null,2022,11]
[120,"33 Bäljaneå, nedstr Klippan","2022-12-21",0.4,13.5,93,7.4,0.39344262295081966,29,19,200,67.150000000000006,null,71,1600,null,2100,null,null,null,2022,12]
[120,"33 Bäljaneå, nedstr Klippan","2023-01-11",5.2,12.2,97,6.7,9.0163934426229511E-2,6.3,11,240,118.5,null,32,1900,null,2400,null,null,null,2023,1]
[120,"33 Bäljaneå, nedstr Klippan","2023-02-16",4.0999999999999996,12.4,95,7,0.19672131147540983,5,12,180,67.150000000000006,null,23,1500,null,1900,null,null,null,2023,2]
[120,"33 Bäljaneå, nedstr Klippan","2023-03-15",2,13.6,98,6.4,5.0819672131147541E-2,4.5999999999999996,8.3000000000000007,220,102.7,null,31,1300,null,1800,null,null,null,2023,3]
[120,"33 Bäljaneå, nedstr Klippan","2023-04-13",7.4,11.7,97,7.2,0.21311475409836064,6,12,160,51.35,null,37,1300,null,1700,null,null,null,2023,4]
[120,"33 Bäljaneå, nedstr Klippan","2023-05-10",11.4,10.1,92,7.4,0.42622950819672129,6.7,16,150,47.400000000000006,null,22,1700,null,2100,null,null,null,2023,5]
[120,"33 Bäljaneå, nedstr Klippan","2023-06-14",15.1,8.5,84,7.5,0.67213114754098358,4.7,23,120,33.18,null,33,2600,null,3400,null,null,null,2023,6]
[120,"33 Bäljaneå, nedstr Klippan","2023-07-12",17.100000000000001,8.6,89,7.6,0.54098360655737709,8.6,18,200,39.5,null,37,2100,null,2300,null,null,null,2023,7]
[120,"33 Bäljaneå, nedstr Klippan","2023-08-10",13,9.9,109,5.8,3.2786885245901641E-2,4.8,8.1,440,158,null,39,630,null,1400,null,null,null,2023,8]
[120,"33 Bäljaneå, nedstr Klippan","2023-09-14",14.1,9.1999999999999993,89,7.4,0.49180327868852458,15,17,390,82.95,null,44,1800,null,2300,null,null,null,2023,9]
[120,"33 Bäljaneå, nedstr Klippan","2023-10-18",8.1,10.9,93,6.7,0.11639344262295082,6.8,11,440,138.25,null,35,940,null,1600,null,null,null,2023,10]
[120,"33 Bäljaneå, nedstr Klippan","2023-11-15",6,11.97,96.7,6.7,0.11147540983606558,5.2,9.3000000000000007,340,134.30000000000001,null,37,880,null,1500,null,null,null,2023,11]
[121,"74 Smålarpsån","2013-01-16",0.8,11.4,79.673339601399405,7.04,0.17445239999999998,5.4,9.76,225,91,null,18,760,null,1400,null,null,null,2013,1]
[121,"74 Smålarpsån","2013-03-13",0.4,14.2,98.115747926381943,7.35,0.306612,7.2,11.13,125,59,null,14,860,null,1400,null,null,null,2013,3]
[121,"74 Smålarpsån","2013-05-14",11.4,10.6,97.365167137263455,7.72,0.39679199999999992,7.5,11.8,200,63,null,21,670,null,1200,null,null,null,2013,5]
[121,"74 Smålarpsån","2013-06-11",16,9.8000000000000007,99.545641583565981,7.48,0.54709199999999991,7.2,13.6,225,79,null,30,840,null,1500,null,null,null,2013,6]
[121,"74 Smålarpsån","2013-10-15",11.2,10.8,98.744646203846216,7.16,0.31663200000000002,25,10.32,250,100,null,45,280,null,1100,null,null,null,2013,10]
[121,"74 Smålarpsån","2013-12-12",5.6,12.8,101.96114403990724,6.48,6.4128000000000004E-2,4.9000000000000004,13.7,150,34,null,20,630,null,1400,null,null,null,2013,12]
[121,"74 Smålarpsån","2014-01-14",2.5,13.8,101.15302914762661,6.58,3.6072E-2,4.5999999999999996,9.6999999999999993,225,95,null,19,680,null,1300,null,null,null,2014,1]
[121,"74 Smålarpsån","2014-03-13",6.5,13.1,106.80435519018026,7.25,0.23114999999999999,5.5,10.8,150,83,null,18,710,null,1200,null,null,null,2014,3]
[121,"74 Smålarpsån","2014-05-13",12.2,10.6,99.1620046161093,7.16,0.17487000000000003,10,8.2100000000000009,300,130,null,32,200,null,1300,null,null,null,2014,5]
[121,"74 Smålarpsån","2014-06-10",18.600000000000001,9.4,100.58411173717604,7.48,0.46029000000000003,12,12.3,300,110,null,22,480,null,1500,null,null,null,2014,6]
[121,"74 Smålarpsån","2014-10-14",11.5,10.4,95.748434568318331,6.9,0.29346,34,10.4,625,230,null,100,280,null,2100,null,null,null,2014,10]
[121,"74 Smålarpsån","2014-12-09",4.4000000000000004,12.8,98.786976530678288,6.71,8.0399999999999985E-2,14,7.7,500,180,null,39,400,null,2100,null,null,null,2014,12]
[121,"74 Smålarpsån","2015-01-20",2.9,12.5,92.637852837442395,6.53,8.4419999999999995E-2,3.8,9.1,200,95,null,22,760,null,1600,null,null,null,2015,1]
[121,"74 Smålarpsån","2015-03-17",7.2,11.8,97.932213260264362,7.31,0.21751200000000001,7.6,10.1,250,95,null,22,700,null,1400,null,null,null,2015,3]
[121,"74 Smålarpsån","2015-05-12",13,10.6,100.95848431957648,7.32,0.51558400000000004,9,9.6,300,110,null,29,350,null,1300,null,null,null,2015,5]
[121,"74 Smålarpsån","2015-06-09",13.9,9.9,96.177204366626455,7.22,0.26987600000000006,9.4,9.4,500,150,null,41,270,null,1600,null,null,null,2015,6]
[121,"74 Smålarpsån","2015-10-13",8,10.9,92.292424411882706,7.23,0.49343000000000004,16,12.9,300,87,null,30,800,null,1500,null,null,null,2015,10]
[121,"74 Smålarpsån","2015-12-08",6.4,11.5,93.519661284636371,6.38,7.6532000000000003E-2,4.7,9.5,250,120,null,31,680,null,1500,null,null,null,2015,12]
[121,"74 Smålarpsån","2016-01-20",0.2,13.5,92.745450342165043,7,0.20301000000000002,5.5,11.4,175,67,null,22,810,null,1300,null,null,null,2016,1]
[121,"74 Smålarpsån","2016-03-16",5.9,12.4,99.547562928173122,7.02,0.13896600000000001,2.9,9.3000000000000007,150,75,null,21,760,null,1200,null,null,null,2016,3]
[121,"74 Smålarpsån","2016-05-17",12.3,11,103.13704666514998,7.4,0.48745800000000011,8.6,12.7,250,83,null,28,760,null,1400,null,null,null,2016,5]
[121,"74 Smålarpsån","2016-06-14",13.4,9.4,90.325324951614988,7.55,1.3721040000000002,8.9,15.3,150,33,null,29,1200,null,1600,null,null,null,2016,6]
[121,"74 Smålarpsån","2016-10-12",8.3000000000000007,10.6,90.4210566321523,7.43,0.75425600000000004,11,17.600000000000001,125,34,null,21,1100,null,1400,null,null,null,2016,10]
[121,"74 Smålarpsån","2016-12-14",3.5,13.5,101.69870102294769,7.13,0.192576,7.4,11.9,200,75,null,20,760,null,1500,null,null,null,2016,12]
[121,"74 Smålarpsån","2017-01-18",1,13.1,92.075840974111401,7.15,0.22467200000000001,5.8,12.4,125,59,null,20,910,null,1400,null,null,null,2017,1]
[121,"74 Smålarpsån","2017-03-14",6.3,11.6,94.09104137880702,7.02,0.16248599999999999,4.0999999999999996,11,125,51,null,22,1000,null,1500,null,null,null,2017,3]
[121,"74 Smålarpsån","2017-05-10",8.8000000000000007,11.8,101.90008827409017,7.37,0.38114000000000003,6.2,12.3,175,43,null,25,710,null,1200,null,null,null,2017,5]
[121,"74 Smålarpsån","2017-06-20",17.8,9.1,95.862130072440294,7.51,0.41122999999999998,8.6999999999999993,11.7,300,75,null,41,290,null,1300,null,null,null,2017,6]
[121,"74 Smålarpsån","2017-10-10",9.8000000000000007,10.199999999999999,90.236500643220424,6.55,8.6258000000000015E-2,7.4,8.3000000000000007,600,170,null,55,160,null,1400,null,null,null,2017,10]
[121,"74 Smålarpsån","2017-12-19",2.2000000000000002,15.2,110.49351846580997,6.58,9.4282000000000005E-2,4.9000000000000004,8.1,300,63,null,32,480,null,1400,null,null,null,2017,12]
[121,"74 Smålarpsån","2018-01-09",1.9,14.1,102,6.73,0.1,5.0999999999999996,9,250,63,null,30,610,null,1400,null,null,null,2018,1]
[121,"74 Smålarpsån","2018-03-20",3.9,12.8,97,7.0250000000000004,0.22,7.25,10.199999999999999,225,55,null,29,660,null,1700,null,null,null,2018,3]
[121,"74 Smålarpsån","2018-05-15",18.2,9.3000000000000007,99,7.59,0.48,5.8,13.4,250,63,null,41,640,null,1400,null,null,null,2018,5]
[121,"74 Smålarpsån","2018-06-12",15.8,9,91,7.48,0.86,7.7,18.899999999999999,85,30,null,20,1600,null,2000,null,null,null,2018,6]
[121,"74 Smålarpsån","2018-10-09",12.1,12,112,6.93,0.11,3.1,29.5,70,25,null,18,440,null,840,null,null,null,2018,10]
[121,"74 Smålarpsån","2018-12-11",5.7,11.4,91,6.93,7.0000000000000007E-2,6.2,14.8,200,47,null,35,1400,null,2000,null,null,null,2018,12]
[121,"74 Smålarpsån","2019-01-15",2.1,13.4,97,6.55,0.05,6.2,12.8,225,71,null,23,1400,null,2100,null,null,null,{"$f":"YEAR(C1735)","v":2019},{"$f":"MONTH(C1735)","v":1}]
[121,"74 Smålarpsån","2019-03-12",4.4000000000000004,13.2,102,6.3,0.04,3.2,9.5,200,83,null,19,1100,null,2000,null,null,null,2019,3]
[121,"74 Smålarpsån","2019-05-14",12.4,11.4,107,7.29,0.26,5.3,11.4,175,59,null,28,410,null,1100,null,null,null,2019,5]
[121,"74 Smålarpsån","2019-06-11",8.9,14.8,128,7.53,0.48,10,13.8,225,55,null,30,650,null,1300,null,null,null,2019,6]
[121,"74 Smålarpsån","2019-10-16",11.2,10.7,98,6.19,0.08,6.4,10.1,400,140,null,47,290,null,2100,null,null,null,2019,10]
[121,"74 Smålarpsån","2019-12-12",4.5,11.6,90,6.44,7.0000000000000007E-2,8.3000000000000007,8.9,400,130,null,43,550,null,2100,null,null,null,2019,12]
[121,"74 Smålarpsån","2020-01-13",5.4,12.5,99,6.36,0.05,7.1,7.9,400,120,null,38,1100,null,2000,null,null,null,2020,1]
[121,"74 Smålarpsån","2020-03-17",6.3,12.6,102,6.74,0.12,5.0999999999999996,8.6,250,71,null,27,640,null,1400,null,null,null,2020,3]
[121,"74 Smålarpsån","2020-05-19",11.7,10.5,97,7.37,0.36,10,12.1,250,59,null,29,740,null,1300,null,null,null,2020,5]
[121,"74 Smålarpsån","2020-06-09",14.6,9.1999999999999993,91,7.44,0.44,6.5,12.3,250,63,null,40,380,null,1200,null,null,null,2020,6]
[121,"74 Smålarpsån","2020-10-13",8.1,10.3,87,7.14,0.24,12,11.3,300,87,null,41,300,null,1400,null,null,null,2020,10]
[121,"74 Smålarpsån","2020-12-16",5.6,12.4,99,6.95,0.2,12,10.8,250,79,null,43,840,null,1900,null,null,null,2020,12]
[125,"77 Biflöde till Rönneå, uppstr Kvidinge ARV","2023-02-16",4.7,11.9,88,7.7,1.2622950819672132,10,41,100,47.400000000000006,null,83,8000,110,8700,null,null,null,2023,2]
[125,"77 Biflöde till Rönneå, uppstr Kvidinge ARV","2023-04-13",8.8000000000000007,11.3,98,7.5,1.1639344262295082,13,34,140,43.45,null,67,5400,30,5700,null,null,null,2023,4]
[125,"77 Biflöde till Rönneå, uppstr Kvidinge ARV","2023-07-12",16,8.5,86,7.9,1.3770491803278688,11,37,90,16.984999999999999,null,74,5600,14,6100,null,null,null,2023,7]
[125,"77 Biflöde till Rönneå, uppstr Kvidinge ARV","2023-08-10",13.3,7.8,86,7.1,1.0491803278688525,16,33,200,67.150000000000006,null,100,5400,44,5500,null,null,null,2023,8]
[125,"77 Biflöde till Rönneå, uppstr Kvidinge ARV","2023-09-14",14.1,8.6,83,7.5,1.4426229508196722,21,39,180,59.25,null,150,6900,240,7600,null,null,null,2023,9]
[125,"77 Biflöde till Rönneå, uppstr Kvidinge ARV","2023-11-15",7.6,9.4,79,7.4,1.5573770491803278,9.4,36,170,86.9,null,94,5900,95,6500,null,null,null,2023,11]
[130,"36 Pinnån, nedstr Åsljungasjön","2013-02-12",1.5,10.9,77.701492744254125,6.27,0.1463796,4.2,11.6,150,75,null,27,350,null,980,null,null,null,2013,2]
[130,"36 Pinnån, nedstr Åsljungasjön","2013-04-17",7.9,11.1,93.752605604208384,6.6,0.21442800000000001,6.7,12,125,51,null,20,430,null,840,null,null,null,2013,4]
[130,"36 Pinnån, nedstr Åsljungasjön","2013-07-10",20.5,8.4,93.166053231204472,6.85,2.6051999999999999E-2,6.6,13.5,200,71,null,29,"<10",null,610,null,null,null,2013,7]
[130,"36 Pinnån, nedstr Åsljungasjön","2013-08-14",17.399999999999999,7.2,75.246651771266059,6.8,0.34669199999999994,8.3000000000000007,13.9,150,55,null,30,52,null,590,null,null,null,2013,8]
[130,"36 Pinnån, nedstr Åsljungasjön","2013-09-12",16.8,8.5,87.766854472350403,6.98,0.364728,8,14.83,150,null,"<2",34,19,"<10",5100,null,null,null,2013,9]
[130,"36 Pinnån, nedstr Åsljungasjön","2013-11-20",5.2,10,78.828191454653009,6.59,0.17635200000000001,10,13,250,95,null,41,250,null,910,null,null,null,2013,11]
[130,"36 Pinnån, nedstr Åsljungasjön","2014-02-26",4.3,11.4,87.747698769618708,6.32,8.4419999999999995E-2,4.4000000000000004,12.97,150,79,null,24,460,null,1100,null,null,null,2014,2]
[130,"36 Pinnån, nedstr Åsljungasjön","2014-04-15",8.4,10.3,88.078758153717146,6.56,0.12662999999999999,4.8,12.2,150,83,null,22,350,null,940,null,null,null,2014,4]
[130,"36 Pinnån, nedstr Åsljungasjön","2014-07-23",24.7,7.9,94.249873960102889,6.52,0.20904000000000003,6.1,10.9,400,150,null,47,"<100",null,970,null,null,null,2014,7]
[130,"36 Pinnån, nedstr Åsljungasjön","2014-08-13",18.7,6.1,65.398972250068539,6.59,0.21909000000000003,9.5,11.15,300,130,null,40,22,null,820,null,null,null,2014,8]
[130,"36 Pinnån, nedstr Åsljungasjön","2014-09-24",13.5,7.3,70.300771857246289,6.54,0.21909000000000003,20,11.61,400,140,null,47,82,null,990,null,null,null,2014,9]
[130,"36 Pinnån, nedstr Åsljungasjön","2014-11-12",8.6,8.4,72.185009943746323,6.34,0.13869000000000001,12.9,10.3,500,180,null,50,100,null,1400,null,null,null,2014,11]
[130,"36 Pinnån, nedstr Åsljungasjön","2015-02-12",2,12.1,87.470873423595208,6.24,7.4518000000000001E-2,3.4,10.1,200,87,null,24,430,null,1200,null,null,null,2015,2]
[130,"36 Pinnån, nedstr Åsljungasjön","2015-04-15",7.6,10.7,89.700152599892689,6.56,0.12084,4,9.6999999999999993,200,87,null,25,320,null,940,null,null,null,2015,4]
[130,"36 Pinnån, nedstr Åsljungasjön","2015-07-15",17,5.8,60.130689432527831,6.43,0.173204,8.1999999999999993,9.8000000000000007,500,140,null,36,73,null,1200,null,null,null,2015,7]
[130,"36 Pinnån, nedstr Åsljungasjön","2015-08-12",19.7,7.9,86.326272074794701,6.61,0.19737200000000002,6,10.1,450,150,null,40,83,null,1200,null,null,null,2015,8]
[130,"36 Pinnån, nedstr Åsljungasjön","2015-09-15",15.4,7.4,74.233088962084707,6.45,0.26182,15,11,400,130,null,42,160,null,1200,null,null,null,2015,9]
[130,"36 Pinnån, nedstr Åsljungasjön","2015-11-11",10.1,9.5,84.646448136481311,6.69,0.23160999999999998,15,11.4,300,99,null,44,270,null,1000,null,null,null,2015,11]
[130,"36 Pinnån, nedstr Åsljungasjön","2016-02-18",2.4,11.5,84.061589580826237,6.07,8.8616000000000014E-2,2.9,10.25,190,79,null,26,400,null,1000,null,null,null,2016,2]
[130,"36 Pinnån, nedstr Åsljungasjön","2016-04-13",10.4,9.9,88.838895734237582,6.73,0.15306400000000001,5.0999999999999996,10.6,175,71,null,27,310,null,880,null,null,null,2016,4]
[130,"36 Pinnån, nedstr Åsljungasjön","2016-07-13",19.100000000000001,7,75.62673785600812,6.61,0.24673800000000004,6.7,11.9,250,43,null,36,35,null,730,null,null,null,2016,7]
[130,"36 Pinnån, nedstr Åsljungasjön","2016-08-17",16.8,7.9,81.571547097831555,6.99,0.30892400000000003,9.3000000000000007,13,225,38,null,34,38,null,690,null,null,null,2016,8]
[130,"36 Pinnån, nedstr Åsljungasjön","2016-09-14",21.2,8,89.868847037027322,7,0.65395599999999998,3.7,13.4,200,75,null,31,56,null,680,null,null,null,2016,9]
[130,"36 Pinnån, nedstr Åsljungasjön","2016-11-08",4.0999999999999996,12.3,94.169824651358752,6.89,0.5697040000000001,7.8,13.2,225,59,null,29,260,null,900,null,null,null,2016,11]
[130,"36 Pinnån, nedstr Åsljungasjön","2017-02-14",1.9,11.2,80.73936737937052,6.44,0.20661800000000002,5.0999999999999996,13.2,150,67,null,30,430,null,940,null,null,null,2017,2]
[130,"36 Pinnån, nedstr Åsljungasjön","2017-04-19",9.1,10.6,92.208049636418593,6.73,0.15245600000000001,3.7,12.3,175,59,null,26,370,null,970,null,null,null,2017,4]
[130,"36 Pinnån, nedstr Åsljungasjön","2017-07-12",18.600000000000001,6.9,73.833018190054773,7.76,0.23871400000000001,7.5,11.9,300,83,null,39,89,null,900,null,null,null,2017,7]
[130,"36 Pinnån, nedstr Åsljungasjön","2017-08-16",17.5,5.8,60.736358715133264,6.25,0.17652800000000002,6.8,9.8000000000000007,600,190,null,53,34,null,1500,null,null,null,2017,8]
[130,"36 Pinnån, nedstr Åsljungasjön","2017-09-20",13.2,6,57.400419981081697,5.92,7.2216000000000002E-2,11,8.3000000000000007,250,190,null,62,33,null,1500,null,null,null,2017,9]
[130,"36 Pinnån, nedstr Åsljungasjön","2017-11-09",6.3,7.5,60.834725029401092,6.08,9.829400000000002E-2,6.1,8.4,500,160,null,35,100,null,1300,null,null,null,2017,11]
[130,"36 Pinnån, nedstr Åsljungasjön","2018-02-14",2.7,10.6,78,6.16,0.11,5.2,9.4,250,71,null,28,290,null,1000,null,null,null,2018,2]
[130,"36 Pinnån, nedstr Åsljungasjön","2018-04-18",10.199999999999999,9.3000000000000007,83,6.54,0.15,5.9,10.6,200,55,null,33,320,null,990,null,null,null,2018,4]
[130,"36 Pinnån, nedstr Åsljungasjön","2018-07-19",23,8.9,103,7.04,0.33,21,13.7,225,51,null,42,"<10",null,950,null,null,null,2018,7]
[130,"36 Pinnån, nedstr Åsljungasjön","2018-08-15",19.600000000000001,5.5,60,6.91,0.36,19,14.7,225,51,null,42,"<10",null,1100,null,null,null,2018,8]
[130,"36 Pinnån, nedstr Åsljungasjön","2018-09-12",15.6,7.4,75,6.9,0.34,15,15.3,225,47,null,35,79,null,830,null,null,null,2018,9]
[130,"36 Pinnån, nedstr Åsljungasjön","2018-11-14",8.8000000000000007,8.4,73,6.53,0.14000000000000001,9.4,14.1,250,59,null,36,340,null,940,null,null,null,2018,11]
[130,"36 Pinnån, nedstr Åsljungasjön","2019-02-13",3.2,11.2,84,5.92,0.06,4.7,11.5,200,99,null,24,650,null,1700,null,null,null,2019,2]
[130,"36 Pinnån, nedstr Åsljungasjön","2019-04-09",9.1,10.4,90,6.24,0.11,5.0999999999999996,10.6,200,67,null,17,380,null,960,null,null,null,2019,4]
[130,"36 Pinnån, nedstr Åsljungasjön","2019-07-17",20.5,7.5,83,6.78,0.24,6.9,11.6,300,91,null,38,73,null,950,null,null,null,2019,7]
[130,"36 Pinnån, nedstr Åsljungasjön","2019-08-15",18.7,7.6,81,6.68,0.26,6.2,12,300,71,null,37,120,null,930,null,null,null,2019,8]
[130,"36 Pinnån, nedstr Åsljungasjön","2019-09-17",13.1,9.1,87,6.55,0.27,20,11.4,400,87,null,44,71,null,990,null,null,null,2019,9]
[130,"36 Pinnån, nedstr Åsljungasjön","2019-11-13",5.7,10.199999999999999,81,6.02,0.13,6.6,9.6999999999999993,450,120,null,47,88,null,1300,null,null,null,2019,11]
[130,"36 Pinnån, nedstr Åsljungasjön","2020-02-13",4.8,12.6,98,6.07,0.06,4.3,7.5,300,110,null,33,390,null,1400,null,null,null,2020,2]
[130,"36 Pinnån, nedstr Åsljungasjön","2020-04-15",8.5,10.8,93,6.54,0.17,9.8000000000000007,9.6999999999999993,200,63,null,31,380,null,870,null,null,null,2020,4]
[130,"36 Pinnån, nedstr Åsljungasjön","2020-07-15",16.899999999999999,8.3000000000000007,86,6.74,0.27,7,11.4,250,59,null,40,65,null,870,null,null,null,2020,7]
[130,"36 Pinnån, nedstr Åsljungasjön","2020-08-11",22.9,8.3000000000000007,96,7.1,0.28999999999999998,7.1,12,225,59,null,36,"<10",null,860,null,null,null,2020,8]
[130,"36 Pinnån, nedstr Åsljungasjön","2020-09-14",16.7,8.1999999999999993,84,6.92,0.79,13,12.6,250,59,null,33,77,null,740,null,null,null,{"$f":"YEAR(C1799)","v":2020},{"$f":"MONTH(C1799)","v":9}]
[130,"36 Pinnån, nedstr Åsljungasjön","2020-11-10",9.1999999999999993,9.1999999999999993,80,6.43,0.18,9.8000000000000007,11.1,350,91,null,48,220,null,970,null,null,null,2020,11]
[130,"36 Pinnån, nedstr Åsljungasjön","2021-02-25",1.2,11.2,79,6.4,0.13930772256457324,3.9,11,220,67.150000000000006,null,29,840,null,1200,null,null,null,2021,2]
[130,"36 Pinnån, nedstr Åsljungasjön","2021-04-21",8.9,10.3,89,6.7,0.13602989379834798,3.5,10,200,55.300000000000004,null,27,550,null,920,null,null,null,2021,4]
[130,"36 Pinnån, nedstr Åsljungasjön","2021-07-14",24,8,95,7,0.21305886980464142,3.2,11,280,75.05,null,26,160,null,830,null,null,null,2021,7]
[130,"36 Pinnån, nedstr Åsljungasjön","2021-08-25",16.399999999999999,5.9,60,6.8,0.24590163934426229,5.7,11,300,94.800000000000011,null,38,180,null,1100,null,null,null,2021,8]
[130,"36 Pinnån, nedstr Åsljungasjön","2021-09-15",16.399999999999999,7.7,79,7,0.27868852459016391,5.6,12,270,90.850000000000009,null,30,240,null,760,null,null,null,2021,9]
[130,"36 Pinnån, nedstr Åsljungasjön","2021-11-24",5.7,9.6,76,6.4,0.13114754098360656,5.6,9.4,390,86.9,null,44,460,null,1000,null,null,null,2021,11]
[130,"36 Pinnån, nedstr Åsljungasjön","2022-02-09",2.2999999999999998,12.2,89,6.5,6.5573770491803282E-2,3.7,9.6,250,75.05,null,31,680,null,1000,null,null,null,2022,2]
[130,"36 Pinnån, nedstr Åsljungasjön","2022-04-22",10.9,10,90,6.7,0.1360655737704918,4,9.6999999999999993,200,51.35,null,36,490,null,720,null,null,null,2022,4]
[130,"36 Pinnån, nedstr Åsljungasjön","2022-07-08",18.600000000000001,6.7,72,7,0.27868852459016391,7.5,11,240,59.25,null,32,170,null,560,null,null,null,2022,7]
[130,"36 Pinnån, nedstr Åsljungasjön","2022-08-24",19.5,7.1,76,7.3,0.34,3.5,13,180,75.05,null,29,10,null,490,null,null,null,2022,8]
[130,"36 Pinnån, nedstr Åsljungasjön","2022-09-20",12.4,7.6,71,7.5,0.42622950819672129,8,13,200,63.2,null,28,47,null,540,null,null,null,2022,9]
[130,"36 Pinnån, nedstr Åsljungasjön","2022-11-16",8.4,10.199999999999999,87,7.2,0.27868852459016391,9.6999999999999993,13,260,55.300000000000004,null,60,390,null,720,null,null,null,2022,11]
[130,"36 Pinnån, nedstr Åsljungasjön","2023-02-15",2.5,11,80,6.4,7.5409836065573763E-2,3.1,11,240,102.7,null,32,800,null,1200,null,null,null,2023,2]
[130,"36 Pinnån, nedstr Åsljungasjön","2023-04-14",7.8,9.9,83,6.4,9.8360655737704916E-2,3.5,9.6999999999999993,230,106.65,null,19,510,null,870,null,null,null,2023,4]
[130,"36 Pinnån, nedstr Åsljungasjön","2023-07-12",21.2,8.6,98,7.3,0.27868852459016391,5.5,12,160,37.130000000000003,null,30,38,null,430,null,null,null,2023,7]
[130,"36 Pinnån, nedstr Åsljungasjön","2023-08-14",15.7,5.9,59,6,6.229508196721311E-2,4.0999999999999996,8.6999999999999993,460,181.70000000000002,null,48,220,null,980,null,null,null,2023,8]
[130,"36 Pinnån, nedstr Åsljungasjön","2023-09-13",17.8,4.7,50,6.4,0.16393442622950818,7.6,10,620,146.15,null,53,140,null,960,null,null,null,2023,9]
[130,"36 Pinnån, nedstr Åsljungasjön","2023-11-15",6.3,8.1,66,6.2,7.7049180327868852E-2,4.9000000000000004,7.8,480,213.3,null,38,270,null,1100,null,null,null,2023,11]
[135,"40 Pinnån, nedstr Örkelljunga","2013-02-12",0.9,13.6,95.319389146148794,6.78,0.2045304,3.4,12.6,150,75,null,26,430,null,1600,null,null,null,2013,2]
[135,"40 Pinnån, nedstr Örkelljunga","2013-04-17",8.6999999999999993,10,86.145235760074783,6.81,0.33667199999999992,3.2,14.4,150,12,null,19,550,null,2600,null,null,null,2013,4]
[135,"40 Pinnån, nedstr Örkelljunga","2013-07-10",19.100000000000001,8.3000000000000007,89.671703457838206,7.03,0.46091999999999994,2.4,17.5,100,43,null,20,490,null,3200,null,null,null,2013,7]
[135,"40 Pinnån, nedstr Örkelljunga","2013-08-14",16,9.1,92.435238613311256,6.78,0.24448799999999998,7.3,11.2,85,63,null,75,520,null,2000,null,null,null,2013,8]
[135,"40 Pinnån, nedstr Örkelljunga","2013-09-12",15.7,8.5,85.804483844234412,6.91,0.424848,2.9,16.46,70,33,null,18,560,null,2500,null,null,null,2013,9]
[135,"40 Pinnån, nedstr Örkelljunga","2013-11-20",5.8,11.9,95.286208109943516,6.96,0.26653199999999999,3.9,13.3,125,51,null,31,340,null,1300,null,null,null,2013,11]
[135,"40 Pinnån, nedstr Örkelljunga","2014-02-26",4,12.9,98.498806831348134,6.69,0.15477000000000002,2.8,13.3,100,63,null,23,620,null,1300,null,null,null,2014,2]
[135,"40 Pinnån, nedstr Örkelljunga","2014-04-15",8.8000000000000007,11.3,97.582287923493112,6.66,0.17889000000000002,2.9,12.9,100,59,null,19,580,null,1400,null,null,null,2014,4]
[135,"40 Pinnån, nedstr Örkelljunga","2014-07-23",23.2,8.3000000000000007,96.571393835499549,6.74,0.24522000000000002,2.8,12.4,150,75,null,23,250,null,1000,null,null,null,2014,7]
[135,"40 Pinnån, nedstr Örkelljunga","2014-08-13",18.5,8.6,91.845572100932344,6.69,0.22713,4.2,12.09,200,95,null,29,330,null,1300,null,null,null,2014,8]
[135,"40 Pinnån, nedstr Örkelljunga","2014-09-24",14.1,9.5,92.692998002806547,6.74,0.30351,5.9,14.09,200,79,null,29,710,null,1800,null,null,null,2014,9]
[135,"40 Pinnån, nedstr Örkelljunga","2014-11-12",9.3000000000000007,10.4,90.907289152557937,6.7,0.22713,6.4,11.4,250,99,null,28,300,null,1300,null,null,null,2014,11]
[135,"40 Pinnån, nedstr Örkelljunga","2015-02-12",2.2999999999999998,13.9,101.32400793861478,6.359,0.14097999999999999,3,11.1,200,87,null,26,700,null,1700,null,null,null,2015,2]
[135,"40 Pinnån, nedstr Örkelljunga","2015-04-15",8,11.4,96.526021861969056,6.7,0.15507800000000002,7.8,9.5,150,59,null,33,530,null,1400,null,null,null,2015,4]
[135,"40 Pinnån, nedstr Örkelljunga","2015-07-15",17.600000000000001,8.6999999999999993,91.285934856811849,6.74,0.21751200000000001,2.8,12.2,200,79,null,26,850,null,1900,null,null,null,2015,7]
[135,"40 Pinnån, nedstr Örkelljunga","2015-08-12",19.399999999999999,8.4,91.271617902280155,6.95,0.237652,2.8,12,200,79,null,28,670,null,1700,null,null,null,2015,8]
[135,"40 Pinnån, nedstr Örkelljunga","2015-09-15",16.100000000000001,8.8000000000000007,89.57278622051615,6.75,0.29404399999999997,4.2,13.8,175,71,null,29,910,null,2500,null,null,null,2015,9]
[135,"40 Pinnån, nedstr Örkelljunga","2015-11-11",10.9,10.1,91.702751802416813,6.76,0.24369399999999999,4.7,12.2,250,95,null,45,700,null,2100,null,null,null,2015,11]
[135,"40 Pinnån, nedstr Örkelljunga","2016-02-18",2.7,13.1,96.552771234443526,6.56,0.13292400000000001,2.6,11.2,150,75,null,25,620,null,1300,null,null,null,2016,2]
[135,"40 Pinnån, nedstr Örkelljunga","2016-04-13",10.3,10.6,94.896121770109019,6.92,0.20945600000000003,2.6,12.1,125,63,null,26,630,null,1600,null,null,null,2016,4]
[135,"40 Pinnån, nedstr Örkelljunga","2016-07-13",18.100000000000001,8.4,89.012289905076784,6.93,0.27482200000000001,3,13.2,125,34,null,30,470,null,1400,null,null,null,2016,7]
[135,"40 Pinnån, nedstr Örkelljunga","2016-08-17",18.5,8.3000000000000007,88.641656795085879,7,0.357068,3,17,100,26,null,25,1400,null,2400,null,null,null,2016,8]
[135,"40 Pinnån, nedstr Örkelljunga","2016-09-14",18.2,7.1,75.384076325896174,6.84,0.52958400000000017,1.9,21,85,40,null,31,2000,null,4200,null,null,null,2016,9]
[135,"40 Pinnån, nedstr Örkelljunga","2016-11-08",3.7,11.4,86.344934364984198,7.03,0.59377600000000008,5.0999999999999996,13.3,125,47,null,33,440,null,1200,null,null,null,2016,11]
[135,"40 Pinnån, nedstr Örkelljunga","2017-02-14",2.2000000000000002,13.6,98.862621785198399,6.86,0.32697799999999999,4,16.5,100,47,null,30,810,null,2000,null,null,null,2017,2]
[135,"40 Pinnån, nedstr Örkelljunga","2017-04-19",8.4,11.3,96.630093896796481,6.93,0.23470200000000002,2.2999999999999998,13.7,125,47,null,24,740,null,1700,null,null,null,2017,4]
[135,"40 Pinnån, nedstr Örkelljunga","2017-07-12",18,8.4,88.837674815153406,6.93,0.28886400000000001,3.7,13.3,175,59,null,34,640,null,1500,null,null,null,2017,7]
[135,"40 Pinnån, nedstr Örkelljunga","2017-08-16",18,8.6999999999999993,92.010448915694596,6.76,0.26278600000000002,2.9,12.2,200,91,null,33,370,null,1500,null,null,null,2017,8]
[135,"40 Pinnån, nedstr Örkelljunga","2017-09-20",14.7,9.1,40.524005801154004,6.57,0.17051000000000002,5,9.9,300,110,null,41,230,null,1300,null,null,null,2017,9]
[135,"40 Pinnån, nedstr Örkelljunga","2017-11-09",7.9,11.2,94.597223672714762,6.48,0.14242600000000002,4.8,9.5,400,140,null,48,280,null,1500,null,null,null,2017,11]
[135,"40 Pinnån, nedstr Örkelljunga","2018-02-14",2.8,12.6,93,6.49,0.14000000000000001,3.8,10.4,225,75,null,26,430,null,1400,null,null,null,2018,2]
[135,"40 Pinnån, nedstr Örkelljunga","2018-04-18",11.1,10.4,95,6.75,0.23,3,12,175,63,null,28,540,null,1600,null,null,null,2018,4]
[135,"40 Pinnån, nedstr Örkelljunga","2018-07-19",20.399999999999999,7.5,83,6.93,0.51,2,22.6,70,27,null,14,1900,null,4300,null,null,null,2018,7]
[135,"40 Pinnån, nedstr Örkelljunga","2018-08-15",17.8,6.9,73,6.96,0.6,3.2,22,70,26,null,26,1100,null,3000,null,null,null,2018,8]
[135,"40 Pinnån, nedstr Örkelljunga","2018-09-12",15.6,8.6999999999999993,88,6.98,0.53,2.6,20.399999999999999,85,34,null,30,1300,null,4100,null,null,null,2018,9]
[135,"40 Pinnån, nedstr Örkelljunga","2018-11-14",9.8000000000000007,9.6999999999999993,86,6.99,0.33,3.4,16.600000000000001,100,34,null,25,730,null,1700,null,null,null,2018,11]
[135,"40 Pinnån, nedstr Örkelljunga","2019-02-13",3.3,12.8,96,6.6,0.14000000000000001,3.2,13.4,125,51,null,22,720,null,1400,null,null,null,2019,2]
[135,"40 Pinnån, nedstr Örkelljunga","2019-04-09",8.4,12.3,105,6.95,0.15,2.5,12.1,125,55,null,12,710,null,1600,null,null,null,2019,4]
[135,"40 Pinnån, nedstr Örkelljunga","2019-07-17",18.100000000000001,7.3,77,6.74,0.34,1.7,18.100000000000001,85,38,null,25,1700,null,3100,null,null,null,2019,7]
[135,"40 Pinnån, nedstr Örkelljunga","2019-08-15",17.2,8.6,90,6.81,0.28999999999999998,2.8,14.6,125,51,null,34,730,null,2000,null,null,null,2019,8]
[135,"40 Pinnån, nedstr Örkelljunga","2019-09-17",14.1,9.5,93,6.83,0.28000000000000003,3.5,12.95,150,51,null,28,490,null,1400,null,null,null,2019,9]
[135,"40 Pinnån, nedstr Örkelljunga","2019-11-13",7,11.5,95,6.62,0.19,5.6,11.3,250,75,null,38,420,null,1400,null,null,null,2019,11]
[135,"40 Pinnån, nedstr Örkelljunga","2020-02-13",4.8,13.3,104,6.42,0.1,3.2,8.6999999999999993,250,83,null,29,570,null,1600,null,null,null,2020,2]
[135,"40 Pinnån, nedstr Örkelljunga","2020-04-15",8.6,11.3,97,6.75,0.23,2.9,11.3,200,63,null,25,720,null,1800,null,null,null,2020,4]
[135,"40 Pinnån, nedstr Örkelljunga","2020-07-15",16.600000000000001,8.8000000000000007,90,6.8,0.27,3.5,12.5,125,40,null,31,900,null,1800,null,null,null,{"$f":"YEAR(C1863)","v":2020},{"$f":"MONTH(C1863)","v":7}]
[135,"40 Pinnån, nedstr Örkelljunga","2020-08-11",20.9,7.5,84,6.97,0.32,2.5,16.3,100,38,null,24,1400,null,2400,null,null,null,2020,8]
[135,"40 Pinnån, nedstr Örkelljunga","2020-09-14",14.1,8.4,82,6.82,0.39,3,18.600000000000001,100,38,null,27,1900,null,2800,null,null,null,2020,9]
[135,"40 Pinnån, nedstr Örkelljunga","2020-11-10",9.9,11.1,98,6.91,0.24,4.5999999999999996,11.8,125,51,null,29,500,null,1200,null,null,null,2020,11]
[135,"40 Pinnån, nedstr Örkelljunga","2021-02-25",2.1,13.3,96,6.7,0.18028058214238887,2.5,12,200,67.150000000000006,null,28,1100,null,2000,null,null,null,2021,2]
[135,"40 Pinnån, nedstr Örkelljunga","2021-04-21",7.6,11.3,94,7,0.21305886980464142,2.2000000000000002,12,160,55.300000000000004,null,28,940,null,1900,null,null,null,2021,4]
[135,"40 Pinnån, nedstr Örkelljunga","2021-07-14",22,7.2,83,7.1,0.24583715746689394,2.2000000000000002,14,130,36.735000000000007,null,28,1200,null,1900,null,null,null,2021,7]
[135,"40 Pinnån, nedstr Örkelljunga","2021-08-25",17.100000000000001,8.8000000000000007,91,7.2,0.27868852459016391,2.6,12,120,55.300000000000004,null,28,530,null,1000,null,null,null,2021,8]
[135,"40 Pinnån, nedstr Örkelljunga","2021-09-15",15.4,8.3000000000000007,83,7.1,0.36065573770491804,1.5,15,100,47.400000000000006,null,24,980,null,1600,null,null,null,2021,9]
[135,"40 Pinnån, nedstr Örkelljunga","2021-11-24",6.8,11.6,94,6.9,0.18032786885245902,3.4,11,220,71.100000000000009,null,35,680,null,1200,null,null,null,2021,11]
[135,"40 Pinnån, nedstr Örkelljunga","2022-02-09",2.6,13.2,97,6.9,0.11311475409836066,3.3,11,200,67.150000000000006,null,26,800,null,1300,null,null,null,2022,2]
[135,"40 Pinnån, nedstr Örkelljunga","2022-04-22",8.9,11,94,7,0.16393442622950818,2.6,11,140,51.35,null,34,700,null,1100,null,null,null,2022,4]
[135,"40 Pinnån, nedstr Örkelljunga","2022-07-08",16.5,7.9,80,7.2,0.29508196721311475,2.2999999999999998,13,100,37.130000000000003,null,23,1000,null,1900,null,null,null,2022,7]
[135,"40 Pinnån, nedstr Örkelljunga","2022-08-24",15.7,6.9,68,7.2,0.43,2.6,18,81,43.45,null,25,1700,null,2400,null,null,null,2022,8]
[135,"40 Pinnån, nedstr Örkelljunga","2022-09-20",10.9,8.1,73,7.4,0.45901639344262296,2.8,18,88,43.45,null,30,1500,null,2400,null,null,null,2022,9]
[135,"40 Pinnån, nedstr Örkelljunga","2022-11-16",8.9,10,87,7.2,0.32786885245901637,3.4,14,120,36.735000000000007,null,26,950,null,1700,null,null,null,2022,11]
[135,"40 Pinnån, nedstr Örkelljunga","2023-02-15",2.8,13.3,97,6.9,0.15081967213114753,2.7,12,190,75.05,null,29,1100,200,1700,null,null,null,2023,2]
[135,"40 Pinnån, nedstr Örkelljunga","2023-04-14",7.6,11.5,96,6.8,0.14590163934426231,2.4,11,160,79,null,19,800,350,1500,null,null,null,2023,4]
[135,"40 Pinnån, nedstr Örkelljunga","2023-07-12",18.399999999999999,7.6,81,7.2,0.26229508196721313,4.0999999999999996,15,100,32.39,null,21,1400,380,2000,null,null,null,2023,7]
[135,"40 Pinnån, nedstr Örkelljunga","2023-08-14",16.399999999999999,8.3000000000000007,85,6.8,0.18032786885245902,2.6,10,190,75.05,null,28,300,37,820,null,null,null,2023,8]
[135,"40 Pinnån, nedstr Örkelljunga","2023-09-13",17.899999999999999,8,84,7.1,0.29508196721311475,2.6,13,270,82.95,null,34,800,470,1700,null,null,null,2023,9]
[135,"40 Pinnån, nedstr Örkelljunga","2023-11-15",6.7,11,91,6.7,9.5081967213114751E-2,4.3,9.1,350,118.5,null,33,570,95,1300,null,null,null,2023,11]
[140,"42 Pinnån, uppstr Gelita","2013-02-14",1,13.5,94.887317034389611,6.66,0.23463179999999997,3.9,13,150,59,null,22,780,null,1600,null,null,null,2013,2]
[140,"42 Pinnån, uppstr Gelita","2013-04-17",8.4,10.1,86.368491005101276,6.72,0.26252400000000004,3.9,12.4,125,11,null,23,730,null,1900,null,null,null,2013,4]
[140,"42 Pinnån, uppstr Gelita","2013-07-10",16.899999999999999,8,82.771532863192604,6.78,0.34669199999999994,4.2,16.600000000000001,125,47,null,21,1300,null,2200,null,null,null,2013,7]
[140,"42 Pinnån, uppstr Gelita","2013-08-15",20.2,7.8,86.033163735711554,6.66,0.19037999999999997,7.4,13.8,250,83,null,37,740,null,1700,null,null,null,2013,8]
[140,"42 Pinnån, uppstr Gelita","2013-09-12",14.4,8.6,84.45677133064622,6.88,0.39679199999999992,4.5,15.2,85,36,null,20,1000,null,1700,null,null,null,2013,9]
[140,"42 Pinnån, uppstr Gelita","2013-11-20",4.5999999999999996,11.7,90.779273279199572,6.91,0.28256399999999998,4.2,13.5,125,59,null,30,500,null,1400,null,null,null,2013,11]
[140,"42 Pinnån, uppstr Gelita","2014-02-18",2.7,13.3,98.02685934489304,6.58,0.15477000000000002,2.9,13,100,59,null,18,730,null,1400,null,null,null,2014,2]
[140,"42 Pinnån, uppstr Gelita","2014-04-15",7,11.5,94.960964933087752,6.61,0.14874000000000001,3.8,11.4,125,71,null,19,640,null,1200,null,null,null,2014,4]
[140,"42 Pinnån, uppstr Gelita","2014-07-23",21.7,7.5,85.010667681511961,6.66,0.28139999999999998,3.2,13.6,150,67,null,24,640,null,1500,null,null,null,2014,7]
[140,"42 Pinnån, uppstr Gelita","2014-08-14",17.7,9,94.621268397931701,6.87,0.25728000000000001,7.3,12.43,225,110,null,32,480,null,1400,null,null,null,2014,8]
[140,"42 Pinnån, uppstr Gelita","2014-09-24",12.3,9.8000000000000007,91.885732483497264,6.71,0.32762999999999998,7.7,14.7,175,75,null,25,730,null,1700,null,null,null,2014,9]
[140,"42 Pinnån, uppstr Gelita","2014-11-12",8.6,10.4,89.371917073209744,6.64,0.22311,6.7,11.7,250,100,null,31,410,null,1500,null,null,null,2014,11]
[140,"42 Pinnån, uppstr Gelita","2015-02-10",3.2,12.4,92.653425760077297,6.64,0.15306400000000001,3.3,11.1,150,75,null,18,840,null,1600,null,null,null,2015,2]
[140,"42 Pinnån, uppstr Gelita","2015-04-15",7.3,11.6,96.515342089743982,6.56,0.12285399999999999,5.3,9.3000000000000007,175,83,null,57,620,null,1400,null,null,null,2015,4]
[140,"42 Pinnån, uppstr Gelita","2015-07-15",15.5,8.8000000000000007,88.462485563129945,6.67,0.24369399999999999,5.4,12.2,300,100,null,32,850,null,1800,null,null,null,2015,7]
[140,"42 Pinnån, uppstr Gelita","2015-08-13",17.600000000000001,9.1999999999999993,96.532252952030916,6.71,0.28800199999999998,4.5,13.5,250,79,null,27,1000,null,1800,null,null,null,2015,8]
[140,"42 Pinnån, uppstr Gelita","2015-09-15",14.6,8.6999999999999993,85.806300907399816,6.63,0.31821199999999999,4.5,15.1,150,63,null,37,1200,null,2200,null,null,null,2015,9]
[140,"42 Pinnån, uppstr Gelita","2015-11-11",11.1,9.9,90.306216269213579,6.47,0.17521799999999998,11,11.1,250,110,null,50,960,null,2000,null,null,null,2015,11]
[140,"42 Pinnån, uppstr Gelita","2016-02-17",2.1,13.2,95.688700478174866,6.46,0.13896600000000001,3.5,11.3,125,71,null,24,750,null,1300,null,null,null,2016,2]
[140,"42 Pinnån, uppstr Gelita","2016-04-13",9,10.6,91.984419583190913,6.77,0.21348400000000001,3.1,12,125,59,null,26,780,null,1400,null,null,null,2016,4]
[140,"42 Pinnån, uppstr Gelita","2016-07-13",17.600000000000001,9,94.433725713943289,6.73,0.228684,5.8,12.2,200,51,null,40,660,null,1400,null,null,null,2016,7]
[140,"42 Pinnån, uppstr Gelita","2016-08-18",15.1,8.6999999999999993,86.724073910015122,6.89,0.39718800000000004,4,17.3,100,25,null,17,1700,null,2100,null,null,null,2016,8]
[140,"42 Pinnån, uppstr Gelita","2016-09-14",16,8.4,85.324835643056545,6.8,0.45335599999999998,4.5999999999999996,19.7,85,32,null,23,2300,null,3100,null,null,null,2016,9]
[140,"42 Pinnån, uppstr Gelita","2016-11-08",2,12.9,93.254071666477543,6.81,0.59778799999999999,4.7,13.6,125,47,null,27,830,null,1600,null,null,null,2016,11]
[140,"42 Pinnån, uppstr Gelita","2017-02-16",1.9,13,93.715337136769364,6.89,0.36108000000000007,4.4000000000000004,16.5,100,38,null,26,1100,null,2000,null,null,null,2017,2]
[140,"42 Pinnån, uppstr Gelita","2017-04-19",5.5,11.8,93.750642124550225,6.75,0.22467200000000001,2.9,13.1,125,47,null,27,870,null,1600,null,null,null,2017,4]
[140,"42 Pinnån, uppstr Gelita","2017-07-12",16.100000000000001,8.3000000000000007,84.483423367077719,6.75,0.27682800000000002,9.8000000000000007,11.4,225,67,null,52,870,null,1800,null,null,null,2017,7]
[140,"42 Pinnån, uppstr Gelita","2017-08-17",17.2,8.8000000000000007,91.600648982294487,6.84,0.27682800000000002,4.5,12.7,250,95,null,32,690,null,1500,null,null,null,2017,8]
[140,"42 Pinnån, uppstr Gelita","2017-09-20",13.7,8.9,86.085815663967267,6.42,0.164492,5.2,9.6,350,120,null,47,240,null,1300,null,null,null,2017,9]
[140,"42 Pinnån, uppstr Gelita","2017-11-09",7.2,11.3,93.782543206863338,6.44,0.15045000000000003,4.8,9.9,350,110,null,25,350,null,1400,null,null,null,2017,11]
[140,"42 Pinnån, uppstr Gelita","2018-02-15",2,12,87,6.64,0.23,5.0999999999999996,11,200,55,null,28,630,null,1500,null,null,null,2018,2]
[140,"42 Pinnån, uppstr Gelita","2018-04-18",9.5,10.5,92,6.69,0.24,4.4000000000000004,12.3,175,51,null,30,680,null,1500,null,null,null,2018,4]
[140,"42 Pinnån, uppstr Gelita","2018-07-19",19,8.3000000000000007,90,6.8,0.39,3,22.6,85,18,null,14,3500,null,4300,null,null,null,2018,7]
[140,"42 Pinnån, uppstr Gelita","2018-08-16",17.899999999999999,7.9,83,7,0.44,6.7,19.2,100,26,null,24,1300,null,2500,null,null,null,2018,8]
[140,"42 Pinnån, uppstr Gelita","2018-09-12",14.2,8.8000000000000007,86,6.87,0.4,3,18.100000000000001,85,30,null,18,1600,null,2300,null,null,null,2018,9]
[140,"42 Pinnån, uppstr Gelita","2018-11-14",9.8000000000000007,9.5,84,6.83,0.26,5,15.9,100,30,null,21,830,null,1300,null,null,null,2018,11]
[140,"42 Pinnån, uppstr Gelita","2019-02-13",3.8,12.1,92,6.54,0.12,3.4,12.9,125,59,null,23,940,null,1300,null,null,null,2019,2]
[140,"42 Pinnån, uppstr Gelita","2019-04-09",6.9,11.8,97,6.52,0.22,3.1,13.5,125,47,null,18,970,null,1800,null,null,null,2019,4]
[140,"42 Pinnån, uppstr Gelita","2019-07-17",16.2,7.7,79,6.72,0.35,3.2,16.8,85,31,null,20,1700,null,2000,null,null,null,2019,7]
[140,"42 Pinnån, uppstr Gelita","2019-08-14",15.4,8.1,81,6.65,0.22,6.8,12,175,71,null,40,720,null,1800,null,null,null,2019,8]
[140,"42 Pinnån, uppstr Gelita","2019-09-17",12.5,9.6999999999999993,91,6.66,0.24,6.3,12.6,175,55,null,310,550,null,1400,null,null,null,2019,9]
[140,"42 Pinnån, uppstr Gelita","2019-11-13",6.3,11.7,95,6.53,0.21,5.5,11.6,250,71,null,36,570,null,1500,null,null,null,2019,11]
[140,"42 Pinnån, uppstr Gelita","2020-02-10",5.5,11.6,92,6.37,0.1,3.9,8.4,250,87,null,34,1200,null,1600,null,null,null,{"$f":"YEAR(C1927)","v":2020},{"$f":"MONTH(C1927)","v":2}]
[140,"42 Pinnån, uppstr Gelita","2020-04-15",7.5,11.3,94,6.65,0.26,3.6,12.5,150,51,null,24,1100,null,1700,null,null,null,2020,4]
[140,"42 Pinnån, uppstr Gelita","2020-07-15",15.1,9.1,91,6.71,0.26,5.3,12.4,175,47,null,31,940,null,1800,null,null,null,2020,7]
[140,"42 Pinnån, uppstr Gelita","2020-08-12",19.399999999999999,8.1999999999999993,89,7.24,0.47,6.1,25,125,32,null,21,1400,null,1900,null,null,null,2020,8]
[140,"42 Pinnån, uppstr Gelita","2020-09-14",16.3,8.9,91,6.83,0.4,4.2,16.899999999999999,85,29,null,19,1800,null,2000,null,null,null,2020,9]
[140,"42 Pinnån, uppstr Gelita","2020-11-10",9.1,11,96,6.75,0.26,4.5999999999999996,11.9,150,51,null,28,600,null,1300,null,null,null,2020,11]
[140,"42 Pinnån, uppstr Gelita","2021-02-25",1.9,13.3,95,6.6,0.13111315064901011,2.8,11,170,59.25,null,35,1200,null,1900,null,null,null,2021,2]
[140,"42 Pinnån, uppstr Gelita","2021-04-21",8.4,10.6,90,6.9,0.22944801363576767,3,13,150,43.45,null,31,1200,null,1800,null,null,null,2021,4]
[140,"42 Pinnån, uppstr Gelita","2021-07-14",20.7,7.2,80,7.1,0.27861544512914649,2.7,14,150,47.400000000000006,null,26,1400,null,1700,null,null,null,2021,7]
[140,"42 Pinnån, uppstr Gelita","2021-08-25",15.8,8.4,85,7.1,0.31147540983606559,2.9,13,140,55.300000000000004,null,27,980,null,1500,null,null,null,2021,8]
[140,"42 Pinnån, uppstr Gelita","2021-09-15",14.1,8.6,83,7.1,0.39344262295081966,2.2999999999999998,16,98,36.339999999999996,null,35,1400,null,1500,null,null,null,2021,9]
[140,"42 Pinnån, uppstr Gelita","2021-11-24",6.5,11.3,92,6.8,0.19672131147540983,3.7,11,220,55.300000000000004,null,40,840,null,1300,null,null,null,2021,11]
[140,"42 Pinnån, uppstr Gelita","2022-02-09",2.9,12.8,95,6.9,0.10327868852459016,2.8,10,180,59.25,null,25,910,null,1100,null,null,null,2022,2]
[140,"42 Pinnån, uppstr Gelita","2022-04-22",9.1999999999999993,10.3,81,7,0.21311475409836064,3.1,12,130,51.35,null,28,960,null,1400,null,null,null,2022,4]
[140,"42 Pinnån, uppstr Gelita","2022-07-08",15.3,8.1999999999999993,81,7.1,0.31147540983606559,4.4000000000000004,14,120,32.785000000000004,null,24,1500,null,1800,null,null,null,2022,7]
[140,"42 Pinnån, uppstr Gelita","2022-08-24",14.2,8.6,82,7.2,0.43,2.8,18,67,29.23,null,20,2100,null,2100,null,null,null,2022,8]
[140,"42 Pinnån, uppstr Gelita","2022-09-20",9.9,9.1999999999999993,80,7.3,0.36065573770491804,6.2,15,130,39.5,null,23,310,null,1700,null,null,null,2022,9]
[140,"42 Pinnån, uppstr Gelita","2022-11-16",8.5,10.199999999999999,87,7,0.27868852459016391,5.4,14,180,47.400000000000006,null,41,1200,null,1400,null,null,null,2022,11]
[140,"42 Pinnån, uppstr Gelita","2023-02-15",3.3,12.8,94,6.9,0.15245901639344264,2.7,12,170,67.150000000000006,null,32,1100,null,1500,null,null,null,2023,2]
[140,"42 Pinnån, uppstr Gelita","2023-04-14",7.3,11,91,6.7,0.15573770491803279,2.9,11,140,75.05,null,18,870,null,1300,null,null,null,2023,4]
[140,"42 Pinnån, uppstr Gelita","2023-07-12",17.100000000000001,7.4,81,7.2,0.32786885245901637,4.5,14,120,31.205000000000002,null,36,1400,null,1600,null,null,null,2023,7]
[140,"42 Pinnån, uppstr Gelita","2023-08-14",15.7,7.9,80,6.6,0.14426229508196722,2.2999999999999998,10,230,90.850000000000009,null,40,350,null,980,null,null,null,2023,8]
[140,"42 Pinnån, uppstr Gelita","2023-09-13",17.8,8.1,85,6.9,0.27868852459016391,4.4000000000000004,14,280,75.05,null,32,1000,null,1400,null,null,null,2023,9]
[140,"42 Pinnån, uppstr Gelita","2023-11-15",6.1,11.4,92,6.6,0.13114754098360656,4.0999999999999996,9.1,330,130.35,null,42,600,null,1300,null,null,null,2023,11]
[145,"44 Pinnån, utfl ur Kopparmölledamm","2013-01-16",0.7,11.8,82.234468970645509,6.82,0.25466040000000001,3.9,19.5,175,75,null,28,1100,null,1900,null,null,null,2013,1,null,0.35699999999999998]
[145,"44 Pinnån, utfl ur Kopparmölledamm","2013-02-14",1.2,14.7,103.90812060943063,6.96,0.56552279999999988,8,24.6,150,67,null,46,890,null,2000,null,null,null,2013,2,null,0.29399999999999998]
[145,"44 Pinnån, utfl ur Kopparmölledamm","2013-03-13",2.1,12.2,88.439556502555547,7.09,0.54308400000000001,4.7,38.4,110,59,null,61,1200,null,2200,null,null,null,2013,3,null,0.25600000000000001]
[145,"44 Pinnån, utfl ur Kopparmölledamm","2013-04-17",10.5,8,71.958326152837813,6.96,0.39679199999999992,3.4,25.5,125,51,null,29,1000,null,2100,null,null,null,2013,4,null,0.23899999999999999]
[145,"44 Pinnån, utfl ur Kopparmölledamm","2013-05-14",13.6,10.1,97.479189875221678,7.38,0.51502799999999993,3.4,35.799999999999997,100,47,null,22,1700,null,2200,null,null,null,2013,5,null,0.23400000000000001]
[145,"44 Pinnån, utfl ur Kopparmölledamm","2013-06-11",18.7,8.9,95.418172627149204,7.43,0.67735199999999995,5,50.3,125,43,null,40,2000,null,2800,null,null,null,2013,6,null,0.221]
[145,"44 Pinnån, utfl ur Kopparmölledamm","2013-07-10",19.100000000000001,8.6,92.912849365952823,7.2,0.59719199999999995,4,47.3,125,43,null,27,2100,null,3100,null,null,null,2013,7,null,0.247]
[145,"44 Pinnån, utfl ur Kopparmölledamm","2013-08-15",17.100000000000001,9.4,97.649719194900058,6.83,0.28256399999999998,8.1,25.6,150,63,null,40,1000,null,1900,null,null,null,2013,8,null,0.27100000000000002]
[145,"44 Pinnån, utfl ur Kopparmölledamm","2013-09-12",16.3,8.6,87.898130682207821,6.95,0.64127999999999996,3.9,50.5,85,35,null,30,2200,null,3300,null,null,null,2013,9,null,0.152]
[145,"44 Pinnån, utfl ur Kopparmölledamm","2013-10-15",10.4,10.8,96.915158982804641,6.94,0.364728,8.5,25.8,175,75,null,39,1300,null,2000,null,null,null,2013,10,null,0.312]
[145,"44 Pinnån, utfl ur Kopparmölledamm","2013-11-20",5.4,12.1,95.883289036159397,7.1,0.366732,5.2,22,125,55,null,32,750,null,1600,null,null,null,2013,11,null,0.25600000000000001]
[145,"44 Pinnån, utfl ur Kopparmölledamm","2013-12-12",4.3,12.9,99.293448607726432,6.94,0.26452799999999999,3.6,20.8,125,55,null,25,680,null,1600,null,null,null,2013,12,null,0.32900000000000001]
[145,"44 Pinnån, utfl ur Kopparmölledamm","2014-01-14",3.1,13.5,100.59783122825787,6.75,0.16481999999999999,3.2,18.2,125,67,null,21,770,null,1400,null,null,null,2014,1,null,0.27900000000000003]
[145,"44 Pinnån, utfl ur Kopparmölledamm","2014-02-18",3.1,13.4,99.852662108048563,6.71,0.18090000000000003,3.8,17.600000000000001,125,63,null,25,770,null,1400,null,null,null,2014,2,null,0.24399999999999999]
[145,"44 Pinnån, utfl ur Kopparmölledamm","2014-03-13",6.9,13.3,109.54623123131341,7.11,0.30552000000000001,2.9,22.5,100,51,null,24,1000,null,2000,null,null,null,2014,3,null,0.223]
[145,"44 Pinnån, utfl ur Kopparmölledamm","2014-04-15",7.8,11.6,97.732033408988713,6.67,0.18894000000000002,4,15.8,125,75,null,23,730,null,1500,null,null,null,2014,4,null,0.29599999999999999]
[145,"44 Pinnån, utfl ur Kopparmölledamm","2014-05-13",11.8,10.6,98.263556047755444,6.83,0.20703000000000002,7.5,15.95,200,110,null,42,420,null,1600,null,null,null,2014,5,null,0.42499999999999999]
[145,"44 Pinnån, utfl ur Kopparmölledamm","2014-06-10",20.3,9.1999999999999993,101.66317402800749,7.31,0.49446000000000007,4.4000000000000004,33.799999999999997,150,120,null,25,1300,null,2700,null,null,null,2014,6,null,0.30599999999999999]
[145,"44 Pinnån, utfl ur Kopparmölledamm","2014-07-23",23.7,8.1999999999999993,96.219786350581998,6.95,0.36782999999999999,3.7,24.2,175,71,null,31,850,null,1700,null,null,null,2014,7,null,0.39700000000000002]
[145,"44 Pinnån, utfl ur Kopparmölledamm","2014-08-14",19.100000000000001,9.1,98.314759212810543,6.91,0.33767999999999998,6.5,21.6,225,110,null,41,800,null,2600,null,null,"hämtat mossa",2014,8,null,0.48599999999999999]
[145,"44 Pinnån, utfl ur Kopparmölledamm","2014-09-24",12.6,10.4,98.172432334720767,6.95,0.38793,6.9,32,200,71,null,34,850,null,1700,null,null,null,2014,9,null,0.38300000000000001]
[145,"44 Pinnån, utfl ur Kopparmölledamm","2014-10-14",11.8,10.4,96.40952668836384,6.81,0.23718,13,18.600000000000001,250,110,null,49,1100,null,2200,null,null,null,2014,10,null,0.45900000000000002]
[145,"44 Pinnån, utfl ur Kopparmölledamm","2014-11-12",9.1,10.5,91.338162375697664,6.82,0.23718,6.8,18.8,250,99,null,33,980,null,2200,null,null,null,2014,11,null,0.52700000000000002]
[145,"44 Pinnån, utfl ur Kopparmölledamm","2014-12-09",4.9000000000000004,12.5,97.759977682114325,6.79,0.20301000000000002,8,17.899999999999999,300,120,null,43,1100,null,2200,null,null,null,2014,12,null,0.55100000000000005]
[145,"44 Pinnån, utfl ur Kopparmölledamm","2015-01-20",2.9,12.3,91.155647192043318,6.6,0.15477000000000002,4.4000000000000004,13.8,200,91,6,32,860,null,1700,null,null,null,2015,1]
[145,"44 Pinnån, utfl ur Kopparmölledamm","2015-02-10",3.3,12.9,96.652321139240001,6.72,0.187302,4.9000000000000004,18.5,150,71,4,21,1000,null,1800,null,null,null,2015,2]
[145,"44 Pinnån, utfl ur Kopparmölledamm","2015-03-17",7.5,11.6,97.001684536130924,7.11,0.26182,4.5999999999999996,21.8,150,59,10,28,1300,null,2000,null,null,null,2015,3]
[145,"44 Pinnån, utfl ur Kopparmölledamm","2015-04-15",7.6,11.7,98.083344431658375,6.69,0.149036,5.0999999999999996,12.2,175,79,"<2",32,700,null,1500,null,null,null,2015,4]
[145,"44 Pinnån, utfl ur Kopparmölledamm","2015-05-12",13.8,10.4,100.81467094890498,7.12,0.30210000000000004,4,23.4,150,63,4.2,28,840,null,1700,null,null,null,2015,5]
[145,"44 Pinnån, utfl ur Kopparmölledamm","2015-06-09",14.9,9.6999999999999993,96.28323745531155,7.09,0.340366,4.7,25.5,200,71,5.5,35,970,null,1900,null,null,null,2015,6]
[145,"44 Pinnån, utfl ur Kopparmölledamm","2015-07-15",17.100000000000001,9,93.494411995117076,6.82,0.31418400000000002,5.8,23.6,350,110,7.8,36,1000,null,2100,null,null,null,2015,7]
[145,"44 Pinnån, utfl ur Kopparmölledamm","2015-08-13",19.2,9.1999999999999993,99.58495360346673,7.1050000000000004,0.410856,4.8499999999999996,32.299999999999997,225,83,5.0999999999999996,31,1400,null,2300,null,null,null,2015,8]
[145,"44 Pinnån, utfl ur Kopparmölledamm","2015-09-15",16.5,9.1,93.390227524104375,7.02,0.50752799999999998,5.2,40.299999999999997,150,55,10,39,"-",null,2500,null,null,null,2015,9]
[145,"44 Pinnån, utfl ur Kopparmölledamm","2015-10-13",9.5,9.6999999999999993,85.198220091257113,7.21,0.69281599999999999,5.0999999999999996,49.9,125,51,5.5,40,2000,null,2800,null,null,null,2015,10]
[145,"44 Pinnån, utfl ur Kopparmölledamm","2015-11-11",11.5,10.1,92.986460494232233,6.72,0.24772200000000003,8.1999999999999993,18.8,250,100,7,52,1100,null,2800,null,null,null,2015,11]
[145,"44 Pinnån, utfl ur Kopparmölledamm","2015-12-08",6,11.6,93.366394897134981,6.68,0.16514800000000002,3.9,14.3,200,91,4.5999999999999996,33,770,null,1500,null,null,null,2015,12]
[145,"44 Pinnån, utfl ur Kopparmölledamm","2016-01-20",0.4,13.3,91.897144184569001,6.94,0.28542000000000001,3.8,22.7,150,75,7.5,30,1000,null,1600,null,null,null,2016,1]
[145,"44 Pinnån, utfl ur Kopparmölledamm","2016-02-17",2.1,14,101.48801565867032,6.67,0.19334399999999999,3.1,18,125,63,2.9,25,960,null,1500,null,null,null,2016,2]
[145,"44 Pinnån, utfl ur Kopparmölledamm","2016-03-16",5.7,12.3,98.233613980207735,7.29,0.22959599999999999,2.7,16.600000000000001,125,63,3.4,23,940,null,1500,null,null,null,2016,3]
[145,"44 Pinnån, utfl ur Kopparmölledamm","2016-04-13",10,10.7,95.112326787839137,7.04,0.31821199999999999,3.5,21.1,125,59,3.2,31,990,null,1700,null,null,null,2016,4]
[145,"44 Pinnån, utfl ur Kopparmölledamm","2016-05-17",13.8,11,106.63090196518796,7.32,0.50150000000000006,3.6,33.799999999999997,100,47,3.7,35,1300,null,2200,null,null,null,{"$f":"YEAR(C1991)","v":2016},{"$f":"MONTH(C1991)","v":5}]
[145,"44 Pinnån, utfl ur Kopparmölledamm","2016-06-14",15.9,9,91.230323127084105,7.44,0.72617200000000015,5.6,60,100,19,24,50,3100,null,3800,null,null,null,2016,6]
[145,"44 Pinnån, utfl ur Kopparmölledamm","2016-07-13",16.600000000000001,9,92.552602138335942,6.95,0.30691800000000002,5.4,22.6,200,47,10,47,970,null,1700,null,null,null,2016,7]
[145,"44 Pinnån, utfl ur Kopparmölledamm","2016-08-18",16.8,9,92.929610617782771,7.29,0.72617200000000015,4.0999999999999996,56.5,100,25,13,32,3400,null,3300,null,null,null,2016,8]
[145,"44 Pinnån, utfl ur Kopparmölledamm","2016-09-14",19,8.6999999999999993,93.813602964592263,7.37,0.82245999999999997,3.6,78.3,85,32,14,34,4200,null,4600,null,null,null,2016,9]
[145,"44 Pinnån, utfl ur Kopparmölledamm","2016-10-12",9.6999999999999993,10.7,94.433699182002158,7.66,1.1073120000000001,2.8,88.3,70,33,14,35,4800,null,5100,null,null,null,2016,10]
[145,"44 Pinnån, utfl ur Kopparmölledamm","2016-11-08",2.8,13,96.07942350360446,7.1,0.76829800000000004,4.3,26.4,125,55,"<2",32,1300,null,1900,null,null,null,2016,11]
[145,"44 Pinnån, utfl ur Kopparmölledamm","2016-12-14",4.0999999999999996,12.9,98.763474634351866,7.2,0.43931400000000004,3.6,30.3,100,47,9.6999999999999993,24,1300,null,2000,null,null,null,2016,12]
[145,"44 Pinnån, utfl ur Kopparmölledamm","2017-01-18",2.2000000000000002,12.1,87.958656147125041,7.28,0.53159000000000001,3.6,33.700000000000003,85,51,6.5,28,1200,null,2200,null,null,null,2017,1]
[145,"44 Pinnån, utfl ur Kopparmölledamm","2017-02-16",2.2999999999999998,13.6,99.137158846414437,7.21,0.58575200000000005,5,36.299999999999997,100,40,13,36,1300,null,2800,null,null,null,2017,2]
[145,"44 Pinnån, utfl ur Kopparmölledamm","2017-03-14",5.7,11.1,88.649846762626481,7.08,0.359074,3.3,24.1,100,43,4.5999999999999996,26,990,null,1900,null,null,null,2017,3]
[145,"44 Pinnån, utfl ur Kopparmölledamm","2017-04-19",6,11.6,93.366394897134981,6.99,0.328984,3,21.3,125,51,6.6,29,940,null,1700,null,null,null,2017,4]
[145,"44 Pinnån, utfl ur Kopparmölledamm","2017-05-10",10,11.5,102.22352879066825,7.29,0.50952400000000009,3.1,32.700000000000003,100,30,6.3,29,1100,null,2000,null,null,null,2017,5]
[145,"44 Pinnån, utfl ur Kopparmölledamm","2017-06-20",19.7,9.8000000000000007,107.08828687759345,7.65,0.54763800000000007,4.5999999999999996,36.799999999999997,150,43,15,46,1700,null,2400,null,null,null,2017,6]
[145,"44 Pinnån, utfl ur Kopparmölledamm","2017-07-12",17.899999999999999,8.6999999999999993,91.829484927908084,7.06,0.34703800000000001,7.6,19.899999999999999,125,47,7.7,45,1100,null,1700,null,null,null,2017,7]
[145,"44 Pinnån, utfl ur Kopparmölledamm","2017-08-17",18.7,9.4,100.77874412305646,7.06,0.39718800000000004,4.4000000000000004,23.4,250,91,5.0999999999999996,36,1100,null,2000,null,null,null,2017,8]
[145,"44 Pinnån, utfl ur Kopparmölledamm","2017-09-20",13.9,9.6999999999999993,94.234230541038031,6.63,0.19859400000000002,5.4,12.5,350,120,9.8000000000000007,44,280,null,1400,null,null,null,2017,9]
[145,"44 Pinnån, utfl ur Kopparmölledamm","2017-10-10",10.5,10.6,95.344782152510106,6.8,0.23269600000000001,5,16.3,400,130,16,43,400,null,1600,null,null,null,2017,10]
[145,"44 Pinnån, utfl ur Kopparmölledamm","2017-11-09",7.5,11.5,96.165463117716016,6.67,0.22066000000000005,5,14.3,350,140,15,42,460,null,1600,null,null,null,2017,11]
[145,"44 Pinnån, utfl ur Kopparmölledamm","2017-12-19",2.6,15,110.25263118762724,6.52,0.14844400000000002,3.8,12.5,250,59,8.8000000000000007,27,470,null,1400,null,null,null,2017,12]
[145,"44 Pinnån, utfl ur Kopparmölledamm","2018-01-09",2.4,13.6,99,6.61,0.18,4.5,15.1,250,63,12,28,640,null,1300,null,null,null,2018,1]
[145,"44 Pinnån, utfl ur Kopparmölledamm","2018-02-15",2.6,12.1,89,6.87,0.54,4.9000000000000004,18.3,200,55,7,28,780,null,1800,null,null,null,2018,2]
[145,"44 Pinnån, utfl ur Kopparmölledamm","2018-03-20",4.4000000000000004,12.4,96,7.03,0.26,4.5,16.899999999999999,175,55,9.1,25,880,null,1700,null,null,null,2018,3]
[145,"44 Pinnån, utfl ur Kopparmölledamm","2018-04-18",10.5,10.5,94,6.98,0.36,3,21.6,150,55,7.7,37,780,null,1600,null,null,null,2018,4]
[145,"44 Pinnån, utfl ur Kopparmölledamm","2018-05-15",19.8,9.1999999999999993,101,7.48,0.6,3.7,40.4,150,43,8.6,38,1500,null,2400,null,null,null,2018,5]
[145,"44 Pinnån, utfl ur Kopparmölledamm","2018-06-12",19.100000000000001,8.6,93,7.55,1.2,3.7,76.5,100,28,13,31,3300,null,3700,null,null,null,2018,6]
[145,"44 Pinnån, utfl ur Kopparmölledamm","2018-07-19",23,8.1,94,7.51,2.2999999999999998,2.9,140.69999999999999,70,26,8.6,42,4700,null,5600,null,null,null,2018,7]
[145,"44 Pinnån, utfl ur Kopparmölledamm","2018-08-16",20,6.7,74,7.27,0.97,4.0999999999999996,59.3,85,26,11,58,3400,null,4300,null,null,null,2018,8]
[145,"44 Pinnån, utfl ur Kopparmölledamm","2018-09-12",15.9,8.1999999999999993,83,7.36,1.4,2.8,81,70,31,10,28,2800,null,3300,null,null,null,2018,9]
[145,"44 Pinnån, utfl ur Kopparmölledamm","2018-10-09",12.5,11.8,111,7.37,0.73,3.6,42.1,85,29,3.8,22,1300,null,1800,null,null,null,2018,10]
[145,"44 Pinnån, utfl ur Kopparmölledamm","2018-11-14",10.3,9.6,86,7.1,0.61,3.8,36.1,85,31,6,21,1100,null,1900,null,null,null,2018,11]
[145,"44 Pinnån, utfl ur Kopparmölledamm","2018-12-11",4.7,11.3,88,7.31,0.28999999999999998,7,22.9,125,40,5.7,28,1200,null,1700,null,null,null,2018,12]
[145,"44 Pinnån, utfl ur Kopparmölledamm","2019-01-15",2.5,13,95,7.09,0.3,3.9,23.6,125,47,8.1,25,1200,null,1800,null,null,null,2019,1]
[145,"44 Pinnån, utfl ur Kopparmölledamm","2019-02-13",3.8,12.5,95,6.76,0.16,3.7,16.100000000000001,100,59,3.6,26,1000,null,1400,null,null,null,2019,2]
[145,"44 Pinnån, utfl ur Kopparmölledamm","2019-03-12",4.5999999999999996,13.9,108,6.71,0.15,4,15.2,125,51,2.8,23,840,null,1700,null,null,null,2019,3]
[145,"44 Pinnån, utfl ur Kopparmölledamm","2019-04-09",8.1,12.8,109,6.82,0.28999999999999998,3.6,19.7,125,47,4.2,17,1200,null,1900,null,null,null,2019,4]
[145,"44 Pinnån, utfl ur Kopparmölledamm","2019-05-14",13.5,11.7,113,7.35,0.41,3.1,29.1,125,47,6.3,23,900,null,1600,null,null,null,2019,5]
[145,"44 Pinnån, utfl ur Kopparmölledamm","2019-06-11",16.5,9,92,7.22,0.42,3.6,26.4,125,36,5.4,30,1300,null,2000,null,null,null,2019,6]
[145,"44 Pinnån, utfl ur Kopparmölledamm","2019-07-17",19.5,7.6,83,7.23,0.72,3.8,55.1,100,32,12,23,2000,null,2100,null,null,null,2019,7]
[145,"44 Pinnån, utfl ur Kopparmölledamm","2019-08-14",17.399999999999999,8.1999999999999993,86,6.98,0.4,5.5,26.7,175,67,11,42,1800,null,2700,null,null,null,2019,8]
[145,"44 Pinnån, utfl ur Kopparmölledamm","2019-09-17",13.8,10.9,106,7.05,0.38,6.6,24.7,175,59,6.5,35,870,null,1700,null,null,null,2019,9]
[145,"44 Pinnån, utfl ur Kopparmölledamm","2019-10-16",11.6,10.7,99,6.7,0.22,5.3,14.9,200,87,4.5999999999999996,38,490,null,1500,null,null,null,2019,10]
[145,"44 Pinnån, utfl ur Kopparmölledamm","2019-11-13",6.4,11.9,97,6.84,0.3,6.6,18,250,71,7.5,39,700,null,1900,null,null,null,2019,11]
[145,"44 Pinnån, utfl ur Kopparmölledamm","2019-12-12",5.0999999999999996,11.3,89,6.62,0.13,5.4,11,300,100,11,39,630,null,1700,null,null,null,2019,12]
[145,"44 Pinnån, utfl ur Kopparmölledamm","2020-01-13",5.3,12.5,99,6.6,0.13,4.0999999999999996,12.1,250,87,6.4,30,1000,null,1700,null,null,null,2020,1]
[145,"44 Pinnån, utfl ur Kopparmölledamm","2020-02-10",5.9,11.9,96,6.51,0.12,4.4000000000000004,10.8,225,95,12,41,730,null,1700,null,null,null,2020,2]
[145,"44 Pinnån, utfl ur Kopparmölledamm","2020-03-17",6.3,12.6,102,6.75,0.2,3.5,14.2,200,63,5.3,26,760,null,1400,null,null,null,2020,3]
[145,"44 Pinnån, utfl ur Kopparmölledamm","2020-04-15",8.5,11.6,99,7.13,0.43,4.0999999999999996,27.3,150,51,4.5999999999999996,25,1100,null,2100,null,null,null,2020,4]
[145,"44 Pinnån, utfl ur Kopparmölledamm","2020-05-19",12.4,10.199999999999999,96,7.3,0.59,8.6999999999999993,32.1,125,37,5.9,26,1000,null,2300,null,null,null,2020,5]
[145,"44 Pinnån, utfl ur Kopparmölledamm","2020-06-09",15.9,8.8000000000000007,89,7.41,0.69,4.5,39.1,125,20,5.8,33,1400,null,2100,null,null,null,2020,6]
[145,"44 Pinnån, utfl ur Kopparmölledamm","2020-07-15",16.100000000000001,9.6999999999999993,99,7.19,0.52,5.2,28.3,175,51,7.4,33,840,null,1800,null,null,null,2020,7]
[145,"44 Pinnån, utfl ur Kopparmölledamm","2020-08-12",21.6,8.1,92,6.91,0.4,3.6,16.100000000000001,100,34,5.4,30,2000,null,2900,null,null,null,2020,8]
[145,"44 Pinnån, utfl ur Kopparmölledamm","2020-09-14",17.7,9.1,96,7.36,0.88,3.8,56.3,85,30,7.4,22,2300,null,2500,null,null,null,2020,9]
[145,"44 Pinnån, utfl ur Kopparmölledamm","2020-10-13",9.1999999999999993,9.6999999999999993,85,7.16,0.43,6.2,29.7,150,51,8.6999999999999993,31,1100,null,1800,null,null,null,2020,10]
[145,"44 Pinnån, utfl ur Kopparmölledamm","2020-11-10",9.6999999999999993,11.4,101,6.98,0.3,4.3,18.600000000000001,175,51,7,30,840,null,1500,null,null,null,2020,11]
[145,"44 Pinnån, utfl ur Kopparmölledamm","2020-12-16",6.6,12,98,6.97,0.28999999999999998,7,18.2,200,59,7.1,36,1100,null,2000,null,null,null,2020,12]
[145,"44 Pinnån, utfl ur Kopparmölledamm","2021-01-20",2.1,13.5,99,7,0.19666972597351515,3.7,18,210,63.2,null,31,1200,null,1700,null,null,null,2021,1]
[145,"44 Pinnån, utfl ur Kopparmölledamm","2021-02-25",2.4,13.6,98,6.9,0.22944801363576767,3.3,16,170,55.300000000000004,null,37,1200,null,2600,null,null,null,2021,2]
[145,"44 Pinnån, utfl ur Kopparmölledamm","2021-03-18",4,13.2,99,6.9,0.19666972597351515,2.2000000000000002,17,180,43.45,null,21,1200,null,1800,null,null,null,2021,3]
[145,"44 Pinnån, utfl ur Kopparmölledamm","2021-04-21",9.3000000000000007,11.2,98,7.2,0.36056116428477775,2.8,24,140,43.45,null,29,1300,null,1800,null,null,null,2021,4]
[145,"44 Pinnån, utfl ur Kopparmölledamm","2021-05-19",13.4,10.1,96,7.3,0.36056116428477775,2.6,23,150,47.400000000000006,null,21,1200,null,1900,null,null,null,2021,5]
[145,"44 Pinnån, utfl ur Kopparmölledamm","2021-06-09",16.7,8.9,90,7.4,0.52445260259604043,2.6,39,130,43.45,null,29,1600,null,2600,null,null,null,2021,6]
[145,"44 Pinnån, utfl ur Kopparmölledamm","2021-07-14",22.3,8.3000000000000007,95,7.5,0.54084174642716665,2.7,36,160,47.400000000000006,null,30,1200,null,1700,null,null,null,2021,7]
[145,"44 Pinnån, utfl ur Kopparmölledamm","2021-08-25",16.3,9.3000000000000007,94,7.4,0.49180327868852458,3,32,140,55.300000000000004,null,32,1200,null,1500,null,null,null,2021,8]
[145,"44 Pinnån, utfl ur Kopparmölledamm","2021-09-15",17,8.6999999999999993,89,7.6,0.91803278688524592,2.9,63,110,37.92,null,29,2400,null,2600,null,null,null,{"$f":"YEAR(C2055)","v":2021},{"$f":"MONTH(C2055)","v":9}]
[145,"44 Pinnån, utfl ur Kopparmölledamm","2021-10-21",11,10.199999999999999,96,6.6,0.13934426229508196,7.7,13,310,86.9,null,83,1100,null,1900,null,null,null,2021,10]
[145,"44 Pinnån, utfl ur Kopparmölledamm","2021-11-24",7,11.9,97,7.1,0.34426229508196721,3.6,19,220,59.25,null,36,1100,null,1700,null,null,null,2021,11]
[145,"44 Pinnån, utfl ur Kopparmölledamm","2021-12-08",1.9,13.4,97,7,0.27868852459016391,4.4000000000000004,18,230,59.25,null,66,930,null,1800,"",null,null,2021,12]
[145,"44 Pinnån, utfl ur Kopparmölledamm","2022-01-19",3.2,13.3,98,7.1,0.26229508196721313,3.4,18,190,55.300000000000004,"",24,1200,null,1700,"",null,null,2022,1]
[145,"44 Pinnån, utfl ur Kopparmölledamm","2022-02-09",3.2,13.3,99,7,0.14098360655737704,3.2,14,180,59.25,null,27,940,null,1200,null,null,null,2022,2]
[145,"44 Pinnån, utfl ur Kopparmölledamm","2022-03-16",6,12.7,100,7.2,0.29508196721311475,3.4,22,150,39.5,"",23,1200,null,1700,"","",null,2022,3]
[145,"44 Pinnån, utfl ur Kopparmölledamm","2022-04-22",10.7,11,98,7.3,0.32786885245901637,3.2,23,130,38.710000000000008,null,25,1200,null,1600,null,null,null,2022,4]
[145,"44 Pinnån, utfl ur Kopparmölledamm","2022-05-16",15.3,10.199999999999999,102,7.5,0.55737704918032782,3.2,35,140,47.400000000000006,null,30,1200,null,1700,null,null,null,2022,5]
[145,"44 Pinnån, utfl ur Kopparmölledamm","2022-06-17",18.2,9.1,95,7.5,0.62295081967213117,4.3,42,130,47.400000000000006,null,28,2100,null,2300,null,null,null,2022,6]
[145,"44 Pinnån, utfl ur Kopparmölledamm","2022-07-08",17,8.8000000000000007,90,7.5,0.55737704918032782,3.9,35,110,36.339999999999996,null,28,2000,null,2200,null,null,null,2022,7]
[145,"44 Pinnån, utfl ur Kopparmölledamm","2022-08-24",19.3,8.1,86,7.9,1.59,3.5,98,73,33.18,null,28,3400,null,4000,null,null,null,2022,8]
[145,"44 Pinnån, utfl ur Kopparmölledamm","2022-09-20",10.5,10.4,93,7.6,0.45901639344262296,4.2,21,110,43.45,null,26,1900,null,2400,null,null,null,2022,9]
[145,"44 Pinnån, utfl ur Kopparmölledamm","2022-10-19",11.8,10,91,7.5,0.67213114754098358,4.0999999999999996,41,150,55.300000000000004,null,33,1700,null,1800,null,null,null,2022,10]
[145,"44 Pinnån, utfl ur Kopparmölledamm","2022-11-16",9.6999999999999993,11,97,7.6,0.5901639344262295,4.3,37,170,43.45,null,44,1100,null,1400,null,null,null,2022,11]
[145,"44 Pinnån, utfl ur Kopparmölledamm","2022-12-21",1.7,13.5,97,7.1,0.24590163934426229,19,25,210,67.150000000000006,null,43,1700,null,2600,null,null,null,2022,12]
[145,"44 Pinnån, utfl ur Kopparmölledamm","2023-01-11",4.8,12.4,97,6.3,0.12459016393442622,4.4000000000000004,14,170,67.150000000000006,null,31,1100,null,1500,null,null,null,2023,1]
[145,"44 Pinnån, utfl ur Kopparmölledamm","2023-02-15",3.7,13.2,98,7.2,0.21311475409836064,3,19,170,71.100000000000009,null,29,1400,null,1800,null,null,null,2023,2]
[145,"44 Pinnån, utfl ur Kopparmölledamm","2023-03-15",2.8,13.2,97,6.8,0.10819672131147541,2.9,13,180,82.95,null,28,1100,null,1600,null,null,null,2023,3]
[145,"44 Pinnån, utfl ur Kopparmölledamm","2023-04-14",8.3000000000000007,11.6,99,7.1,0.26229508196721313,3.1,18,140,71.100000000000009,null,19,920,null,1900,null,null,null,2023,4]
[145,"44 Pinnån, utfl ur Kopparmölledamm","2023-05-10",13.8,9.9,96,7.6,0.62295081967213117,3,36,120,43.45,null,19,1300,null,4000,null,null,null,2023,5]
[145,"44 Pinnån, utfl ur Kopparmölledamm","2023-06-14",18.7,8.1999999999999993,88,7.7,1.1475409836065573,2.6,80,100,43.45,null,35,2300,null,3000,null,null,null,2023,6]
[145,"44 Pinnån, utfl ur Kopparmölledamm","2023-07-12",19,8.1999999999999993,89,7.6,0.73770491803278693,3.4,51,100,30.02,null,33,1800,null,2300,null,null,null,2023,7]
[145,"44 Pinnån, utfl ur Kopparmölledamm","2023-08-14",16,9.3000000000000007,94,6.8,0.15737704918032785,3.1,12,230,90.850000000000009,null,42,410,null,1100,null,null,null,2023,8]
[145,"44 Pinnån, utfl ur Kopparmölledamm","2023-09-13",17.899999999999999,8.6999999999999993,91,7.3,0.47540983606557374,3.6,29,270,79,null,35,1200,null,2500,null,null,null,2023,9]
[145,"44 Pinnån, utfl ur Kopparmölledamm","2023-10-18",10.199999999999999,10.3,95,6.9,0.22950819672131148,21,17,330,126.4,null,36,750,null,1300,null,null,null,2023,10]
[145,"44 Pinnån, utfl ur Kopparmölledamm","2023-11-15",6.3,11.8,96,6.8,0.16065573770491803,4.3,13,330,146.15,null,44,700,null,1300,null,null,null,2023,11]
[146,"48 Pråmöllebäcken, vid Ällekärr","2021-02-25",2.1,13.7,98,7,0.21305886980464142,6.9,11,210,55.300000000000004,null,35,1600,null,2000,null,null,null,2021,2]
[146,"48 Pråmöllebäcken, vid Ällekärr","2021-04-21",7.4,12,99,7.4,0.40972859577815657,4.3,14,160,43.45,null,22,990,null,1300,null,null,null,2021,4]
[146,"48 Pråmöllebäcken, vid Ällekärr","2021-07-14",19.3,8.8000000000000007,95,7.3,0.40972859577815657,4.4000000000000004,13,290,90.850000000000009,null,28,880,null,1500,null,null,null,2021,7]
[146,"48 Pråmöllebäcken, vid Ällekärr","2021-08-25",14.6,10,98,7.3,0.39344262295081966,5,13,230,82.95,null,35,890,null,1400,null,null,null,2021,8]
[146,"48 Pråmöllebäcken, vid Ällekärr","2021-09-15",14.3,9.9,95,7.5,0.78688524590163933,4.4000000000000004,19,180,59.25,null,32,1100,null,1400,null,null,null,2021,9]
[146,"48 Pråmöllebäcken, vid Ällekärr","2021-11-24",6.3,12.3,99,7.2,0.32786885245901637,4.7,12,280,75.05,null,33,880,null,1300,null,null,null,2021,11]
[146,"48 Pråmöllebäcken, vid Ällekärr","2022-02-09",3.6,13.3,99,7.2,0.19672131147540983,3.9,11,180,51.35,null,21,1100,null,1400,null,null,null,2022,2]
[146,"48 Pråmöllebäcken, vid Ällekärr","2022-04-22",9,11.6,99,7.5,0.44262295081967212,4.2,14,150,43.45,null,28,970,null,1300,null,null,null,2022,4]
[146,"48 Pråmöllebäcken, vid Ällekärr","2022-07-08",14.5,10,97,7.6,0.60655737704918034,8.6,15,250,59.25,null,41,970,null,1300,null,null,null,2022,7]
[146,"48 Pråmöllebäcken, vid Ällekärr","2022-08-24",15.2,9.6999999999999993,95,7.9,1.08,4.4000000000000004,25,110,38.71,null,29,1700,null,1800,null,null,null,2022,8]
[146,"48 Pråmöllebäcken, vid Ällekärr","2022-09-20",10,11.1,97,7.8,0.67213114754098358,5.7,18,120,47.400000000000006,null,28,1200,null,1400,null,null,null,2022,9]
[146,"48 Pråmöllebäcken, vid Ällekärr","2022-11-17",5.8,12.3,98,7.5,0.57377049180327866,5.0999999999999996,16,200,59.25,null,41,960,null,1300,null,null,null,2022,11]
[146,"48 Pråmöllebäcken, vid Ällekärr","2023-02-15",3.6,13.1,97,7.7,0.86885245901639341,5,22,110,55.300000000000004,null,36,1800,null,2100,null,null,null,2023,2]
[146,"48 Pråmöllebäcken, vid Ällekärr","2023-04-14",8,11.8,99,7.2,0.24590163934426229,3.8,11,150,71.100000000000009,null,16,820,null,1200,null,null,null,2023,4]
[146,"48 Pråmöllebäcken, vid Ällekärr","2023-07-12",16.3,9,92,7.3,0.49180327868852458,19,13,150,29.230000000000004,null,64,890,null,1200,null,null,null,2023,7]
[146,"48 Pråmöllebäcken, vid Ällekärr","2023-08-14",15.5,10,100,6.9,0.21311475409836064,4.7,11,390,122.45,null,36,740,null,1400,null,null,null,2023,8]
[146,"48 Pråmöllebäcken, vid Ällekärr","2023-09-13",17,9.1999999999999993,95,7.3,0.4098360655737705,7.7,13,490,106.65,null,42,890,null,1400,null,null,null,2023,9]
[146,"48 Pråmöllebäcken, vid Ällekärr","2023-11-15",5.7,12.1,97,7,0.22950819672131148,4.9000000000000004,10,350,106.65,null,29,800,null,1400,null,null,null,2023,11]
[150,"58 Pinnån, vid utfl t Rönneå","2013-01-16",0.2,12.8,87.936426991089832,6.99,0.30077999999999999,5.3,18.3,175,67,null,24,1200,null,1900,null,null,"is i kanten",2013,1,null,0.34899999999999998]
[150,"58 Pinnån, vid utfl t Rönneå","2013-02-14",1.6,13.6,97.221224430267242,7.08,0.37300439999999996,5.3,21.8,125,55,null,31,1100,null,1900,null,null,null,2013,2,null,0.28499999999999998]
[150,"58 Pinnån, vid utfl t Rönneå","2013-03-13",0.7,13.6,94.778710000065999,7.18,0.52103999999999995,5.6,28.4,100,47,null,40,1600,null,2300,null,null,null,2013,3,null,0.23100000000000001]
[150,"58 Pinnån, vid utfl t Rönneå","2013-04-17",12.4,9.3000000000000007,87.394736174404656,7.15,0.44087999999999999,3.9,25.7,125,51,null,30,1200,null,2200,null,null,null,2013,4,null,0.247]
[150,"58 Pinnån, vid utfl t Rönneå","2013-05-14",13.4,10.4,99.93440207412722,7.27,0.57113999999999998,4,33.6,100,47,null,23,1800,null,2400,null,null,null,2013,5,null,0.245]
[150,"58 Pinnån, vid utfl t Rönneå","2013-06-11",19.7,9.6,104.90281163519354,7.45,0.70140000000000002,5.3,43.9,125,40,null,47,2100,null,2600,null,null,null,2013,6,null,0.23]
[150,"58 Pinnån, vid utfl t Rönneå","2013-07-10",19,9,97.048554790957525,7.34,0.60721199999999997,4.3,45.3,125,43,null,40,2000,null,2600,null,null,null,2013,7,null,0.26]
[150,"58 Pinnån, vid utfl t Rönneå","2013-08-15",16.600000000000001,9.3000000000000007,95.637688876280464,6.98,0.37274399999999991,11,23.8,150,59,null,54,1300,null,2200,null,null,null,2013,8,null,0.23699999999999999]
[150,"58 Pinnån, vid utfl t Rönneå","2013-09-12",16,9.6999999999999993,98.529869730672431,7.34,0.76753199999999988,4.3,54,70,32,null,39,2700,null,3400,null,null,null,2013,9,null,0.13500000000000001]
[150,"58 Pinnån, vid utfl t Rönneå","2013-10-15",10.5,10.9,98.043219383241521,7.14,0.42685199999999995,9.9,25,125,67,null,47,1700,null,2600,null,null,null,2013,10,null,0.253]
[150,"58 Pinnån, vid utfl t Rönneå","2013-11-20",5.8,12,96.086932547842196,7.16,0.43085999999999997,4.9000000000000004,23,125,55,null,35,1200,null,1800,null,null,null,2013,11,null,0.246]
[150,"58 Pinnån, vid utfl t Rönneå","2013-12-12",4.5,12.6,97.50276272881851,6.99,0.306612,4.9000000000000004,20,125,51,null,27,1200,null,2000,null,null,"översvämning",2013,12,null,0.22900000000000001]
[150,"58 Pinnån, vid utfl t Rönneå","2014-01-14",2.8,13.5,99.774785946050784,6.8,0.20100000000000001,4.0999999999999996,15.9,125,59,null,26,1100,null,1600,null,null,"översvämning",2014,1,null,0.252]
[150,"58 Pinnån, vid utfl t Rönneå","2014-02-18",3.7,13,98.463521644280235,6.83,0.22713,4.5,17.600000000000001,125,55,null,23,970,null,1100,null,null,null,2014,2,null,0.249]
[150,"58 Pinnån, vid utfl t Rönneå","2014-03-13",6.7,12.7,104.07343660550464,7.15,0.38793,3.7,23.1,100,47,null,25,1300,null,2200,null,null,null,2014,3,null,0.253]
[150,"58 Pinnån, vid utfl t Rönneå","2014-04-15",9.6999999999999993,11.3,99.729046799684539,6.79,0.25325999999999999,6.5,16.8,125,75,null,26,1000,null,1700,null,null,null,2014,4,null,0.28299999999999997]
[150,"58 Pinnån, vid utfl t Rönneå","2014-05-13",12.1,10.4,97.0706517335923,6.79,0.33165,29,17.59,175,91,null,74,3200,null,3900,null,null,null,2014,5,null,0.32400000000000001]
[150,"58 Pinnån, vid utfl t Rönneå","2014-06-10",21.1,9.1999999999999993,103.16252302128011,7.34,0.52863000000000004,5.6,33.5,175,75,null,36,1600,null,2200,null,null,null,2014,6,null,0.30199999999999999]
[150,"58 Pinnån, vid utfl t Rönneå","2014-07-23",23.4,8.5,99.235646020262152,7.08,0.41607,4.0999999999999996,21,175,67,null,40,990,null,1600,null,null,null,2014,7,null,0.32100000000000001]
[150,"58 Pinnån, vid utfl t Rönneå","2014-08-14",18.600000000000001,9.5,101.65415547906092,7.01,0.34371000000000002,7.6,21.5,225,120,null,44,1300,null,1900,null,null,null,{"$f":"YEAR(C2119)","v":2014},{"$f":"MONTH(C2119)","v":8},null,0.502]
[150,"58 Pinnån, vid utfl t Rönneå","2014-09-24",13,10.4,99.053607256942968,7.2,0.49044000000000004,7,34.9,175,63,null,33,1400,null,1800,null,null,null,2014,9,null,0.36099999999999999]
[150,"58 Pinnån, vid utfl t Rönneå","2014-10-14",12.1,10,93.337165128454131,7.1449999999999996,0.50451000000000001,22,30.9,250,91,null,89,2200,null,3100,null,null,null,2014,10,null,0.36599999999999999]
[150,"58 Pinnån, vid utfl t Rönneå","2014-11-12",9.1999999999999993,10.4,90.687750749901582,6.88,0.30954000000000004,7.3,20.100000000000001,250,99,null,38,1300,null,2400,null,null,null,2014,11,null,0.5]
[150,"58 Pinnån, vid utfl t Rönneå","2014-12-09",5.2,12.3,96.958675489223197,6.92,0.26130000000000003,9.6,17.100000000000001,300,110,null,42,1400,null,2300,null,null,"översvämmat",2014,12,null,0.51500000000000001]
[150,"58 Pinnån, vid utfl t Rönneå","2015-01-20",3,11.9,88.433069692988667,6.7,0.17688000000000004,4.8,13.9,200,83,6,29,1100,null,1800,null,null,null,2015,1]
[150,"58 Pinnån, vid utfl t Rönneå","2015-02-10",3.3,12.6,94.40459274065303,6.89,0.25980600000000004,4.3,17.899999999999999,150,67,5,20,1200,null,2100,null,null,"översvämn",2015,2]
[150,"58 Pinnån, vid utfl t Rönneå","2015-03-17",8,11.6,98.219460842003599,7.15,0.32828199999999996,5.3,21.5,150,63,9,29,1400,null,2100,null,null,null,2015,3]
[150,"58 Pinnån, vid utfl t Rönneå","2015-04-15",8.4,11.5,98.340361045412337,6.83,0.24570799999999998,20,13.4,200,63,9.1999999999999993,58,1200,null,2200,null,null,null,2015,4]
[150,"58 Pinnån, vid utfl t Rönneå","2015-05-12",13.1,10.5,100.22840352192868,7.14,0.37258999999999998,4.3,21.7,150,63,4.0999999999999996,29,1200,null,1600,null,null,null,2015,5]
[150,"58 Pinnån, vid utfl t Rönneå","2015-06-09",15.1,9.6999999999999993,96.692358267488117,7.16,0.40078599999999992,6.3,23.1,200,71,6.5,38,1000,null,1700,null,null,null,2015,6]
[150,"58 Pinnån, vid utfl t Rönneå","2015-07-15",16.8,8.4,86.734303243263938,6.8,0.37057600000000002,12,22.7,350,140,15,140,1100,null,2600,null,null,null,2015,7]
[150,"58 Pinnån, vid utfl t Rönneå","2015-08-13",19.8,9.1999999999999993,100.72079917329076,7.26,0.49745800000000001,5.0999999999999996,29.8,225,79,11,40,1600,null,2400,null,null,null,2015,8]
[150,"58 Pinnån, vid utfl t Rönneå","2015-09-15",16.2,9.6999999999999993,98.93732174476537,7.4,0.65656399999999993,5.0999999999999996,39.299999999999997,150,63,5.9,40,1700,null,2600,null,null,null,2015,9]
[150,"58 Pinnån, vid utfl t Rönneå","2015-10-13",9.1,10.5,91.338162375697664,7.44,0.85393600000000003,4.4000000000000004,48,125,47,8.1999999999999993,42,1800,null,2500,null,null,null,2015,10]
[150,"58 Pinnån, vid utfl t Rönneå","2015-11-11",11.2,9.6999999999999993,88.687321127528534,6.88,0.29605799999999999,11,18.399999999999999,250,100,5.3,61,1400,null,2500,null,null,null,2015,11]
[150,"58 Pinnån, vid utfl t Rönneå","2015-12-08",6.3,10.9,88.413133709396249,6.76,0.20744200000000002,4.0999999999999996,15.2,200,87,3.7,30,1100,null,1800,null,null,null,2015,12]
[150,"58 Pinnån, vid utfl t Rönneå","2016-01-20",0.2,14.4,98.928480364976053,7.1,0.35778000000000004,5.4,22.9,150,67,6.8,40,1300,null,1800,null,null,"is",2016,1]
[150,"58 Pinnån, vid utfl t Rönneå","2016-02-17",1.8,13.2,94.891724458967488,6.85,0.25376399999999999,3.9,17.2,125,63,3,26,1100,null,1700,null,null,"översvämmat",2016,2]
[150,"58 Pinnån, vid utfl t Rönneå","2016-03-16",6.4,12.2,99.212162406309872,7.28,0.27390399999999998,3.8,16.3,125,59,2.6,26,1000,null,1600,null,null,null,2016,3]
[150,"58 Pinnån, vid utfl t Rönneå","2016-04-13",9.6,11,96.84892719542033,7.08,0.36050600000000005,5,22,125,59,2.1,35,1200,null,1900,null,null,null,2016,4]
[150,"58 Pinnån, vid utfl t Rönneå","2016-05-17",13.2,11,105.23410329864977,7.43,0.56769800000000015,4.0999999999999996,33.200000000000003,100,47,"<2",33,1900,null,2300,null,null,null,2016,5]
[150,"58 Pinnån, vid utfl t Rönneå","2016-06-14",15.4,9.3000000000000007,93.292936128025389,7.64,0.88665200000000011,5.7,54.7,85,19,18,47,3200,null,3700,null,null,null,2016,6]
[150,"58 Pinnån, vid utfl t Rönneå","2016-07-13",18.399999999999999,8.5,90.601363952139621,7.06,0.41724800000000006,6.6,23.4,200,10,13,51,1100,null,1700,null,null,null,2016,7]
[150,"58 Pinnån, vid utfl t Rönneå","2016-08-18",16.600000000000001,9.6999999999999993,99.751137860206498,7.5,0.74422600000000005,4.2,48.6,100,24,12,33,2800,null,2900,null,null,null,2016,8]
[150,"58 Pinnån, vid utfl t Rönneå","2016-09-14",19.7,10.8,118.01566308959278,7.88,0.95485600000000004,3.3,65.3,70,30,8.1999999999999993,29,3500,null,3700,null,null,null,2016,9]
[150,"58 Pinnån, vid utfl t Rönneå","2016-10-12",9.1,11.4,99.16714772218603,7.84,1.3119240000000003,2.7,80.599999999999994,45,25,4.8,26,3900,null,3900,null,null,null,2016,10]
[150,"58 Pinnån, vid utfl t Rönneå","2016-11-08",2.5,13.8,101.15302914762661,7.19,0.80641200000000013,6.2,25.8,125,59,8.8000000000000007,41,1600,null,2200,null,null,null,2016,11]
[150,"58 Pinnån, vid utfl t Rönneå","2016-12-14",3.9,13,98.995861761228284,7.5,0.97692200000000018,11,22.5,100,43,8.4,21,1600,null,2300,null,null,null,2016,12]
[150,"58 Pinnån, vid utfl t Rönneå","2017-01-18",1.8,12.7,91.297340956733862,7.31,0.58174000000000003,5.0999999999999996,32.4,85,47,5.0999999999999996,23,1500,null,2200,null,null,null,2017,1]
[150,"58 Pinnån, vid utfl t Rönneå","2017-02-16",1.7,14,100.36155823690392,7.31,0.63790800000000014,5.3,38.299999999999997,85,38,11,36,1800,null,2600,null,null,null,2017,2]
[150,"58 Pinnån, vid utfl t Rönneå","2017-03-14",5.7,11.9,95.039024907680655,7.15,0.37512200000000001,3.3,23.4,100,47,3.7,26,1300,null,1900,null,null,null,2017,3]
[150,"58 Pinnån, vid utfl t Rönneå","2017-04-19",7.8,11.8,99.417068467764395,7.12,0.37512200000000001,3.1,21.8,125,51,4.5999999999999996,28,1200,null,1900,null,null,null,2017,4]
[150,"58 Pinnån, vid utfl t Rönneå","2017-05-10",10.1,11.7,104.2487834944033,7.39,0.5416200000000001,4.3,32.799999999999997,100,31,7.2,33,1600,null,2100,null,null,null,2017,5]
[150,"58 Pinnån, vid utfl t Rönneå","2017-06-20",19.5,9.3000000000000007,101.24216164036906,7.48,0.59377600000000008,5.7,35.4,125,43,16,52,1700,null,2200,null,null,null,2017,6]
[150,"58 Pinnån, vid utfl t Rönneå","2017-07-12",18,8.8000000000000007,93.068040282541673,7.36,0.55766800000000005,7.2,32.200000000000003,150,47,11,46,1700,null,2100,null,null,null,2017,7]
[150,"58 Pinnån, vid utfl t Rönneå","2017-08-17",18.2,9.3000000000000007,98.742522511385147,7.1,0.4413200000000001,5.5,23.2,225,83,4.8,41,1200,null,2100,null,null,null,2017,8]
[150,"58 Pinnån, vid utfl t Rönneå","2017-09-20",15.1,8,79.746274859784023,6.64,0.24072000000000002,4.5999999999999996,13.6,300,110,12,49,380,null,1500,null,null,null,2017,9]
[150,"58 Pinnån, vid utfl t Rönneå","2017-10-10",10.3,10.3,92.210382474728576,6.87,0.28886400000000001,5.4,15.7,400,120,17,43,460,null,1700,null,null,null,2017,10]
[150,"58 Pinnån, vid utfl t Rönneå","2017-11-09",7.5,10.7,89.475691770396622,6.77,0.25476200000000004,4.9000000000000004,14.6,300,130,16,41,930,null,1700,null,null,null,2017,11]
[150,"58 Pinnån, vid utfl t Rönneå","2017-12-19",2.6,14.5,106.577543481373,6.62,0.17251600000000003,3.8,13.1,250,63,9.8000000000000007,28,850,null,1600,null,null,null,2017,12]
[150,"58 Pinnån, vid utfl t Rönneå","2018-01-09",2.2000000000000002,13.1,95,6.74,0.22,6.2,14.3,225,67,12,36,900,null,1500,null,null,null,2018,1]
[150,"58 Pinnån, vid utfl t Rönneå","2018-02-15",3.4,12.4,93,6.95,0.37,7.2,19.5,200,55,7.8,37,950,null,1900,null,null,null,2018,2]
[150,"58 Pinnån, vid utfl t Rönneå","2018-03-20",3.8,12.3,93,7.01,0.36,5.9,19.5,175,43,9.3000000000000007,33,1100,null,1900,null,null,null,2018,3]
[150,"58 Pinnån, vid utfl t Rönneå","2018-04-18",11.3,10.7,98,7.04,0.42,6,22.5,150,51,5.6,39,1000,null,1600,null,null,null,2018,4]
[150,"58 Pinnån, vid utfl t Rönneå","2018-05-15",20.100000000000001,9.4,103,7.6,0.67,5,37.5,150,47,9.6999999999999993,45,1500,null,2000,null,null,null,2018,5]
[150,"58 Pinnån, vid utfl t Rönneå","2018-06-12",19.5,10.4,113,7.83,1.38,3.9,72.400000000000006,85,27,9,30,2700,null,2900,null,null,null,2018,6]
[150,"58 Pinnån, vid utfl t Rönneå","2018-07-19",22.7,11.5,133,7.87,1.89,2.5,104.3,70,24,5.3,28,2300,null,2900,null,null,null,2018,7]
[150,"58 Pinnån, vid utfl t Rönneå","2018-08-16",20.100000000000001,8.6999999999999993,96,7.54,1.2,4.5,65.7,70,23,14,44,3300,null,4200,null,null,null,2018,8]
[150,"58 Pinnån, vid utfl t Rönneå","2018-09-12",15.3,9.6999999999999993,97,7.55,1.44,3.2,73.599999999999994,70,29,13,31,2400,null,2900,null,null,null,2018,9]
[150,"58 Pinnån, vid utfl t Rönneå","2018-10-09",12.4,12,113,7.39,0.68,4.0999999999999996,36.299999999999997,70,38,4.8,24,1200,null,1600,null,null,null,2018,10]
[150,"58 Pinnån, vid utfl t Rönneå","2018-11-14",10.3,10,90,7.04,0.59,6.3,37.9,100,25,6.4,23,1300,null,1900,null,null,null,2018,11]
[150,"58 Pinnån, vid utfl t Rönneå","2018-12-11",4.8,11.2,87,7,0.24,6.7,25.8,125,38,6,27,1700,null,2200,null,null,null,2018,12]
[150,"58 Pinnån, vid utfl t Rönneå","2019-01-15",3.7,12.7,96,7.08,0.3,5.5,24.3,125,43,7.2,27,2100,null,2600,null,null,null,2019,1]
[150,"58 Pinnån, vid utfl t Rönneå","2019-02-13",4.5,12.3,95,6.87,0.19,4.9000000000000004,17.2,100,59,4.2,25,1200,null,1700,null,null,null,2019,2]
[150,"58 Pinnån, vid utfl t Rönneå","2019-03-12",4.7,12.4,96,7.2,0.49,15,15,100,55,2.9,22,1300,null,2000,null,null,null,2019,3]
[150,"58 Pinnån, vid utfl t Rönneå","2019-04-09",9.1,12.1,105,6.94,0.39,4.7,24.1,125,43,5.0999999999999996,24,1400,null,1900,null,null,null,2019,4]
[150,"58 Pinnån, vid utfl t Rönneå","2019-05-14",12.4,11.6,109,7.37,0.45,4,28.1,100,43,6.2,24,1100,null,1500,null,null,null,2019,5]
[150,"58 Pinnån, vid utfl t Rönneå","2019-06-11",18.5,9.1999999999999993,98,7.33,0.47,3.6,27.4,125,38,6,34,1500,null,1900,null,null,null,2019,6]
[150,"58 Pinnån, vid utfl t Rönneå","2019-07-17",20,9.4,103,7.52,0.89,3.1,54.3,70,29,10,23,2400,null,2500,null,null,null,2019,7]
[150,"58 Pinnån, vid utfl t Rönneå","2019-08-14",16.899999999999999,8.1,84,6.97,0.56000000000000005,12,32.200000000000003,150,55,13,68,1700,null,2500,null,null,null,2019,8]
[150,"58 Pinnån, vid utfl t Rönneå","2019-09-17",12.9,11.1,105,7.11,0.24,6,26.5,200,55,7.6,37,1000,null,1700,null,null,null,2019,9]
[150,"58 Pinnån, vid utfl t Rönneå","2019-10-16",11.8,9.4,87,6.7,0.24,5.6,15.8,225,91,6.2,43,1000,null,1900,null,null,null,2019,10]
[150,"58 Pinnån, vid utfl t Rönneå","2019-11-13",6.5,11.9,97,6.96,0.35,6.9,19.3,225,67,8.1999999999999993,38,1200,null,1900,null,null,null,2019,11]
[150,"58 Pinnån, vid utfl t Rönneå","2019-12-12",5.3,11,87,6.79,0.21,14,13.3,250,87,14,51,1300,null,1900,null,null,null,{"$f":"YEAR(C2183)","v":2019},{"$f":"MONTH(C2183)","v":12}]
[150,"58 Pinnån, vid utfl t Rönneå","2020-01-13",5.5,11.9,95,6.73,0.19,8,13.3,250,67,8.1,39,1400,null,2100,null,null,null,2020,1]
[150,"58 Pinnån, vid utfl t Rönneå","2020-02-10",6,11.6,93,6.82,0.24,79,14,300,79,25,140,1400,null,2200,null,null,null,2020,2]
[150,"58 Pinnån, vid utfl t Rönneå","2020-03-17",7.7,12.1,102,6.9,0.25,4.8,15.2,175,51,5.5,31,950,null,1600,null,null,null,2020,3]
[150,"58 Pinnån, vid utfl t Rönneå","2020-04-15",8.9,11.4,99,7.19,0.47,6.1,27.2,125,47,6.1,36,1400,null,2000,null,null,null,2020,4]
[150,"58 Pinnån, vid utfl t Rönneå","2020-05-19",12.5,10,94,7.33,0.59,4.5,33.5,125,35,5.6,26,1500,null,1900,null,null,null,2020,5]
[150,"58 Pinnån, vid utfl t Rönneå","2020-06-09",15.7,9.1999999999999993,93,7.51,0.72,3.9,37.6,125,37,6.1,33,1400,null,1900,null,null,null,2020,6]
[150,"58 Pinnån, vid utfl t Rönneå","2020-07-15",16.2,9.6,98,7.32,0.34,5.4,29.3,175,55,9.1999999999999993,41,1200,null,1900,null,null,null,2020,7]
[150,"58 Pinnån, vid utfl t Rönneå","2020-08-12",21.8,9.1,103,7.77,0.49,3.5,61.3,100,32,11,36,2300,null,3200,null,null,null,2020,8]
[150,"58 Pinnån, vid utfl t Rönneå","2020-09-14",17.2,10.3,107,7.54,0.8,3.2,35.6,70,26,7,22,2100,null,2200,null,null,null,2020,9]
[150,"58 Pinnån, vid utfl t Rönneå","2020-10-13",10.1,10.1,90,7.25,0.56000000000000005,6.8,31.2,150,51,9.5,37,1400,null,2100,null,null,null,2020,10]
[150,"58 Pinnån, vid utfl t Rönneå","2020-11-10",9.6999999999999993,10.9,96,6.93,0.36,4.4000000000000004,22,150,51,8,32,960,null,1600,null,null,null,2020,11]
[150,"58 Pinnån, vid utfl t Rönneå","2020-12-16",7,11.8,97,7.12,0.4,17,20.3,175,51,9.6999999999999993,56,1600,null,2500,null,null,null,2020,12]
[150,"58 Pinnån, vid utfl t Rönneå","2021-01-20",2,13.3,96,7.2,0.27861544512914649,9.3000000000000007,20,220,55.300000000000004,null,36,1700,null,2100,null,null,null,2021,1]
[150,"58 Pinnån, vid utfl t Rönneå","2021-02-25",2.8,13.6,99,7.1,0.34417202045365153,4.5,19,170,55.300000000000004,null,47,1600,null,2700,null,null,null,2021,2]
[150,"58 Pinnån, vid utfl t Rönneå","2021-03-18",4.3,13,99,7.1,0.24583715746689394,2.7,17,160,51.35,null,26,1400,null,2000,null,null,null,2021,3]
[150,"58 Pinnån, vid utfl t Rönneå","2021-04-21",9,11,95,7.3,0.42611773960928284,3.4,24,140,43.45,null,36,1500,null,2100,null,null,null,2021,4]
[150,"58 Pinnån, vid utfl t Rönneå","2021-05-19",13.4,9.8000000000000007,93,7.4,0.45889602727153533,3.5,26,150,43.45,null,27,1500,null,2000,null,null,null,2021,5]
[150,"58 Pinnån, vid utfl t Rönneå","2021-06-09",16.8,8.8000000000000007,89,7.5,0.5736200340894192,2.2999999999999998,38,120,43.45,null,35,1900,null,2400,null,null,null,2021,6]
[150,"58 Pinnån, vid utfl t Rönneå","2021-07-14",21.7,8.1999999999999993,92,7.6,0.65556575324505051,4.0999999999999996,35,160,43.45,null,37,1600,null,2000,null,null,null,2021,7]
[150,"58 Pinnån, vid utfl t Rönneå","2021-08-25",16.100000000000001,9,91,7.3,0.54098360655737709,3.7,29,150,55.300000000000004,null,37,1500,null,2000,null,null,null,2021,8]
[150,"58 Pinnån, vid utfl t Rönneå","2021-09-15",15.5,9.1999999999999993,91,7.7,0.98360655737704916,2.8,52,94,39.5,null,32,2500,null,2700,null,null,null,2021,9]
[150,"58 Pinnån, vid utfl t Rönneå","2021-10-21",11.1,9.4,88,6.9,0.26229508196721313,24,15,380,71.100000000000009,null,100,1400,null,1900,null,null,null,2021,10]
[150,"58 Pinnån, vid utfl t Rönneå","2021-11-24",6.6,11.8,95,7.1,0.36065573770491804,3.9,20,220,55.300000000000004,null,35,1200,null,1700,null,null,null,2021,11]
[150,"58 Pinnån, vid utfl t Rönneå","2021-12-08",0.8,13.2,92,7.1,0.34426229508196721,5.2,19,220,63.2,null,43,1200,null,1700,"",null,null,2021,12]
[150,"58 Pinnån, vid utfl t Rönneå","2022-01-19",2.2999999999999998,13.3,96,7.3,0.32786885245901637,4.4000000000000004,19,190,51.35,"",26,1500,null,1900,"",null,null,2022,1]
[150,"58 Pinnån, vid utfl t Rönneå","2022-02-09",3.3,12.7,94,7.1,0.18032786885245902,4.0999999999999996,15,170,55.300000000000004,null,28,1300,null,1700,null,null,null,2022,2]
[150,"58 Pinnån, vid utfl t Rönneå","2022-03-16",5.4,12.5,96,7.3,0.37704918032786883,4.5,21,150,39.5,"",30,1500,null,1900,"","",null,2022,3]
[150,"58 Pinnån, vid utfl t Rönneå","2022-04-22",10.4,11,97,7.4,0.42622950819672129,3.5,24,120,39.5,null,33,1400,null,1900,null,null,null,2022,4]
[150,"58 Pinnån, vid utfl t Rönneå","2022-05-16",14.7,10.8,106,7.7,0.67213114754098358,5.3,34,130,47.400000000000006,null,41,1700,null,1900,null,null,null,2022,5]
[150,"58 Pinnån, vid utfl t Rönneå","2022-06-17",17.7,9.8000000000000007,101,7.7,0.68852459016393441,6.1,39,130,43.45,null,39,2400,null,2600,null,null,null,2022,6]
[150,"58 Pinnån, vid utfl t Rönneå","2022-07-08",16.600000000000001,8.8000000000000007,89,7.7,0.90163934426229508,4.2,43,110,32.39,null,46,2100,null,2300,null,null,null,2022,7]
[150,"58 Pinnån, vid utfl t Rönneå","2022-08-24",16.600000000000001,8.5,86,7.8,1.41,2.6,74,67,33.575000000000003,null,36,3300,null,3400,null,null,null,2022,8]
[150,"58 Pinnån, vid utfl t Rönneå","2022-09-20",11.2,10,90,7.9,0.93442622950819676,3,49,76,37.524999999999999,null,28,2300,null,2500,null,null,null,2022,9]
[150,"58 Pinnån, vid utfl t Rönneå","2022-10-19",10.9,10.3,91,7.6,0.88524590163934425,4.2,45,120,55.300000000000004,null,23,1800,null,2000,null,null,null,2022,10]
[150,"58 Pinnån, vid utfl t Rönneå","2022-11-16",8.9,11.1,95,7.5,0.72131147540983609,5.4,36,150,43.45,null,50,1400,null,1700,null,null,null,2022,11]
[150,"58 Pinnån, vid utfl t Rönneå","2022-12-21",1,13.6,96,7.3,0.42622950819672129,23,38,200,59.25,null,69,2600,null,3200,null,null,null,2022,12]
[150,"58 Pinnån, vid utfl t Rönneå","2023-01-11",5,11.9,93,7,0.19672131147540983,6.6,15,180,71.100000000000009,null,35,1600,null,2000,null,null,null,2023,1]
[150,"58 Pinnån, vid utfl t Rönneå","2023-02-15",3.7,13,96,7.2,0.27868852459016391,4.5999999999999996,20,160,71.100000000000009,null,35,1600,null,1900,null,null,null,2023,2]
[150,"58 Pinnån, vid utfl t Rönneå","2023-03-15",2.9,13,96,7,0.13934426229508196,5,13,180,79,null,33,1300,null,1800,null,null,null,2023,3]
[150,"58 Pinnån, vid utfl t Rönneå","2023-04-14",8,11.4,96,7.2,0.31147540983606559,3.7,19,140,67.150000000000006,null,20,1200,null,1500,null,null,null,2023,4]
[150,"58 Pinnån, vid utfl t Rönneå","2023-05-10",13.8,9.6,93,7.5,0.5901639344262295,3.7,34,110,43.45,null,35,2200,null,3400,null,null,null,2023,5]
[150,"58 Pinnån, vid utfl t Rönneå","2023-06-14",17.399999999999999,10.7,111,8,1.2131147540983607,2,67,79,28.44,null,29,2400,null,2600,null,null,null,2023,6]
[150,"58 Pinnån, vid utfl t Rönneå","2023-07-12",18.2,8.1,86,7.7,0.88524590163934425,4,49,92,30.415000000000003,null,44,2100,null,2300,null,null,null,2023,7]
[150,"58 Pinnån, vid utfl t Rönneå","2023-08-14",16.600000000000001,6.3,65,6.8,0.21311475409836064,2,13,220,86.9,null,37,570,null,1300,null,null,null,2023,8]
[150,"58 Pinnån, vid utfl t Rönneå","2023-09-13",17.5,8.1999999999999993,86,7.3,0.49180327868852458,4.5,26,250,67.150000000000006,null,38,1800,null,2300,null,null,null,2023,9]
[150,"58 Pinnån, vid utfl t Rönneå","2023-10-18",9.6999999999999993,10,88,7.2,0.26229508196721313,5.2,17,300,110.60000000000001,null,37,940,null,1500,null,null,null,2023,10]
[150,"58 Pinnån, vid utfl t Rönneå","2023-11-15",5.9,10.7,86,7.1,0.24590163934426229,7.5,15,300,110.60000000000001,null,37,1000,null,1500,null,null,null,2023,11]
[155,"70 Kägleån, vid Ängeltofta","2013-02-14",0.4,14.1,97.424791955069395,7.73,1.4118016,5,26.4,45,23,null,28,1800,null,2100,null,null,null,2013,2]
[155,"70 Kägleån, vid Ängeltofta","2013-04-17",10.9,9.9,89.886855727121443,7.64,0.72544799999999998,4.9000000000000004,16.399999999999999,150,55,null,32,820,null,1400,null,null,null,2013,4]
[155,"70 Kägleån, vid Ängeltofta","2013-07-10",17.5,9.5,99.481966860994135,7.83,1.4689320000000001,18.2,27.8,100,37,null,57,1400,null,1900,null,null,null,2013,7]
[155,"70 Kägleån, vid Ängeltofta","2013-08-15",16.399999999999999,9.6,98.320247344970966,7.22,0.60119999999999996,12,16.399999999999999,250,110,null,61,1200,null,2000,null,null,null,2013,8]
[155,"70 Kägleån, vid Ängeltofta","2013-09-12",15,10.1,100.4667096560498,7.76,1.1102159999999999,8.4,22,125,63,null,49,890,null,1500,null,null,null,2013,9]
[155,"70 Kägleån, vid Ängeltofta","2013-11-20",4.7,12.5,97.244069713625166,7.5,0.79759199999999997,8.6999999999999993,17.5,125,59,null,46,1100,null,1700,null,null,null,2013,11]
[155,"70 Kägleån, vid Ängeltofta","2014-02-18",4.3,13,100.06316526360028,7.32,1.0532400000000002,42,21.5,125,38,null,87,1500,null,1900,null,null,null,2014,2]
[155,"70 Kägleån, vid Ängeltofta","2014-04-15",9.5,12,105.39985990670984,7.28,1.1497200000000001,23,20.7,150,79,null,42,1800,null,2300,null,null,null,2014,4]
[155,"70 Kägleån, vid Ängeltofta","2014-07-23",25.9,10.6,128.92285910305009,8.4600000000000009,1.5879000000000003,6.8,28.6,85,36,null,56,1200,null,1900,null,null,null,2014,7]
[155,"70 Kägleån, vid Ängeltofta","2014-08-14",21.2,11.6,130.30982820368962,8.43,1.2864000000000002,13,23.6,150,71,null,55,1100,null,1500,null,null,null,2014,8]
[155,"70 Kägleån, vid Ängeltofta","2014-09-24",12.8,11.9,112.83609542109853,8,1.2783600000000002,11,25.5,100,47,null,58,1400,null,1500,null,null,null,2014,9]
[155,"70 Kägleån, vid Ängeltofta","2014-11-12",9.1,10.6,92.208049636418593,7.57,1.0914300000000001,6.3,20.9,175,83,null,38,1400,null,2100,null,null,null,2014,11]
[155,"70 Kägleån, vid Ängeltofta","2015-02-10",2.9,12.9,95.602264128240549,7.56,0.821712,7.8,20.100000000000001,70,32,null,25,1700,null,2200,null,null,null,2015,2]
[155,"70 Kägleån, vid Ängeltofta","2015-04-15",7.6,11.5,96.406706065305229,7.06,1.1721480000000002,106,19.399999999999999,150,83,null,270,7700,null,9400,null,null,null,2015,4]
[155,"70 Kägleån, vid Ängeltofta","2015-07-15",17,9.5,98.489922346381789,7.42,1.059364,7.4,19.600000000000001,300,110,null,50,940,null,1900,null,null,null,2015,7]
[155,"70 Kägleån, vid Ängeltofta","2015-08-13",20.100000000000001,10.5,115.5989444657649,7.93,1.192288,11,21.7,300,95,null,51,1200,null,1900,null,null,null,2015,8]
[155,"70 Kägleån, vid Ängeltofta","2015-09-15",15.6,9.9,99.728680908918463,7.82,1.4621640000000002,19.5,26.2,150,51,null,64,1700,null,2400,null,null,null,{"$f":"YEAR(C2247)","v":2015},{"$f":"MONTH(C2247)","v":9}]
[155,"70 Kägleån, vid Ängeltofta","2015-11-11",11,10.199999999999999,92.826723302656404,7.26,0.75122200000000006,32,19.5,300,100,null,94,2300,null,3400,null,null,null,2015,11]
[155,"70 Kägleån, vid Ängeltofta","2016-02-17",1.4,14.6,103.78492523710709,7.63,0.90629999999999999,4.0999999999999996,21,55,26,null,25,1900,null,2200,null,null,null,2016,2]
[155,"70 Kägleån, vid Ängeltofta","2016-04-13",9.6,12.7,111.81648867107619,8.15,1.272848,5.6,24.1,85,32,null,32,1500,null,2000,null,null,null,2016,4]
[155,"70 Kägleån, vid Ängeltofta","2016-07-13",18.2,9.8000000000000007,104.05126028081446,7.31,0.85856800000000022,11,18.8,225,51,null,70,910,null,1800,null,null,null,2016,7]
[155,"70 Kägleån, vid Ängeltofta","2016-08-18",15.9,10.1,102.3806959537277,7.84,1.1875520000000002,6.8,23,175,31,null,45,1100,null,1400,null,null,null,2016,8]
[155,"70 Kägleån, vid Ängeltofta","2016-09-14",21.2,9.5,106.71925585646996,8.2200000000000006,1.6128240000000003,15,28.1,100,47,null,60,1300,null,1700,null,null,null,2016,9]
[155,"70 Kägleån, vid Ängeltofta","2016-11-08",1.5,13,92.671505107826022,7.49,0.73820800000000009,4.5999999999999996,20.9,150,75,null,32,2800,null,3300,null,null,null,2016,11]
[155,"70 Kägleån, vid Ängeltofta","2017-02-16",1.2,14.2,100.37383079278331,7.86,1.436296,3.1,28.7,35,18,null,24,2100,null,2200,null,null,null,2017,2]
[155,"70 Kägleån, vid Ängeltofta","2017-04-19",7.9,12.7,107.26649470031049,7.7,0.97090399999999999,4.3,21.5,125,47,null,26,1800,null,2300,null,null,null,2017,4]
[155,"70 Kägleån, vid Ängeltofta","2017-07-12",17.7,8.9,93.569920971288013,7.59,1.1394080000000002,9.8000000000000007,21.9,200,63,null,50,1100,null,1500,null,null,null,2017,7]
[155,"70 Kägleån, vid Ängeltofta","2017-08-17",18.600000000000001,11.2,119.84489909110339,7.74,1.0752160000000002,11,20.5,225,91,null,64,970,null,1500,null,null,null,2017,8]
[155,"70 Kägleån, vid Ängeltofta","2017-09-20",12.6,9.8000000000000007,92.508638161563809,7.06,0.71413599999999999,55,14.7,400,110,null,140,1400,null,2400,null,null,null,2017,9]
[155,"70 Kägleån, vid Ängeltofta","2017-11-09",7.2,11.6,96.272345238903938,7.46,0.7983880000000001,8.1999999999999993,17.600000000000001,125,67,null,45,1400,null,1900,null,null,null,2017,11]
[155,"70 Kägleån, vid Ängeltofta","2018-02-15",2.1,12.5,91,7.56,1.02,7.5,22.3,70,23,null,40,1400,null,1900,null,null,null,2018,2]
[155,"70 Kägleån, vid Ängeltofta","2018-04-18",11.4,12.4,114,8.06,0.98,6.5,20.8,100,29,null,31,1100,null,1400,null,null,null,2018,4]
[155,"70 Kägleån, vid Ängeltofta","2018-07-19",23.2,12.1,141,8.26,2.2400000000000002,11,36.6,40,12,null,37,1100,null,1400,null,null,null,2018,7]
[155,"70 Kägleån, vid Ängeltofta","2018-08-16",19.8,9.4,103,7.51,1.1599999999999999,8.3000000000000007,37.1,55,23,null,42,1100,null,1300,null,null,null,2018,8]
[155,"70 Kägleån, vid Ängeltofta","2018-09-12",14.8,10.9,108,7.69,1.04,9.4,26.9,65,30,null,46,1100,null,1400,null,null,null,2018,9]
[155,"70 Kägleån, vid Ängeltofta","2018-11-14",9.8000000000000007,9.8000000000000007,87,7.33,0.79,13,24.1,100,40,null,43,2500,null,2800,null,null,null,2018,11]
[155,"70 Kägleån, vid Ängeltofta","2019-02-13",4.8,12.1,94,7.3,0.67,34,18.399999999999999,150,43,null,68,2600,null,2900,null,null,null,2019,2]
[155,"70 Kägleån, vid Ängeltofta","2019-04-09",8.9,12.8,111,7.66,0.93,4.2,21.1,70,30,null,25,2000,null,2200,null,null,null,2019,4]
[155,"70 Kägleån, vid Ängeltofta","2019-07-17",19.2,11.5,124,8.2799999999999994,1.31,6.6,29,55,20,null,21,1300,null,1400,null,null,null,2019,7]
[155,"70 Kägleån, vid Ängeltofta","2019-08-14",16,8.4,85,7.2,0.66,31,15.9,250,95,null,110,480,null,2000,null,null,null,2019,8]
[155,"70 Kägleån, vid Ängeltofta","2019-09-17",11.7,10.7,99,7.31,0.6,6.3,14.2,250,95,null,41,550,null,1800,null,null,null,2019,9]
[155,"70 Kägleån, vid Ängeltofta","2019-11-13",6.1,12.1,98,7.38,0.9,14,18.5,175,47,null,52,1900,null,2300,null,null,null,2019,11]
[155,"70 Kägleån, vid Ängeltofta","2020-02-10",5.9,11.6,93,7.1,0.79,528,12.9,600,59,null,420,1500,null,2900,null,null,null,2020,2]
[155,"70 Kägleån, vid Ängeltofta","2020-04-15",10,12.7,113,8.15,1.2,4.3,24.3,60,17,null,30,1700,null,1900,null,null,null,2020,4]
[155,"70 Kägleån, vid Ängeltofta","2020-07-15",15.9,10.1,102,7.64,1.03,6.2,19.600000000000001,150,51,null,51,1100,null,1700,null,null,null,2020,7]
[155,"70 Kägleån, vid Ängeltofta","2020-08-12",22.8,11,127,8.9700000000000006,1.73,8.1999999999999993,28.7,65,20,null,46,1300,null,1700,null,null,null,2020,8]
[155,"70 Kägleån, vid Ängeltofta","2020-09-14",18.2,10.6,113,8.06,1.45,12,27.2,100,37,null,61,1500,null,1700,null,null,null,2020,9]
[155,"70 Kägleån, vid Ängeltofta","2020-11-10",9.1999999999999993,11.6,101,7.51,0.96,5.7,20,175,67,null,55,1500,null,2100,null,null,null,2020,11]
[155,"70 Kägleån, vid Ängeltofta","2021-02-25",3.2,13.2,97,7.4,0.70473318473842927,16,16,220,36.735000000000007,null,72,2300,null,2700,null,null,null,2021,2]
[155,"70 Kägleån, vid Ängeltofta","2021-04-21",8.8000000000000007,13.1,112,8,1.1964074996722172,2.6,23,74,22.515000000000001,null,39,1400,null,2100,null,null,null,2021,4]
[155,"70 Kägleån, vid Ängeltofta","2021-07-14",22.5,9.1,104,7.9,1.3439097941523535,6.7,24,200,47.400000000000006,null,64,1600,null,2000,null,null,null,2021,7]
[155,"70 Kägleån, vid Ängeltofta","2021-08-25",15.3,9.6999999999999993,96,7.8,1.3278688524590163,5.2,25,160,55.300000000000004,null,52,2300,null,2800,null,null,null,2021,8]
[155,"70 Kägleån, vid Ängeltofta","2021-09-15",15.5,10.8,108,8,1.459016393442623,5.3,26,120,43.45,null,54,1700,null,2000,null,null,null,2021,9]
[155,"70 Kägleån, vid Ängeltofta","2021-11-24",7.2,11.9,98,7.7,1,4.5,19,150,43.45,null,50,1500,null,1800,null,null,null,2021,11]
[155,"70 Kägleån, vid Ängeltofta","2022-02-09",3.9,13.1,99,7.8,0.68852459016393441,12,17,150,28.835000000000001,null,48,1600,null,1700,null,null,null,2022,2]
[155,"70 Kägleån, vid Ängeltofta","2022-04-22",10.4,14.2,120,8.1,1.2622950819672132,2.9,23,66,24.885000000000002,null,31,1500,null,1700,null,null,null,2022,4]
[155,"70 Kägleån, vid Ängeltofta","2022-07-08",14.6,9.4,91,7.8,1.0327868852459017,9.9,19,200,59.25,null,65,1100,null,1500,null,null,null,2022,7]
[155,"70 Kägleån, vid Ängeltofta","2022-08-24",17.100000000000001,9.6,93,8.1,2.13,13,34,100,18.96,null,54,1500,null,1600,null,null,null,2022,8]
[155,"70 Kägleån, vid Ängeltofta","2022-09-20",11.7,10.9,100,8,1.1311475409836065,9.4,25,120,51.35,null,49,1100,null,1300,null,null,null,2022,9]
[155,"70 Kägleån, vid Ängeltofta","2022-11-17",4.9000000000000004,11.9,92,7.9,1.2295081967213115,6.5,24,170,55.300000000000004,null,59,1400,null,1700,null,null,null,2022,11]
[155,"70 Kägleån, vid Ängeltofta","2023-02-15",3.7,13.2,98,7.8,0.88524590163934425,5.5,20,120,39.5,null,32,1900,null,2000,null,null,null,2023,2]
[155,"70 Kägleån, vid Ängeltofta","2023-04-14",7.7,12.2,101,7.7,0.77049180327868849,4.3,17,100,47.400000000000006,null,24,1300,null,1500,null,null,null,2023,4]
[155,"70 Kägleån, vid Ängeltofta","2023-07-12",15.5,8.1999999999999993,82,7.7,1.5081967213114753,42,26,200,20.540000000000003,null,190,2100,null,2700,null,null,null,2023,7]
[155,"70 Kägleån, vid Ängeltofta","2023-08-14",14.9,9.4,93,7.5,0.77049180327868849,14,18,290,94.800000000000011,null,54,2000,null,2500,null,null,null,2023,8]
[155,"70 Kägleån, vid Ängeltofta","2023-09-13",16,9.1999999999999993,94,7.7,1.0327868852459017,6.9,20,300,75.05,null,54,1600,null,1900,null,null,null,2023,9]
[155,"70 Kägleån, vid Ängeltofta","2023-11-15",5.6,11.6,92,7.5,0.77049180327868849,15,16,260,67.150000000000006,null,46,1300,null,1700,null,null,null,2023,11]
[160,"55 Kägleån, vägbro Åkersholm","2013-02-14",0.8,14.1,98.543341085941364,7.76,1.7406872000000002,7.8,31.1,65,24,null,37,1900,null,2300,null,null,null,2013,2]
[160,"55 Kägleån, vägbro Åkersholm","2013-04-17",10.7,10.5,94.889865411886703,7.82,0.92183999999999988,6.5,18.899999999999999,150,55,null,33,850,null,1400,null,null,null,2013,4]
[160,"55 Kägleån, vägbro Åkersholm","2013-07-10",17.3,10,104.30050012073116,7.97,1.9879680000000002,16.3,34.200000000000003,85,37,null,66,1500,null,2100,null,null,null,2013,7]
[160,"55 Kägleån, vägbro Åkersholm","2013-08-15",17,9.3000000000000007,96.41645029698428,7.29,0.74949599999999994,21,17.8,250,110,null,83,1100,null,2000,null,null,null,2013,8]
[160,"55 Kägleån, vägbro Åkersholm","2013-09-12",15.7,10,100.94645158145225,7.73,1.3587119999999999,14,24.9,125,55,null,61,1000,null,2100,null,null,null,2013,9]
[160,"55 Kägleån, vägbro Åkersholm","2013-11-20",4.8,12.5,97.501928736461267,7.59,1.0260480000000001,11,19.7,125,63,null,53,1200,null,1700,null,null,null,2013,11]
[160,"55 Kägleån, vägbro Åkersholm","2014-02-18",4.0999999999999996,13,99.529082964850716,7.42,1.1296200000000001,54,23.7,125,40,null,77,1300,null,2000,null,null,null,2014,2]
[160,"55 Kägleån, vägbro Åkersholm","2014-04-15",8.6,11.6,99.684061350887774,7.29,0.96479999999999999,15,18.3,125,67,null,56,2100,null,2900,null,null,null,2014,4]
[160,"55 Kägleån, vägbro Åkersholm","2014-07-23",23.8,9.6999999999999993,114.01237402813807,8.02,1.7607600000000005,7.3,32.1,100,47,null,68,1300,null,2100,null,null,null,2014,7]
[160,"55 Kägleån, vägbro Åkersholm","2014-08-14",19.899999999999999,10.9,119.55592159933811,8.14,1.4512200000000002,11,26.8,150,71,null,53,1100,null,1600,null,null,null,2014,8]
[160,"55 Kägleån, vägbro Åkersholm","2014-09-24",13,11.1,105.72067697616028,7.81,1.4271,16,27.2,125,59,null,67,1300,null,1500,null,null,null,2014,9]
[160,"55 Kägleån, vägbro Åkersholm","2014-11-12",9.1,10.8,93.947824157860467,7.67,1.3266,7.7,24.1,175,75,null,58,1400,null,2100,null,null,null,2014,11]
[160,"55 Kägleån, vägbro Åkersholm","2015-02-10",3,12.8,95.12128504792058,7.56,0.99894400000000005,11,21.7,70,38,null,24,1600,null,2200,null,null,null,2015,2]
[160,"55 Kägleån, vägbro Åkersholm","2015-04-15",7.5,11.5,96.165463117716016,7.04,1.1721480000000002,195.5,20.399999999999999,150,55,null,320,8400,null,10000,null,null,null,2015,4]
[160,"55 Kägleån, vägbro Åkersholm","2015-07-15",17.100000000000001,9.1,94.533238795062829,7.45,1.16812,8,21.4,300,130,null,61,920,null,2000,null,null,null,{"$f":"YEAR(C2311)","v":2015},{"$f":"MONTH(C2311)","v":7}]
[160,"55 Kägleån, vägbro Åkersholm","2015-08-13",20.100000000000001,9.6999999999999993,106.79140583980187,7.76,1.42994,10,24.8,250,99,null,59,1200,null,2000,null,null,null,2015,8]
[160,"55 Kägleån, vägbro Åkersholm","2015-09-15",15.7,9.6999999999999993,97.918058034008666,7.74,1.6998160000000004,16,29.5,125,55,null,76,1600,null,2400,null,null,null,2015,9]
[160,"55 Kägleån, vägbro Åkersholm","2015-11-11",11,10.1,91.916657387924488,7.22,0.95463600000000015,48,22.3,250,110,null,120,2700,null,3700,null,null,null,2015,11]
[160,"55 Kägleån, vägbro Åkersholm","2016-02-17",1.4,14,99.519791323253372,7.63,1.0190840000000001,6.3,21.9,65,28,null,31,1700,null,2000,null,null,null,2016,2]
[160,"55 Kägleån, vägbro Åkersholm","2016-04-13",9.6999999999999993,11.8,104.1418364810865,8.02,1.498416,6.2,26.9,85,38,null,35,1400,null,1800,null,null,null,2016,4]
[160,"55 Kägleån, vägbro Åkersholm","2016-07-13",18,9.5,100.47117985047112,7.49,0.9989880000000001,16,20.3,250,55,null,72,980,null,2000,null,null,null,2016,7]
[160,"55 Kägleån, vägbro Åkersholm","2016-08-18",15.5,9.6,96.504529705232656,7.72,1.4844400000000002,7.5,27.1,150,38,null,50,1200,null,1500,null,null,null,2016,8]
[160,"55 Kägleån, vägbro Åkersholm","2016-09-14",19.899999999999999,11.5,126.13698150388882,8.3699999999999992,1.9578560000000005,8.6,32.9,85,40,null,45,1300,null,1600,null,null,null,2016,9]
[160,"55 Kägleån, vägbro Åkersholm","2016-11-08",1.7,13.4,96.060348598179459,7.53,0.95485600000000004,7.7,24.3,150,75,null,42,3300,null,3900,null,null,null,2016,11]
[160,"55 Kägleån, vägbro Åkersholm","2017-02-16",1.4,14,99.519791323253372,7.81,1.6569560000000003,4.7,31.7,40,19,null,27,2000,null,2200,null,null,null,2017,2]
[160,"55 Kägleån, vägbro Åkersholm","2017-04-19",7.9,12.2,103.04340435777857,7.69,1.231684,7.6,24.5,125,47,null,56,1800,null,2600,null,null,null,2017,4]
[160,"55 Kägleån, vägbro Åkersholm","2017-07-12",16.7,8.8000000000000007,90.680238043930316,7.5,1.2076120000000001,13,22.8,225,67,null,72,1000,null,1600,null,null,null,2017,7]
[160,"55 Kägleån, vägbro Åkersholm","2017-08-17",17.8,9.6999999999999993,102.18271007721657,7.58,1.3039000000000001,13,22.9,250,91,null,82,1000,null,1600,null,null,null,2017,8]
[160,"55 Kägleån, vägbro Åkersholm","2017-09-20",13,9.6,91.434099006408871,7.13,0.830484,70,15.9,400,110,null,160,1100,null,2400,null,null,null,2017,9]
[160,"55 Kägleån, vägbro Åkersholm","2017-11-09",7.3,11.5,95.683313278625505,7.47,0.96689200000000008,11,19.2,150,67,null,53,1200,null,1800,null,null,null,2017,11]
[160,"55 Kägleån, vägbro Åkersholm","2018-02-15",2,12.2,88,7.6,1.2,8.6,23.3,85,26,null,40,1300,null,1900,null,null,null,2018,2]
[160,"55 Kägleån, vägbro Åkersholm","2018-04-18",11,12.1,110,7.99,1.2,7.8,23.7,100,32,null,34,1100,null,1500,null,null,null,2018,4]
[160,"55 Kägleån, vägbro Åkersholm","2018-07-19",23,11.5,133,8.0399999999999991,2.74,6.5,42.9,40,13,null,30,940,null,1300,null,null,null,2018,7]
[160,"55 Kägleån, vägbro Åkersholm","2018-08-16",19.100000000000001,8.6,93,7.49,0.83,6.3,22.4,85,22,null,47,1200,null,1500,null,null,null,2018,8]
[160,"55 Kägleån, vägbro Åkersholm","2018-09-12",14.4,10.5,103,7.67,1.38,9.9,29.2,65,26,null,51,1300,null,1600,null,null,null,2018,9]
[160,"55 Kägleån, vägbro Åkersholm","2018-11-14",9.6,9.9,87,7.38,0.87,16,25.4,100,39,null,48,2400,null,2700,null,null,null,2018,11]
[160,"55 Kägleån, vägbro Åkersholm","2019-02-12",4.7,12.1,94,7.39,0.9,49,21.7,150,43,null,87,3000,null,3200,null,null,null,2019,2]
[160,"55 Kägleån, vägbro Åkersholm","2019-04-09",8.8000000000000007,13.2,114,7.76,1.04,4.3,22.9,70,30,null,25,1800,null,2000,null,null,null,2019,4]
[160,"55 Kägleån, vägbro Åkersholm","2019-07-17",19.600000000000001,10.9,119,8.09,1.53,3.7,32.799999999999997,60,22,null,24,1100,null,1300,null,null,null,2019,7]
[160,"55 Kägleån, vägbro Åkersholm","2019-08-14",16,8.1999999999999993,83,7.2,0.66,43,15.7,250,100,null,110,380,null,1900,null,null,null,2019,8]
[160,"55 Kägleån, vägbro Åkersholm","2019-09-17",12,10.4,97,7.33,0.76,7.1,16.8,225,83,null,49,580,null,1800,null,null,null,2019,9]
[160,"55 Kägleån, vägbro Åkersholm","2019-11-13",6.2,11.9,96,7.46,1.04,14,20.3,175,47,null,67,1800,null,2200,null,null,null,2019,11]
[160,"55 Kägleån, vägbro Åkersholm","2020-02-10",5.8,11.5,92,7.15,0.78,573,13.5,600,59,null,430,1500,null,3500,null,null,null,2020,2]
[160,"55 Kägleån, vägbro Åkersholm","2020-04-15",9.3000000000000007,14.6,128,8.6,1.44,4.3,26.6,70,26,null,28,1500,null,1700,null,null,null,2020,4]
[160,"55 Kägleån, vägbro Åkersholm","2020-07-15",16,9.1999999999999993,93,7.47,0.98,7.7,22.7,200,51,null,65,1100,null,1800,null,null,null,2020,7]
[160,"55 Kägleån, vägbro Åkersholm","2020-08-12",21.7,11.3,128,8.4,1.99,12,33.6,65,21,null,59,1200,null,1800,null,null,null,2020,8]
[160,"55 Kägleån, vägbro Åkersholm","2020-09-14",17.600000000000001,10.6,111,7.99,1.77,11,30.5,85,32,null,60,1500,null,1700,null,null,null,2020,9]
[160,"55 Kägleån, vägbro Åkersholm","2020-11-10",9.1,11.2,97,7.52,1.18,7.9,23.4,200,59,null,53,1400,null,2200,null,null,null,2020,11]
[160,"55 Kägleån, vägbro Åkersholm","2021-02-25",3,13.2,97,7.4,0.77028976006293437,20,18,260,38.314999999999998,null,79,2400,null,2900,null,null,null,2021,2]
[160,"55 Kägleån, vägbro Åkersholm","2021-04-21",8.3000000000000007,13.1,111,8,1.442244657139111,4.0999999999999996,26,110,75.05,null,42,1500,null,1800,null,null,null,2021,4]
[160,"55 Kägleån, vägbro Åkersholm","2021-07-14",21.2,7.6,85,7.8,1.5897469516192475,8.3000000000000007,28,240,63.2,null,67,1500,null,1900,null,null,null,2021,7]
[160,"55 Kägleån, vägbro Åkersholm","2021-08-25",14.9,9.1,89,7.8,1.540983606557377,7.5,27,210,67.150000000000006,null,77,2000,null,2500,null,null,null,2021,8]
[160,"55 Kägleån, vägbro Åkersholm","2021-09-15",14.5,10.1,98,7.9,1.639344262295082,6,29,140,38.700000000000003,null,57,1600,null,1800,null,null,null,2021,9]
[160,"55 Kägleån, vägbro Åkersholm","2021-11-24",7.1,11.6,95,7.7,1.2,6,22,170,47.4,null,49,1400,null,1700,null,null,null,2021,11]
[160,"55 Kägleån, vägbro Åkersholm","2022-02-09",2.2000000000000002,12.6,92,7.8,0.86885245901639341,20,19,200,28.044999999999998,null,67,1500,null,1700,null,null,null,2022,2]
[160,"55 Kägleån, vägbro Åkersholm","2022-04-22",9.5,13.8,120,8.1999999999999993,1.54,4.4000000000000004,27,78,15.405000000000001,null,33,1400,null,1500,null,null,null,2022,4]
[160,"55 Kägleån, vägbro Åkersholm","2022-07-08",14.4,8.6999999999999993,84,7.7,1.0655737704918034,15,20,230,51.35,null,67,1200,null,1500,null,null,null,2022,7]
[160,"55 Kägleån, vägbro Åkersholm","2022-08-24",15.4,9.4,98,8.1,2.46,6.2,39,70,20.934999999999999,null,40,1100,null,1300,null,null,null,2022,8]
[160,"55 Kägleån, vägbro Åkersholm","2022-09-20",10.8,10.199999999999999,91,8.1,1.3114754098360655,9.3000000000000007,28,110,39.5,null,57,1100,null,1500,null,null,null,2022,9]
[160,"55 Kägleån, vägbro Åkersholm","2022-11-17",5,11.7,91,7.8,1.4098360655737705,8.1,27,190,51.35,null,77,1400,null,1600,null,null,null,2022,11]
[160,"55 Kägleån, vägbro Åkersholm","2023-02-15",3.8,13,97,7.8,1.1147540983606556,9.1,23,150,43.45,null,44,1800,null,2000,null,null,null,2023,2]
[160,"55 Kägleån, vägbro Åkersholm","2023-04-14",7.6,11.9,99,7.7,0.93442622950819676,6.4,19,110,43.45,null,28,1200,null,1500,null,null,null,2023,4]
[160,"55 Kägleån, vägbro Åkersholm","2023-07-12",16.600000000000001,8.1999999999999993,84,7.7,1.1639344262295082,16,20,130,19.75,null,77,1000,null,1300,null,null,null,2023,7]
[160,"55 Kägleån, vägbro Åkersholm","2023-08-14",14.8,9,89,7.5,0.95081967213114749,14,20,320,90.850000000000009,null,62,1800,null,2300,null,null,null,2023,8]
[160,"55 Kägleån, vägbro Åkersholm","2023-09-13",15.1,8.5,85,7.7,1.2622950819672132,9.3000000000000007,24,330,75.05,null,66,1500,null,1800,null,null,null,2023,9]
[160,"55 Kägleån, vägbro Åkersholm","2023-11-15",6,11.5,93,7.5,0.96721311475409832,24,18,320,75.05,null,67,1200,null,1700,null,null,null,2023,11]
[165,"56 Rössjöholmsån, f utfl t Rönneå","2013-01-16",0.3,12.8,88.189246160587473,7.41,0.86624639999999997,5.6,18.8,85,43,13,28,1300,45,1600,null,null,null,2013,1,18,0.21199999999999999]
[165,"56 Rössjöholmsån, f utfl t Rönneå","2013-02-14",0.7,14.6,101.74773279418852,7.61,0.99868919999999983,6.6,20.2,70,38,7,29,1100,37,1400,null,null,null,2013,2,13,0.16800000000000001]
[165,"56 Rössjöholmsån, f utfl t Rönneå","2013-03-13",0.4,14.2,98.115747926381943,7.53,1.074144,6.3,22,70,34,6,19,1400,35,1700,null,null,null,2013,3,"<5.0",0.14199999999999999]
[165,"56 Rössjöholmsån, f utfl t Rönneå","2013-04-17",11.4,9.6999999999999993,89.098313323722223,7.55,0.78957599999999994,6.9,17.3,150,51,10,30,780,25,1400,null,null,null,2013,4,15,0.27700000000000002]
[165,"56 Rössjöholmsån, f utfl t Rönneå","2013-05-14",12.5,11.8,111.13795544959395,7.8449999999999998,0.87374400000000008,5,19,100,30,7,23,790,"<10",1200,null,null,null,2013,5,12,0.214]
[165,"56 Rössjöholmsån, f utfl t Rönneå","2013-06-11",17.7,10.199999999999999,107.23743751765591,7.68,0.9298559999999999,4.5,18.899999999999999,85,30,13,28,1000,19,1200,null,null,null,2013,6,16,0.14399999999999999]
[165,"56 Rössjöholmsån, f utfl t Rönneå","2013-07-10",17.3,9.5,99.085475114694589,7.73,1.018032,9.8000000000000007,20.399999999999999,100,40,15,47,1000,19,1500,null,null,null,2013,7,24,0.184]
[165,"56 Rössjöholmsån, f utfl t Rönneå","2013-08-15",16.7,9.5,97.893438797424764,7.35,0.66532799999999992,20,16.899999999999999,250,100,20,78,1100,30,1900,null,null,null,2013,8,29,0.433]
[165,"56 Rössjöholmsån, f utfl t Rönneå","2013-09-12",15.8,9.8000000000000007,99.133644809114756,7.61,0.93386399999999992,11,19.760000000000002,100,47,8,47,880,"<10",1400,null,null,null,2013,9,23,0.19600000000000001]
[165,"56 Rössjöholmsån, f utfl t Rönneå","2013-10-15",10.7,10.8,97.601004423654885,7.32,0.91382399999999986,23,19.2,175,87,18,61,1400,14,2100,null,null,null,2013,10,22,0.32900000000000001]
[165,"56 Rössjöholmsån, f utfl t Rönneå","2013-11-20",5.5,12.3,97.723126960336245,7.53,0.70941599999999994,9.4,16,125,55,15,24,840,19,1400,null,null,null,2013,11,24,0.22500000000000001]
[165,"56 Rössjöholmsån, f utfl t Rönneå","2013-12-12",4.5999999999999996,12.8,99.314076749893559,7.25,0.66532799999999992,8.6999999999999993,18.7,70,39,6.4,32,1100,32,1700,null,null,null,2013,12,11,0.157]
[165,"56 Rössjöholmsån, f utfl t Rönneå","2014-01-14",2.9,13.6,100.78998388713731,7.1,0.47436,8.5,14.1,100,51,12,30,1000,23,1500,null,null,null,{"$f":"YEAR(C2375)","v":2014},{"$f":"MONTH(C2375)","v":1},16,0.374]
[165,"56 Rössjöholmsån, f utfl t Rönneå","2014-02-18",4,13.1,100.02592011555507,7.38,0.73565999999999998,28,17.600000000000001,100,43,21,45,980,16,1500,null,null,null,2014,2,16,0.17100000000000001]
[165,"56 Rössjöholmsån, f utfl t Rönneå","2014-03-13",6.1,12.8,103.29136395415743,7.48,0.82812000000000008,5.9,18.600000000000001,85,32,7,26,1200,34,1500,null,null,null,2014,3,16,0.13800000000000001]
[165,"56 Rössjöholmsån, f utfl t Rönneå","2014-04-15",9,11.5,99.794417472329769,7.33,0.6994800000000001,16,16.3,125,67,17,39,1600,21,2300,null,null,null,2014,4,20,0.28999999999999998]
[165,"56 Rössjöholmsån, f utfl t Rönneå","2014-05-13",12,10.4,96.850276870287402,6.94,0.93666000000000016,113,24,250,87,75,170,8800,240,10000,null,null,"högt flöde, grumligt",2014,5,76,0.30099999999999999]
[165,"56 Rössjöholmsån, f utfl t Rönneå","2014-06-10",21,9.3000000000000007,104.09499846099952,7.6,0.95676000000000005,7.3,19.8,100,47,7,35,1100,30,1600,null,null,null,2014,6,23,0.20799999999999999]
[165,"56 Rössjöholmsån, f utfl t Rönneå","2014-07-23",22.7,8.4,96.898439649262954,7.64,0.91053000000000006,5,16.399999999999999,85,40,13,38,740,26,1200,null,null,null,2014,7,39,0.32200000000000001]
[165,"56 Rössjöholmsån, f utfl t Rönneå","2014-08-14",19.3,9.6999999999999993,105.19715874832592,7.89,0.71556000000000008,7.5,16.11,125,51,12,33,760,10,1300,null,null,"hämtat mossa",2014,8,20,0.249]
[165,"56 Rössjöholmsån, f utfl t Rönneå","2014-09-24",13,10.4,99.053607256942968,7.57,0.86430000000000007,8.1999999999999993,18.12,100,47,16,47,860,"<10",1100,null,null,null,2014,9,20,0.21]
[165,"56 Rössjöholmsån, f utfl t Rönneå","2014-10-14",11.6,10.4,95.968791140107939,7.42,1.8894000000000002,44,20,250,100,40,93,1700,"<10",2600,null,null,null,2014,10,50,0.38]
[165,"56 Rössjöholmsån, f utfl t Rönneå","2014-11-12",9.1999999999999993,10.4,90.687750749901582,7.48,0.7557600000000001,6.7,16.5,150,63,15,39,810,29,1400,null,null,null,2014,11,22,0.29599999999999999]
[165,"56 Rössjöholmsån, f utfl t Rönneå","2014-12-09",5.0999999999999996,12.3,96.704209286985275,7.26,0.79596,41,17.2,300,100,37,63,1700,36,2600,null,null,"grumligt",2014,12,32,0.434]
[165,"56 Rössjöholmsån, f utfl t Rönneå","2015-01-20",2.9,12.1,89.673441546644241,7.31,0.77385000000000004,17,15.6,100,47,10,39,1200,30,1700,null,null,null,2015,1,22]
[165,"56 Rössjöholmsån, f utfl t Rönneå","2015-02-10",2.8,13,96.07942350360446,7.46,0.64045200000000013,6.8,16,85,43,5,21,1000,27,1700,null,null,null,2015,2,18]
[165,"56 Rössjöholmsån, f utfl t Rönneå","2015-03-17",7.5,13,108.70878439393982,7.45,1.5467519999999999,6,18,100,43,14,26,1300,23,1700,null,null,null,2015,3,20]
[165,"56 Rössjöholmsån, f utfl t Rönneå","2015-04-15",7.5,11.5,96.165463117716016,7.07,1.2325680000000001,170,19.899999999999999,150,47,110,420,8200,600,10000,null,null,null,2015,4,210]
[165,"56 Rössjöholmsån, f utfl t Rönneå","2015-05-12",12.4,10.8,101.49066136382476,7.5,0.680732,4.7,15.7,125,51,3.8,19,1000,"<10",1300,null,null,null,2015,5,17]
[165,"56 Rössjöholmsån, f utfl t Rönneå","2015-06-09",14.1,9.9,96.595861076608941,7.37,0.66059200000000007,5.0999999999999996,15.1,150,55,3.2,29,930,10,1400,null,null,null,2015,6,20]
[165,"56 Rössjöholmsån, f utfl t Rönneå","2015-07-15",17,9.1999999999999993,95.379714272285511,7.41,0.63239600000000007,6.4,14.5,225,83,12,33,810,24,1600,null,null,null,2015,7,25]
[165,"56 Rössjöholmsån, f utfl t Rönneå","2015-08-13",19.3,9.3000000000000007,100.8591315834465,7.5,0.75122200000000006,6.2,16.600000000000001,150,63,10,35,1100,18,1600,null,null,null,2015,8,26]
[165,"56 Rössjöholmsån, f utfl t Rönneå","2015-09-15",15.5,9.6,96.504529705232656,7.45,1.0392240000000001,12,20.399999999999999,125,47,17,45,"-",20,1700,null,null,null,2015,9,29]
[165,"56 Rössjöholmsån, f utfl t Rönneå","2015-10-13",8.8000000000000007,10.4,89.810247292418438,7.56,1.8528800000000003,4.9000000000000004,18.899999999999999,85,31,6,27,1000,"<10",1400,null,null,null,2015,10,18]
[165,"56 Rössjöholmsån, f utfl t Rönneå","2015-11-11",11.1,10.1,92.130584274652222,7.25,0.76532,39,19.399999999999999,300,100,16,96,2200,28,3400,null,null,null,2015,11,47]
[165,"56 Rössjöholmsån, f utfl t Rönneå","2015-12-08",6.4,11.6,94.332875730589734,7.4,0.60017200000000004,5.2,15.8,100,59,7.6,39,1100,21,1600,null,null,null,2015,12,28]
[165,"56 Rössjöholmsån, f utfl t Rönneå","2016-01-20",0.3,13.6,93.701074045624182,7.44,0.58289999999999997,3.6,15.2,65,36,8.3000000000000007,28,970,45,1200,null,null,null,2016,1,17]
[165,"56 Rössjöholmsån, f utfl t Rönneå","2016-02-17",1.7,14.3,102.51216305626613,7.36,0.52363999999999999,4.7,14.3,70,39,4.0999999999999996,23,1000,29,1300,null,null,null,2016,2,21]
[165,"56 Rössjöholmsån, f utfl t Rönneå","2016-03-16",5.7,12.5,99.830908516471268,7.76,0.62836800000000004,4.2,15.3,85,40,4.5,22,970,21,1300,null,null,null,2016,3,16]
[165,"56 Rössjöholmsån, f utfl t Rönneå","2016-04-13",9.4,11.1,97.260428614693225,7.59,0.83782400000000012,5.7,18.2,100,47,5,30,1000,17,1500,null,null,null,2016,4,19]
[165,"56 Rössjöholmsån, f utfl t Rönneå","2016-05-17",12.9,11.4,108.33654955992753,8.18,0.99497600000000008,4.9000000000000004,19.600000000000001,100,34,"<2",25,890,"<10",1300,null,null,null,2016,5,18]
[165,"56 Rössjöholmsån, f utfl t Rönneå","2016-06-14",14.5,9.6,94.48009714691436,7.77,0.99497600000000008,7.3,20.399999999999999,70,16,7.5,28,1100,14,1400,null,null,null,2016,6,17]
[165,"56 Rössjöholmsån, f utfl t Rönneå","2016-07-13",17.899999999999999,9.3000000000000007,98.162552853970737,7.41,0.81844800000000006,12,18.8,200,4.3,18,59,1100,"<10",1700,null,null,null,2016,7,32]
[165,"56 Rössjöholmsån, f utfl t Rönneå","2016-08-18",15.7,9.5,95.899129002379638,7.54,0.85455600000000009,6.2,18.399999999999999,100,26,10,26,1000,10,1200,null,null,null,2016,8,21]
[165,"56 Rössjöholmsån, f utfl t Rönneå","2016-09-14",18.899999999999999,9.6,103.32010424512519,7.7,0.83850800000000003,6.5,17.5,65,33,5.0999999999999996,28,830,"<10",1100,null,null,null,2016,9,18]
[165,"56 Rössjöholmsån, f utfl t Rönneå","2016-10-12",9.1999999999999993,10.8,94.175741163359334,7.71,0.9989880000000001,4.0999999999999996,20.9,45,24,6,23,1200,"<10",1300,null,null,null,2016,10,14]
[165,"56 Rössjöholmsån, f utfl t Rönneå","2016-11-08",2.2000000000000002,13,94.501035529969073,7.44,0.87862800000000008,7.2,22.7,125,63,12,34,2800,45,3400,null,null,null,2016,11,26]
[165,"56 Rössjöholmsån, f utfl t Rönneå","2016-12-14",3.8,12.9,97.970122012669975,7.28,0.52156000000000002,5.2,30.2,100,43,14,30,2100,26,2600,null,null,null,2016,12,22]
[165,"56 Rössjöholmsån, f utfl t Rönneå","2017-01-18",2.1,12.8,92.789042887927138,7.56,1.055156,3.5,26.2,65,32,12,39,1700,58,2100,null,null,null,2017,1,33]
[165,"56 Rössjöholmsån, f utfl t Rönneå","2017-02-16",1.4,13.9,98.808935670944422,7.64,1.2076120000000001,4.4000000000000004,24.9,45,23,12,27,1700,40,2000,null,null,null,2017,2,22]
[165,"56 Rössjöholmsån, f utfl t Rönneå","2017-03-14",5,11.3,88.60846552881749,7.45,0.79437600000000008,4,18.7,65,28,6.5,23,1400,19,1800,null,null,null,2017,3,11]
[165,"56 Rössjöholmsån, f utfl t Rönneå","2017-04-19",7.6,12.1,101.43662116436465,7.54,0.75024400000000002,7.2,17.7,100,40,11,37,1200,85,1800,null,null,null,2017,4,23]
[165,"56 Rössjöholmsån, f utfl t Rönneå","2017-05-10",9.1999999999999993,12.8,111.61569323064811,7.86,1.0511440000000001,4.7,21.8,85,23,6.7,26,1000,46,1400,null,null,null,2017,5,20]
[165,"56 Rössjöholmsån, f utfl t Rönneå","2017-06-20",18,9.1999999999999993,97.298405749929913,7.64,1.5887520000000002,9.1,18.7,125,43,14,37,970,18,1400,null,null,null,2017,6,31]
[165,"56 Rössjöholmsån, f utfl t Rönneå","2017-07-12",17.2,8.8000000000000007,91.600648982294487,7.43,0.830484,11,17.8,150,43,5.5,67,840,"<10",1400,null,null,null,2017,7,30]
[165,"56 Rössjöholmsån, f utfl t Rönneå","2017-08-17",17.5,9.6,100.52914545953091,7.45,0.74623200000000012,8,16,175,59,8.1,43,720,19,1200,null,null,null,2017,8,29]
[165,"56 Rössjöholmsån, f utfl t Rönneå","2017-09-20",13.8,9.3000000000000007,90.151580752386181,7.05,0.66198000000000012,54,14,300,99,42,130,440,19,2100,null,null,null,2017,9,66]
[165,"56 Rössjöholmsån, f utfl t Rönneå","2017-10-10",10.199999999999999,10.6,94.671848331094893,7.22,1.2838400000000001,10,14.9,250,75,21,48,930,23,1600,null,null,null,2017,10,31]
[165,"56 Rössjöholmsån, f utfl t Rönneå","2017-11-09",7.7,11,92.445968327138516,7.28,0.51955400000000007,15,13.5,200,79,17,58,760,37,1300,null,null,null,2017,11,34]
[165,"56 Rössjöholmsån, f utfl t Rönneå","2017-12-19",3.2,14.6,109.09193678202649,7.08,0.657968,44,14.7,200,51,30,65,900,45,1500,null,null,null,2017,12,35]
[165,"56 Rössjöholmsån, f utfl t Rönneå","2018-01-09",1.8,13.7,98,7.14,0.5,10,13,125,43,16,36,820,36,1200,null,null,null,2018,1,28]
[165,"56 Rössjöholmsån, f utfl t Rönneå","2018-02-15",2.1,12.4,90,7.4,0.72,7.8,17.100000000000001,125,35,11,32,990,41,1500,null,null,null,2018,2,23]
[165,"56 Rössjöholmsån, f utfl t Rönneå","2018-03-20",3.7,12.6,95,7.39,0.94,10,20.3,100,27,16,40,1300,64,1700,null,null,null,2018,3,20]
[165,"56 Rössjöholmsån, f utfl t Rönneå","2018-04-18",10.3,11.6,104,7.64,0.75,5.75,17.100000000000001,125,40,8.1,32,950,16,1300,null,null,null,2018,4,18]
[165,"56 Rössjöholmsån, f utfl t Rönneå","2018-05-15",19,10.3,111,7.88,1.1100000000000001,7.3,22.6,100,32,11,44,960,15,1300,null,null,null,2018,5,23]
[165,"56 Rössjöholmsån, f utfl t Rönneå","2018-06-12",18.899999999999999,9.6,103,7.69,0.51,7.4,20.399999999999999,85,24,5.6,47,970,25,1300,null,null,null,2018,6,19]
[165,"56 Rössjöholmsån, f utfl t Rönneå","2018-07-19",21.8,9.9,112,8,0.92,4.3,18,70,26,4.7,22,570,16,900,null,null,null,2018,7,14]
[165,"56 Rössjöholmsån, f utfl t Rönneå","2018-08-16",19.100000000000001,8.9,96,7.71,0.92,9.8000000000000007,35.700000000000003,45,29,11,34,920,28,1200,null,null,null,2018,8,19]
[165,"56 Rössjöholmsån, f utfl t Rönneå","2018-09-12",14.7,10.5,104,7.67,1,7.9,22.1,65,27,16,36,990,13,1300,null,null,null,2018,9,20]
[165,"56 Rössjöholmsån, f utfl t Rönneå","2018-10-09",11.6,12,111,7.33,0.73,5.6,20.8,70,32,7.3,24,840,"<10",1000,null,null,null,2018,10,14]
[165,"56 Rössjöholmsån, f utfl t Rönneå","2018-11-14",9.6999999999999993,9.6999999999999993,86,7.39,0.75,12,22.5,85,39,13,37,1800,20,2200,null,null,null,2018,11,19]
[165,"56 Rössjöholmsån, f utfl t Rönneå","2018-12-11",4.5,11.2,87,7.31,0.66,12,22.1,125,51,11,42,3300,32,3700,null,null,null,2018,12,16]
[165,"56 Rössjöholmsån, f utfl t Rönneå","2019-01-15",3.1,12.9,96,7.32,0.7,15,22.9,125,43,13,43,3300,38,3600,null,null,null,2019,1,19]
[165,"56 Rössjöholmsån, f utfl t Rönneå","2019-02-12",4.4000000000000004,12.3,95,7.3,5.48,32,17.100000000000001,125,47,13,65,2100,35,2400,null,null,null,2019,2,23]
[165,"56 Rössjöholmsån, f utfl t Rönneå","2019-03-12",4.4000000000000004,12.9,100,6.9,0.19,3.7,15.9,100,38,10,41,1600,22,2200,null,null,null,2019,3,18]
[165,"56 Rössjöholmsån, f utfl t Rönneå","2019-04-09",8.5,13,111,7.49,0.63,5,16.600000000000001,70,31,4.9000000000000004,21,1400,10,1500,null,null,null,2019,4,9]
[165,"56 Rössjöholmsån, f utfl t Rönneå","2019-05-14",12.1,11.2,105,7.7,0.55000000000000004,4.4000000000000004,14.8,85,35,5.8,19,810,"<10",1100,null,null,null,{"$f":"YEAR(C2439)","v":2019},{"$f":"MONTH(C2439)","v":5},12]
[165,"56 Rössjöholmsån, f utfl t Rönneå","2019-06-11",17.3,9.8000000000000007,102,7.52,0.99,24,19.5,100,32,22,90,1200,41,1800,null,null,null,2019,6,29]
[165,"56 Rössjöholmsån, f utfl t Rönneå","2019-07-17",19.3,9.6999999999999993,105,7.77,0.71,3.7,16,60,24,7.8,17,640,"<10",840,null,null,null,2019,7,11]
[165,"56 Rössjöholmsån, f utfl t Rönneå","2019-08-14",16,8.5,86,7.22,0.56999999999999995,15.5,14.2,275,99,22,85,330,22,1600,null,null,null,2019,8,35]
[165,"56 Rössjöholmsån, f utfl t Rönneå","2019-09-17",12.8,10.199999999999999,97,7.16,0.48,5.7,13,200,67,10,36,510,13,1300,null,null,null,2019,9,19]
[165,"56 Rössjöholmsån, f utfl t Rönneå","2019-10-16",11.8,9.6999999999999993,90,7.02,0.54,26,14.8,225,75,21,79,730,24,2300,null,null,null,2019,10,35]
[165,"56 Rössjöholmsån, f utfl t Rönneå","2019-11-13",8.1999999999999993,11,94,7.33,0.69,10,16,125,47,13,42,1000,39,1600,null,null,null,2019,11,22]
[165,"56 Rössjöholmsån, f utfl t Rönneå","2019-12-12",5.4,10.9,86,7.12,0.66,154,14.1,250,59,71,220,800,36,1900,null,null,null,2019,12,42]
[165,"56 Rössjöholmsån, f utfl t Rönneå","2020-01-13",5.5,12,95,7.2,0.62,42,14.5,200,59,25,89,1500,30,2100,null,null,null,2020,1,28]
[165,"56 Rössjöholmsån, f utfl t Rönneå","2020-02-10",5.9,11.7,94,7.15,0.63,501,12.7,600,59,100,560,1300,"<10",3200,null,null,null,2020,2,32]
[165,"56 Rössjöholmsån, f utfl t Rönneå","2020-03-17",6.4,12.4,101,7.36,0.57999999999999996,7.6,14.1,125,43,11,36,1000,27,1400,null,null,null,2020,3,17]
[165,"56 Rössjöholmsån, f utfl t Rönneå","2020-04-15",9.4,12.8,112,8.02,1.03,5.2,21.2,70,29,7.7,26,1400,11,1600,null,null,null,2020,4,14]
[165,"56 Rössjöholmsån, f utfl t Rönneå","2020-05-19",11.3,10.5,96,7.2,0.86,5.4,18.8,85,26,4.5999999999999996,16,980,"<10",1300,null,null,null,2020,5,8.5]
[165,"56 Rössjöholmsån, f utfl t Rönneå","2020-06-09",14.3,9.6999999999999993,95,7.76,0.86,4.3,18.100000000000001,85,21,6.6,26,880,15,1200,null,null,null,2020,6,16]
[165,"56 Rössjöholmsån, f utfl t Rönneå","2020-07-15",16,9.6999999999999993,99,7.32,0.56000000000000005,5.6,14.4,150,43,9.9,36,730,19,1300,null,null,null,2020,7,20]
[165,"56 Rössjöholmsån, f utfl t Rönneå","2020-08-12",20.9,9.1,102,7.8,0.72,5,15.6,70,28,7.3,27,700,"<10",1200,null,null,null,2020,8,14]
[165,"56 Rössjöholmsån, f utfl t Rönneå","2020-09-14",16.7,10.199999999999999,105,7.76,0.84,5.7,18,70,30,16,33,950,"<10",1100,null,null,null,2020,9,20]
[165,"56 Rössjöholmsån, f utfl t Rönneå","2020-10-13",10.7,9.9,89,7.59,1.27,15,25.9,175,55,28,69,2100,23,2700,null,null,null,2020,10,39]
[165,"56 Rössjöholmsån, f utfl t Rönneå","2020-11-10",9.5,11.2,98,7.4,0.76,6.2,17.5,125,51,13,39,880,24,1600,null,null,null,2020,11,22]
[165,"56 Rössjöholmsån, f utfl t Rönneå","2020-12-16",6.9,11.5,95,7.21,0.89,159,18.8,350,51,62,240,2000,52,3700,null,null,null,2020,12,47]
[165,"56 Rössjöholmsån, f utfl t Rönneå","2021-01-20",1.8,13.2,96,7.5,0.65556575324505051,87,15,750,26.07,null,210,1600,null,1900,null,null,null,2021,1]
[165,"56 Rössjöholmsån, f utfl t Rönneå","2021-02-25",4.2,12.9,98,7.4,0.65556575324505051,18,16,240,35.155000000000001,null,63,2100,null,2600,null,null,null,2021,2]
[165,"56 Rössjöholmsån, f utfl t Rönneå","2021-03-18",4,13.3,100,7.5,0.73751147240068182,4.3,17,120,33.18,null,25,1400,null,1700,null,null,null,2021,3]
[165,"56 Rössjöholmsån, f utfl t Rönneå","2021-04-21",8.8000000000000007,12.8,106,7.8,0.99973777369870198,3.6,20,92,29.625,null,31,1200,null,1600,null,null,null,2021,4]
[165,"56 Rössjöholmsån, f utfl t Rönneå","2021-05-19",12,10.9,101,7.8,1.2455749311655959,9.5,24,180,43.45,null,39,1800,null,2300,null,null,null,2021,5]
[165,"56 Rössjöholmsån, f utfl t Rönneå","2021-06-09",15.4,9.9,97,7.8,0.96695948603644943,4,20,99,32.39,null,31,1200,null,1400,null,null,null,2021,6]
[165,"56 Rössjöholmsån, f utfl t Rönneå","2021-07-14",22.5,8,92,7.5,0.62278746558279796,5.7,15,190,51.35,null,40,920,null,1500,null,null,null,2021,7]
[165,"56 Rössjöholmsån, f utfl t Rönneå","2021-08-25",16.100000000000001,9.1999999999999993,93,7.6,0.65573770491803274,5,15,160,59.25,null,43,960,null,1400,null,null,null,2021,8]
[165,"56 Rössjöholmsån, f utfl t Rönneå","2021-09-15",15.2,9.8000000000000007,97,7.7,0.78688524590163933,4.2,17,120,39.5,null,38,890,null,1200,null,null,null,2021,9]
[165,"56 Rössjöholmsån, f utfl t Rönneå","2021-10-21",10.7,9.6999999999999993,90,7.1,0.63934426229508201,320,12,1900,63.2,null,560,1400,null,1600,null,null,null,2021,10]
[165,"56 Rössjöholmsån, f utfl t Rönneå","2021-11-24",7,11.7,96,7.5,0.78688524590163933,5.8,16,180,47.400000000000006,null,41,1000,null,1300,null,null,null,2021,11]
[165,"56 Rössjöholmsån, f utfl t Rönneå","2021-12-08",1.6,13.5,96,7.6,1.0163934426229508,7.8,20,150,37.92,null,47,1200,null,1400,"",null,null,2021,12]
[165,"56 Rössjöholmsån, f utfl t Rönneå","2022-01-19",2.2999999999999998,13.5,97,7.7,0.78688524590163933,6.2,17,130,29.625,"",27,1200,null,1600,"",null,null,2022,1]
[165,"56 Rössjöholmsån, f utfl t Rönneå","2022-02-09",3.5,13,97,7.6,0.52459016393442626,15,14,180,33.97,null,48,1100,null,1300,null,null,null,2022,2]
[165,"56 Rössjöholmsån, f utfl t Rönneå","2022-03-16",4.9000000000000004,13,99,8.5,0.95081967213114749,14,19,130,23.700000000000003,"",44,1300,null,1700,"","",null,2022,3]
[165,"56 Rössjöholmsån, f utfl t Rönneå","2022-04-22",10.3,12.4,110,8,1.1639344262295082,4.5999999999999996,22,100,31.995000000000001,null,32,1300,null,1400,null,null,null,2022,4]
[165,"56 Rössjöholmsån, f utfl t Rönneå","2022-05-16",13.7,11.6,112,8,1,5.8,20,120,36.735000000000007,null,38,1100,null,1300,null,null,null,2022,5]
[165,"56 Rössjöholmsån, f utfl t Rönneå","2022-06-17",16.899999999999999,10.1,103,7.9,0.81967213114754101,9.3000000000000007,17,100,43.45,null,35,960,null,1200,null,null,null,2022,6]
[165,"56 Rössjöholmsån, f utfl t Rönneå","2022-07-08",15.5,9.4,92,7.6,0.73770491803278693,8.3000000000000007,16,170,39.5,null,50,930,null,1200,null,null,null,2022,7]
[165,"56 Rössjöholmsån, f utfl t Rönneå","2022-08-24",17.8,9.5,98,7.8,0.82,4.5,17,65,31.6,null,31,660,null,870,null,null,null,2022,8]
[165,"56 Rössjöholmsån, f utfl t Rönneå","2022-09-20",11.1,10.5,94,7.8,0.67213114754098358,6,17,100,47.400000000000006,null,33,860,null,1100,null,null,null,2022,9]
[165,"56 Rössjöholmsån, f utfl t Rönneå","2022-10-19",10.1,10.6,92,7.7,0.85245901639344257,7,19,120,47.400000000000006,null,34,700,null,980,null,null,null,2022,10]
[165,"56 Rössjöholmsån, f utfl t Rönneå","2022-11-16",8,11.3,95,7.7,0.93442622950819676,9.6999999999999993,20,170,51.35,null,39,1100,null,1400,null,null,null,2022,11]
[165,"56 Rössjöholmsån, f utfl t Rönneå","2022-12-21",2.1,13.3,96,7.6,0.54098360655737709,62,22,430,67.150000000000006,null,150,6000,null,6500,null,null,null,2022,12]
[165,"56 Rössjöholmsån, f utfl t Rönneå","2023-01-11",5.5,11.9,95,7.1,0.54098360655737709,230,14,1500,59.25,null,510,2000,null,3000,null,null,null,2023,1]
[165,"56 Rössjöholmsån, f utfl t Rönneå","2023-02-15",3.4,13.3,98,7.6,0.65573770491803274,5.5,16,110,47.400000000000006,null,31,1200,null,1500,null,null,null,2023,2]
[165,"56 Rössjöholmsån, f utfl t Rönneå","2023-03-15",2.8,13.4,98,7.5,0.45901639344262296,29,14,310,55.300000000000004,null,86,1700,null,2000,null,null,null,2023,3]
[165,"56 Rössjöholmsån, f utfl t Rönneå","2023-04-14",7.5,11.5,98,7.5,0.5901639344262295,4.9000000000000004,15,100,43.45,null,25,930,null,1200,null,null,null,2023,4]
[165,"56 Rössjöholmsån, f utfl t Rönneå","2023-05-10",13.5,10.8,104,7.9,1.0655737704918034,6.1,21,120,30.415000000000003,null,27,1100,null,1400,null,null,null,2023,5]
[165,"56 Rössjöholmsån, f utfl t Rönneå","2023-06-14",16.899999999999999,10.199999999999999,104,7.9,0.86885245901639341,3.9,18,83,28.44,null,25,780,null,960,null,null,null,2023,6]
[165,"56 Rössjöholmsån, f utfl t Rönneå","2023-07-12",16.899999999999999,8.6,88,7.7,0.77049180327868849,6.6,15,120,19.355000000000004,null,62,870,null,1200,null,null,null,2023,7]
[165,"56 Rössjöholmsån, f utfl t Rönneå","2023-08-14",16.600000000000001,8,82,7.1,0.42622950819672129,7.9,13,250,98.75,null,53,800,null,1300,null,null,null,2023,8]
[165,"56 Rössjöholmsån, f utfl t Rönneå","2023-09-13",16.7,8.4,86,7.5,0.72131147540983609,7.4,16,240,55.300000000000004,null,53,980,null,1400,null,null,null,2023,9]
[165,"56 Rössjöholmsån, f utfl t Rönneå","2023-10-18",9.9,10.199999999999999,91,7.5,0.62295081967213117,4.8,16,230,86.9,null,38,960,null,1300,null,null,null,2023,10]
[165,"56 Rössjöholmsån, f utfl t Rönneå","2023-11-15",6.1,11.7,94,7.4,0.62295081967213117,17,14,260,79,null,47,860,null,1300,null,null,null,2023,11]
[170,"60 Storarydsdammen yta","2013-02-12",0.7,14,97.566319117715011,null,null,null,null,null,null,null,null,null,null,null,null,null,null,2013,2]
[170,"60 Storarydsdammen yta","2013-08-14",19,7.2,77.638843832766014,null,null,null,null,null,null,null,null,null,null,null,null,null,null,2013,8]
[170,"60 Storarydsdammen yta","2014-02-26",3.8,12.5,94.932288771967038,null,null,null,null,null,null,null,null,null,null,null,null,null,null,2014,2]
[170,"60 Storarydsdammen yta","2014-08-13",18.899999999999999,7,75.337576012070443,null,null,null,null,null,null,null,null,null,null,null,null,null,null,2014,8]
[170,"60 Storarydsdammen yta","2015-02-10",2.6,12.8,94.082245280108594,null,null,null,null,null,null,null,null,null,null,null,null,null,"tunn is",2015,2]
[170,"60 Storarydsdammen yta","2015-08-12",19.2,9.1999999999999993,99.58495360346673,null,null,null,null,null,null,null,null,null,null,null,null,null,null,2015,8]
[170,"60 Storarydsdammen yta","2016-02-18",2.7,12.9,95.078683123994011,null,null,null,null,null,null,null,null,null,null,null,null,null,"tunn is",2016,2]
[170,"60 Storarydsdammen yta","2016-08-17",17.399999999999999,9.1999999999999993,96.148499485506619,null,null,null,null,null,null,null,null,null,null,null,null,null,null,2016,8]
[170,"60 Storarydsdammen yta","2017-02-14",1.1000000000000001,13,91.632110447395888,null,null,null,null,null,null,null,null,null,null,null,null,null,null,2017,2]
[170,"60 Storarydsdammen yta","2017-08-16",19,8.6999999999999993,93.813602964592263,null,null,null,null,null,null,null,null,null,null,null,null,null,null,{"$f":"YEAR(C2503)","v":2017},{"$f":"MONTH(C2503)","v":8}]
[170,"60 Storarydsdammen yta","2018-02-14",2.2000000000000002,12,87,null,null,null,null,null,null,null,null,null,null,null,null,null,"is ca 1 dm",2018,2]
[170,"60 Storarydsdammen yta","2018-08-15",19.5,6.5,71,null,null,null,null,null,null,null,null,null,null,null,null,null,null,2018,8]
[170,"60 Storarydsdammen yta","2019-02-12",2.6,11.8,87,null,null,null,null,null,null,null,null,null,null,null,null,null,null,2019,2]
[170,"60 Storarydsdammen yta","2019-08-15",19.600000000000001,8.5,93,null,null,null,null,null,null,null,null,null,null,null,null,null,null,2019,8]
[170,"60 Storarydsdammen yta","2020-02-10",4.2,12.9,99,null,null,null,null,null,null,null,null,null,null,null,null,null,null,2020,2]
[170,"60 Storarydsdammen yta","2020-08-12",21.5,9.6999999999999993,110,null,null,null,null,null,40,null,32,1800,null,2700,null,null,null,2020,8]
[175,"60 Storarydsdammen 4 m","2013-02-12",1.3,15.1,107.03721429419726,null,null,null,null,null,null,null,null,null,null,null,null,null,null,2013,2]
[175,"60 Storarydsdammen 4 m","2013-08-14",17.899999999999999,4.4000000000000004,46.44249812445927,null,null,null,null,null,null,null,null,null,null,null,null,null,null,2013,8]
[175,"60 Storarydsdammen 4 m","2014-02-26",4.5999999999999996,11.9,92.331055728416672,null,null,null,null,null,null,null,null,null,null,null,null,null,null,2014,2]
[175,"60 Storarydsdammen 4 m","2014-08-13",19.600000000000001,6.6,71.985032742069095,null,null,null,null,null,null,null,null,null,null,null,null,null,null,2014,8]
[175,"60 Storarydsdammen 4 m","2015-02-10",2.8,12.5,92.384061061158135,null,null,null,null,null,null,null,null,null,null,null,null,null,null,2015,2]
[175,"60 Storarydsdammen 4 m","2015-08-12",17,3.9,40.432704963251467,null,null,null,null,null,null,null,null,null,null,null,null,null,null,2015,8]
[175,"60 Storarydsdammen 4 m","2016-02-18",2.4,13,95.026144743542702,null,null,null,null,null,null,null,null,null,null,null,null,null,null,2016,2]
[175,"60 Storarydsdammen 4 m","2016-08-17",16.7,7.5,77.284293787440603,null,null,null,null,null,null,null,null,null,null,null,null,null,null,2016,8]
[175,"60 Storarydsdammen 4 m","2017-02-14",1,11.8,82.938543778207219,null,null,null,null,null,null,null,null,null,null,null,null,null,null,2017,2]
[175,"60 Storarydsdammen 4 m","2017-08-16",18.100000000000001,6.9,73.117238136313063,null,null,null,null,null,null,null,null,null,null,null,null,null,null,2017,8]
[175,"60 Storarydsdammen 4 m","2018-02-14",2.2000000000000002,12.3,89,null,null,null,null,null,null,null,null,null,null,null,null,null,"prov från brygga",2018,2]
[175,"60 Storarydsdammen 4 m","2018-08-15",18.8,4.4000000000000004,47,null,null,null,null,null,null,null,null,null,null,null,null,null,null,2018,8]
[175,"60 Storarydsdammen 4 m","2019-02-13",3,11.8,88,null,null,null,null,null,null,null,null,null,null,null,null,null,null,2019,2]
[175,"60 Storarydsdammen 4 m","2019-08-15",18.2,4.4000000000000004,47,null,null,null,null,null,null,null,null,null,null,null,null,null,null,2019,8]
[175,"60 Storarydsdammen 4 m","2020-02-10",4.5999999999999996,12.7,99,null,null,null,null,null,null,null,null,null,null,null,null,null,null,2020,2]
[175,"60 Storarydsdammen 4 m","2020-08-11",17.3,2,21,null,null,null,null,null,null,null,null,null,null,null,null,null,null,2020,8]
[180,"19 Ö Sorrödssjön, ytan","2013-02-12",0.7,12.1,84.325175808882264,6.98,0.39702959999999998,5.5,23.7,100,55,"<10",22,1200,null,2000,null,1.1000000000000001,"is 10cm, 5cm snö ",2013,2,14]
[180,"19 Ö Sorrödssjön, ytan","2013-08-14",19.2,8.5,92.007837568420342,7.42,0.74749200000000005,6.1,39.6,85,51,"<2",23,1100,null,2500,12,0.9,null,2013,8,11]
[180,"19 Ö Sorrödssjön, ytan","2014-02-26",3.7,12.6,95.433874824456225,7.1,0.27335999999999999,4.5999999999999996,21.3,100,51,4,23,1500,null,2100,null,1.4,null,2014,2,16]
[180,"19 Ö Sorrödssjön, ytan","2014-08-13",20.100000000000001,7.8,85.873501603139644,6.83,0.52059,4.5999999999999996,27.1,150,67,2.2999999999999998,23,970,null,2100,10,1,null,2014,8,17]
[180,"19 Ö Sorrödssjön, ytan","2015-02-12",1.9,12.9,92.994449928024977,6.88,0.25779200000000002,4.5,17.5,175,75,5,24,800,null,1700,null,1.1000000000000001,"tunn is ",2015,2,18]
[180,"19 Ö Sorrödssjön, ytan","2015-08-12",21,8.1,90.663385756354415,7.32,0.55586400000000002,2.95,30.8,200,79,"<2",28,1100,null,2300,6.6,1.4,null,2015,8,24]
[180,"19 Ö Sorrödssjön, ytan","2016-02-18",2.8,13,96.07942350360446,6.91,0.237652,4.5999999999999996,16.100000000000001,125,59,2.8,25,720,null,1400,null,1.2,"tunn is",2016,2,21]
[180,"19 Ö Sorrödssjön, ytan","2016-08-17",17.399999999999999,8,83.607390856962283,7.3,0.71814800000000001,3.6,39.700000000000003,125,31,2.1,27,790,null,1700,9.4,1.3,null,2016,8,19]
[180,"19 Ö Sorrödssjön, ytan","2017-02-14",0.3,14.5,99.901880416290496,7.21,0.5416200000000001,4.9000000000000004,40.700000000000003,85,47,5.3,26,1200,null,2100,null,null,"svag is, endast ytprov",2017,2,19]
[180,"19 Ö Sorrödssjön, ytan","2017-08-16",19.2,8.5,92.007837568420342,7.33,0.58174000000000003,3,29.7,125,63,"<2",30,350,null,1300,8.1,1.4,null,2017,8,19]
[180,"19 Ö Sorrödssjön, ytan","2018-02-14",2,13.1,95,6.835,0.24,5,15.55,200,63,6.8,23,850,null,1500,null,null,null,2018,2,22]
[180,"19 Ö Sorrödssjön, ytan","2018-08-15",20.100000000000001,8.4,92,7.42,0.67,5.2,48.8,125,43,"<2",26,96,null,1200,23,1,null,2018,8,13]
[180,"19 Ö Sorrödssjön, ytan","2019-02-12",2.4,12.5,91,7.02,0.45,5.8,36.299999999999997,85,40,2.2999999999999998,20,1400,null,2300,null,1.4,null,2019,2,11]
[180,"19 Ö Sorrödssjön, ytan","2019-08-15",19.7,9.9,108,7.39,0.74,5.2,39.299999999999997,100,36,3.9,42,670,null,1700,17,1.3,null,2019,8,16]
[180,"19 Ö Sorrödssjön, ytan","2020-02-13",4.0999999999999996,13.4,103,6.83,0.22,5.9,15.5,200,75,7.4,30,1100,null,1900,null,1,null,2020,2,16]
[180,"19 Ö Sorrödssjön, ytan","2020-08-11",22.6,10.199999999999999,117,7.76,0.62,4.4000000000000004,39.299999999999997,125,30,"<2",40,1100,null,2100,31,1.4,null,2020,8,14]
[180,"19 Ö Sorrödssjön, ytan","2021-02-09",0.1,14.6,100,7.2,0.27861544512914649,null,22,200,59.25,11,35,1600,null,2100,null,1.5,"Isprovtagning, avvikande metod siktdjup. ",2021,2,23]
[180,"19 Ö Sorrödssjön, ytan","2021-08-26",17.2,8.5,88,7.5,0.50819672131147542,null,36,140,63.2,"<5",22,820,null,1700,13,1.3,null,2021,8,13]
[180,"19 Ö Sorrödssjön, ytan","2022-02-24",3.5,13,98,6.8,0.12622950819672132,null,14,190,63.2,"<5",31,970,null,2000,"",1.4,null,2022,2,19]
[180,"19 Ö Sorrödssjön, ytan","2022-08-25",21.3,7.6,84,7.5,0.64,null,37,120,67.150000000000006,"<5",19,640,null,1300,9.4,1.6,null,2022,8,14]
[180,"19 Ö Sorrödssjön, ytan","2023-02-15",3.4,12.4,92,6.9,0.26229508196721313,"",18,180,75.05,4.8,30,1400,null,1800,null,1.2,null,2023,2,28]
[180,"19 Ö Sorrödssjön, ytan","2023-08-11",15.1,9.4,93,7.6,0.55737704918032782,null,32,140,51.35,2.5,21,670,null,1300,13,1.7,null,2023,8,14]
[185,"19 Ö Sorrödssjön,  4 m","2013-02-12",1.7,11,78.85551004328164,7.01,0.4170816,6.3,25,100,null,"<10",20,1000,96,1800,null,null,null,2013,2,16]
[185,"19 Ö Sorrödssjön,  4 m","2014-02-26",3.9,12.6,95.949835245498178,null,null,null,null,null,null,4,24,1500,69,2000,null,null,null,2014,2,16]
[185,"19 Ö Sorrödssjön,  4 m","2015-02-12",2,13.1,94.699871227198116,null,null,null,null,null,null,5,25,810,89,1800,null,null,null,2015,2,16]
[185,"19 Ö Sorrödssjön,  4 m","2016-02-18",2.2999999999999998,12.5,91.118712175013286,null,null,null,null,null,null,3.3,31,750,100,1800,null,null,null,2016,2,22]
[185,"19 Ö Sorrödssjön,  4 m","2017-08-16",18.8,7.8,83.786306798883061,null,null,null,null,null,null,"<2",31,340,39,1200,null,null,null,2017,8,22]
[185,"19 Ö Sorrödssjön,  4 m","2018-02-14",2.7,10,74,null,null,null,null,null,null,8,29,830,74,1600,null,null,null,2018,2,18]
[185,"19 Ö Sorrödssjön,  4 m","2018-08-15",19.899999999999999,8.3000000000000007,91,null,null,null,null,null,null,"<2",28,100,27,1200,null,null,null,2018,8,14]
[185,"19 Ö Sorrödssjön,  4 m","2019-02-12",2.4,12.5,91,null,null,null,null,null,null,2.5,21,1400,110,2300,null,null,null,2019,2,12]
[185,"19 Ö Sorrödssjön,  4 m","2019-08-15",18.8,8.1999999999999993,88,null,null,null,null,null,null,3,46,720,69,1800,null,null,null,2019,8,17]
[185,"19 Ö Sorrödssjön,  4 m","2020-02-13",4.0999999999999996,13.2,101,null,null,null,null,null,null,7.6,31,1100,62,1900,null,null,null,2020,2,17]
[185,"19 Ö Sorrödssjön,  4 m","2020-08-11",19.2,2.4,26,null,null,null,null,null,null,2.1,33,720,140,1800,null,null,null,2020,8,14]
[185,"19 Ö Sorrödssjön,  4 m","2021-02-09",2.1,10.8,78,null,null,null,null,null,59.25,13,32,2000,84,2100,null,null,"Isprovtagning",2021,2,23]
[185,"19 Ö Sorrödssjön,  4 m","2021-08-26",17.2,8.3000000000000007,83,null,null,null,null,null,63.2,"<5",22,820,78,1600,null,null,null,2021,8,14]
[185,"19 Ö Sorrödssjön,  4 m","2022-02-24",3.4,13,98,null,null,null,null,null,63.2,"<5",30,980,43,2800,null,null,null,2022,2,18]
[185,"19 Ö Sorrödssjön,  4 m","2022-08-25",18.600000000000001,0.3,3,null,null,null,null,null,82.95,"<5",30,48,590,1300,null,null,"Kontrollmätning syrgas i ruttnerhämtare",2022,8,17]
[185,"19 Ö Sorrödssjön,  4 m","2023-02-15",3.4,12.5,93,null,null,null,null,null,67.150000000000006,3.7,34,1300,44,1700,null,null,null,2023,2,25]
[185,"19 Ö Sorrödssjön,  4 m","2023-08-11",14.9,9,89,null,null,null,null,null,67.150000000000006,2.7,24,640,68,1200,null,null,null,2023,8,14]
[190,"37 Hjälmsjön, ytan","2013-02-12",0.5,11,76.222935416363086,6.32,6.21612E-2,1.4,6.42,65,39,"<10",11,340,null,660,null,1,"is 15 cm,  5cm snö ",2013,2,7.3]
[190,"37 Hjälmsjön, ytan","2013-08-14",19.399999999999999,8,86.925350383123956,7.16,0.26051999999999997,2.8,12.1,85,43,"<2",20,190,null,670,8.6,1.5,null,2013,8,12]
[190,"37 Hjälmsjön, ytan","2014-02-26",2.7,12.8,94.341639068769254,6.69,0.11055,2.5,12.52,100,63,5,19,480,null,1100,null,1.4,null,{"$f":"YEAR(C2567)","v":2014},{"$f":"MONTH(C2567)","v":2},16]
[190,"37 Hjälmsjön, ytan","2014-08-13",20.2,6.7,73.900281670418906,6.82,0.21105000000000004,3.5,10.77,175,87,2.5,21,88,null,830,8.3000000000000007,1,null,2014,8,14]
[190,"37 Hjälmsjön, ytan","2015-02-12",1.7,12.9,92.476007232575753,6.42,7.6532000000000003E-2,2.2999999999999998,9.3000000000000007,250,95,"<2",20,460,null,1300,null,1.1000000000000001,"svag is, ca 1 cm",2015,2,19]
[190,"37 Hjälmsjön, ytan","2015-08-12",20.7,8.5,94.621806210566604,7.13,0.17723200000000003,3.2,9.8000000000000007,200,83,"<2",23,220,null,980,17,1.3,null,2015,8,19]
[190,"37 Hjälmsjön, ytan","2016-02-18",1.7,12.5,89.608534140092772,6.3,null,3.3,10.1,175,75,2.6,26,480,null,1100,null,1.1000000000000001,"tunn is prov fr. brygga",2016,2,21]
[190,"37 Hjälmsjön, ytan","2016-08-17",18.100000000000001,8.8000000000000007,93.250970376747105,7.06,0.24673800000000004,3.1,11.5,100,28,"<2",21,110,null,520,6.9,1.6,null,2016,8,15]
[190,"37 Hjälmsjön, ytan","2017-02-14",1.3,13.4,94.986666989552532,6.86,0.22667799999999999,2.2999999999999998,12.5,125,55,4.5999999999999996,22,440,null,900,null,1.5,"svag is, endast ytprov",2017,2,18]
[190,"37 Hjälmsjön, ytan","2017-08-16",18.3,7.1,75.531479467282864,6.83,0.20661800000000002,2.8,10.7,210,110,2.6,29,130,null,970,8.6999999999999993,1.3,null,2017,8,23]
[190,"37 Hjälmsjön, ytan","2018-02-14",2.2000000000000002,12.6,92,6.36,0.08,3.1,8.6,250,71,6.6,23,350,null,1100,null,null,"is ca 7 cm",2018,2,20]
[190,"37 Hjälmsjön, ytan","2018-08-15",20.2,8.1999999999999993,90,7.25,0.25,2.7,11.6,125,43,"<2",19,150,null,720,27,1.3,null,2018,8,12]
[190,"37 Hjälmsjön, ytan","2019-02-12",2,12.5,90,6.64,0.13,3,12.8,125,63,3.8,16,560,null,1100,null,1.3,null,2019,2,12]
[190,"37 Hjälmsjön, ytan","2019-08-15",19.399999999999999,8.4,91,7,0.23,2.5,11.45,100,40,3.7,23,170,null,750,12,1.9,null,2019,8,14]
[190,"37 Hjälmsjön, ytan","2020-02-13",4.0999999999999996,13.3,102,6.46,0.08,3.2,8.1999999999999993,250,87,7.5,27,540,null,1400,null,0.8,null,2020,2,16]
[190,"37 Hjälmsjön, ytan","2020-08-11",23.4,9.1999999999999993,107,7.34,0.25,1.9,10.199999999999999,125,43,"<2",20,160,null,730,8.9,1.7,null,2020,8,12]
[190,"37 Hjälmsjön, ytan","2021-02-10",0.7,13.2,92,6.5,0.10161269175298283,null,10,240,75.05,7,31,1100,null,1700,null,1.4,"Isprovtagning, avvikande metod siktdjup. ",2021,2,22]
[190,"37 Hjälmsjön, ytan","2021-08-27",16.7,9.1,94,7.2,0.26229508196721313,null,11,130,55.300000000000004,"<5",28,180,null,610,39,1.55,null,2021,8,19]
[190,"37 Hjälmsjön, ytan","2022-02-24",2.9,12.8,95,6.5,7.3770491803278687E-2,null,9.1,210,51.35,"<5",23,690,null,2200,"",1.1000000000000001,null,2022,2,16]
[190,"37 Hjälmsjön, ytan","2022-08-26",21.5,8.8000000000000007,100,7.2,0.25,null,11,86,51.35,"<5",20,160,null,540,4.8,1.9,null,2022,8,14]
[190,"37 Hjälmsjön, ytan","2023-02-15",2.7,12.5,92,6.4,9.8360655737704916E-2,null,10,190,82.95,3.3,30,900,null,1200,null,1.5,null,2023,2,11]
[190,"37 Hjälmsjön, ytan","2023-08-11",16.7,8.6999999999999993,90,7.1,0.19672131147540983,null,10,140,55.300000000000004,1.8,19,220,null,610,10,1.3,null,2023,8,11]
[195,"37 Hjälmsjön, 6,5 m","2013-02-12",1.8,11.6,83.389697251819911,6.39,0.1463796,2.9,11,175,null,"<10",26,380,"<10",1100,null,null,null,2013,2,18]
[195,"37 Hjälmsjön, 6,5 m","2013-08-14",13.5,1.6,15.40838835227316,null,null,null,null,null,null,4,26,140,150,770,null,null,null,2013,8,14]
[195,"37 Hjälmsjön, 6,5 m","2014-02-26",3,12.8,95.12128504792058,null,null,null,null,null,null,3,19,480,29,1100,null,null,null,2014,2,15]
[195,"37 Hjälmsjön, 6,5 m","2014-08-13",16,2.6,26.410068175231789,null,null,null,null,null,null,"<2",18,120,150,790,null,null,null,2014,8,12]
[195,"37 Hjälmsjön, 6,5 m","2015-08-12",16.600000000000001,4.7,48.333025561130988,null,null,null,null,null,null,"<2",25,310,21,960,null,null,null,2015,8,19]
[195,"37 Hjälmsjön, 6,5 m","2016-08-17",15.7,4.8,48.454296759097076,null,null,null,null,null,null,"<2",27,150,98,680,null,null,null,2016,8,18]
[195,"37 Hjälmsjön, 6,5 m","2017-08-16",17.7,6.2,65.183540451908499,null,null,null,null,null,null,3.2,34,130,58,960,null,null,null,2017,8,24]
[195,"37 Hjälmsjön, 6,5 m","2018-02-14",2.5,11.5,84,null,null,null,null,null,null,7,32,370,44,1100,null,null,null,2018,2,18]
[195,"37 Hjälmsjön, 6,5 m","2018-08-15",12.2,1.4,13,null,null,null,null,null,null,12,39,"<10",480,1100,null,null,null,2018,8,14]
[195,"37 Hjälmsjön, 6,5 m","2019-02-12",2.1,12.5,91,null,null,null,null,null,null,2.4,17,560,13,1100,null,null,null,2019,2,13]
[195,"37 Hjälmsjön, 6,5 m","2019-08-15",16.5,1.6,16,null,null,null,null,null,null,3.6,21,210,150,860,null,null,null,2019,8,12]
[195,"37 Hjälmsjön, 6,5 m","2020-02-13",4,13.3,102,null,null,null,null,null,null,null,null,null,null,null,null,null,null,2020,2]
[195,"37 Hjälmsjön, 6,5 m","2020-08-11",16.399999999999999,2.2000000000000002,23,null,null,null,null,null,null,5.6,25,350,97,990,null,null,null,2020,8,20]
[195,"37 Hjälmsjön, 6,5 m","2021-02-10",2.5,10.9,80,null,null,null,null,null,79,9,30,850,20,1300,null,null,"Isprovtagning",2021,2,24]
[195,"37 Hjälmsjön, 6,5 m","2021-08-27",16.7,8.6999999999999993,89,null,null,null,null,null,51.35,"<5",27,200,11,580,null,null,null,2021,8,19]
[195,"37 Hjälmsjön, 6,5 m","2022-02-24",3.1,12.7,95,null,null,null,null,null,55.300000000000004,"<5",23,690,21,1600,null,null,null,2022,2,22]
[195,"37 Hjälmsjön, 6,5 m","2022-08-26",15.9,0.2,2,null,null,null,null,null,63.2,"<5",22,200,150,720,null,null,"Kontrollmätning syrgas i ruttnerhämtare",2022,8,17]
[195,"37 Hjälmsjön, 6,5 m","2023-02-15",2.6,12.2,89,null,null,null,null,null,86.9,2.2000000000000002,19,900,10,1200,null,null,null,2023,2,11]
[195,"37 Hjälmsjön, 6,5 m","2023-08-11",14.8,7.9,78,null,null,null,null,null,71.100000000000009,2.8,23,250,31,720,null,null,null,2023,8,13]
[200,"50 Västersjön, ytan","2013-02-12",0.6,14.4,100.06817540227996,6.84,0.13033799999999998,1.1000000000000001,6.51,70,51,"<10",15,240,null,760,null,1.7,"is 25 cm, 5cm snö",2013,2,8.5]
[200,"50 Västersjön, ytan","2013-08-14",20,8.6999999999999993,95.603749126496211,7.22,0.20039999999999999,2,7.2,60,38,"<2",11,35,null,470,22,2.5,null,2013,8,8]
[200,"50 Västersjön, ytan","2014-02-26",2.2999999999999998,13.6,99.137158846414437,6.85,0.13668,1.3,7.52,70,40,3,10,250,null,630,null,2.8,null,2014,2,11]
[200,"50 Västersjön, ytan","2014-08-13",20.7,8.4,93.508608490442299,6.88,0.19698000000000002,2.4,7.84,60,40,"<2",13,"<10",null,430,11,2,null,2014,8,5.7]
[200,"50 Västersjön, ytan","2015-02-12",1,12.8,89.967233928902743,6.82,0.13896600000000001,1.6,7.1,85,null,null,null,null,null,null,null,2,null,2015,2]
[200,"50 Västersjön, ytan","2015-08-12",19.8,8.8000000000000007,96.341633991843338,7.34,0.16111999999999999,1.6,7.1,85,47,"<2",13,100,null,550,19,1.8,null,2015,8,11]
[200,"50 Västersjön, ytan","2016-02-18",2.1,13.4,97.13852927329873,6.84,null,1.1000000000000001,7.1,85,43,"<2",15,250,null,700,null,1.7,"tunn is prov fr. mitten S. sidan",2016,2,14]
[200,"50 Västersjön, ytan","2016-08-17",18.100000000000001,9.9,104.90734167384051,7.2,0.19057000000000002,2.4,7.5,70,20,"<2",15,25,null,410,24,2.7,null,2016,8,7.4]
[200,"50 Västersjön, ytan","2017-02-14",1.6,13.4,95.791500541586842,6.98,0.194582,1.4,8.1999999999999993,45,34,"<2",7.8,170,null,610,null,null,"svag is, endast ytprov",2017,2,6.4]
[200,"50 Västersjön, ytan","2017-08-16",18.7,8.5,91.129715430423403,7.24,0.20661800000000002,1.3,7.8,65,43,"<2",16,"<10",null,450,33,2.5,null,2017,8,8.9]
[200,"50 Västersjön, ytan","2018-02-14",2.5,13,95,6.74,0.12,1.3,6.6,125,51,5.8,14,280,null,670,null,null,"kantprov fr N stranden",2018,2,11]
[200,"50 Västersjön, ytan","2018-08-15",20.5,9.1,101,7.45,0.21,4.5999999999999996,7.6,70,34,"<2",14,25,null,480,16,1.4,null,2018,8,8]
[200,"50 Västersjön, ytan","2019-02-12",1.6,12.5,89,7,0.17,2.6,8.1,60,35,3.7,14,230,null,610,null,2.6,null,2019,2,8]
[200,"50 Västersjön, ytan","2019-08-15",19.899999999999999,9.1999999999999993,101,7.22,0.19,3.4,7.89,50,27,2.2999999999999998,27,49,null,560,35,2.2999999999999998,null,2019,8,7.3]
[200,"50 Västersjön, ytan","2020-02-13",4,13.6,104,6.75,0.13,1.5,6.8,100,51,3.3,15,360,null,760,null,1.8,null,2020,2,7.3]
[200,"50 Västersjön, ytan","2020-08-11",22.2,8.8000000000000007,101,6.81,0.2,1.5,7.6,70,35,"<2",17,75,null,560,19,3,null,2020,8,7.6]
[200,"50 Västersjön, ytan","2021-02-11",1.1000000000000001,14.2,98,7.2,0.15078012324636161,null,7.8,88,47.400000000000006,"<5",19,310,null,660,null,1.9,"Isprovtagning, avvikande metod siktdjup. ",2021,2,15]
[200,"50 Västersjön, ytan","2021-08-27",17.5,9.1999999999999993,96,7.3,0.19672131147540983,null,7.3,69,43.45,"<5",16,75,null,470,16,2.6,null,2021,8,11]
[200,"50 Västersjön, ytan","2022-02-24",2.8,13.1,98,7,0.12459016393442622,null,6.6,110,39.105000000000004,"<5",15,350,null,1000,"",1.9,null,2022,2,14]
[200,"50 Västersjön, ytan","2022-08-26",22,8.6999999999999993,99,7.2,0.2,null,7.3,54,51.35,"<5",14,1.6,null,350,"< 2",2.7,null,2022,8,9.3000000000000007]
[200,"50 Västersjön, ytan","2023-02-15",2.5,13,95,6.9,0.15737704918032785,null,7,88,43.45,1,11,310,null,580,null,2,null,2023,2,"<5"]
[200,"50 Västersjön, ytan","2023-08-11",16.100000000000001,9.4,96,7.2,0.16393442622950818,null,7.4,61,29.230000000000004,"<1",14,15,null,380,13,2.4,null,2023,8,5.6]
[205,"50 Västersjön, 10 m","2013-02-12",2.5,10.4,76.231268343138893,6.54,0.18247320000000003,2.8,7.42,85,null,"<10",25,280,16,730,null,null,null,2013,2,13]
[205,"50 Västersjön, 10 m","2013-08-14",19.600000000000001,8.5,92.707996713270816,null,null,null,null,null,null,"<2",13,37,16,450,null,null,null,2013,8,8.6]
[205,"50 Västersjön, 10 m","2014-02-26",2.7,13.4,98.763903400117798,null,null,null,null,null,null,"<2",12,250,19,650,null,null,null,2014,2,9.8000000000000007]
[205,"50 Västersjön, 10 m","2014-08-13",19.600000000000001,7.8,85.073220513354386,null,null,null,null,null,null,"<2",23,31,47,650,null,null,null,{"$f":"YEAR(C2631)","v":2014},{"$f":"MONTH(C2631)","v":8},6.8]
[205,"50 Västersjön, 10 m","2015-02-12",1.1000000000000001,12.9,90.927248059339007,null,null,null,null,null,null,null,null,null,null,null,null,null,null,2015,2]
[205,"50 Västersjön, 10 m","2015-08-12",18.899999999999999,7,75.337576012070443,null,null,null,null,null,null,"<2",15,140,80,660,null,null,null,2015,8,9.8000000000000007]
[205,"50 Västersjön, 10 m","2016-08-17",17.8,8.6999999999999993,91.648410069256087,null,null,null,null,null,null,"<2",16,28,"<10",370,null,null,null,2016,8,8.4]
[205,"50 Västersjön, 10 m","2017-08-16",18.600000000000001,8.1999999999999993,87.743586834557831,null,null,null,null,null,null,"<2",23,"<10","<10",420,null,null,null,2017,8,8.8000000000000007]
[205,"50 Västersjön, 10 m","2018-08-15",20,8.8000000000000007,97,null,null,null,null,null,null,"<2",25,32,"<10",490,null,null,null,2018,8,8]
[205,"50 Västersjön, 10 m","2019-02-12",1.8,12.8,92,null,null,null,null,null,null,"<2",22,220,22,590,null,null,null,2019,2,9]
[205,"50 Västersjön, 10 m","2019-08-15",19.5,9.3000000000000007,101,null,null,null,null,null,null,2.2999999999999998,30,48,11,470,null,null,null,2019,8,7.6]
[205,"50 Västersjön, 10 m","2020-02-13",4.0999999999999996,13.6,104,null,null,null,null,null,null,3.1,16,360,24,840,null,null,null,2020,2,8.9]
[205,"50 Västersjön, 10 m","2020-08-11",18.899999999999999,7.6,82,null,null,null,null,null,null,"<2",13,95,51,540,null,null,null,2020,8,7.1]
[205,"50 Västersjön, 10 m","2021-02-11",3.5,6.5,48,null,null,null,null,null,51.35,10,23,840,34,1300,null,null,"Isprovtagning",2021,2,17]
[205,"50 Västersjön, 10 m","2021-08-27",17.100000000000001,9,93,null,null,null,null,null,39.5,"<5",18,65,16,520,null,null,null,2021,8,9.7000000000000011]
[205,"50 Västersjön, 10 m","2022-02-24",2.9,12.9,96,null,null,null,null,null,39.5,"<5",18,340,11,1300,null,null,null,2022,2,11]
[205,"50 Västersjön, 10 m","2022-08-26",18.399999999999999,1.2,12,null,null,null,null,null,55.3,"<5",19,15,200,540,null,null,"Kontrollmätning syrgas i ruttnerhämtare",2022,8,13]
[205,"50 Västersjön, 10 m","2023-02-15",2.5,13,95,null,null,null,null,null,51.35,1.2,11,310,3.9,600,null,null,null,2023,2,5.7]
[205,"50 Västersjön, 10 m","2023-08-11",15.6,9.1,92,null,null,null,null,null,35.945,1.2,34,17,21,350,null,null,null,2023,8,6.3]
[210,"51 Rössjön, ytan","2013-02-12",0.7,13.8,96.172514558890512,6.83,9.6249599999999991E-2,2.4,5.57,40,28,"<10",21,360,null,690,null,1.7,"is 20cm, 5cm snö",2013,2,8.8000000000000007]
[210,"51 Rössjön, ytan","2013-08-14",19.5,8.6,93.621783882491812,7.15,0.19438799999999998,1.6,8.4,50,33,"<2",9.1999999999999993,330,null,750,4.4000000000000004,2.9,null,2013,8,6.4]
[210,"51 Rössjön, ytan","2014-02-26",1.7,13.8,98.927821690662427,7.08,0.20502000000000004,0.8,9.02,50,35,"<2",14,400,null,750,null,3.5,null,2014,2,11]
[210,"51 Rössjön, ytan","2014-08-13",20.8,8.8000000000000007,98.140593254397118,6.95,0.18894000000000002,2.6,8.73,45,33,"<2",9.1999999999999993,220,null,610,10,2.5,null,2014,8,"<5"]
[210,"51 Rössjön, ytan","2015-02-12",1.6,12.9,92.217190819885843,6.91,0.16514800000000002,1.1000000000000001,8.4,60,null,null,null,null,null,null,null,2.7,null,2015,2]
[210,"51 Rössjön, ytan","2015-08-12",20.399999999999999,9.1,100.74409564936195,7.4,0.17723200000000003,0.87,8.1999999999999993,50,40,"<2",12,390,null,790,7,3.1,null,2015,8,8.8000000000000007]
[210,"51 Rössjön, ytan","2016-02-18",1.2,13.6,96.132683012806552,6.81,null,1.8,8.5,65,40,"<2",16,430,null,800,null,2.4,"tunn is fr. kanten",2016,2,13]
[210,"51 Rössjön, ytan","2016-08-17",17.899999999999999,9.6,101.32908681700204,7.2,0.17051000000000002,1.9,8.4,50,19,"<2",15,340,null,670,7.7,3.7,null,2016,8,8.6]
[210,"51 Rössjön, ytan","2017-02-14",2.8,13.6,100.51385843454004,7,0.19859400000000002,1,8.1999999999999993,45,36,"<2",12,180,null,540,null,null,"svag is, endast ytprov",2017,2,5.2]
[210,"51 Rössjön, ytan","2017-08-16",18.5,8.6,91.845572100932344,7.22,0.19658800000000004,2.1,8.8000000000000007,50,36,"<2",13,300,null,590,8.6999999999999993,3.4,null,2017,8,9.1]
[210,"51 Rössjön, ytan","2018-02-14",2.1,12.4,90,6.78,0.13,1.3,7.5,100,47,6.1,16,360,null,730,null,null,"prov fr V stranden",2018,2,11]
[210,"51 Rössjön, ytan","2018-08-15",19.899999999999999,8.8000000000000007,97,7.47,0.22,2.5,8.5,65,32,"<2",10,320,null,630,12,2.4,null,2018,8,5]
[210,"51 Rössjön, ytan","2019-02-12",2.2000000000000002,12.8,93,6.93,0.17,0.83,8.9,50,33,"<2",7,460,null,770,null,4,null,2019,2,7]
[210,"51 Rössjön, ytan","2019-08-15",19.899999999999999,9.4,103,7.21,0.2,1.8,8.6999999999999993,25,26,"<2",11,360,null,690,10,3.95,null,2019,8,5.0999999999999996]
[210,"51 Rössjön, ytan","2020-02-13",4.2,13.6,104,6.88,0.15,1.2,8,85,40,3.2,17,530,null,950,null,2.5,null,2020,2,8.9]
[210,"51 Rössjön, ytan","2020-08-11",22.3,9.6999999999999993,111,7.7,0.18,2.5,8.3000000000000007,70,31,"<2",12,400,null,790,8.6,2.8,null,2020,8,6.2]
[210,"51 Rössjön, ytan","2021-02-11",1,14.5,100,7.2,0.15569686639569949,null,8.1,68,39.5,"<5",27,460,null,780,null,1.7,"Isprovtagning, avvikande metod siktdjup. ",2021,2,7.9]
[210,"51 Rössjön, ytan","2021-08-27",17.399999999999999,9.4,98,7.3,0.19672131147540983,null,8.1999999999999993,49,36.339999999999996,"<5",14,370,null,360,11,3.9,"Obalans NO2+NO3/Tot-N inom analysernas mätosäkerhet",2021,8,8.9]
[210,"51 Rössjön, ytan","2022-02-24",2.7,13,96,7,0.15573770491803279,null,7.7,78,35.550000000000004,"<5",13,480,null,1500,"",2.8,null,2022,2,11]
[210,"51 Rössjön, ytan","2022-08-26",22.1,9.3000000000000007,106,7.2,0.18,null,7.9,46,39.5,"<5",10,290,null,610,"<1",4,null,2022,8,6.4]
[210,"51 Rössjön, ytan","2023-02-15",2.7,12.7,94,6.8,0.16393442622950818,"",7.9,57,38.314999999999998,"<1",11,490,null,740,null,3.6,null,2023,2,5.3]
[210,"51 Rössjön, ytan","2023-08-11",16.5,9.1999999999999993,95,7.2,0.16393442622950818,null,8.3000000000000007,48,26.86,"<1",9.5,370,null,610,6.9,3.5,null,2023,8,5.5]
[215,"51 Rössjön, 18 m","2013-02-12",2.2000000000000002,13.5,98.135690742660188,6.84,0.17044200000000001,2.2000000000000002,8.15,70,null,"<10",34,380,"<10",880,null,null,null,2013,2,11]
[215,"51 Rössjön, 18 m","2013-08-14",12,4.3,40.043864475214981,null,null,null,null,null,null,2,16,430,18,790,null,null,null,2013,8,13]
[215,"51 Rössjön, 18 m","2014-02-26",2.2999999999999998,13.7,99.866108543814548,null,null,null,null,null,null,"<2",12,390,11,650,null,null,null,2014,2,11]
[215,"51 Rössjön, 18 m","2014-08-13",12,4.4000000000000004,40.975117137429287,null,null,null,null,null,null,"<2",14,370,10,740,null,null,null,2014,8,7]
[215,"51 Rössjön, 18 m","2015-02-12",1.8,13.2,94.891724458967488,null,null,null,null,null,null,null,null,null,null,null,null,null,null,2015,2]
[215,"51 Rössjön, 18 m","2015-08-12",17.899999999999999,7.8,82.32988303881416,null,null,null,null,null,null,"<2",14,380,23,770,null,null,null,2015,8,8.6]
[215,"51 Rössjön, 16 m","2016-02-18",2.4,12.8,93.564204055180511,null,null,null,null,null,null,"<2",15,400,11,760,null,null,"tunn is prov fr V sidan",2016,2,12]
[215,"51 Rössjön, 18 m","2016-08-17",11.8,5.0999999999999996,47.277748664486111,null,null,null,null,null,null,"<2",14,450,11,700,null,null,null,2016,8,10]
[215,"51 Rössjön, 18 m","2017-08-16",15.6,3.1,31.228172809863359,null,null,null,null,null,null,"<2",12,360,54,660,null,null,null,2017,8,7.9]
[215,"51 Rössjön, 18 m","2018-08-15",12.9,4.0999999999999996,39,null,null,null,null,null,null,2.2999999999999998,14,470,13,790,null,null,null,2018,8,9]
[215,"51 Rössjön, 16 m","2019-02-12",2.2000000000000002,12.8,93,null,null,null,null,null,null,2,11,460,"<10",770,null,null,null,2019,2,8]
[215,"51 Rössjön, 18 m","2019-08-15",14.5,3.4,33,null,null,null,null,null,null,2,9.6999999999999993,450,"<10",760,null,null,null,2019,8,"<5"]
[215,"51 Rössjön, 18 m","2020-02-13",4.3,13.5,104,null,null,null,null,null,null,3.4,17,530,12,890,null,null,null,2020,2,8.6]
[215,"51 Rössjön, 18 m","2020-08-11",13.9,4,39,null,null,null,null,null,null,"<2",17,480,11,830,null,null,null,2020,8,8.9]
[215,"51 Rössjön, 18 m","2021-02-11",2,12.9,92,null,null,null,null,null,43.45,5,13,530,3.6,830,null,null,"Isprovtagning",2021,2,13]
[215,"51 Rössjön, 18 m","2021-08-27",10.8,1.4,13,null,null,null,null,null,36.339999999999996,"<5",15,370,11,640,null,null,null,2021,8,11]
[215,"51 Rössjön, 18 m","2022-02-24",2.6,12.9,95,null,null,null,null,null,37.524999999999999,"<5",12,470,8.8000000000000007,1300,null,null,null,2022,2,9.1999999999999993]
[215,"51 Rössjön, 18 m","2022-08-26",13.9,3,29,null,null,null,null,null,47.4,"<5",8.4,430,9.5,690,null,null,"Kontrollmätning syrgas i ruttnerhämtare",2022,8,8.3000000000000007]
[215,"51 Rössjön, 18 m","2023-02-15",2.6,12.7,93,null,null,null,null,null,35.550000000000004,"<1",9.5,490,3.1,730,null,null,null,2023,2,"< 5"]
[215,"51 Rössjön, 18 m","2023-08-11",11.3,3.2,29,null,null,null,null,null,26.07,1.3,15,440,6.2,690,null,null,null,2023,8,5.3]
[216,"Ri71 Hörbyån, norra armen","2013-01-16",0.2,12.3,84.501410311750391,7.71,1.5339779999999998,1.8,27.8,85,59,null,27,2700,null,3300,null,null,null,2013,1]
[216,"Ri71 Hörbyån, norra armen","2013-03-13",0.1,14.4,98.644397521634332,7.97,2.0540999999999996,1.9,31.7,60,40,null,14,2100,null,2500,null,null,null,2013,3]
[216,"Ri71 Hörbyån, norra armen","2013-05-14",11,10.7,97.377052876316043,8,2.1242399999999999,2.4,32.5,70,47,null,17,920,null,1400,null,null,null,2013,5]
[216,"Ri71 Hörbyån, norra armen","2013-06-11",12.9,10.6,100.7339846785291,7.97,2.4047999999999998,1.6,34.9,50,40,null,21,1000,null,1400,null,null,null,2013,6]
[216,"Ri71 Hörbyån, norra armen","2013-10-15",8.6999999999999993,11,94.759759336082269,7.77,2.11422,3.1,35.5,70,63,null,26,2000,null,2800,null,null,null,2013,10]
[216,"Ri71 Hörbyån, norra armen","2013-12-12",5.0999999999999996,10.4,97.13852927329873,7.63,1.2625199999999999,1.7,26.3,100,71,null,26,2300,null,3700,null,null,null,2013,12]
[216,"Ri71 Hörbyån, norra armen","2014-01-14",2.1,13.9,100.76310126110839,7.67,1.0521,2.5,22.1,125,83,null,30,2400,null,3100,null,null,null,{"$f":"YEAR(C2695)","v":2014},{"$f":"MONTH(C2695)","v":1}]
[216,"Ri71 Hörbyån, norra armen","2014-03-13",2.7,13.1,96.552771234443526,7.86,1.7004600000000003,2.9,27.6,85,87,null,27,1500,null,2400,null,null,null,2014,3]
[216,"Ri71 Hörbyån, norra armen","2014-05-13",10.1,11,98.011676789609936,7.46,1.3467000000000002,13,21,150,95,null,49,930,null,2000,null,null,null,2014,5]
[216,"Ri71 Hörbyån, norra armen","2014-06-10",15.3,10.1,101.10538682204788,7.92,2.3617500000000002,2.5,34.6,70,59,null,20,1100,null,1700,null,null,null,2014,6]
[216,"Ri71 Hörbyån, norra armen","2014-10-14",10.6,10.5,94.667568568016222,7.84,2.26125,7.8,32.6,100,91,null,86,2200,null,3500,null,null,null,2014,10]
[216,"Ri71 Hörbyån, norra armen","2014-12-09",3.1,11.5,85.694448824071529,7.74,1.2904200000000001,4.8,21.8,200,99,null,40,1700,null,2600,null,null,null,2014,12]
[216,"Ri71 Hörbyån, norra armen","2015-01-20",3.9,12.7,96.711341874430701,7.68,1.0251000000000001,2.5,19.600000000000001,125,75,null,34,2400,null,3200,null,null,null,2015,1]
[216,"Ri71 Hörbyån, norra armen","2015-03-17",4.5999999999999996,12.4,96.210511851459373,7.98,1.7723200000000003,4.2,26.9,100,71,null,31,1500,null,2100,null,null,null,2015,3]
[216,"Ri71 Hörbyån, norra armen","2015-05-12",10.199999999999999,11.1,99.137501554259742,7.99,1.9233699999999998,3.8,28.4,125,59,null,26,1300,null,1600,null,null,null,2015,5]
[216,"Ri71 Hörbyån, norra armen","2015-06-09",11.1,10.6,96.691504288248879,7.98,2.0341399999999998,3.8,30.5,125,59,null,28,1000,null,1600,null,null,null,2015,6]
[216,"Ri71 Hörbyån, norra armen","2015-10-13",7.1,10.199999999999999,84.439704518573208,7.94,2.7491099999999999,1,38.4,40,30,null,13,540,null,910,null,null,null,2015,10]
[216,"Ri71 Hörbyån, norra armen","2015-12-08",4.7,11.8,91.798401809662167,7.73,1.0513079999999999,1.8,21.3,150,99,null,33,2100,null,3000,null,null,null,2015,12]
[216,"Ri71 Hörbyån, norra armen","2016-01-20",0.1,13.8,94.534214291566229,8,1.5115200000000002,3.7,25.8,85,59,null,31,1500,null,1900,null,null,null,2016,1]
[216,"Ri71 Hörbyån, norra armen","2016-03-16",3,12.7,94.378150008483686,7.91,1.5467519999999999,2.9,23.9,100,59,null,25,1400,null,2000,null,null,null,2016,3]
[216,"Ri71 Hörbyån, norra armen","2016-05-17",9.4,11.2,98.136648692303069,8.02,2.1664800000000004,2.4,31.2,70,47,null,24,1300,null,1700,null,null,null,2016,5]
[216,"Ri71 Hörbyån, norra armen","2016-06-14",12.6,10,94.396569552616114,8.11,2.5275600000000003,1.4,36,40,16,null,13,1100,null,1600,null,null,null,2016,6]
[216,"Ri71 Hörbyån, norra armen","2016-10-12",7.5,11.2,93.656798862471234,8.02,2.4172300000000004,1.2,36.1,60,15,null,15,450,null,820,null,null,null,2016,10]
[216,"Ri71 Hörbyån, norra armen","2016-12-14",2.9,13,96.343366950940094,7.81,1.4403079999999999,1.7,25.7,100,63,null,19,1700,null,2300,null,null,null,2016,12]
[216,"Ri71 Hörbyån, norra armen","2017-01-18",0.6,14,97.288503863327747,7.93,1.6368960000000001,2.2000000000000002,28.3,85,59,null,22,1400,null,1900,null,null,null,2017,1]
[216,"Ri71 Hörbyån, norra armen","2017-03-14",3.5,12.1,91.152169065012373,7.88,1.4162360000000001,1.7,24.6,100,51,null,27,1900,null,2400,null,null,null,2017,3]
[216,"Ri71 Hörbyån, norra armen","2017-05-10",7,12.3,101.56694510234605,7.85,1.8174360000000005,3,27.3,100,38,null,31,1000,null,1500,null,null,null,2017,5]
[216,"Ri71 Hörbyån, norra armen","2017-06-20",16.5,8.9,91.337695051047135,7.99,2.1664800000000004,2.8,31.2,125,24,null,44,900,null,1500,null,null,null,2017,6]
[216,"Ri71 Hörbyån, norra armen","2017-10-10",7.1,10.9,90.234586201220395,7.78,1.5446200000000001,2.7,23.8,250,110,null,38,1500,null,2200,null,null,null,2017,10]
[216,"Ri71 Hörbyån, norra armen","2017-12-19",2.9,12.7,94.120058482841472,7.63,1.2758160000000003,3.5,21.3,175,63,null,36,1700,null,2400,null,null,null,2017,12]
[216,"Ri71 Hörbyån, norra armen","2018-01-09",1.5,14,100,7.57,1.35,4.5999999999999996,22.5,175,63,null,42,1600,null,2200,null,null,null,2018,1]
[216,"Ri71 Hörbyån, norra armen","2018-03-20",0.4,12.8,88,7.76,1.6,4.5,25.4,125,43,null,38,1400,null,2200,null,null,null,2018,3]
[216,"Ri71 Hörbyån, norra armen","2018-05-15",13.1,10.3,98,7.95,2.2999999999999998,6.3,34.5,100,43,null,50,1100,null,1600,null,null,null,2018,5]
[216,"Ri71 Hörbyån, norra armen","2018-06-12",14.9,9.6999999999999993,96,7.97,2.62,2.2000000000000002,39.200000000000003,40,21,null,37,1300,null,1500,null,null,null,2018,6]
[216,"Ri71 Hörbyån, norra armen","2018-10-09",9.9,11.5,102,7.73,2.16,1.2,46.6,45,22,null,14,880,null,1100,null,null,null,2018,10]
[216,"Ri71 Hörbyån, norra armen","2018-12-11",4,13.9,106,7.36,1.02,5.7,35.5,85,51,null,25,5600,null,6200,null,null,null,2018,12]
[216,"Ri71 Hörbyån, norra armen","2019-01-15",1.2,13.3,94,7.45,0.87,4.0999999999999996,25.1,100,55,null,25,4100,null,4400,null,null,null,2019,1]
[216,"Ri71 Hörbyån, norra armen","2019-03-12",4,15.2,116,8.01,1.81,2.8,32.700000000000003,100,55,null,26,2500,null,3300,null,null,null,2019,3]
[216,"Ri71 Hörbyån, norra armen","2019-05-14",10.9,11.2,102,8.18,1.99,2.1,28.7,70,43,null,16,760,null,1200,null,null,null,2019,5]
[216,"Ri71 Hörbyån, norra armen","2019-06-11",14,10.8,105,7.98,2.06,2.2999999999999998,31,85,47,null,31,720,null,1300,null,null,null,2019,6]
[216,"Ri71 Hörbyån, norra armen","2019-10-16",11.1,10.8,99,7.66,1.43,2.8,32.1,150,91,null,32,4200,null,5000,null,null,null,2019,10]
[216,"Ri71 Hörbyån, norra armen","2019-12-12",4.3,11.4,88,7.6,1.1100000000000001,4,22.2,175,75,null,54,4000,null,4700,null,null,null,2019,12]
[216,"Ri71 Hörbyån, norra armen","2020-01-13",5.3,12.6,100,7.63,0.95,4.8,19.8,175,87,null,52,3300,null,3800,null,null,null,2020,1]
[216,"Ri71 Hörbyån, norra armen","2020-03-17",6.2,12.2,99,7.85,1.29,3.5,21.6,125,55,null,35,2100,null,2200,null,null,null,2020,3]
[216,"Ri71 Hörbyån, norra armen","2020-05-19",10.7,10.9,99,8.0500000000000007,1.98,4.5999999999999996,31,85,34,null,28,840,null,1300,null,null,null,2020,5]
[216,"Ri71 Hörbyån, norra armen","2020-06-09",12.1,10.5,98,8.0299999999999994,2.39,2.6,34.4,60,29,null,29,860,null,1300,null,null,null,2020,6]
[216,"Ri71 Hörbyån, norra armen","2020-10-13",7.5,11.9,100,7.95,2.16,1.5,37.700000000000003,85,51,null,18,840,null,1500,null,null,null,2020,10]
[216,"Ri71 Hörbyån, norra armen","2020-12-16",6.4,11.9,97,8,2.16,2.2999999999999998,37.299999999999997,65,38,null,35,2400,null,3400,null,null,null,2020,12]
[217,"Ri72 Hörbyån, södra armen","2013-01-16",0.2,12.3,84.501410311750391,8.01,2.636838,3.3,39.1,85,55,null,39,5900,null,6800,null,null,"is i kanten",2013,1]
[217,"Ri72 Hörbyån, södra armen","2013-03-13",0.1,14.4,98.644397521634332,8.06,3.19638,1.2,41.8,50,36,null,14,5100,null,5600,null,null,null,2013,3]
[217,"Ri72 Hörbyån, södra armen","2013-05-14",10.5,10.6,95.344782152510106,8.09,3.1663199999999998,2.1,38.4,70,59,null,21,1000,null,1800,null,null,null,2013,5]
[217,"Ri72 Hörbyån, södra armen","2013-06-11",12.1,10.5,98.004023384876831,8.0399999999999991,3.5270400000000004,1.2,41.2,65,51,null,59,790,null,1600,null,null,null,2013,6]
[217,"Ri72 Hörbyån, södra armen","2013-10-15",9.1999999999999993,10.9,95.047738766723782,7.99,3.2765399999999998,4.5,45.8,70,63,null,55,3500,null,4500,null,null,null,2013,10]
[217,"Ri72 Hörbyån, södra armen","2013-12-12",4.5,12.8,96.818495992093716,7.94,2.1843600000000003,1.7,39.4,85,51,null,40,7100,null,9100,null,null,null,2013,12]
[217,"Ri72 Hörbyån, södra armen","2014-01-14",2.6,13.6,99.962385610115362,7.8,2.0140199999999995,3.2,34.299999999999997,100,67,null,44,6300,null,7400,null,null,null,2014,1]
[217,"Ri72 Hörbyån, södra armen","2014-03-13",2.4,13.1,95.757115087723804,8.0500000000000007,2.6632500000000001,2.4,37.6,85,55,null,34,3900,null,5200,null,null,null,2014,3]
[217,"Ri72 Hörbyån, södra armen","2014-05-13",10.1,10.9,97.120661546068035,7.78,2.4220500000000005,15,32.9,100,160,null,76,1600,null,2300,null,null,null,2014,5]
[217,"Ri72 Hörbyån, södra armen","2014-06-10",14.5,9.9,97.432600182755436,8.02,3.5878500000000004,1.8,42.3,70,110,null,65,1400,null,2400,null,null,null,2014,6]
[217,"Ri72 Hörbyån, södra armen","2014-10-14",10.7,10.6,95.793578415809421,7.99,3.2361000000000004,20,48.5,100,100,null,180,8200,null,10000,null,null,null,2014,10]
[217,"Ri72 Hörbyån, södra armen","2014-12-09",4.3,11.3,86.977982113744872,7.98,2.5828500000000001,7,39.6,125,71,null,55,6800,null,7400,null,null,null,2014,12]
[217,"Ri72 Hörbyån, södra armen","2015-01-20",3,12,89.176204732425532,7.89,1.8492000000000004,3.9,30.6,100,63,null,49,6000,null,6500,null,null,null,2015,1]
[217,"Ri72 Hörbyån, södra armen","2015-03-17",4.2,12.1,92.887062658394868,8.15,2.6886900000000002,3.6,37.5,100,59,null,37,3800,null,4500,null,null,null,2015,3]
[217,"Ri72 Hörbyån, södra armen","2015-05-12",10.1,11.1,98.902692033151837,8.1,2.9766920000000003,2.7,36.5,100,59,null,27,1500,null,2200,null,null,null,2015,5]
[217,"Ri72 Hörbyån, södra armen","2015-06-09",10.3,10.7,95.7913682019025,8.0500000000000007,3.0310699999999997,3,36.9,125,63,null,43,1200,null,1900,null,null,null,2015,6]
[217,"Ri72 Hörbyån, södra armen","2015-10-13",6.7,9.9,81.128111999566613,7.88,4.0582100000000008,0.69,47.7,60,47,null,22,320,null,1100,null,null,null,2015,10]
[217,"Ri72 Hörbyån, södra armen","2015-12-08",5.3,13,102.74578410775359,7.91,1.844824,5,32.6,125,87,null,56,6200,null,6400,null,null,null,2015,12]
[217,"Ri72 Hörbyån, södra armen","2016-01-20",0.1,13.2,90.424031061498127,8.16,2.5125000000000002,2,38,85,51,null,39,4200,null,4600,null,null,null,2016,1]
[217,"Ri72 Hörbyån, södra armen","2016-03-16",2.4,12.8,93.564204055180511,8.1300000000000008,2.49736,2.4,35,85,51,null,30,4100,null,4300,null,null,null,2016,3]
[217,"Ri72 Hörbyån, södra armen","2016-05-17",9,11,95.455529756141516,8.1300000000000008,3.1494200000000006,2.2000000000000002,39.200000000000003,85,55,null,30,2000,null,2600,null,null,null,2016,5]
[217,"Ri72 Hörbyån, södra armen","2016-06-14",12.4,9.3000000000000007,87.394736174404656,8.0299999999999994,3.8013700000000008,1,45.9,65,27,null,68,1400,null,2200,null,null,null,2016,6]
[217,"Ri72 Hörbyån, södra armen","2016-10-12",7.1,11.6,96.029467883867582,7.96,1.9458200000000005,2.6,34.4,175,110,null,36,1800,null,2900,null,null,null,{"$f":"YEAR(C2759)","v":2016},{"$f":"MONTH(C2759)","v":10}]
[217,"Ri72 Hörbyån, södra armen","2016-12-14",2.8,13.1,96.818495992093716,8.0500000000000007,2.5476200000000002,1.6,40.700000000000003,85,55,null,33,6800,null,6900,null,null,null,2016,12]
[217,"Ri72 Hörbyån, södra armen","2017-01-18",0.4,13.9,96.0428800124443,8.1,2.8384900000000006,1.6,41.1,70,51,null,31,4500,null,4000,null,null,null,2017,1]
[217,"Ri72 Hörbyån, södra armen","2017-03-14",3.3,12,89.909135943479086,8.02,2.3369900000000006,1.8,36.299999999999997,85,55,null,40,5700,null,6000,null,null,null,2017,3]
[217,"Ri72 Hörbyån, södra armen","2017-05-10",6.6,12.4,101.35605898599884,8.01,1.0310840000000001,2.1,34.799999999999997,100,47,null,26,1900,null,2500,null,null,null,2017,5]
[217,"Ri72 Hörbyån, södra armen","2017-06-20",16.7,8.6999999999999993,89.649780793431091,8.1199999999999992,3.0090000000000003,2,39.200000000000003,100,55,null,81,1800,null,2600,null,null,null,2017,6]
[217,"Ri72 Hörbyån, södra armen","2017-10-10",7.1,11,91.062426441598561,8.01,2.8083999999999998,2.9,40.9,175,63,null,49,6300,null,6900,null,null,null,2017,10]
[217,"Ri72 Hörbyån, södra armen","2017-12-19",3.2,12.5,93.400630806529534,7.89,2.2768100000000002,3.7,34,150,59,null,47,5200,null,6100,null,null,null,2017,12]
[217,"Ri72 Hörbyån, södra armen","2018-01-09",1.7,13.9,100,7.9,2.39,3.8,34.799999999999997,150,55,null,51,4900,null,5000,null,null,null,2018,1]
[217,"Ri72 Hörbyån, södra armen","2018-03-20",0.3,12.6,87,7.98,2.57,3.1,35,100,36,null,44,4100,null,4300,null,null,null,2018,3]
[217,"Ri72 Hörbyån, södra armen","2018-05-15",12.3,10.3,97,8.08,3.15,5.5,40,100,47,null,58,1500,null,2100,null,null,null,2018,5]
[217,"Ri72 Hörbyån, södra armen","2018-06-12",14.1,8.8000000000000007,86,7.9,4.3499999999999996,1.9,52,70,29,null,81,1200,null,1600,null,null,null,2018,6]
[217,"Ri72 Hörbyån, södra armen","2018-10-09",10.5,11.1,100,7.85,3.25,0.81,47.8,70,47,null,29,1100,null,1600,null,null,null,2018,10]
[217,"Ri72 Hörbyån, södra armen","2018-12-11",4.3,13.8,106,7.72,2.19,2.5,49.5,85,40,null,43,16000,null,16000,null,null,null,2018,12]
[217,"Ri72 Hörbyån, södra armen","2019-01-15",1.8,12.8,92,7.82,2.0699999999999998,2.2000000000000002,42.4,65,39,null,35,13000,null,12000,null,null,null,2019,1]
[217,"Ri72 Hörbyån, södra armen","2019-03-12",4.9000000000000004,13.8,108,7.8,0.89,1.9,20.6,100,47,null,38,7600,null,8100,null,null,null,2019,3]
[217,"Ri72 Hörbyån, södra armen","2019-05-14",11,12.8,116,8.67,2.4500000000000002,1.8,32.9,100,51,null,22,830,null,1600,null,null,null,2019,5]
[217,"Ri72 Hörbyån, södra armen","2019-06-11",14.2,10.3,101,8.07,3.14,1.5,38.1,100,51,null,52,670,null,1400,null,null,null,2019,6]
[217,"Ri72 Hörbyån, södra armen","2019-10-16",11.2,10.9,100,7.88,2.52,4.7,45.4,125,63,null,56,10000,null,11000,null,null,null,2019,10]
[217,"Ri72 Hörbyån, södra armen","2019-12-12",4.5999999999999996,11.4,88,7.87,1.99,7.9,35.299999999999997,125,51,null,81,9600,null,10000,null,null,null,2019,12]
[217,"Ri72 Hörbyån, södra armen","2020-01-13",5.3,12.7,100,7.87,1.85,6.3,33.299999999999997,125,55,null,72,8800,null,9200,null,null,null,2020,1]
[217,"Ri72 Hörbyån, södra armen","2020-03-17",6.2,12.3,100,8.1,2.16,3,32.5,100,43,null,38,5700,null,5600,null,null,null,2020,3]
[217,"Ri72 Hörbyån, södra armen","2020-05-19",10.6,10.9,98,8.14,2.84,3.8,36,85,39,null,42,950,null,1600,null,null,null,2020,5]
[217,"Ri72 Hörbyån, södra armen","2020-06-09",11.9,10.6,98,8.1199999999999992,2.15,5.6,27.8,125,55,null,78,560,null,1600,null,null,null,2020,6]
[217,"Ri72 Hörbyån, södra armen","2020-10-13",8.3000000000000007,11.9,102,8.16,2.92,1.9,46.9,85,47,null,55,4200,null,4900,null,null,null,2020,10]
[217,"Ri72 Hörbyån, södra armen","2020-12-16",6.4,12.2,99,8.2100000000000009,3.23,3.1,51.5,60,31,null,55,7300,null,8300,null,null,null,2020,12]
[220,"Ri5 Sätoftasjön, ytan","2013-01-16",0.3,12.9,88.878224646217063,7.87,1.45377,2.2000000000000002,24.8,45,47,7,25,870,null,1600,3.2,"-","3 cm is, kantprov",2013,1,15]
[220,"Ri5 Sätoftasjön, ytan","2013-02-13",0.4,15.1,104.33435166819487,7.57,0.73798720000000007,2.2999999999999998,17.2,70,55,5,41,1200,null,1900,34,1.5,"is 10cm, 10cm snö",2013,2,18]
[220,"Ri5 Sätoftasjön, ytan","2013-03-13",3.4,12.5,93.910295091443217,7.73,1.32264,2.7,23,50,40,"<2",14,1000,null,1600,7.7,1.6,"7 cm is",2013,3,"<5"]
[220,"Ri5 Sätoftasjön, ytan","2013-04-16",5.6,12.5,99.571429726471919,7.81,1.3627199999999999,3,22.9,50,38,"<2",19,780,null,1300,7.6,1.9,null,2013,4,7.7]
[220,"Ri5 Sätoftasjön, ytan","2013-05-14",14.3,10.3,100.93410308533221,8.85,1.5631200000000001,5,24.7,40,34,"<2",22,320,null,1000,15,1.4,null,2013,5,9.4]
[220,"Ri5 Sätoftasjön, ytan","2013-06-11",20,9.4,103.29600480334074,8.23,1.7134199999999999,4.7,26.7,40,37,2,19,140,null,920,8.4,1.5,null,2013,6,11]
[220,"Ri5 Sätoftasjön, ytan","2013-07-09",21.1,11.3,126.71049023265928,9.02,1.79358,9.5,26.1,40,39,"<2",19,"<10",null,930,31,1.2,null,2013,7,8.8000000000000007]
[220,"Ri5 Sätoftasjön, ytan","2013-08-13",19.7,8.3000000000000007,90.697222559594437,8.33,1.935864,12.1,27.7,50,40,5,73,"<10",null,1200,52,0.9,null,2013,8,9.6]
[220,"Ri5 Sätoftasjön, ytan","2013-09-11",17,8.9,92.269506198189248,8.2100000000000009,1.9078080000000002,17,27.7,40,38,2,47,"<10",null,1100,54,0.8,null,2013,9,11]
[220,"Ri5 Sätoftasjön, ytan","2013-10-15",10.8,10.4,94.206360913864117,8.08,1.8637199999999996,10,27.6,30,34,12,34,"<10",null,1000,47,1.1000000000000001,null,2013,10,7]
[220,"Ri5 Sätoftasjön, ytan","2013-11-19",6.2,11.8,95.467440412975932,8.33,1.7635200000000002,5.7,26.9,40,36,"<2",29,140,null,930,35,1.3,null,2013,11,6.7]
[220,"Ri5 Sätoftasjön, ytan","2013-12-12",2.1,13.4,97.863443670860661,8,1.6332599999999999,5.8,27.1,40,30,"<2",27,330,null,1200,21,2.1,null,2013,12,7.3]
[220,"Ri5 Sätoftasjön, ytan","2014-01-14",3.1,13.3,99.107492987839237,8.01,1.4128199999999997,4.8,25.2,50,43,"<2",22,690,null,1400,31,1.5,null,2014,1,8.8000000000000007]
[220,"Ri5 Sätoftasjön, ytan","2014-02-25",2.9,13.8,102.2721895325364,8.0500000000000007,2.8341000000000003,4.9000000000000004,23.7,55,47,3,18,830,null,1500,25,1.3,null,2014,2,7]
[220,"Ri5 Sätoftasjön, ytan","2014-03-13",5.5,13.7,108.84608450053712,8.3000000000000007,1.3024799999999999,3.5,23.4,55,43,"<2",18,870,null,1600,19,1.5,null,2014,3,7.5]
[220,"Ri5 Sätoftasjön, ytan","2014-04-16",8.4,12.1,103.47116249125993,8.08,1.3788600000000002,4.8,24.4,55,43,2.1,18,600,null,1300,23,1.3,null,2014,4,9.6999999999999993]
[220,"Ri5 Sätoftasjön, ytan","2014-05-13",12.8,9.6999999999999993,91.975640805433258,7.66,1.4472000000000003,4.2,24.9,45,43,4.4000000000000004,28,480,null,1200,12,1.8,null,2014,5,16]
[220,"Ri5 Sätoftasjön, ytan","2014-06-10",20.6,11.7,130.00567354008021,8.4600000000000009,1.65825,7.7,26.2,50,47,3,17,260,null,1300,21,1.4,null,2014,6,9.4]
[220,"Ri5 Sätoftasjön, ytan","2014-07-22",23.2,8.6,100.06192614280675,8.58,1.8291000000000006,12,26.9,55,47,3,43,"<10",null,1100,36,0.85,null,2014,7,11]
[220,"Ri5 Sätoftasjön, ytan","2014-08-12",20.9,7.1,79.326061131884046,7.96,1.7487000000000001,18,27.2,70,43,2.2000000000000002,48,"<100",null,1100,56,0.7,null,2014,8,10]
[220,"Ri5 Sätoftasjön, ytan","2014-09-23",15.1,9.4,93.701872960246234,8.14,1.8592500000000001,13,27,50,43,3,47,"<10",null,1100,26,0.8,null,2014,9,9.9]
[220,"Ri5 Sätoftasjön, ytan","2014-10-14",12.5,9.1,85.708084287398719,7.98,1.8290999999999999,9.8000000000000007,27,40,43,3,42,"<10",null,1000,33,1.1000000000000001,null,2014,10,15]
[220,"Ri5 Sätoftasjön, ytan","2014-11-11",9.3000000000000007,9.6,83.914420756207321,7.81,1.49946,7.4,24.8,65,59,4.4000000000000004,38,320,null,1400,27,1.7,null,2014,11,14]
[220,"Ri5 Sätoftasjön, ytan","2014-12-09",3.3,12,89.909135943479086,7.92,1.4512200000000002,4.5,24.2,70,51,8,31,490,null,1500,6.6,1.5,null,2014,12,19]
[220,"Ri5 Sätoftasjön, ytan","2015-01-20",2.4,12.1,88.447411645912823,7.81,1.02108,3.6,19.899999999999999,85,63,11,32,1000,null,1900,4.3,1.5,null,2015,1,22]
[220,"Ri5 Sätoftasjön, ytan","2015-02-10",1,13.7,96.293055064528716,7.73,1.0311680000000001,1.9,20.6,85,59,7,24,1200,null,2100,7.3,2.1,"tunn is",2015,2,21]
[220,"Ri5 Sätoftasjön, ytan","2015-03-17",5.2,12.3,96.958675489223197,8.16,1.1318680000000001,5.3,20.7,85,55,5,21,1100,null,1800,26,1.2,null,2015,3,14]
[220,"Ri5 Sätoftasjön, ytan","2015-04-14",6.8,12.7,104.33879557951249,8.48,1.6917599999999999,3.9,27.2,60,47,"<2",24,1200,null,2000,31,1.2,null,2015,4,9.3000000000000007]
[220,"Ri5 Sätoftasjön, ytan","2015-05-12",12.8,10.8,102.40586811326591,7.98,1.3493800000000002,4,22.7,70,47,4.2,23,570,null,1300,7.9,1.5,null,2015,5,15]
[220,"Ri5 Sätoftasjön, ytan","2015-06-09",9.5,15.8,138.77648221050129,8.1300000000000008,1.5024440000000001,5.4,23.6,60,47,"<2",23,310,null,1100,14,1.4,null,2015,6,9.5]
[220,"Ri5 Sätoftasjön, ytan","2015-07-14",18.7,10.5,112.57200141405244,8.6300000000000008,1.6635640000000003,6.4,25.2,50,47,2.2000000000000002,16,110,null,1000,26,1.6,null,2015,7,"<5"]
[220,"Ri5 Sätoftasjön, ytan","2015-08-11",20.5,8.9,98.711651637823778,8.3699999999999992,1.6313399999999998,7.7,25.7,50,43,2,24,"<10",null,820,18,1.4,null,2015,8,9.1999999999999993]
[220,"Ri5 Sätoftasjön, ytan","2015-09-16",15.2,9.9,98.894692547001753,8.9700000000000006,1.8025300000000002,22,25.9,50,47,"<2",34,"<10",null,1200,37,1.1000000000000001,null,2015,9,10]
[220,"Ri5 Sätoftasjön, ytan","2015-10-13",9.6999999999999993,9,79.430214265235463,7.97,1.7521799999999998,12,26.8,45,40,11,30,33,null,990,25,1.4,null,2015,10,13]
[220,"Ri5 Sätoftasjön, ytan","2015-11-10",9.5,10.6,93.103209584260355,8.01,1.7521800000000001,3.9,26.4,35,39,13,38,140,null,930,18,1.4,null,2015,11,13]
[220,"Ri5 Sätoftasjön, ytan","2015-12-08",5.3,11.5,90.890501326089719,8.02,1.2809040000000003,3.5,22.6,70,51,8,46,760,null,1600,9.5,1.8,null,2015,12,25]
[220,"Ri5 Sätoftasjön, ytan","2016-01-20",0.4,13.8,95.351924041131753,7.86,1.0974600000000001,1.8,21.4,70,59,11,26,1000,null,1600,2,1.8,"is",2016,1,24]
[220,"Ri5 Sätoftasjön, ytan","2016-02-11",3.1,13,96.871985627211288,7.74,1.0271399999999999,2,19.600000000000001,70,51,10,31,890,null,1600,2.9,2,null,2016,2,26]
[220,"Ri5 Sätoftasjön, ytan","2016-03-16",4,12.6,96.208136905037705,7.96,1.0190840000000001,2.5,19.2,70,51,3.4,26,1000,null,1600,17,1.5,null,{"$f":"YEAR(C2823)","v":2016},{"$f":"MONTH(C2823)","v":3},13]
[220,"Ri5 Sätoftasjön, ytan","2016-04-12",8.1999999999999993,11.9,101.26006252289672,8.33,1.0956160000000001,3.5,20.2,70,47,3.1,19,760,null,1500,27,1.4,null,2016,4,13]
[220,"Ri5 Sätoftasjön, ytan","2016-05-17",13.6,9.3000000000000007,89.758065924709072,7.93,1.3761160000000001,2.2000000000000002,22.8,60,47,"<2",25,600,null,1200,6.3,2.6,null,2016,5,11]
[220,"Ri5 Sätoftasjön, ytan","2016-06-15",17.899999999999999,9.5,100.27357549599158,8.43,1.5767160000000002,3.3,24.3,45,25,3.7,24,280,null,1100,31,1.7,null,2016,6,13]
[220,"Ri5 Sätoftasjön, ytan","2016-07-12",19.100000000000001,10,108.03819693715444,8.7200000000000006,1.556656,9.9,23.4,50,24,2.2000000000000002,44,"<10",null,890,32,1.1000000000000001,null,2016,7,8.1]
[220,"Ri5 Sätoftasjön, ytan","2016-08-16",17.600000000000001,10.9,114.36973447577576,8.75,1.5646800000000003,12,24.5,50,26,"<2",51,"<10",null,960,40,1,null,2016,8,10]
[220,"Ri5 Sätoftasjön, ytan","2016-09-13",19.600000000000001,9.4,102.52413754173477,8.36,1.61483,10,25.1,45,47,2.8,54,"<10",null,970,37,1.3,null,2016,9,18]
[220,"Ri5 Sätoftasjön, ytan","2016-10-12",9.6,9.9,87.16403447587831,8.01,1.6649800000000006,4.8,25.4,35,35,11,38,21,null,680,20,2,null,2016,10,16]
[220,"Ri5 Sätoftasjön, ytan","2016-11-10",2.9,12.4,91.89675001474285,7.89,1.6368960000000001,1.2,24.6,30,22,12,33,230,null,930,3.8,4.2,null,2016,11,22]
[220,"Ri5 Sätoftasjön, ytan","2016-12-14",3.6,12.3,92.910120376431678,7.96,1.4563560000000002,2,25.1,35,28,12,37,420,null,1100,3.9,3.5,null,2016,12,15]
[220,"Ri5 Sätoftasjön, ytan","2017-01-18",0.9,13.6,95.319389146148794,7.94,1.4964760000000001,1.5,25.8,35,31,5.6,17,550,null,1000,2.1,3.8,null,2017,1,16]
[220,"Ri5 Sätoftasjön, ytan","2017-02-15",0.6,14.4,100.06817540227996,7.84,1.5165360000000001,1.5,25.4,30,30,3.4,18,520,null,1100,9.8000000000000007,2.9,null,2017,2,"<5"]
[220,"Ri5 Sätoftasjön, ytan","2017-03-14",3.6,12.2,92.154753544102945,7.94,1.2637800000000001,2.2000000000000002,23.1,40,35,2.8,16,780,null,1300,11,2.2999999999999998,null,2017,3,10]
[220,"Ri5 Sätoftasjön, ytan","2017-04-18",7.6,12.2,102.2749403475412,7.99,1.2938700000000003,2.4,23.7,45,33,2.7,14,560,null,1100,15,1.8,null,2017,4,13]
[220,"Ri5 Sätoftasjön, ytan","2017-05-10",10.1,11,98.011676789609936,8.07,1.3961760000000001,2.4,24.2,40,30,"<2",27,390,null,930,8.4,2.4,null,2017,5,8.6]
[220,"Ri5 Sätoftasjön, ytan","2017-06-20",20.3,9.1,100.55813952770305,8.1199999999999992,1.5947700000000002,2.5,25.8,35,24,"<2",9.1999999999999993,280,null,880,8.8000000000000007,2.5,null,2017,6,"<5"]
[220,"Ri5 Sätoftasjön, ytan","2017-07-11",19.8,12.1,132.46974673878461,8.8800000000000008,1.6449200000000004,3.4,25.7,40,33,"<2",20,"<10",null,780,21,1.4,null,2017,7,"<5"]
[220,"Ri5 Sätoftasjön, ytan","2017-08-15",18.8,9.3000000000000007,99.899058106360584,8.27,1.63489,6.1,25.5,50,30,"<2",28,"<10",null,830,30,1.3,null,2017,8,11]
[220,"Ri5 Sätoftasjön, ytan","2017-09-19",14.3,10.9,106.81375957573991,8.3699999999999992,1.46438,5.2,23.8,65,32,"<2",40,"<10",null,800,33,2.2000000000000002,null,2017,9,8.8000000000000007]
[220,"Ri5 Sätoftasjön, ytan","2017-10-10",10.5,10,89.947907691047263,8.19,1.4804280000000003,2.8,23.8,50,39,"<2",18,"<10",null,760,36,1.2,null,2017,10,6.7]
[220,"Ri5 Sätoftasjön, ytan","2017-11-08",7.5,11.6,97.001684536130924,7.86,1.3801280000000002,3.5,22.1,70,38,5.2,27,210,null,1000,34,1.2,null,2017,11,14]
[220,"Ri5 Sätoftasjön, ytan","2017-12-19",2.1,12,86.989727707431697,7.76,1.0872520000000001,3.3,19.899999999999999,100,59,13,32,620,null,1400,2.5,1.9,null,2017,12,28]
[220,"Ri5 Sätoftasjön, ytan","2018-01-09",2.2999999999999998,12.2,89,7.67,1.07,2.5,19.3,100,51,15,37,800,null,1400,1.4,1.2,null,2018,1,32]
[220,"Ri5 Sätoftasjön, ytan","2018-02-13",1.8,13,93,7.58,1.1000000000000001,1.6,19.3,100,43,12,32,1000,null,1600,5.7,1.6,"is 3-5 cm ",2018,2,23]
[220,"Ri5 Sätoftasjön, ytan","2018-03-20",1.1000000000000001,12.6,89,7.81,1.1599999999999999,2.7,20.8,100,40,5.9,30,1000,null,1800,17,1.2,"is 10-15 cm, prov utanför vattenskidskola",2018,3,19]
[220,"Ri5 Sätoftasjön, ytan","2018-04-17",9,11,95,8.0500000000000007,1.28,3.5,21.9,85,38,2.7,34,860,null,1500,22,1.2,null,2018,4,12]
[220,"Ri5 Sätoftasjön, ytan","2018-05-15",18,9.6999999999999993,103,8.1999999999999993,1.44,3.8,24.4,60,35,3.3,21,600,null,1200,5.3,1.4,null,2018,5,9]
[220,"Ri5 Sätoftasjön, ytan","2018-06-12",20.7,8.6,96,8.64,1.66,4,25.2,60,30,2.1,30,95,null,910,17,1.3,null,2018,6,8]
[220,"Ri5 Sätoftasjön, ytan","2018-07-18",23.5,9.3000000000000007,109,8.6,1.74,7,26.2,45,28,"<2",34,"<10",null,890,29,1.1000000000000001,null,2018,7,7]
[220,"Ri5 Sätoftasjön, ytan","2018-08-14",19.8,7.8,85,8.15,1.81,12,26.6,50,29,6.6,65,"<10",null,930,29,0.9,null,2018,8,10]
[220,"Ri5 Sätoftasjön, ytan","2018-09-11",17,8,83,7.8,1.86,7.5,26.7,45,26,7,60,"<10",null,870,18,1.1000000000000001,null,2018,9,12]
[220,"Ri5 Sätoftasjön, ytan","2018-10-09",11.1,11,100,8.01,1.79,5,26.9,45,19,5.8,35,"<10",null,680,20,1.6,null,2018,10,11]
[220,"Ri5 Sätoftasjön, ytan","2018-11-13",8.1999999999999993,10.6,90,7.5,1.75,3.2,27,30,24,"<2",36,43,null,580,19,2.2000000000000002,null,2018,11,9]
[220,"Ri5 Sätoftasjön, ytan","2018-12-11",3.7,11.7,89,7.9,1.66,2.7,27.2,30,23,6.5,27,210,null,760,12,2.5,null,2018,12,11]
[220,"Ri5 Sätoftasjön, ytan","2019-01-15",0.9,13.5,95,8,1.52,3.1,27.2,35,24,4.3,30,610,null,1100,19,2,null,2019,1,7]
[220,"Ri5 Sätoftasjön, ytan","2019-02-11",0.9,13.3,93,7.95,1.4,3.8,26.7,40,25,2.5,24,820,null,1400,35,2,null,2019,2,7]
[220,"Ri5 Sätoftasjön, ytan","2019-03-12",4.4000000000000004,12.8,99,8.06,1.1599999999999999,4,23.7,55,29,"<2",28,1100,null,1800,23,1.9,null,2019,3,9]
[220,"Ri5 Sätoftasjön, ytan","2019-04-10",8.9,11.4,99,8.1999999999999993,1.18,3.2,23.7,50,33,"<2",18,880,null,1300,13,1.9,null,2019,4,8]
[220,"Ri5 Sätoftasjön, ytan","2019-05-14",12.5,10.9,103,8.0299999999999994,1.42,3.3,25.3,40,23,6.1,29,580,null,1100,6.4,2.2000000000000002,null,2019,5,10]
[220,"Ri5 Sätoftasjön, ytan","2019-06-13",18.899999999999999,10,108,8.1,1.54,3.55,26.7,45,27,"<2",21,330,null,1000,11,2.1,null,2019,6,7]
[220,"Ri5 Sätoftasjön, ytan","2019-07-16",20,8.5,93,8.4700000000000006,1.77,7.7,27.6,40,30,2.6,38,"<10",null,570,37,1.1000000000000001,null,2019,7,9]
[220,"Ri5 Sätoftasjön, ytan","2019-08-14",19.3,9.8000000000000007,106,8.14,1.79,7.7,28.2,45,26,"<2",57,"<10",null,920,22,1.3,null,2019,8,9.6]
[220,"Ri5 Sätoftasjön, ytan","2019-09-18",13.3,10.4,100,8.4,1.89,10,28,40,10,"<2",63,"<10",null,830,39,1.2,null,2019,9,7.4]
[220,"Ri5 Sätoftasjön, ytan","2019-10-16",11.2,10.8,99,8.01,1.7,5.5,27.3,35,23,"<2",55,18,null,980,22,1.5,null,2019,10,12]
[220,"Ri5 Sätoftasjön, ytan","2019-11-13",6.1,12.3,99,8.2100000000000009,1.76,5.8,27.1,40,30,"<2",34,210,null,870,42,1.4,null,2019,11,7.7]
[220,"Ri5 Sätoftasjön, ytan","2019-12-12",3.9,12.3,94,8.02,1.55,3.6,25.4,60,32,11,33,580,null,1200,5.7,2,null,2019,12,16]
[220,"Ri5 Sätoftasjön, ytan","2020-01-13",3.8,12.4,94,7.94,1.39,2.5,24.3,65,36,13,33,950,null,1600,3.1,2.2000000000000002,null,2020,1,21]
[220,"Ri5 Sätoftasjön, ytan","2020-02-07",4.3,12.2,94,7.89,1.26,3.2,23.2,70,40,14,39,1100,null,1900,4.4000000000000004,2,null,2020,2,23]
[220,"Ri5 Sätoftasjön, ytan","2020-03-17",5,12.7,100,7.9,1.04,4.2,21.1,85,40,3.9,45,1100,null,1700,26,1.3,null,2020,3,13]
[220,"Ri5 Sätoftasjön, ytan","2020-04-17",9.1999999999999993,11.4,99,8.02,1.23,3.3,23.6,65,38,"<2",27,990,null,1500,17,1.6,null,2020,4,8.9]
[220,"Ri5 Sätoftasjön, ytan","2020-05-20",13.2,10.7,102,7.92,1.49,3.7,26,45,32,"<2",29,680,null,1300,13,1.8,null,2020,5,8.1999999999999993]
[220,"Ri5 Sätoftasjön, ytan","2020-06-09",18.600000000000001,10.7,114,8.6199999999999992,1.59,3.4,26.9,45,28,2.4,28,430,null,1200,17,2.2000000000000002,null,2020,6,28]
[220,"Ri5 Sätoftasjön, ytan","2020-07-15",17.5,10.7,112,8.81,1.7,6.3,27.3,40,31,"<2",29,"<10",null,850,20,1.4,null,2020,7,6.8]
[220,"Ri5 Sätoftasjön, ytan","2020-08-12",22.3,10.4,119,8.98,1.85,10,28.1,40,30,"<2",50,"<10",null,1100,32,1.1000000000000001,null,2020,8,9]
[220,"Ri5 Sätoftasjön, ytan","2020-09-15",17.8,11.4,120,9.02,1.81,12,27.3,45,39,2.4,66,"<10",null,990,44,1,null,2020,9,11]
[220,"Ri5 Sätoftasjön, ytan","2020-10-13",11.8,11.8,109,8.31,1.78,8.6,27.4,45,27,4.9000000000000004,69,"<10",null,1000,40,1.1000000000000001,null,2020,10,11]
[220,"Ri5 Sätoftasjön, ytan","2020-11-11",9.3000000000000007,11,96,8.09,1.78,6,27.4,40,31,3,39,33,null,850,35,1.5,null,2020,11,9]
[220,"Ri5 Sätoftasjön, ytan","2020-12-16",4.0999999999999996,12.2,93,8.02,1.74,1.9,27.4,35,25,4.4000000000000004,23,270,null,990,11,3,null,2020,12,11]
[220,"Ri5 Sätoftasjön, ytan","2021-01-14",0.7,14,96,8,1.5897469516192475,"",26,46,33.97,9,26,650,null,1200,8.4,2.5,null,2021,1,16]
[220,"Ri5 Sätoftasjön, ytan","2021-02-10",1,14.1,99,7.9,1.4586338009702373,null,26,61,47.400000000000006,"<5",27,1300,null,2000,6.9,null,"Isprovtagning",2021,2,16]
[220,"Ri5 Sätoftasjön, ytan","2021-03-17",4,13.4,101,8,1.2291857873344696,null,23,100,30.02,"<5",33,1300,null,1800,18,2.15,null,2021,3,9.7000000000000011]
[220,"Ri5 Sätoftasjön, ytan","2021-04-26",9.1,11.8,101,8.1,1.3602989379834798,null,24,56,43.45,"<5",21,850,null,1400,11,2.35,null,2021,4,7.8]
[220,"Ri5 Sätoftasjön, ytan","2021-05-27",13.7,9.9,96,8.1,1.5078012324636161,null,25,47,39.5,"<5",21,580,null,1200,9.4,2.5499999999999998,null,2021,5,10]
[220,"Ri5 Sätoftasjön, ytan","2021-06-10",21,9.6999999999999993,108,8.1999999999999993,1.5897469516192475,null,26,41,36.339999999999996,"<5",18,390,null,1000,6.3,2.8,null,2021,6,8.3000000000000007]
[220,"Ri5 Sätoftasjön, ytan","2021-07-09",22.4,11.1,127,8.3000000000000007,1.8028058214238889,null,25,39,33.18,"<5",31,16,null,790,26,1.7,null,{"$f":"YEAR(C2887)","v":2021},{"$f":"MONTH(C2887)","v":7},5.7]
[220,"Ri5 Sätoftasjön, ytan","2021-08-26",17.2,9.8000000000000007,102,8.5,1.8032786885245902,null,27,65,37.524999999999999,6,28,19,null,670,46,1,null,2021,8,13]
[220,"Ri5 Sätoftasjön, ytan","2021-09-10",18,10.1,106,7.8,1.639344262295082,"",23,45,51.35,"<5",49,2.2999999999999998,null,830,36,1.35,null,2021,9,13]
[220,"Ri5 Sätoftasjön, ytan","2021-10-25",8.5,11.2,95,8.1,1.5737704918032787,"",24,71,33.575000000000003,"<5",38,77,null,660,37,1.5,null,2021,10,13]
[220,"Ri5 Sätoftasjön, ytan","2021-11-23",6.6,11.8,96,7.9,1.4262295081967213,"",23,73,43.45,6,30,200,null,850,21,1.8,null,2021,11,13]
[220,"Ri5 Sätoftasjön, ytan","2021-12-10",0.4,13.6,95,7.9,1.278688524590164,"",22,69,47.400000000000006,"<5",28,450,null,1100,9.3000000000000007,1.7,null,2021,12,19]
[220,"Ri5 Sätoftasjön, ytan","2022-01-25",1.4,13.5,95,7.9,1.1311475409836065,null,21,120,43.45,11,41,940,null,1600,5.6,1.45,"Trålare siktad",2022,1,28]
[220,"Ri5 Sätoftasjön, ytan","2022-02-22",2.9,13,97,7.8,1,null,19,110,43.45,"<5",35,1100,null,1700,15,1.4,null,2022,2,12]
[220,"Ri5 Sätoftasjön, ytan","2022-03-29",7.8,13.1,110,8.1,1.0819672131147542,"",20,110,39.5,"<5",42,820,null,1400,25,1.2,null,2022,3,15]
[220,"Ri5 Sätoftasjön, ytan","2022-04-26",11.8,10.9,100,7.9,1.2295081967213115,null,20,78,47.519999999999996,"<5",27,670,null,1200,8,2,null,2022,4,16]
[220,"Ri5 Sätoftasjön, ytan","2022-05-23",16.399999999999999,9.9,102,8,1.4426229508196722,null,22,64,47.400000000000006,"<5",24,520,null,1100,11,2.2000000000000002,null,2022,5,24]
[220,"Ri5 Sätoftasjön, ytan","2022-06-23",18.8,10.1,107,8.3000000000000007,1.4918032786885247,null,24,97,47.400000000000006,"<5",23,180,null,1400,17,1.7,null,2022,6,7.2]
[220,"Ri5 Sätoftasjön, ytan","2022-07-21",22.4,13.2,152,9.1,1.5573770491803278,null,24,110,35.945,5,25,1.7,null,540,33,1.2,null,2022,7,7.4]
[220,"Ri5 Sätoftasjön, ytan","2022-08-25",21.2,7.5,83,8.5,1.64,null,25,84,47.4,6,35,2.9,null,660,34,1,null,2022,8,15]
[220,"Ri5 Sätoftasjön, ytan","2022-09-22",14.1,10.1,96,8.3000000000000007,1.8032786885245902,null,26,66,47.400000000000006,"<5",25,1.5,null,660,21,1.1000000000000001,null,2022,9,12]
[220,"Ri5 Sätoftasjön, ytan","2022-10-20",11.3,11.1,100,8.1999999999999993,1.8032786885245902,"",26,66,39.5,"<5",15,4.3,null,840,null,1.4,"Provresultat för klorofyll saknas pga labtekniskt misstag",2022,10,"<5"]
[220,"Ri5 Sätoftasjön, ytan","2022-11-15",10.4,10.9,97,8.1999999999999993,1.8032786885245902,null,27,52,26.86,"<5",38,"<1",null,660,40,1.5,null,2022,11,16]
[220,"Ri5 Sätoftasjön, ytan","2022-12-21",1.3,13.1,94,8.1,1.639344262295082,null,25,45,31.205000000000002,"<1",11,100,null,700,13,2.5,"Isprovtagning, avvikande metod siktdjup. Provtagning ej möjlig vid provpunkt pga svag is, provet taget vid bottendjup 4 m.",2022,12,9.7000000000000011]
[225,"Ri5 Sätoftasjön, 15 m","2013-06-11",15.5,3.5,35.183943121699407,null,null,null,null,null,null,14,57,11,700,1500,null,null,null,2013,6,15]
[225,"Ri5 Sätoftasjön, 15 m","2013-07-09",17.3,1.7,17.731085020524297,null,null,null,null,null,null,"<2",37,"<10",250,1200,null,null,null,2013,7,9.9]
[225,"Ri5 Sätoftasjön, 15 m","2013-08-13",19,8.6999999999999993,93.813602964592263,null,null,null,null,null,null,3,72,"<10","<10",1100,null,null,null,2013,8,13]
[225,"Ri5 Sätoftasjön, 15 m","2013-09-11",16.5,8.5,87.232630104932667,null,null,null,null,null,null,9,62,52,51,1200,null,null,null,2013,9,10]
[225,"Ri5 Sätoftasjön, 15 m","2014-06-10",14.2,3.5,34.224032632082796,null,null,null,null,null,null,16,72,38,950,1900,null,null,null,2014,6,22]
[225,"Ri5 Sätoftasjön, 15 m","2014-07-22",19,1.5,16.174759131826253,null,null,null,null,null,null,3,48,"<10",1000,1800,null,null,null,2014,7,11]
[225,"Ri5 Sätoftasjön, 15 m","2014-08-12",18.7,4.3,46.100914864802419,null,null,null,null,null,null,55,160,"<100",1400,2600,null,null,null,2014,8,66]
[225,"Ri5 Sätoftasjön, 15 m","2014-09-23",13.2,9.6,91.840671969730707,null,null,null,null,null,null,2,44,"<10","<10",1000,null,null,null,2014,9,11]
[225,"Ri5 Sätoftasjön, 15 m","2015-06-09",9.3000000000000007,15.5,135.48682517929308,null,null,null,null,null,null,"<2",32,310,34,1100,null,null,null,2015,6,14]
[225,"Ri5 Sätoftasjön, 15 m","2015-07-14",17.2,5.2,54.127656216810372,null,null,null,null,null,null,12,41,130,260,1400,null,null,null,2015,7,14]
[225,"Ri5 Sätoftasjön, 15 m","2015-08-11",17.3,1.3,13.559065015695049,null,null,null,null,null,null,5.5,44,"<10",210,970,null,null,null,2015,8,9.6999999999999993]
[225,"Ri5 Sätoftasjön, 15 m","2015-09-16",15,9.9,98.477269860880511,8.8000000000000007,null,null,null,null,null,"<2",58,"<10","<10",1200,null,null,null,2015,9,11]
[225,"Ri5 Sätoftasjön, 15 m","2016-06-15",13.2,1.3,12.4367576625677,null,null,null,null,null,null,13,72,"<10",800,1800,null,null,null,2016,6,36]
[225,"Ri5 Sätoftasjön, 15 m","2016-07-12",18.8,9.4,100.97324152685907,null,null,null,null,null,null,"<2",47,"<10",15,1000,null,null,null,2016,7,9.3000000000000007]
[225,"Ri5 Sätoftasjön, 15 m","2016-08-16",16.399999999999999,7.9,80.909370210965704,null,null,null,null,null,null,"<2",56,"<10","<10",770,null,null,null,2016,8,10]
[225,"Ri5 Sätoftasjön, 15 m","2016-09-13",18.3,1.8,19.148825780437914,null,null,null,null,null,null,13,55,"<10",450,1200,null,null,null,2016,9,30]
[225,"Ri5 Sätoftasjön, 15 m","2017-06-20",18.8,6.7,71.97028917339955,null,null,null,null,null,null,22,41,320,310,1200,null,null,null,2017,6,37]
[225,"Ri5 Sätoftasjön, 15 m","2017-07-11",17,4,41.469440987950222,null,null,null,null,null,null,13,38,68,300,970,null,null,null,2017,7,17]
[225,"Ri5 Sätoftasjön, 15 m","2017-08-15",18.5,7.1,75.825995571699963,null,null,null,null,null,null,"<2",36,"<10",44,830,null,null,null,2017,8,12]
[225,"Ri5 Sätoftasjön, 15 m","2017-09-19",13.9,7.2,69.947057721182887,null,null,null,null,null,null,"<2",42,"<10",48,810,null,null,null,2017,9,8.1]
[225,"Ri5 Sätoftasjön, 15 m","2018-06-12",13,2,19,null,null,null,null,null,null,2.4,25,"<10",790,1500,null,null,null,2018,6,9]
[225,"Ri5 Sätoftasjön, 15 m","2018-07-18",17.8,1.9,20,null,null,null,null,null,null,6.8,86,"<10",1000,1900,null,null,null,2018,7,54]
[225,"Ri5 Sätoftasjön, 15 m","2018-08-14",19.899999999999999,6.5,71,null,null,null,null,null,null,12,67,"<10",100,950,null,null,null,2018,8,18]
[225,"Ri5 Sätoftasjön, 15 m","2018-09-11",17.399999999999999,8.6999999999999993,91,null,null,null,null,null,null,4.8,61,"<10","<10",890,null,null,null,2018,9,11]
[225,"Ri5 Sätoftasjön, 15 m","2019-06-13",15.5,4.9000000000000004,49,null,null,null,null,null,null,19,51,290,430,1200,null,null,null,2019,6,27]
[225,"Ri5 Sätoftasjön, 15 m","2019-07-16",18.2,2.6,28,null,null,null,null,null,null,22,56,"<10",330,880,null,null,null,2019,7,28]
[225,"Ri5 Sätoftasjön, 15 m","2019-08-14",18.600000000000001,9.8000000000000007,105,null,null,null,null,null,null,2.4,63,"<10","<10",880,null,null,null,2019,8,9.6999999999999993]
[225,"Ri5 Sätoftasjön, 15 m","2019-09-18",12.9,9.6,91,null,null,null,null,null,null,"<2",66,"<10","<10",910,null,null,null,2019,9,7.8]
[225,"Ri5 Sätoftasjön, 15 m","2020-06-09",16.5,7,72,null,null,null,null,null,null,2.4,37,460,84,1100,null,null,null,2020,6,7.8]
[225,"Ri5 Sätoftasjön, 15 m","2020-07-15",16.399999999999999,9,92,null,null,null,null,null,null,"<2",34,"<10",15,840,null,null,null,2020,7,7.1]
[225,"Ri5 Sätoftasjön, 15 m","2020-08-12",18.2,1.2,13,null,null,null,null,null,null,16,57,"<10",370,1200,null,null,null,2020,8,25]
[225,"Ri5 Sätoftasjön, 15 m","2020-09-15",16,8.5,86,null,null,null,null,null,null,2.2999999999999998,75,"<10","<10",1000,null,null,null,2020,9,75]
[225,"Ri5 Sätoftasjön, 15 m","2021-06-10",12.2,0.6,6,null,null,null,null,null,39.5,24,54,370,530,1400,null,null,null,2021,6,28.8]
[225,"Ri5 Sätoftasjön, 15 m","2021-07-09",12.7,0.1,1,null,null,null,null,null,34.365000000000002,25,71,5.0999999999999996,1200,2000,null,null,"Avvikande provtagningsdjup",2021,7,54]
[225,"Ri5 Sätoftasjön, 15 m","2021-08-26",16.899999999999999,7.7,80,null,null,null,null,null,35.945,"<5",38,30,140,1100,null,null,null,2021,8,12]
[225,"Ri5 Sätoftasjön, 15 m","2021-09-10",16.5,2.6,26,null,null,null,null,null,51.35,19,62,44,370,1000,null,null,null,2021,9,29]
[225,"Ri5 Sätoftasjön, 15 m","2022-06-23",14.8,0.2,2,null,null,null,null,null,51.35,"<5",35,110,630,1700,null,null,"Kontrollmätning syrgas i ruttnerhämtare, skarp lukt (förruttnelse)",2022,6,13]
[225,"Ri5 Sätoftasjön, 15 m","2022-07-21",18.399999999999999,4.3,47,null,null,null,null,null,35.945,7,57,2.4,6.8,520,null,null,"Kontrollmätning syrgas i ruttnerhämtare",2022,7,13]
[225,"Ri5 Sätoftasjön, 15 m","2022-08-25",18.2,0.1,1,null,null,null,null,null,47.4,10,40,5,1500,2100,null,null,"Kontrollmätning syrgas i ruttnerhämtare",2022,8,21]
[225,"Ri5 Sätoftasjön, 15 m","2022-09-22",13.7,9.1,86,null,null,null,null,null,51.35,"<5",25,1.6,5.3,710,null,null,"Avvikande provtagningsdjup",2022,9,12]
[230,"Ri4 Östra Ringsjön, ytan","2013-01-16",0.1,12.1,82.888695139706627,7.98,1.9550699999999999,2.7,29.6,30,34,30,47,1200,null,1900,4.4000000000000004,"-","1 cm is, kantprov",2013,1,42]
[230,"Ri4 Östra Ringsjön, ytan","2013-02-13",0.4,16.899999999999999,116.77155915182075,7.91,1.6484388000000001,1,26,35,34,15,35,1000,50,1700,6.8,2.9,"is 10cm, 10cm snö",2013,2,26]
[230,"Ri4 Östra Ringsjön, ytan","2013-03-13",2.7,16.3,120.13818100163584,8.34,1.6933799999999999,1.9,26.4,40,38,3,24,1200,null,1700,25,1.7,"15 cm is",2013,3,5.7]
[230,"Ri4 Östra Ringsjön, ytan","2013-04-16",4.7,14,108.91335807926019,8.75,1.8436800000000002,2.1,27.9,35,34,"<2",18,950,null,1600,18,1.8,null,2013,4,11]
[230,"Ri4 Östra Ringsjön, ytan","2013-05-14",12.7,10.5,99.338837884584223,8.5299999999999994,1.8637199999999996,3,28.3,35,32,"<2",17,720,null,1300,13,1.8,null,2013,5,6.9]
[230,"Ri4 Östra Ringsjön, ytan","2013-06-11",19.100000000000001,10.4,112.35972481464063,8.49,1.8536999999999999,3.9,28.7,35,34,"<2",20,410,null,1100,11,2.1,null,2013,6,5.3]
[230,"Ri4 Östra Ringsjön, ytan","2013-07-09",20.2,13.3,146.69757406217482,9.23,1.9839599999999997,5,27.6,35,32,"<2",21,"<10",null,820,22,1.7,null,{"$f":"YEAR(C2951)","v":2013},{"$f":"MONTH(C2951)","v":7},9.9]
[230,"Ri4 Östra Ringsjön, ytan","2013-08-13",20.2,7,77.209249506407801,8.0399999999999991,2.020032,13.4,28.8,55,38,63,130,13,190,1200,35,0.9,null,2013,8,73]
[230,"Ri4 Östra Ringsjön, ytan","2013-09-11",17.100000000000001,9.1999999999999993,95.572065595008553,8.4600000000000009,2.0340599999999998,17,28.7,40,34,53,100,"<10",null,1100,30,0.9,null,2013,9,62]
[230,"Ri4 Östra Ringsjön, ytan","2013-10-15",11.6,10.199999999999999,94.123237464336611,8.15,2.0140199999999995,12,28.9,25,32,39,72,"<10",null,820,18,1.2,null,2013,10,50]
[230,"Ri4 Östra Ringsjön, ytan","2013-11-19",7,11.6,95.786712454245034,8.48,1.9639199999999999,8,29.35,35,33,8,44,420,null,1100,33,1.5,null,2013,11,6.5]
[230,"Ri4 Östra Ringsjön, ytan","2013-12-12",2.8,13.1,81.766160697938773,8.17,1.9639199999999999,6.1,29.8,40,31,"<2",48,490,null,1400,43,2.2000000000000002,null,2013,12,10]
[230,"Ri4 Östra Ringsjön, ytan","2014-01-14",3,13.5,100.32323032397872,8.19,1.9238399999999998,4.9000000000000004,29.6,40,32,"<2",29,1100,null,1700,46,1.8,null,2014,1,10]
[230,"Ri4 Östra Ringsjön, ytan","2014-02-25",2.2000000000000002,14.1,102.49727699788953,8.2100000000000009,1.9396499999999999,3.7,29.8,35,36,"<2",18,1300,13,1700,22,1.8,null,2014,2,5.3]
[230,"Ri4 Östra Ringsjön, ytan","2014-03-13",4.3,14.4,110.83919844583417,8.5500000000000007,1.9396499999999999,3,29.3,35,34,2,18,1300,null,1900,16,1.9,null,2014,3,7.7]
[230,"Ri4 Östra Ringsjön, ytan","2014-04-16",7.8,11.8,99.417068467764395,8.0500000000000007,1.9014600000000004,2.9,29.6,35,33,"<2",17,1100,17,1900,11,1.9,null,2014,4,7.8]
[230,"Ri4 Östra Ringsjön, ytan","2014-05-13",12.3,10,93.76095151377271,7.89,1.9014600000000004,3,29.6,35,35,5.6,28,1000,null,1700,7.2,2.5,null,2014,5,16]
[230,"Ri4 Östra Ringsjön, ytan","2014-06-10",19.8,11.7,128.09058155733717,8.73,1.9899,3.9,29.1,35,38,"<2",11,650,null,1500,17,1.8,null,2014,6,"<5"]
[230,"Ri4 Östra Ringsjön, ytan","2014-07-22",22,8.8000000000000007,100.2778151963585,8.7799999999999994,1.9215600000000004,12,28.1,45,40,5,42,"<10",null,1100,39,1,null,2014,7,13]
[230,"Ri4 Östra Ringsjön, ytan","2014-08-12",21.5,7.7,86.966531126084206,8.02,1.9597500000000001,30,28.9,65,40,80,130,"<10",76,1300,67,0.7,null,2014,8,79]
[230,"Ri4 Östra Ringsjön, ytan","2014-09-23",15.2,10.9,108.88405543053727,8.56,1.9095000000000002,20,28.8,45,43,33,80,"<10",null,880,29,0.9,null,2014,9,41]
[230,"Ri4 Östra Ringsjön, ytan","2014-10-14",13,8.9,84.767029287191576,8.1,1.9597500000000001,14,29.2,40,39,25,70,13,null,870,28,1.3,null,2014,10,35]
[230,"Ri4 Östra Ringsjön, ytan","2014-11-11",10,9.8000000000000007,87.11222453465642,7.96,1.9537200000000001,7,29.3,40,35,27,52,480,null,1300,13,1.3,null,2014,11,34]
[230,"Ri4 Östra Ringsjön, ytan","2014-12-09",4.3,12.4,95.444865328357196,8.02,1.9135200000000003,3.5,28.7,35,33,29,45,600,null,1200,3.9,2,null,2014,12,34]
[230,"Ri4 Östra Ringsjön, ytan","2015-01-20",2.5,12,87.959155780544876,8.06,1.7004600000000003,4.2,27.6,50,40,23,47,1500,null,2200,4.5999999999999996,1.6,null,2015,1,35]
[230,"Ri4 Östra Ringsjön, ytan","2015-02-10",0.6,13.8,95.89866809385164,7.98,1.6917600000000002,2.7,27.6,55,43,29,33,1500,null,2400,5.2,1.6,null,2015,2,30]
[230,"Ri4 Östra Ringsjön, ytan","2015-03-17",4.4000000000000004,12.6,97.243430022386434,8.2100000000000009,1.6635640000000003,3,27.2,55,43,3,25,1500,null,2100,24,1.7,null,2015,3,9]
[230,"Ri4 Östra Ringsjön, ytan","2015-04-14",7.9,11.8,99.664932083753072,8.1,1.1640920000000001,5,21.35,75,51,2,27,890,null,1600,20,1.1000000000000001,null,2015,4,11]
[230,"Ri4 Östra Ringsjön, ytan","2015-05-12",11.7,10.8,99.888738862875144,8.1,1.7421099999999998,2.6,27.3,50,38,"<2",23,1100,null,1600,7.6,2,null,2015,5,14]
[230,"Ri4 Östra Ringsjön, ytan","2015-06-09",10,14.8,131.55723705233828,8.1300000000000008,1.6635640000000003,4.8,27.6,45,40,4.9000000000000004,22,720,null,1500,11,1.6,null,2015,6,6.4]
[230,"Ri4 Östra Ringsjön, ytan","2015-07-14",18.3,10.3,109.57383641028362,8.77,1.7964880000000005,7.7,27.4,40,40,4.5,16,200,null,1100,29,1.7,null,2015,7,"<5"]
[230,"Ri4 Östra Ringsjön, ytan","2015-08-11",20,10,109.88936681206462,8.8650000000000002,1.83274,10.9,27,45,43,3.7,32,"<10",null,880,35,1.4,null,2015,8,"<5"]
[230,"Ri4 Östra Ringsjön, ytan","2015-09-16",15.6,9.8000000000000007,98.721320495697071,8.56,1.82267,12,27.6,50,43,10,60,"<10",null,860,30,1.2,null,2015,9,28]
[230,"Ri4 Östra Ringsjön, ytan","2015-10-13",10.1,8.6,76.627310944604133,7.99,1.9133,5,28.1,35,36,26,50,19,null,770,18,2.1,null,2015,10,32]
[230,"Ri4 Östra Ringsjön, ytan","2015-11-10",9.5,11.1,97.494870413706607,8.06,1.8327400000000003,5.3,28.2,30,34,43,52,110,null,780,16,2,null,2015,11,37]
[230,"Ri4 Östra Ringsjön, ytan","2015-12-08",5.4,11.5,91.128745778168025,8.1999999999999993,1.6917600000000002,2.5,27.5,40,40,32,52,1000,null,1700,2.1,2.4,null,2015,12,43]
[230,"Ri4 Östra Ringsjön, ytan","2016-01-20",0.4,14.5,100.1886158403196,8.14,1.6803600000000003,1,27.6,45,39,40,45,1400,null,1800,1.7,2.8,"is",2016,1,42]
[230,"Ri4 Östra Ringsjön, ytan","2016-02-11",2.4,13.3,97.219055776085995,8.01,4.0179299999999998,1.9,26.55,45,39,32,41,1400,null,2000,2.5,2.7,null,2016,2,37]
[230,"Ri4 Östra Ringsjön, ytan","2016-03-16",3.1,12.5,93.146140026164701,8.0500000000000007,1.6232840000000002,2.2000000000000002,26.3,45,40,17,30,1800,null,2200,4.7,2.2000000000000002,null,2016,3,22]
[230,"Ri4 Östra Ringsjön, ytan","2016-04-12",7.6,13.2,110.65813217930689,8.7200000000000006,1.5709200000000001,3.1,25.3,50,40,2,25,1300,null,2000,34,1.6,null,2016,4,12]
[230,"Ri4 Östra Ringsjön, ytan","2016-05-17",13.3,10,95.879083639784838,8.07,1.6368960000000001,4.0999999999999996,26.2,40,38,"<2",20,1100,null,1700,4.2,3.2,null,2016,5,10]
[230,"Ri4 Östra Ringsjön, ytan","2016-06-15",18.100000000000001,8.5,90.071960022994361,8.1199999999999992,4.2226300000000014,3.3,26.7,45,21,4.4000000000000004,20,740,null,1400,12,2.2000000000000002,null,2016,6,"<5"]
[230,"Ri4 Östra Ringsjön, ytan","2016-07-12",19,10.1,108.91004482096342,9.0399999999999991,1.6689920000000003,10,25.5,40,21,"<2",43,220,null,1200,25,1.2,null,2016,7,7.6]
[230,"Ri4 Östra Ringsjön, ytan","2016-08-16",17.3,9.9,103.25749511952384,8.74,1.63489,17,25.8,40,22,7,110,"<10","<10",810,45,1.2,null,2016,8,20]
[230,"Ri4 Östra Ringsjön, ytan","2016-09-13",19,8.6999999999999993,93.813602964592263,8.3800000000000008,1.7151300000000003,7.1,26.2,35,39,36,68,"<10",null,760,28,1.5,null,2016,9,52]
[230,"Ri4 Östra Ringsjön, ytan","2016-10-12",10.9,9.6,87.163011614178359,8.1,1.8174360000000005,5.4,26.5,35,40,61,94,55,null,800,16,2.2000000000000002,null,2016,10,77]
[230,"Ri4 Östra Ringsjön, ytan","2016-11-10",3.2,11.2,83.68696520265047,8.0399999999999991,1.8374960000000002,2.9,26.8,30,24,48,73,240,null,920,5.3,4.2,null,2016,11,70]
[230,"Ri4 Östra Ringsjön, ytan","2016-12-14",3.6,12.2,92.154753544102945,8,1.7171360000000004,1.5,27.6,35,28,36,45,520,null,1100,6.3,3.5,null,2016,12,45]
[230,"Ri4 Östra Ringsjön, ytan","2017-01-18",0.7,12.7,88.506589485355761,8.02,1.7973760000000005,1.3,28.4,30,28,20,32,730,null,1200,2.2000000000000002,4.5,null,2017,1,34]
[230,"Ri4 Östra Ringsjön, ytan","2017-02-15",0.7,15.8,110.11056014713552,8.16,1.8455200000000005,0.88,28.6,25,30,6,28,760,null,1300,6.5,null,null,2017,2,15]
[230,"Ri4 Östra Ringsjön, ytan","2017-03-14",3,14.1,104.78204056060001,8.6300000000000008,1.7371960000000002,2.9,27.7,35,32,2.1,29,1100,null,1700,43,2,null,2017,3,11]
[230,"Ri4 Östra Ringsjön, ytan","2017-04-18",7.2,11.6,96.272345238903938,8.36,1.7051000000000003,2.1,27.9,35,26,6,14,900,null,1400,11,2.7,null,2017,4,13]
[230,"Ri4 Östra Ringsjön, ytan","2017-05-10",9.4,11.3,99.012868769912927,8.1199999999999992,1.7371960000000002,1.9,28,35,25,"<2",16,830,null,1300,8.8000000000000007,3.2,null,2017,5,9.8000000000000007]
[230,"Ri4 Östra Ringsjön, ytan","2017-06-20",18.8,9.4,100.97324152685907,8.17,2.0060000000000002,3.4,28.1,35,22,"<2",16,500,null,1100,8.6999999999999993,2.5,null,2017,6,13]
[230,"Ri4 Östra Ringsjön, ytan","2017-07-11",18.8,12.3,132.12456072131559,9.0299999999999994,1.8054000000000001,4.7,27.5,35,31,2.1,17,180,null,940,26,1.6,null,2017,7,"<5"]
[230,"Ri4 Östra Ringsjön, ytan","2017-08-15",18.399999999999999,9.3000000000000007,99.128551147635136,8.31,1.7853400000000001,8.9,28,40,26,"<2",38,"<10","<10",840,40,1.3,null,2017,8,10]
[230,"Ri4 Östra Ringsjön, ytan","2017-09-19",14.8,9.8000000000000007,97.069083380108026,8.17,1.88564,6.3,27.6,45,30,17,53,230,null,910,34,2,null,2017,9,26]
[230,"Ri4 Östra Ringsjön, ytan","2017-10-10",11.7,10,92.489573021180689,8.31,1.9097120000000003,6,27.8,35,30,3.8,26,130,null,900,36,1.6,null,2017,10,10]
[230,"Ri4 Östra Ringsjön, ytan","2017-11-08",8.6,10.6,91.09060778615607,7.98,1.8254600000000005,2.7,27.8,40,25,15,32,550,null,1100,11,3.4,null,2017,11,26]
[230,"Ri4 Östra Ringsjön, ytan","2017-12-19",2.5,12,87.959155780544876,8,1.7452200000000004,1.6,27,50,37,21,41,1000,null,1600,2.6,3,null,2017,12,28]
[230,"Ri4 Östra Ringsjön, ytan","2018-01-09",2.4,12.6,92,7.92,1.65,1.9,26,60,25,7.8,27,940,null,1400,13,2.2000000000000002,null,2018,1,17]
[230,"Ri4 Östra Ringsjön, ytan","2018-02-13",1.4,13.1,93,7.88,1.68,1.7,26.5,60,32,21,35,1700,null,2100,1.5,2.7,"prov taget utanför Ringsjöfisk",2018,2,27]
[230,"Ri4 Östra Ringsjön, ytan","2018-03-20",1.3,12.3,87,7.89,1.68,1.3,26.3,40,35,12,32,1600,null,2200,6.8,1.8,"is 15-20 cm, prov S Bosjökloster ",2018,3,23]
[230,"Ri4 Östra Ringsjön, ytan","2018-04-17",7.6,13,109,8.4700000000000006,1.69,4,27.5,70,34,3.6,37,1400,null,2200,40,1.4,null,2018,4,12]
[230,"Ri4 Östra Ringsjön, ytan","2018-05-15",16.7,10.6,109,8.4499999999999993,1.74,2.2999999999999998,27.5,45,31,"<2",18,1100,null,1600,8.8000000000000007,1.8,null,2018,5,8.3000000000000007]
[230,"Ri4 Östra Ringsjön, ytan","2018-06-12",20.3,8.6999999999999993,96,8.3800000000000008,1.78,3.6,27.3,45,28,"<2",20,790,null,1300,11,1.9,null,2018,6,7]
[230,"Ri4 Östra Ringsjön, ytan","2018-07-18",22.8,11.3,131,9.2100000000000009,1.86,12,26.3,45,28,"<2",38,"<10",null,930,35,1.2,null,2018,7,7]
[230,"Ri4 Östra Ringsjön, ytan","2018-08-14",20.8,7.1,79,8.3000000000000007,1.86,17,26.9,50,27,51,120,20,78,1000,23,0.9,null,2018,8,63]
[230,"Ri4 Östra Ringsjön, ytan","2018-09-11",18,8.3000000000000007,88,8.1,1.93,18,27.3,45,25,76,140,"<10",null,910,37,1,null,2018,9,86]
[230,"Ri4 Östra Ringsjön, ytan","2018-10-09",11.8,10.8,100,8.06,1.87,8.1,27.7,35,20,46,84,"<10",null,630,17,1.9,null,2018,10,56]
[230,"Ri4 Östra Ringsjön, ytan","2018-11-13",8.3000000000000007,10.3,88,7.65,1.86,4.0999999999999996,27.9,25,24,34,60,41,null,610,6.9,2.8,null,{"$f":"YEAR(C3015)","v":2018},{"$f":"MONTH(C3015)","v":11},45]
[230,"Ri4 Östra Ringsjön, ytan","2018-12-11",3.9,12.2,93,7.9,1.75,2.2000000000000002,28.2,25,26,33,51,250,null,730,4.2,3.8,null,2018,12,40]
[230,"Ri4 Östra Ringsjön, ytan","2019-01-15",1.8,12.6,91,8.02,1.76,2.5,29.2,25,23,5,44,740,null,1200,4.0999999999999996,4,null,2019,1,37]
[230,"Ri4 Östra Ringsjön, ytan","2019-02-11",1.8,12.6,91,7.89,1.85,1.7,29.9,30,23,21,37,1200,null,1600,6.9,3.5,null,2019,2,29]
[230,"Ri4 Östra Ringsjön, ytan","2019-03-12",4.0999999999999996,13.1,100,8.2899999999999991,1.7,3.1,29.2,35,22,"<2",33,1200,null,2000,31,2.1,null,2019,3,9]
[230,"Ri4 Östra Ringsjön, ytan","2019-04-10",8.1,12.6,107,8.8000000000000007,1.33,2.2000000000000002,28.6,40,26,"<2",18,1200,null,1600,19,2.2000000000000002,null,2019,4,8]
[230,"Ri4 Östra Ringsjön, ytan","2019-05-14",12.1,10.7,100,8.1199999999999992,1.74,2.8,28.9,35,26,4.8,21,1000,null,1400,4.3,3.4,null,2019,5,6]
[230,"Ri4 Östra Ringsjön, ytan","2019-06-13",18.600000000000001,10.5,112,8.08,1.79,3.7,29.1,40,22,15,20,690,null,1400,12,2.2000000000000002,null,2019,6,8]
[230,"Ri4 Östra Ringsjön, ytan","2019-07-16",19.600000000000001,10.6,116,9.01,1.96,7.5,28.2,30,28,3.2,39,"<10",null,610,29,1.1000000000000001,null,2019,7,8]
[230,"Ri4 Östra Ringsjön, ytan","2019-08-14",19.5,8.9,97,8.1199999999999992,1.92,12,29.5,45,24,26,93,29,100,1000,17,1.3,null,2019,8,42]
[230,"Ri4 Östra Ringsjön, ytan","2019-09-18",14.4,9.9,97,8.27,1.97,12,29.6,35,23,32,98,"<10",null,580,31,1.3,null,2019,9,50]
[230,"Ri4 Östra Ringsjön, ytan","2019-10-16",11.3,10.7,98,8.08,1.93,6.1,29.2,30,31,29,68,71,null,770,14,1.8,null,2019,10,37]
[230,"Ri4 Östra Ringsjön, ytan","2019-11-13",7.6,10.8,91,8.09,1.95,4.2,29.8,30,24,17,54,290,null,830,12,2.2999999999999998,null,2019,11,27]
[230,"Ri4 Östra Ringsjön, ytan","2019-12-12",4.7,12,93,8.18,1.98,2.4,29.7,30,27,24,41,830,null,1200,3.7,3,null,2019,12,32]
[230,"Ri4 Östra Ringsjön, ytan","2020-01-13",3.7,12.7,96,8.1300000000000008,1.88,3.3,3,35,27,24,38,1300,null,1700,2.8,3.1,null,2020,1,30]
[230,"Ri4 Östra Ringsjön, ytan","2020-02-07",4.4000000000000004,12.5,96,8.01,1.92,2.9,29.9,40,36,24,42,1600,null,2300,5.3,3,null,2020,2,39]
[230,"Ri4 Östra Ringsjön, ytan","2020-03-17",4.8,12.7,99,8.06,1.7,2.6,28.2,50,29,2.6,35,1700,null,2200,16,1.8,null,2020,3,12]
[230,"Ri4 Östra Ringsjön, ytan","2020-04-17",8.4,11.7,100,8.4499999999999993,1.75,1.8,29.2,40,33,"<2",22,1500,null,1900,19,1.9,null,2020,4,6.9]
[230,"Ri4 Östra Ringsjön, ytan","2020-05-20",12.2,10.7,100,8.16,1.78,3.1,29.6,40,31,2.4,48,1100,null,1700,13,2.1,null,2020,5,7.5]
[230,"Ri4 Östra Ringsjön, ytan","2020-06-09",17.399999999999999,10.4,109,8.4600000000000009,1.79,3.2,29.8,40,28,"<2",30,910,null,1600,14,2.1,null,2020,6,7.4]
[230,"Ri4 Östra Ringsjön, ytan","2020-07-15",17.3,12.5,130,8.94,1.86,9.8000000000000007,29.1,35,25,"<2",44,250,null,1100,48,1.5,null,2020,7,7.6]
[230,"Ri4 Östra Ringsjön, ytan","2020-08-12",20.5,9.3000000000000007,103,8.9600000000000009,1.91,7.6,29.4,35,32,"<2",41,"<10",null,740,15,1.5,null,2020,8,7.9]
[230,"Ri4 Östra Ringsjön, ytan","2020-09-15",16.600000000000001,10.9,112,8.7100000000000009,1.98,12,29.6,45,32,19,99,"<10",null,960,48,1.1000000000000001,null,2020,9,30]
[230,"Ri4 Östra Ringsjön, ytan","2020-10-13",12.6,12.6,119,8.14,1.98,7.8,29.7,40,27,54,110,44,null,950,22,1.2,null,2020,10,71]
[230,"Ri4 Östra Ringsjön, ytan","2020-11-11",9.9,10.5,93,8.09,1.97,4.5,30.3,30,25,54,84,240,null,990,13,2.1,null,2020,11,65]
[230,"Ri4 Östra Ringsjön, ytan","2020-12-16",4.7,12,93,8.0500000000000007,1.93,1.3,30.7,25,21,55,70,640,null,1200,3.3,3.9,null,2020,12,63]
[230,"Ri4 Östra Ringsjön, ytan","2021-01-14",1.5,13.6,96,8.1,1.9666972597351515,"",31,26,28.835000000000001,50,69,960,null,1500,4,3.1,null,2021,1,57]
[230,"Ri4 Östra Ringsjön, ytan","2021-02-10",0.5,14.1,97,8.1,1.9666972597351515,null,31,27,24.885000000000002,45,63,1600,null,2200,5.3,2.5,"Isprovtagning, avvikande metod siktdjup. ",2021,2,53]
[230,"Ri4 Östra Ringsjön, ytan","2021-03-17",3.1,15.8,116,8.6999999999999993,1.8028058214238889,null,30,44,25.675000000000001,"<5",39,1500,null,2000,58,1.7,"Svag is vid provpunkt, prov taget strax norr om ordinarie punkt.",2021,3,"<5"]
[230,"Ri4 Östra Ringsjön, ytan","2021-04-26",8.5,12,102,8.3000000000000007,1.8028058214238889,null,30,37,35.945,"<5",15,1200,null,1800,7.8,2.8,null,2021,4,5.2]
[230,"Ri4 Östra Ringsjön, ytan","2021-05-27",13.1,9.9,95,8.1,1.8028058214238889,null,30,27,36.735000000000007,"<5",13,980,null,1500,7.5,4,null,2021,5,9.6]
[230,"Ri4 Östra Ringsjön, ytan","2021-06-10",20,10.7,116,8.4,1.8028058214238889,null,29,29,25.28,"<5",13,740,null,1300,4.5,4.0999999999999996,null,2021,6,7.6]
[230,"Ri4 Östra Ringsjön, ytan","2021-07-09",21.9,9.9,113,8.1999999999999993,1.9666972597351515,null,27,29,30.02,"<5",16,510,null,1100,15,2.7,null,2021,7,"<5"]
[230,"Ri4 Östra Ringsjön, ytan","2021-08-26",17.3,9.9,103,8.4,1.9672131147540983,null,30,52,33.575000000000003,16,63,4.2,null,660,40,1,null,2021,8,29]
[230,"Ri4 Östra Ringsjön, ytan","2021-09-10",18.100000000000001,10.199999999999999,108,8,1.9672131147540983,"",26,33,39.105000000000004,13,41,1.9,null,620,11,1.55,null,2021,9,23]
[230,"Ri4 Östra Ringsjön, ytan","2021-10-25",9.6999999999999993,11,96,8.3000000000000007,1.9672131147540983,"",29,43,24.490000000000002,26,65,210,null,710,21,2.1,null,2021,10,30]
[230,"Ri4 Östra Ringsjön, ytan","2021-11-23",7.4,11.6,95,8.1,1.9672131147540983,"",29,39,31.6,27,44,530,null,1000,7.1,2.7,null,2021,11,29]
[230,"Ri4 Östra Ringsjön, ytan","2021-12-10",2,12.9,94,8,1.8032786885245902,"",29,48,32.785000000000004,25,42,890,null,1400,3.8,2.7,null,2021,12,33]
[230,"Ri4 Östra Ringsjön, ytan","2022-01-25",1.6,13.7,96,8.1,1.8032786885245902,"",28,57,32.785000000000004,25,42,1500,null,2100,2.8,2.7,"Trålare siktad",2022,1,37]
[230,"Ri4 Östra Ringsjön, ytan","2022-02-22",2.7,13,96,8,1.639344262295082,"",27,65,33.575000000000003,21,45,1700,null,2200,6.1,2.1,null,2022,2,23]
[230,"Ri4 Östra Ringsjön, ytan","2022-03-29",6.5,14.3,117,8.4,1.5737704918032787,"",26,64,33.18,"<5",41,1400,null,1900,37,1.3,null,2022,3,15]
[230,"Ri4 Östra Ringsjön, ytan","2022-04-26",10.199999999999999,11.5,102,8.1999999999999993,1.6229508196721312,null,26,56,36.828000000000003,"<5",44,1200,null,1700,6.8,2.95,null,2022,4,15]
[230,"Ri4 Östra Ringsjön, ytan","2022-05-23",15.5,10.6,106,8.1999999999999993,1.8032786885245902,null,25,57,47.400000000000006,"<5",22,960,null,1500,12,2.4,null,2022,5,11]
[230,"Ri4 Östra Ringsjön, ytan","2022-06-23",19,10.4,111,8.4,1.639344262295082,null,26,59,37.524999999999999,"<5",17,570,null,2200,18,2.2000000000000002,null,2022,6,6.5]
[230,"Ri4 Östra Ringsjön, ytan","2022-07-21",22.4,14.1,162,9,1.639344262295082,null,25,62,30.415000000000003,5,44,1.3,null,530,30,1.6,null,2022,7,21]
[230,"Ri4 Östra Ringsjön, ytan","2022-08-25",21.5,10.1,113,8.8000000000000007,1.8,null,26,53,51.35,"<5",19,2.8,null,570,25,1.4,null,2022,8,9.9]
[230,"Ri4 Östra Ringsjön, ytan","2022-09-22",15.2,10.7,105,8.5,1.8032786885245902,null,27,56,47.400000000000006,20,56,1.5,null,600,29,1.4,null,2022,9,34]
[230,"Ri4 Östra Ringsjön, ytan","2022-10-20",11.8,10.6,97,8.1999999999999993,1.8032786885245902,"",27,62,38.710000000000008,13,34,2.2999999999999998,null,670,null,1.3,"Provresultat för klorofyll saknas pga labtekniskt misstag",2022,10,21]
[230,"Ri4 Östra Ringsjön, ytan","2022-11-15",10.4,10.6,95,8.1999999999999993,1.8032786885245902,null,28,46,27.650000000000002,23,48,31,null,650,11,2.4,null,2022,11,37]
[235,"Ri4 Östra Ringsjön, 15 m","2013-06-11",16.8,4.3,44.399702850718434,null,null,null,null,null,null,18,52,380,350,1400,null,null,null,2013,6,33]
[235,"Ri4 Östra Ringsjön, 15 m","2013-07-09",17.7,7.1,74.64566729170167,null,null,null,null,null,null,3,28,55,58,1000,null,null,null,2013,7,9]
[235,"Ri4 Östra Ringsjön, 15 m","2013-08-13",19.600000000000001,7.4,80.710491256259303,null,null,null,null,null,null,66,140,18,190,1200,null,null,null,2013,8,78]
[235,"Ri4 Östra Ringsjön, 15 m","2013-09-11",17,8.9,92.269506198189248,null,null,null,null,null,null,56,100,"<10","<10",880,null,null,null,2013,9,61]
[235,"Ri4 Östra Ringsjön, 15 m","2014-06-10",17,6.9,71.534785704214144,null,null,null,null,null,null,2,22,590,330,1700,null,null,null,2014,6,12]
[235,"Ri4 Östra Ringsjön, 15 m","2014-07-22",20,3.5,38.461278384222616,null,null,null,null,null,null,77,130,11,280,1000,null,null,null,2014,7,84]
[235,"Ri4 Östra Ringsjön, 15 m","2014-08-12",20.7,8.3000000000000007,92.395410770317994,null,null,null,null,null,null,73,130,"<10",13,1300,null,null,null,2014,8,73]
[235,"Ri4 Östra Ringsjön, 15 m","2014-09-23",13.8,10.1,97.906555440763469,null,null,null,null,null,null,33,89,"<10","<10",760,null,null,null,2014,9,43]
[235,"Ri4 Östra Ringsjön, 15 m","2015-06-09",9.6999999999999993,14.6,128.85345869693754,null,null,null,null,null,null,"<2",25,710,41,1800,null,null,null,2015,6,12]
[235,"Ri4 Östra Ringsjön, 15 m","2015-07-14",17.100000000000001,5.0999999999999996,52.980166797233011,null,null,null,null,null,null,28,67,200,240,1300,null,null,null,2015,7,36]
[235,"Ri4 Östra Ringsjön, 15 m","2015-08-11",18,3.1,32.785332372258999,null,null,null,null,null,null,33,68,18,150,860,null,null,null,2015,8,42]
[235,"Ri4 Östra Ringsjön, 15 m","2015-09-16",14.7,9.8000000000000007,96.862257768612025,8.5,null,null,null,null,null,12,75,"<10","<10",910,null,null,null,2015,9,29]
[235,"Ri4 Östra Ringsjön, 15 m","2016-06-15",18,8.3000000000000007,87.780083448306357,null,null,null,null,null,null,3.1,33,740,53,1400,null,null,null,2016,6,13]
[235,"Ri4 Östra Ringsjön, 15 m","2016-07-12",18.7,9.6999999999999993,103.99508702060081,null,null,null,null,null,null,"<2",49,240,"<10",1100,null,null,null,2016,7,7.3]
[235,"Ri4 Östra Ringsjön, 15 m","2016-08-16",17,8.1,83.975618000599212,null,null,null,null,null,null,10,83,"<10",12,730,null,null,null,2016,8,23]
[235,"Ri4 Östra Ringsjön, 15 m","2016-09-13",18.3,3.5,37.233827906407051,null,null,null,null,null,null,95,130,"<10",260,1100,null,null,null,{"$f":"YEAR(C3079)","v":2016},{"$f":"MONTH(C3079)","v":9},110]
[235,"Ri4 Östra Ringsjön, 15 m","2017-06-20",17.2,7.7,80.150567859507674,null,null,null,null,null,null,2.4,34,510,120,1100,null,null,null,2017,6,14]
[235,"Ri4 Östra Ringsjön, 15 m","2017-07-11",17.2,5.3,55.168572682518267,null,null,null,null,null,null,3.6,32,310,230,1100,null,null,null,2017,7,10]
[235,"Ri4 Östra Ringsjön, 15 m","2017-08-15",18.100000000000001,7.1,75.236578372148216,null,null,null,null,null,null,2.1,42,"<10","<10",800,null,null,null,2017,8,14]
[235,"Ri4 Östra Ringsjön, 15 m","2017-09-19",14.4,9.6,94.277326136535308,null,null,null,null,null,null,5,52,100,"<10",800,null,null,null,2017,9,28]
[235,"Ri4 Östra Ringsjön, 15 m","2018-06-12",13.8,1.3,13,null,null,null,null,null,null,"<2",30,390,590,1600,null,null,null,2018,6,16]
[235,"Ri4 Östra Ringsjön, 15 m","2018-07-18",18.2,2.2000000000000002,23,null,null,null,null,null,null,27,62,"<10",920,1600,null,null,null,2018,7,34]
[235,"Ri4 Östra Ringsjön, 15 m","2018-08-14",20.399999999999999,6.1,68,null,null,null,null,null,null,62,120,22,160,970,null,null,null,2018,8,72]
[235,"Ri4 Östra Ringsjön, 15 m","2018-09-11",17.7,8.1999999999999993,86,null,null,null,null,null,null,73,130,"<10","<10",850,null,null,null,2018,9,82]
[235,"Ri4 Östra Ringsjön, 15 m","2019-06-13",18,9.6,102,null,null,null,null,null,null,"<2",27,660,28,1200,null,null,null,2019,6,7]
[235,"Ri4 Östra Ringsjön, 15 m","2019-07-16",18.3,3,32,null,null,null,null,null,null,32,95,66,290,860,null,null,null,2019,7,41]
[235,"Ri4 Östra Ringsjön, 15 m","2019-08-14",19.3,8.8000000000000007,95,null,null,null,null,null,null,45,89,23,34,800,null,null,null,2019,8,49]
[235,"Ri4 Östra Ringsjön, 15 m","2019-09-18",14.1,9.5,93,null,null,null,null,null,null,39,93,"<10","<10",760,null,null,null,2019,9,48]
[235,"Ri4 Östra Ringsjön, 15 m","2020-06-09",16.399999999999999,8.6,88,null,null,null,null,null,null,2.2000000000000002,22,920,200,1400,null,null,null,2020,6,6.5]
[235,"Ri4 Östra Ringsjön, 15 m","2020-07-15",16.8,9.1999999999999993,95,null,null,null,null,null,null,"<2",40,290,48,1100,null,null,null,2020,7,7.2]
[235,"Ri4 Östra Ringsjön, 15 m","2020-08-12",18.100000000000001,2.2000000000000002,23,null,null,null,null,null,null,43,78,"<10",140,830,null,null,null,2020,8,52]
[235,"Ri4 Östra Ringsjön, 15 m","2020-09-15",16.399999999999999,9,92,null,null,null,null,null,null,18,130,"<10","<10",830,null,null,null,2020,9,32]
[235,"Ri4 Östra Ringsjön, 15 m","2021-06-10",14.3,4.5,43,null,null,null,null,null,35.155000000000001,5,13,690,190,1400,null,null,null,2021,6,9.6]
[235,"Ri4 Östra Ringsjön, 15 m","2021-07-09",15.8,0.1,1,null,null,null,null,null,36.735000000000007,24,49,220,810,1800,null,null,null,2021,7,37]
[235,"Ri4 Östra Ringsjön, 15 m","2021-08-26",17.399999999999999,9.5,100,null,null,null,null,null,28.835000000000001,18,55,1.6,10,840,null,null,null,2021,8,30]
[235,"Ri4 Östra Ringsjön, 15 m","2021-09-10",16.600000000000001,5.9,60,null,null,null,null,null,39.5,20,67,1.6,5.0999999999999996,570,null,null,null,2021,9,28]
[235,"Ri4 Östra Ringsjön, 15 m","2022-06-23",16.600000000000001,3.4,35,null,null,null,null,null,39.105000000000004,12,48,480,360,2600,null,null,"Kontrollmätning syrgas i ruttnerhämtare",2022,6,29]
[235,"Ri4 Östra Ringsjön, 15 m","2022-07-21",18.5,6,63,null,null,null,null,null,28.835000000000001,7,110,13,110,590,null,null,null,2022,7,46]
[235,"Ri4 Östra Ringsjön, 15 m","2022-08-25",18.899999999999999,0.1,1,null,null,null,null,null,47.4,77,110,4,690,1200,null,null,"Kontrollmätning syrgas i ruttnerhämtare. Avvikande provtagningsdjup",2022,8,100]
[235,"Ri4 Östra Ringsjön, 15 m","2022-09-22",14.7,8.9,87,null,null,null,null,null,47.400000000000006,22,62,1.4,10,600,null,null,"Avvikande provtagningsdjup",2022,9,34]
[240,"Ri2 Västra Ringsjön, ytan","2013-01-16",0.1,9.5,65.077901142744864,8.0299999999999994,1.945044,5.5,29.2,30,34,4,31,610,null,1400,15,"-","2 cm is, kantprov",2013,1,15]
[240,"Ri2 Västra Ringsjön, ytan","2013-02-13",0.4,16.7,115.38964720919564,8.23,1.6003091999999999,1.6,24.7,20,29,4,35,790,null,1500,18,2.2999999999999998,"is 10cm, 10cm snö",2013,2,9.5]
[240,"Ri2 Västra Ringsjön, ytan","2013-03-13",1.8,12.7,91.297340956733862,8.36,2.06412,2,29.6,30,35,"<2",13,910,null,1500,20,1.3,"5 cm is",2013,3,"<5"]
[240,"Ri2 Västra Ringsjön, ytan","2013-04-16",6,13.6,109.46404918974446,8.49,1.8837599999999999,2.6,27.7,35,35,"<2",21,630,null,1300,21,1.5,null,2013,4,5.4]
[240,"Ri2 Västra Ringsjön, ytan","2013-05-14",14.5,10.6,104.32177393305126,8.9,1.9639199999999999,7.5,27.9,35,36,3,28,160,null,980,21,1.1000000000000001,null,2013,5,6]
[240,"Ri2 Västra Ringsjön, ytan","2013-06-11",19.899999999999999,11.3,123.9432948690386,8.83,2.0340599999999998,10,28.5,45,40,2,33,25,null,990,30,1,null,2013,6,9.8000000000000007]
[240,"Ri2 Västra Ringsjön, ytan","2013-07-09",20.8,10.4,115.98433748246933,8.75,2.0741399999999999,14,28.4,35,35,"<2",32,"<10",null,1000,26,0.9,null,2013,7,10]
[240,"Ri2 Västra Ringsjön, ytan","2013-08-13",19.5,8.5,92.533158488509343,8.35,2.16432,17.100000000000001,29.1,55,47,5,77,"<10",null,1300,53,0.6,null,2013,8,10]
[240,"Ri2 Västra Ringsjön, ytan","2013-09-11",16.899999999999999,9.8000000000000007,101.39512775741093,8.49,2.1042000000000001,14,29.1,45,38,4,51,"<10",null,1100,53,0.7,null,2013,9,9.3000000000000007]
[240,"Ri2 Västra Ringsjön, ytan","2013-10-15",10.9,10.7,97.150440028302967,8.14,2.0540999999999996,7.2,29.2,30,33,2,29,"<10",null,840,23,1.2,null,2013,10,9]
[240,"Ri2 Västra Ringsjön, ytan","2013-11-19",6.3,11.7,94.902171045865686,8.35,2.004,7,29.4,35,34,"<2",32,130,null,1200,29,1.2,null,2013,11,6.5]
[240,"Ri2 Västra Ringsjön, ytan","2013-12-12",2.1,13.5,99.050425629275935,8.11,1.9839599999999997,12,29.7,40,32,"<2",44,250,null,1400,45,1.4,null,2013,12,9.4]
[240,"Ri2 Västra Ringsjön, ytan","2014-01-14",2.8,13.6,100.51385843454004,8.19,1.9138199999999999,8,29.3,40,34,"<2",33,510,null,1300,14,1.1000000000000001,null,2014,1,7.9]
[240,"Ri2 Västra Ringsjön, ytan","2014-02-25",2.8,14.1,104.20922087698636,8.31,1.9195499999999999,4.4000000000000004,29.6,30,34,4,17,820,null,1500,20,1.8,null,2014,2,5.7]
[240,"Ri2 Västra Ringsjön, ytan","2014-03-13",5.2,13.4,105.62977654923502,8.4499999999999993,1.9597500000000001,2.8,29.4,25,32,2,18,830,null,1600,13,2,null,2014,3,7.8]
[240,"Ri2 Västra Ringsjön, ytan","2014-04-16",8.4,12.1,103.47116249125993,8.23,1.9215600000000004,4.2,29.6,30,32,"<2",18,1700,null,1300,15,1.3,null,2014,4,7.3]
[240,"Ri2 Västra Ringsjön, ytan","2014-05-13",12.9,10.1,95.982381627655087,7.94,2.0100000000000002,4.7,30,35,33,"<2",26,400,null,1300,14,1.6,null,2014,5,13]
[240,"Ri2 Västra Ringsjön, ytan","2014-06-10",20.8,12.1,134.94331572479604,8.77,2.0904000000000003,3.7,29.5,30,36,"<2",10,68,null,910,19,1.4,null,2014,6,10]
[240,"Ri2 Västra Ringsjön, ytan","2014-07-22",23,8.6,99.719948431167865,8.2799999999999994,2.1205500000000002,10,30,40,37,4,31,"<10",null,910,37,0.9,null,2014,7,8.1]
[240,"Ri2 Västra Ringsjön, ytan","2014-08-12",21,8.1,90.663385756354415,8.07,1.9698,15,29.9,45,39,"<2",45,"<10",null,1100,63,0.6,null,2014,8,11]
[240,"Ri2 Västra Ringsjön, ytan","2014-09-23",14.7,9.6999999999999993,95.873867383218013,8.2899999999999991,2.0381400000000003,9.8000000000000007,29.7,45,37,4,48,"<10",null,890,34,0.8,null,2014,9,9]
[240,"Ri2 Västra Ringsjön, ytan","2014-10-14",12.4,9.8000000000000007,92.093377904211351,8.1199999999999992,2.0904000000000003,9.6,29.7,40,36,"<2",42,"<10",null,910,35,1.1000000000000001,null,2014,10,19]
[240,"Ri2 Västra Ringsjön, ytan","2014-11-11",9.3000000000000007,9.8000000000000007,85.662637855294975,8.06,1.9999499999999997,8.3000000000000007,29.7,35,36,2.1,32,170,null,1100,35,1.3,null,2014,11,12]
[240,"Ri2 Västra Ringsjön, ytan","2014-12-09",4.5,12.4,95.955099828361071,8.06,1.9899,5.5,29.2,30,35,10,33,440,null,1200,12,1.5,null,2014,12,18]
[240,"Ri2 Västra Ringsjön, ytan","2015-01-20",2.2999999999999998,12.2,88.931863082812953,8.06,1.7728200000000001,5.4,28.2,45,37,11,30,1200,null,2000,10,1.6,null,2015,1,26]
[240,"Ri2 Västra Ringsjön, ytan","2015-02-10",0.7,14.8,103.14153735301301,8.09,1.7682920000000002,6.3,28.3,45,37,"<2",29,1600,null,2000,19,1.3,null,2015,2,12]
[240,"Ri2 Västra Ringsjön, ytan","2015-03-17",5,13.3,104.29137978170556,8.5,1.7119,4.2,27.7,45,43,4,23,1000,null,2000,31,1.3,null,2015,3,7.7]
[240,"Ri2 Västra Ringsjön, ytan","2015-04-14",7.6,11.8,98.921663614834955,8.19,1.7622500000000003,8.3000000000000007,27.8,65,47,3,38,850,null,1800,34,0.9,null,2015,4,11]
[240,"Ri2 Västra Ringsjön, ytan","2015-05-12",12.6,11,103.83622650787774,8.2100000000000009,1.73204,5,28.1,45,43,"<2",22,500,null,1200,18,1.4,null,2015,5,14]
[240,"Ri2 Västra Ringsjön, ytan","2015-06-09",10,14.8,131.55723705233828,8.4600000000000009,1.8367680000000002,7.9,28,45,43,2.7,33,130,null,1200,25,1.1000000000000001,null,2015,6,8.5]
[240,"Ri2 Västra Ringsjön, ytan","2015-07-14",18.899999999999999,10.5,113.00636401810567,8.73,1.9374680000000004,8,28,40,43,"<2",26,"<10",null,1100,27,1.1000000000000001,null,2015,7,"<5"]
[240,"Ri2 Västra Ringsjön, ytan","2015-08-11",20.5,8,88.729574505909014,8.2200000000000006,1.9435099999999998,11,28.4,55,43,6.3,36,"<10",null,1100,30,1,null,2015,8,"<5"]
[240,"Ri2 Västra Ringsjön, ytan","2015-09-16",15.5,9.6999999999999993,97.50978522299549,8.4,1.9737200000000001,15,28.8,60,47,"<2",56,"<10",null,1300,43,0.8,null,2015,9,12]
[240,"Ri2 Västra Ringsjön, ytan","2015-10-13",9.4,9.4,82.364687295325794,7.99,1.9737200000000001,11,29.3,45,51,15,44,13,null,1100,31,1.1000000000000001,null,2015,10,15]
[240,"Ri2 Västra Ringsjön, ytan","2015-11-10",9.6,11,96.84892719542033,8.0500000000000007,1.8851040000000003,13,29,35,40,24,54,80,null,1300,35,1,null,2015,11,19]
[240,"Ri2 Västra Ringsjön, ytan","2015-12-08",5.4,11.8,93.506017407163711,8.18,1.776348,5.0999999999999996,28,35,37,19,38,650,null,1500,12,1.3,null,2015,12,27]
[240,"Ri2 Västra Ringsjön, ytan","2016-01-20",0.4,14.7,101.57052778294468,8.2200000000000006,1.7607600000000005,1,28.5,35,34,20,31,900,null,1500,4,2.7,"is",2016,1,28]
[240,"Ri2 Västra Ringsjön, ytan","2016-02-11",2.6,13.3,97.757332986362826,8.06,3.8366700000000002,2.7,26.9,40,38,20,37,1200,null,1800,7,2.5,null,2016,2,32]
[240,"Ri2 Västra Ringsjön, ytan","2016-03-16",3.6,13.9,104.99598969369109,8.5,1.643424,2,26.3,40,38,4.4000000000000004,17,1000,null,1600,18,2,null,2016,3,8.1999999999999993]
[240,"Ri2 Västra Ringsjön, ytan","2016-04-12",8.1999999999999993,12.6,107.21653678894947,8.69,1.6877320000000002,4.8,26.2,40,40,2.1,26,700,null,1600,25,1.3,null,{"$f":"YEAR(C3143)","v":2016},{"$f":"MONTH(C3143)","v":4},10]
[240,"Ri2 Västra Ringsjön, ytan","2016-05-17",13.9,9.5,92.291256715449634,8.01,1.7171360000000004,5.6,27.2,40,39,13,29,410,null,1200,17,1.4,null,2016,5,12]
[240,"Ri2 Västra Ringsjön, ytan","2016-06-15",18,9,95.1832230162358,8.3800000000000008,4.7241300000000015,8.3000000000000007,27.6,45,20,"<2",36,"<10",null,920,32,1.1000000000000001,null,2016,6,20]
[240,"Ri2 Västra Ringsjön, ytan","2016-07-12",19,9.5,102.44014116823293,8.49,1.8495320000000004,7.5,26.9,40,17,"<2",35,"<10",null,840,24,1.2,null,2016,7,6.1]
[240,"Ri2 Västra Ringsjön, ytan","2016-08-16",17,9.9,102.63686644517679,8.76,1.8956700000000002,15,27.2,45,22,"<2",54,"<10",null,970,46,0.9,null,2016,8,12]
[240,"Ri2 Västra Ringsjön, ytan","2016-09-13",19.3,8.6999999999999993,94.35209083612736,8.6999999999999993,1.86558,13,27.2,45,40,3.6,44,"<10",null,980,46,0.9,null,2016,9,25]
[240,"Ri2 Västra Ringsjön, ytan","2016-10-12",9.1,10.3,89.598387854255819,8.16,1.8856400000000002,6.8,27.8,35,43,8.6999999999999993,34,"<10",null,870,32,1.4,null,2016,10,7.6]
[240,"Ri2 Västra Ringsjön, ytan","2016-11-10",2.9,12.5,92.637852837442395,8.18,1.8294720000000004,3.3,27.5,30,24,3,20,"<10",null,790,19,2.2000000000000002,null,2016,11,13]
[240,"Ri2 Västra Ringsjön, ytan","2016-12-14",3.6,11.9,89.888653047116833,8.01,1.7010880000000004,3.6,28,30,24,4.7,18,160,null,830,23,1.9,null,2016,12,11]
[240,"Ri2 Västra Ringsjön, ytan","2017-01-18",1.2,15.3,108.14926838940737,8.5399999999999991,1.7171360000000004,3,27.8,30,33,"<2",13,250,null,880,25,2.5,null,2017,1,10]
[240,"Ri2 Västra Ringsjön, ytan","2017-02-15",0.2,16.3,111.98154374646596,8.36,1.8294720000000004,2.2999999999999998,28.9,25,28,"<2",12,290,null,910,19,1.6,null,2017,2,5.4]
[240,"Ri2 Västra Ringsjön, ytan","2017-03-14",3.4,14,105.1795305024164,8.61,1.8174360000000005,3.8,27.9,30,24,2.5,24,470,null,1100,26,1.5,null,2017,3,12]
[240,"Ri2 Västra Ringsjön, ytan","2017-04-18",7.3,12,99.843457334217916,8.2899999999999991,1.7953700000000001,4.9000000000000004,28.2,35,26,3.6,16,280,null,1000,19,1.4,null,2017,4,16]
[240,"Ri2 Västra Ringsjön, ytan","2017-05-10",10.4,10.6,95.120433816456398,8.14,1.8374960000000002,3.8,28.5,30,23,2.2000000000000002,17,210,null,880,11,1.3,null,2017,5,9.3000000000000007]
[240,"Ri2 Västra Ringsjön, ytan","2017-06-20",20.7,9.6999999999999993,107.98017885205834,8.42,1.7953700000000001,6,28.5,35,43,2.4,59,"<10",null,820,22,0.9,null,2017,6,20]
[240,"Ri2 Västra Ringsjön, ytan","2017-07-11",19.600000000000001,10.9,118.88437225584138,8.68,1.9578560000000005,5,28.4,35,29,"<2",21,"<10",null,720,14,1.5,null,2017,7,5.5]
[240,"Ri2 Västra Ringsjön, ytan","2017-08-15",18.3,8.6999999999999993,92.552657938783227,8.16,1.86558,9.5,28.6,55,25,"<2",44,"<10",null,970,28,1.1000000000000001,null,2017,8,14]
[240,"Ri2 Västra Ringsjön, ytan","2017-09-19",14.3,11.3,110.73353056934505,8.23,1.88564,6.3,27.9,35,28,5.2,48,140,null,1100,31,2.2999999999999998,null,2017,9,18]
[240,"Ri2 Västra Ringsjön, ytan","2017-10-10",10.8,9.8000000000000007,88.771378553448884,8.14,1.8776160000000004,4.5,28.1,30,27,6.5,39,230,null,1100,31,2.1,null,2017,10,20]
[240,"Ri2 Västra Ringsjön, ytan","2017-11-08",7.8,11.9,100.25958599715223,8.23,1.7973760000000005,4.3,27.6,35,20,4.4000000000000004,31,330,null,1000,31,2.6,null,2017,11,17]
[240,"Ri2 Västra Ringsjön, ytan","2017-12-19",2,12.3,88.916672984315795,8.02,1.7773160000000003,1.4,27.5,35,29,4.4000000000000004,23,730,null,1300,13,3.1,null,2017,12,"<5"]
[240,"Ri2 Västra Ringsjön, ytan","2018-01-09",2,12.7,92,7.99,1.7,3,27.1,45,36,22,38,1200,null,1700,1.5,2.2000000000000002,null,2018,1,35]
[240,"Ri2 Västra Ringsjön, ytan","2018-02-13",1.2,15.1,107,8.17,1.77,1.4,27.4,45,25,3.4,15,1200,null,1600,1.9,3,"is 5-8 cm ",2018,2,11]
[240,"Ri2 Västra Ringsjön, ytan","2018-03-20",1.5,13,93,8.07,1.78,1.5,27.6,45,28,2.9,20,1300,null,1900,22,1.7,"is 8-10 cm, prov utanför Björks ",2018,3,11]
[240,"Ri2 Västra Ringsjön, ytan","2018-04-17",9.1,12.1,105,8.48,1.71,4.9000000000000004,27.8,65,33,2.2999999999999998,19,1000,null,1400,24,1.4,null,2018,4,10]
[240,"Ri2 Västra Ringsjön, ytan","2018-05-15",18.3,10.1,107,8.74,1.8,4.3,27.9,40,28,"<2",19,480,null,1100,9.1999999999999993,1.9,null,2018,5,8.1]
[240,"Ri2 Västra Ringsjön, ytan","2018-06-12",20.399999999999999,8.1,90,8.7100000000000009,1.96,9.6999999999999993,27.6,50,32,2.2000000000000002,46,"<10",null,850,26,0.9,null,2018,6,9]
[240,"Ri2 Västra Ringsjön, ytan","2018-07-18",23,8.9,103,8.98,1.85,27,25.9,45,29,6.8,51,"<10",null,1600,66,0.7,null,2018,7,11]
[240,"Ri2 Västra Ringsjön, ytan","2018-08-14",19.899999999999999,8.6999999999999993,95,8.6999999999999993,1.76,30,25.8,60,30,4.4000000000000004,110,"<10",null,1400,50,0.6,null,2018,8,10]
[240,"Ri2 Västra Ringsjön, ytan","2018-09-11",17.600000000000001,8.6999999999999993,91,8.25,1.87,17,27.1,65,27,4.9000000000000004,80,"<10",null,1200,41,0.8,null,2018,9,9]
[240,"Ri2 Västra Ringsjön, ytan","2018-10-09",11.2,12.3,112,8.1199999999999992,1.93,8.3000000000000007,28.4,45,24,"<2",41,"<10",null,1000,29,0.9,null,2018,10,8]
[240,"Ri2 Västra Ringsjön, ytan","2018-11-13",8.1,10.7,91,7.9,1.86,6.5,28.9,30,27,"<2",24,13,null,850,24,1.3,null,2018,11,8]
[240,"Ri2 Västra Ringsjön, ytan","2018-12-11",3.6,13,98,8.0500000000000007,1.86,12,29,30,26,"<2",69,73,null,870,31,1,null,2018,12,9]
[240,"Ri2 Västra Ringsjön, ytan","2019-01-15",1.2,13.4,95,8.11,1.87,18,29.3,45,26,4.2,91,240,null,1600,51,0.7,null,2019,1,10]
[240,"Ri2 Västra Ringsjön, ytan","2019-02-11",1.2,13.4,95,7.99,1.88,5.6,29.4,40,18,3.3,31,340,null,1200,39,1.6,null,2019,2,9]
[240,"Ri2 Västra Ringsjön, ytan","2019-03-12",4.0999999999999996,13.1,100,8.4,1.78,9.1,29,40,21,"<2",59,540,null,1100,55,1.1000000000000001,null,2019,3,8]
[240,"Ri2 Västra Ringsjön, ytan","2019-04-10",9,12.7,110,9,1.79,6.3,28.7,35,25,"<2",23,510,null,1100,34,1,null,2019,4,9]
[240,"Ri2 Västra Ringsjön, ytan","2019-05-14",12.7,10.6,100,8.24,1.86,8.9,29.5,40,25,5.3,38,280,null,1000,14,1,null,2019,5,7]
[240,"Ri2 Västra Ringsjön, ytan","2019-06-13",19.5,11.4,124,8.52,1.89,9.4,29.5,45,23,"<2",39,200,null,1000,36,1.1000000000000001,null,2019,6,9]
[240,"Ri2 Västra Ringsjön, ytan","2019-07-16",20.2,8.6999999999999993,96,8.5,1.99,12,29.3,35,24,2.9,45,"<10",null,500,13,0.8,null,2019,7,8]
[240,"Ri2 Västra Ringsjön, ytan","2019-08-14",19.3,9.6999999999999993,105,8.2799999999999994,1.98,17,29.7,70,26,3,100,"<10",null,1500,31,1.2,null,2019,8,12]
[240,"Ri2 Västra Ringsjön, ytan","2019-09-18",13.1,10.7,102,8.58,2.11,15,29.1,45,11,"<2",96,"<10",null,1100,49,0.7,null,2019,9,11]
[240,"Ri2 Västra Ringsjön, ytan","2019-10-16",11.2,10.8,99,8.1,1.98,8,29.2,30,27,2,39,110,null,830,24,1.3,null,2019,10,9.1999999999999993]
[240,"Ri2 Västra Ringsjön, ytan","2019-11-13",6.1,11.1,90,8.06,1.99,3.7,29.6,30,25,6.3,35,140,null,960,22,1.9,null,2019,11,14]
[240,"Ri2 Västra Ringsjön, ytan","2019-12-12",3.9,12.4,94,8.2100000000000009,2,6.1,29.5,30,25,8.8000000000000007,50,620,null,1300,19,1.4,null,2019,12,17]
[240,"Ri2 Västra Ringsjön, ytan","2020-01-13",4,12.9,98,8.19,1.92,4.5,29.7,30,25,"<2",37,740,null,1400,28,1.6,null,2020,1,8]
[240,"Ri2 Västra Ringsjön, ytan","2020-02-07",4.4000000000000004,13.2,102,8.5299999999999994,1.89,4.8,29.5,40,34,3,34,990,null,1700,49,1.6,null,2020,2,8.5]
[240,"Ri2 Västra Ringsjön, ytan","2020-03-17",5,13.4,105,8.34,1.73,6,28.9,45,26,3.4,42,1200,null,1700,41,1.1000000000000001,null,2020,3,8.5]
[240,"Ri2 Västra Ringsjön, ytan","2020-04-17",10.1,11.7,104,8.48,1.88,4.9000000000000004,30.4,40,29,"<2",33,1000,null,1800,16,1.5,null,2020,4,7.4]
[240,"Ri2 Västra Ringsjön, ytan","2020-05-20",14,10.9,106,8.26,1.95,4.8,30.9,30,28,"<2",30,680,null,1300,12,1.5,null,2020,5,8.9]
[240,"Ri2 Västra Ringsjön, ytan","2020-06-09",19.3,11.2,121,8.9,1.93,4.8,30.6,40,24,"<2",34,360,null,1200,14,1.2,null,2020,6,9.6]
[240,"Ri2 Västra Ringsjön, ytan","2020-07-15",17,9.3000000000000007,96,8.93,2.0099999999999998,4.5,30.6,35,20,"<2",34,"<10",null,800,17,1.5,null,2020,7,8.5]
[240,"Ri2 Västra Ringsjön, ytan","2020-08-12",22.6,8.5,98,8.3800000000000008,2.0699999999999998,9.1,31.4,25,29,"<2",59,"<10",null,1000,28,1,null,2020,8,8.1]
[240,"Ri2 Västra Ringsjön, ytan","2020-09-15",17.5,11,115,8.83,2.0099999999999998,7.9,30.5,45,30,"<2",42,"<10",null,860,31,1,null,2020,9,11]
[240,"Ri2 Västra Ringsjön, ytan","2020-10-13",12.3,12.3,115,8.2100000000000009,1.98,6.2,30.5,30,21,2.1,34,"<10",null,770,17,1.4,null,2020,10,8.9]
[240,"Ri2 Västra Ringsjön, ytan","2020-11-11",9.3000000000000007,10.199999999999999,89,8.06,1.98,2.1,30.8,30,20,2,21,29,null,710,13,2.7,null,2020,11,6.6]
[240,"Ri2 Västra Ringsjön, ytan","2020-12-16",4.0999999999999996,12.3,94,8.07,1.89,1.3,31.2,20,19,4.8,24,220,null,830,16,3.2,null,2020,12,8.8000000000000007]
[240,"Ri2 Västra Ringsjön, ytan","2021-01-14",0.8,13.9,96,8.1,1.9666972597351515,"",30,19,25.675000000000001,"<5",25,340,null,850,20,3.3,null,2021,1,6.6]
[240,"Ri2 Västra Ringsjön, ytan","2021-02-10",0.6,16.5,114,8.3000000000000007,1.9666972597351515,null,31,25,26.465000000000003,"<5",20,490,null,1100,22,2.9,"Isprovtagning, avvikande metod siktdjup. ",2021,2,7.1000000000000005]
[240,"Ri2 Västra Ringsjön, ytan","2021-03-17",3.8,14.1,106,8.3000000000000007,1.8028058214238889,null,30,30,20.540000000000003,"<5",14,690,null,1200,15,2.25,null,2021,3,"<5"]
[240,"Ri2 Västra Ringsjön, ytan","2021-04-26",8.9,12,102,8.1999999999999993,1.9666972597351515,null,30,30,29.625,"<5",16,470,null,1100,12,2.2000000000000002,null,2021,4,6.2]
[240,"Ri2 Västra Ringsjön, ytan","2021-05-27",13.9,9.6999999999999993,94,8.1999999999999993,1.9666972597351515,null,30,24,22.91,"<5",13,360,null,820,4.2,3.6,null,2021,5,16]
[240,"Ri2 Västra Ringsjön, ytan","2021-06-10",20.8,9.8000000000000007,109,8.3000000000000007,1.9666972597351515,null,30,31,21.725000000000001,"<5",11,260,null,840,6.8,2.7,null,2021,6,6.4]
[240,"Ri2 Västra Ringsjön, ytan","2021-07-09",22.4,8.6,98,8,1.9666972597351515,null,29,28,26.07,"<5",26,2.6,null,640,19,1.6,null,2021,7,8.2000000000000011]
[240,"Ri2 Västra Ringsjön, ytan","2021-08-26",17,9.1,94,8.3000000000000007,1.9672131147540983,null,31,36,27.650000000000002,"<5",29,1.6,null,360,20,1.3,null,{"$f":"YEAR(C3207)","v":2021},{"$f":"MONTH(C3207)","v":8},13]
[240,"Ri2 Västra Ringsjön, ytan","2021-09-10",18.8,10.7,114,8,1.9672131147540983,"",27,28,33.97,5,24,2.7,null,520,14,1.65,null,2021,9,8.5]
[240,"Ri2 Västra Ringsjön, ytan","2021-10-25",8.8000000000000007,11.2,96,8.1999999999999993,1.9672131147540983,"",30,35,20.145,"<5",23,15,null,500,18,2.4,null,2021,10,11]
[240,"Ri2 Västra Ringsjön, ytan","2021-11-23",6.5,11.9,95,8.1,1.9672131147540983,"",30,31,22.91,9,33,230,null,850,12,2.2000000000000002,null,2021,11,18]
[240,"Ri2 Västra Ringsjön, ytan","2021-12-10",0.5,13.8,96,8,1.8032786885245902,"",30,24,25.28,12,45,450,null,990,8.6,1.9,null,2021,12,23]
[240,"Ri2 Västra Ringsjön, ytan","2022-01-25",1.5,13.9,98,8.1,1.8032786885245902,"",29,52,26.465000000000003,8,33,1100,null,1600,12,2.8,null,2022,1,23]
[240,"Ri2 Västra Ringsjön, ytan","2022-02-22",2.7,13.3,98,8.1,1.639344262295082,"",28,67,31.205000000000002,"<5",41,1100,null,1600,38,1.2,null,2022,2,6.2]
[240,"Ri2 Västra Ringsjön, ytan","2022-03-29",7.5,13.2,111,8.4,1.639344262295082,"",27,58,30.810000000000002,"<5",31,940,null,1400,22,1.6,null,2022,3,21]
[240,"Ri2 Västra Ringsjön, ytan","2022-04-26",12.3,10.8,100,8,1.639344262295082,null,26,40,36.828000000000003,"<5",40,710,null,1200,4.0999999999999996,3.2,null,2022,4,34]
[240,"Ri2 Västra Ringsjön, ytan","2022-05-23",16,9.9,100,8.1,1.8032786885245902,null,27,42,43.45,"<5",16,480,null,1100,8,3.4,null,2022,5,14]
[240,"Ri2 Västra Ringsjön, ytan","2022-06-23",19.600000000000001,8.6,93,8.1,1.8032786885245902,null,27,45,35.155000000000001,"<5",25,120,null,1700,11,2.6,null,2022,6,12]
[240,"Ri2 Västra Ringsjön, ytan","2022-07-21",22.4,10.3,119,8.3000000000000007,1.639344262295082,null,28,33,25.28,"<5",44,1.1000000000000001,null,440,7.2,2.5,null,2022,7,34]
[240,"Ri2 Västra Ringsjön, ytan","2022-08-25",22,8.1,91,8.1,1.8,null,28,50,39.5,"<5",15,1,null,560,9,2.2000000000000002,null,2022,8,9.9]
[240,"Ri2 Västra Ringsjön, ytan","2022-09-22",14.1,8.1999999999999993,79,7.9,1.639344262295082,null,29,26,36.339999999999996,7,17,"<1",null,530,3.7,2.8,null,2022,9,10]
[240,"Ri2 Västra Ringsjön, ytan","2022-10-20",11.2,9.1,82,7.9,1.639344262295082,"",29,18,30.810000000000002,8,15,28,null,630,null,4.2,"Provresultat för klorofyll saknas pga labtekniskt misstag",2022,10,11]
[240,"Ri2 Västra Ringsjön, ytan","2022-11-15",10.199999999999999,10.6,95,8.1,1.639344262295082,null,30,17,22.91,10,39,92,null,880,3.9,4,null,2022,11,32]
[240,"Ri2 Västra Ringsjön, ytan","2022-12-21",1.5,12.8,93,8,1.4918032786885247,null,27,18,28.044999999999998,2.1,30,180,null,740,14,">2","Isprovtagning, avvikande metod siktdjup. Provtagning ej möjlig vid provpunkt pga svag is, provet taget vid bottendjup 2 m.",2022,12,15]
[245,"Ri2 Västra Ringsjön, 4 m","2013-06-11",19.8,10.8,118.23745989908048,null,null,null,null,null,null,3,36,"<10",14,990,null,null,null,2013,6,12]
[245,"Ri2 Västra Ringsjön, 4 m","2013-07-09",20.3,8.6999999999999993,96.13800152648534,null,null,null,null,null,null,"<2",36,"<10","<10",860,null,null,null,2013,7,9.1999999999999993]
[245,"Ri2 Västra Ringsjön, 4 m","2013-08-13",19.100000000000001,8.5,91.832467396581279,null,null,null,null,null,null,7,90,"<10","<10",1200,null,null,null,2013,8,9]
[245,"Ri2 Västra Ringsjön, 4 m","2013-09-11",16.600000000000001,9,92.552602138335942,null,null,null,null,null,null,3,63,"<10","<10",1200,null,null,null,2013,9,12]
[245,"Ri2 Västra Ringsjön, 4 m","2014-06-10",20.3,10.1,111.60848453074735,null,null,null,null,null,null,"<2",8.3000000000000007,71,27,920,null,null,null,2014,6,19]
[245,"Ri2 Västra Ringsjön, 4 m","2014-07-22",23.2,8.1999999999999993,95.407883066397119,null,null,null,null,null,null,3,9.8000000000000007,"<10",13,990,null,null,null,2014,7,34]
[245,"Ri2 Västra Ringsjön, 4 m","2014-08-12",20.2,8.5,93.754088686352333,null,null,null,null,null,null,null,null,null,null,null,null,null,null,2014,8]
[245,"Ri2 Västra Ringsjön, 4 m","2014-09-23",14.1,9.6,93.668713771257146,null,null,null,null,null,null,4,43,"<10","<10",870,null,null,null,2014,9,8.5]
[245,"Ri2 Västra Ringsjön, 4 m","2015-06-09",10,15.4,136.89063855446008,null,null,null,null,null,null,"<2",35,140,15,1100,null,null,null,2015,6,9.5]
[245,"Ri2 Västra Ringsjön, 4 m","2015-07-14",18.3,9.3000000000000007,98.93559986559589,null,null,null,null,null,null,2.5,32,"<10","<10",1000,null,null,null,2015,7,"<5"]
[245,"Ri2 Västra Ringsjön, 4 m","2015-08-11",20.100000000000001,8.1,89.176328587875787,null,null,null,null,null,null,"<2",46,"<10",11,950,null,null,null,2015,8,5.3]
[245,"Ri2 Västra Ringsjön, 4 m","2015-09-16",15.4,9.3000000000000007,93.292936128025389,8.1999999999999993,null,null,null,null,null,3.4,110,"<10","<10",1400,null,null,null,2015,9,12]
[245,"Ri2 Västra Ringsjön, 4 m","2016-06-15",18,8.5,89.895266182000483,null,null,null,null,null,null,4.9000000000000004,55,61,"<10",940,null,null,null,2016,6,21]
[245,"Ri2 Västra Ringsjön, 4 m","2016-07-12",19,9.5,102.44014116823293,null,null,null,null,null,null,2.4,36,"<10","<10",850,null,null,null,2016,7,7]
[245,"Ri2 Västra Ringsjön, 4 m","2016-08-16",16.5,9.3000000000000007,95.44275999716163,null,null,null,null,null,null,"<2",52,"<10","<10",1000,null,null,null,2016,8,12]
[245,"Ri2 Västra Ringsjön, 4 m","2016-09-13",19.399999999999999,7.7,83.665649743756802,null,null,null,null,null,null,"<2",46,"<10","<10",990,null,null,null,2016,9,17]
[245,"Ri2 Västra Ringsjön, 4 m","2017-06-20",20.7,9.6999999999999993,107.98017885205834,null,null,null,null,null,null,null,59,"<10",null,820,null,null,"inget prov pga höga vågor",2017,6,20]
[245,"Ri2 Västra Ringsjön, 4 m","2017-07-11",19.3,10.199999999999999,110.61969270442518,null,null,null,null,null,null,"<2",18,"<10",21,700,null,null,null,2017,7,14]
[245,"Ri2 Västra Ringsjön, 4 m","2017-08-15",18.5,8.6999999999999993,92.913543869547837,null,null,null,null,null,null,"<2",46,"<10",23,970,null,null,null,2017,8,12]
[245,"Ri2 Västra Ringsjön, 4 m","2017-09-19",14.2,11.3,110.49473392643874,null,null,null,null,null,null,3,46,130,15,1000,null,null,null,2017,9,17]
[245,"Ri2 Västra Ringsjön, 4 m","2018-06-12",19.899999999999999,8.1999999999999993,90,null,null,null,null,null,null,3,51,"<10",17,890,null,null,null,2018,6,10]
[245,"Ri2 Västra Ringsjön, 4 m","2018-07-18",22.8,8.5,98,null,null,null,null,null,null,3.8,39,"<10","<10",1400,null,null,null,2018,7,10]
[245,"Ri2 Västra Ringsjön, 4 m","2018-08-14",19.899999999999999,7.9,87,null,null,null,null,null,null,4.7,120,"<10","<10",1500,null,null,null,2018,8,10]
[245,"Ri2 Västra Ringsjön, 4 m","2018-09-11",17.3,9,94,null,null,null,null,null,null,4.0999999999999996,80,"<10","<10",1200,null,null,null,2018,9,8]
[245,"Ri2 Västra Ringsjön, 4 m","2019-06-13",19.399999999999999,10.4,113,null,null,null,null,null,null,"<2",78,150,26,780,null,null,null,2019,6,10]
[245,"Ri2 Västra Ringsjön, 4 m","2019-07-16",19.899999999999999,8.4,92,null,null,null,null,null,null,3.5,46,"<10","<10",500,null,null,null,2019,7,8]
[245,"Ri2 Västra Ringsjön, 4 m","2019-08-14",19.100000000000001,9,97,null,null,null,null,null,null,5.3,96,16,67,1400,null,null,null,2019,8,14]
[245,"Ri2 Västra Ringsjön, 4 m","2019-09-18",13.1,10.6,101,null,null,null,null,null,null,2.1,98,"<10","<10",1200,null,null,null,2019,9,11]
[245,"Ri2 Västra Ringsjön, 4 m","2020-06-09",17.399999999999999,10.9,114,null,null,null,null,null,null,2.1,35,340,26,1200,null,null,null,2020,6,9.1999999999999993]
[245,"Ri2 Västra Ringsjön, 4 m","2020-07-15",16.7,8.9,92,null,null,null,null,null,null,"<2",36,"<10","<10",810,null,null,null,2020,7,8.6]
[245,"Ri2 Västra Ringsjön, 4 m","2020-08-12",22.3,7.5,86,null,null,null,null,null,null,"<2",49,"<10",28,990,null,null,null,2020,8,7.5]
[245,"Ri2 Västra Ringsjön, 4 m","2020-09-15",16.5,9.5,97,null,null,null,null,null,null,"<2",58,"<10","<10",970,null,null,null,2020,9,9.9]
[245,"Ri2 Västra Ringsjön, 4 m","2021-06-10",20.100000000000001,9.1,99,null,null,null,null,null,30.415000000000003,"<5",12,270,48,820,null,null,null,2021,6,7.7]
[245,"Ri2 Västra Ringsjön, 4 m","2021-07-09",21.7,6.2,70,null,null,null,null,null,24.885000000000002,"<5",25,7.9,42,640,null,null,null,2021,7,"<5"]
[245,"Ri2 Västra Ringsjön, 4 m","2021-08-26",17.100000000000001,9,94,null,null,null,null,null,33.18,"<5",30,1.9,11,690,null,null,null,2021,8,13]
[245,"Ri2 Västra Ringsjön, 4 m","2021-09-10",18.100000000000001,9.6,101,null,null,null,null,null,33.97,6,30,1.2,15,620,null,null,null,2021,9,15]
[245,"Ri2 Västra Ringsjön, 4 m","2022-06-23",18.2,7.1,75,null,null,null,null,null,39.5,"<5",22,130,14,1500,null,null,null,2022,6,12]
[245,"Ri2 Västra Ringsjön, 4 m","2022-07-21",18.399999999999999,3.3,37,null,null,null,null,null,27.255000000000003,5,40,"<1",14,460,null,null,"Kontrollmätning syrgas i ruttnerhämtare",2022,7,25]
[245,"Ri2 Västra Ringsjön, 4 m","2022-08-25",21.8,7,78,null,null,null,null,null,39.5,"<5",17,2.7,20,580,null,null,null,2022,8,11]
[245,"Ri2 Västra Ringsjön, 4 m","2022-09-22",13.7,7.7,73,null,null,null,null,null,35.945,6,18,1.3,14,560,null,null,null,2022,9,14]
[240,"Ri2 Västra Ringsjön, ytan","2023-01-19",3.1,12.6,null,8.1,1.6,null,27.6,15,null,6.8,25,750,null,1100,5,4,null,{"$f":"YEAR(C3264)","v":2023},{"$f":"MONTH(C3264)","v":1},17]
[230,"Ri4 Östra Ringsjön, ytan","2023-01-19",3.6,12.7,null,8,1.6,null,26.9,25,null,26,43,1200,null,1700,2.2999999999999998,3.3,null,2023,1,35]
[220,"Ri5 Sätoftasjön, ytan","2023-01-19",3.2,12.6,null,7.9,1.2,null,22.6,40,null,2.8,40,1100,null,1500,16,1.8,null,2023,1,11]
[240,"Ri2 Västra Ringsjön, ytan","2023-02-14",2.4,14.1,null,8.1,1.6,null,27.8,20,null,"<2",18,770,null,1200,21,2.2999999999999998,null,2023,2,5.5]
[230,"Ri4 Östra Ringsjön, ytan","2023-02-14",1.9,13.6,null,8,1.6,null,27.2,30,null,19,37,1600,null,2000,5.6,3,null,2023,2,22]
[220,"Ri5 Sätoftasjön, ytan","2023-02-14",2.5,14.4,null,8,1.2,null,22.4,50,null,2.6,25,1100,null,1600,25,1.2,null,2023,2,5]
[240,"Ri2 Västra Ringsjön, ytan","2023-03-16",3.2,13.3,null,8.3000000000000007,1.6,null,27.4,20,null,"<2",21,720,null,1200,19,1.8,null,2023,3,"<5"]
[230,"Ri4 Östra Ringsjön, ytan","2023-03-16",2.6,13.6,null,8.1999999999999993,1.6,null,26.9,30,null,4.5999999999999996,31,1300,null,2000,24,1.9,null,2023,3,"<5"]
[220,"Ri5 Sätoftasjön, ytan","2023-03-16",3.1,13.4,null,8,1.1000000000000001,null,21.8,50,null,2.2000000000000002,27,1000,null,1600,11,1.4,null,2023,3,5.9]
[240,"Ri2 Västra Ringsjön, ytan","2023-04-17",9.1999999999999993,11.8,null,8.1,1.6,null,28.6,25,null,"<2",14,730,null,1100,13,2.1,null,2023,4,"<5"]
[230,"Ri4 Östra Ringsjön, ytan","2023-04-17",8,12.6,null,8.3000000000000007,1.6,null,28,30,null,3,17,1400,null,1700,10,2.9,null,2023,4,"<5"]
[220,"Ri5 Sätoftasjön, ytan","2023-04-17",9.1999999999999993,11.6,null,7.8,1.1000000000000001,null,22,60,null,2.5,22,870,null,1400,11,1.8,null,2023,4,5]
[240,"Ri2 Västra Ringsjön, ytan","2023-05-12",13.4,9.6999999999999993,null,8,1.6,null,28,20,null,"<2",13,410,null,1000,1.8,4.0999999999999996,null,2023,5,"<5"]
[230,"Ri4 Östra Ringsjön, ytan","2023-05-12",12.4,10.9,null,8.1,1.6,null,26.8,25,null,"<2",36,1100,null,2000,null,3.4,null,2023,5,"<5"]
[220,"Ri5 Sätoftasjön, ytan","2023-05-12",13.6,13.6,null,8,1.3,null,22.4,40,null,"<2",28,720,null,1500,null,1.7,null,2023,5,6.3]
[240,"Ri2 Västra Ringsjön, ytan","2023-06-16",20.9,10,null,8.6,1.6,null,29.2,20,null,3.4,23,"<10",null,600,7.9,2.5,null,2023,6,10]
[245,"Ri2 Västra Ringsjön, 4 m","2023-06-16",19.2,6.1,null,null,null,null,null,null,null,"<2",20,23,17,620,null,null,null,2023,6,7.2]
[230,"Ri4 Östra Ringsjön, ytan","2023-06-16",20.3,12.1,null,8.6999999999999993,1.6,null,26.9,30,null,2,32,700,null,1300,20,2.4,null,2023,6,13]
[235,"Ri4 Östra Ringsjön, 15 m","2023-06-16",15.5,"<0,2",null,null,null,null,null,null,null,3.8,38,610,280,1400,null,null,null,2023,6,10]
[220,"Ri5 Sätoftasjön, ytan","2023-06-16",21.1,11,null,8.9,1.5,null,24.6,40,null,"<2",50,17,null,920,25,1.6,null,2023,6,15]
[225,"Ri5 Sätoftasjön, 15 m","2023-06-16",13,"<0,2",null,null,null,null,null,null,null,3.4,30,"<10",890,1500,null,null,null,2023,6,9.6]
[240,"Ri2 Västra Ringsjön, ytan","2023-07-13",19.2,8.6,null,8,1.6,null,26.7,20,null,2.2000000000000002,24,"<10",null,720,12,2.7,null,2023,7,"<5"]
[245,"Ri2 Västra Ringsjön, 4 m","2023-07-13",19.2,8.6,null,null,null,null,null,null,null,2.8,26,"<10","<10",740,null,null,null,2023,7,5.7]
[230,"Ri4 Östra Ringsjön, ytan","2023-07-13",19.2,9.1999999999999993,null,7.5,1,null,22.9,30,null,null,47,130,null,1100,41,2.6,null,2023,7,6.9]
[235,"Ri4 Östra Ringsjön, 15 m","2023-07-13",18.600000000000001,7.2,null,null,null,null,null,null,null,"<2",49,130,12,1100,null,null,null,2023,7,6.7]
[220,"Ri5 Sätoftasjön, ytan","2023-07-13",19.8,7.9,null,8.5,1.8,null,28.2,30,null,"<2",37,"<10",null,870,18,1.9,null,2023,7,"<5"]
[225,"Ri5 Sätoftasjön, 15 m","2023-07-13",17.2,1.2,null,null,null,null,null,null,null,2.4,42,"<10","<10",800,null,null,null,2023,7,5.9]
[240,"Ri2 Västra Ringsjön, ytan","2023-08-24",20.3,8.3000000000000007,null,8,1.5,null,27.7,15,null,"<2",28,"<10",null,720,11,2.5,null,2023,8,7.2]
[245,"Ri2 Västra Ringsjön, 4 m","2023-08-24",20.2,8.3000000000000007,null,null,null,null,null,null,null,5.7,31,"<10","<10",710,null,null,null,2023,8,6.7]
[230,"Ri4 Östra Ringsjön, ytan","2023-08-24",19.600000000000001,9.5,null,8.6,1.8,null,27.5,25,null,"<2",32,"<10",null,730,13,2.2000000000000002,null,2023,8,"<5"]
[235,"Ri4 Östra Ringsjön, 15 m","2023-08-24",16.399999999999999,3.2,null,null,null,null,null,null,null,3.3,24,"<10","<10",660,null,null,null,2023,8,5.2]
[220,"Ri5 Sätoftasjön, ytan","2023-08-24",20.399999999999999,8.6,null,8.1,1.5,null,26.5,30,null,2.7,35,"<10",null,780,15,1.7,null,2023,8,9.1999999999999993]
[225,"Ri5 Sätoftasjön, 15 m","2023-08-24",15.2,1.7,null,null,null,null,null,null,null,8.4,36,"<10",35,710,null,null,null,2023,8,8.1]
[240,"Ri2 Västra Ringsjön, ytan","2023-09-22",18.100000000000001,9.3000000000000007,null,8.1999999999999993,1.6,null,27.5,20,null,2,30,"<10",null,560,16,2.2000000000000002,null,2023,9,7.1]
[245,"Ri2 Västra Ringsjön, 4 m","2023-09-22",18.100000000000001,9.1999999999999993,null,null,null,null,null,null,null,3.3,28,"<10","<10",590,null,null,null,2023,9,6.9]
[230,"Ri4 Östra Ringsjön, ytan","2023-09-22",18.2,8.3000000000000007,null,8.1,1.8,null,28.4,25,null,18,67,20,null,720,25,1.8,null,2023,9,31]
[235,"Ri4 Östra Ringsjön, 15 m","2023-09-22",18,6.6,null,null,null,null,null,null,null,33,82,20,140,730,null,null,null,2023,9,36]
[220,"Ri5 Sätoftasjön, ytan","2023-09-22",18.100000000000001,9.1999999999999993,null,8.1,1.6,null,26.2,25,null,4.0999999999999996,34,"<10",null,590,22,2,null,2023,9,5.7]
[225,"Ri5 Sätoftasjön, 15 m","2023-09-22",17.600000000000001,7.3,null,null,null,null,null,null,null,6.1,29,"<10",45,600,null,null,null,2023,9,7.9]
[240,"Ri2 Västra Ringsjön, ytan","2023-10-23",7.9,11.6,null,8.1,1.5,null,27.5,15,null,8.4,29,19,null,620,16,1.8,null,2023,10,8.6999999999999993]
[230,"Ri4 Östra Ringsjön, ytan","2023-10-23",9.4,11,null,8.1999999999999993,1.8,null,28.3,25,null,19,56,90,null,760,28,1.6,null,2023,10,17]
[220,"Ri5 Sätoftasjön, ytan","2023-10-23",8.1,11.5,null,8,1.5,null,25.4,30,null,4.4000000000000004,33,40,null,620,16,1.5,null,2023,10,8]
[240,"Ri2 Västra Ringsjön, ytan","2023-11-17",6.1,11.4,null,8,1.6,null,27.8,15,null,5.6,20,120,null,600,19,3.1,null,{"$f":"YEAR(C3306)","v":2023},{"$f":"MONTH(C3306)","v":11},7.8]
[230,"Ri4 Östra Ringsjön, ytan","2023-11-17",7,11.1,null,8,1.8,null,28.4,25,null,11,46,620,null,1100,10,2.6,null,2023,11,20]
[220,"Ri5 Sätoftasjön, ytan","2023-11-17",6.2,11.4,null,7.8,1.3,null,23.6,50,null,2.1,29,270,null,910,7.7,2.5,null,2023,11,14]
[240,"Ri2 Västra Ringsjön, ytan","2023-12-27",2.2000000000000002,13.4,null,8,1.6,null,26.8,30,null,5.9,26,550,null,1300,13,1.6,null,2023,12,11]
[230,"Ri4 Östra Ringsjön, ytan","2023-12-27",2.2000000000000002,13.4,null,8,1.6,null,26.2,50,null,18,31,1200,null,1600,4.7,2.5,null,2023,12,22]
[220,"Ri5 Sätoftasjön, ytan","2023-12-27",2.2999999999999998,13.1,null,7.8,1.1000000000000001,null,20.6,100,null,13,28,580,null,1300,3.2,1.5,null,{"$f":"YEAR(C3311)","v":2023},{"$f":"MONTH(C3311)","v":12},17]
[75,"16 Ybbarpsån, nedstr Perstorp AB","2023-12-13",3,12.9,97.4,7,0.39344262295081966,6.4,21,230,71.100000000000009,null,39,1000,null,1500,null,null,null,2023,12]
[85,"22 Ybbarpsån, vid Herrevadskloster","2023-12-13",2.5,12,89,6.9,0.32786885245901637,4.7,17,270,90.850000000000009,null,38,900,null,1600,null,null,null,2023,12]
[120,"33 Bäljaneå, nedstr Klippan","2023-12-13",2.1,13.3,97.1,6.8,0.18032786885245902,4.9000000000000004,10,250,102.7,null,37,1200,null,1700,null,null,null,2023,12]
[145,"44 Pinnån, utfl ur Kopparmölledamm","2023-12-13",2.6,13.1,97.2,7,0.24590163934426229,3.4,19,250,79,null,36,920,null,1600,null,null,null,2023,12]
[150,"58 Pinnån, vid utfl t Rönneå","2023-12-13",2.4,13.1,96.4,7.1,0.34426229508196721,5.0999999999999996,19,230,71.100000000000009,null,39,1200,null,1700,null,null,null,2023,12]
[45,"57 Rönneå, vid utfl t Skälderviken","2023-12-13",2.7,12.7,94.2,7.5,0.88524590163934425,5.8,21,140,59.25,null,41,1300,null,1900,null,null,null,2023,12]
[165,"56 Rössjöholmsån, f utfl t Rönneå","2023-12-13",2.6,13,95.9,7.5,0.77049180327868849,6,17,150,51.35,null,39,1200,null,1600,null,null,null,2023,12]
[25,"24 Rönneå, vid Forsmöllan","2023-12-13",2.2000000000000002,12.6,92.3,7.6,1.1311475409836065,3.3,23,100,55.300000000000004,null,34,1200,null,1800,null,null,null,2023,12]
[30,"25 Rönneå, vid Stackarps bro","2023-12-13",1.6,14,101,7.7,1.1147540983606556,3.3,23,100,51.35,null,30,1200,null,1800,null,null,null,2023,12]
[40,"49 Rönneå, uppstr Ängelholm","2023-12-13",2.2999999999999998,13,95,7.4,0.88524590163934425,6.8,21,140,47.400000000000006,null,44,1300,null,1900,null,null,null,2023,12]
[3,"3  Rönneå, uppstr Bålamöllan","2024-01-16",0.1,13.3,91,7.6,1.6,2.2999999999999998,28.4,60,33.18,"",26,1000,46,1700,"","","BOD-analys med ATU",2024,1,"",9.8000000000000004E-2,"<3"]
[3,"3  Rönneå, uppstr Bålamöllan","2024-02-15",2.4,12.7,93,7.7,1.4,2.5,23.8,130,35.945,"",25,1300,21,1700,"","","",2024,2,"",0.13,1.4]
[3,"3  Rönneå, uppstr Bålamöllan","2024-03-14",4,12.5,95,7.6,1.5,1.8,23.4,75,39.5,"",47,1200,28,2000,"","","",2024,3,"",0.12,2.2999999999999998]
[3,"3  Rönneå, uppstr Bålamöllan","2024-04-17",9.8000000000000007,10,88,7.7,1.5,4.3,24.7,50,37.92,"",48,860,36,1700,"","","",2024,4,"",0.14000000000000001,2]
[3,"3  Rönneå, uppstr Bålamöllan","2024-05-16",16.7,7.2,74,7.7,1.6,5.0999999999999996,26.8,70,43.45,"",55,600,130,1400,"","","",2024,5,"",0.12,2.2000000000000002]
[3,"3  Rönneå, uppstr Bålamöllan","2024-06-12",16,7.8,79,7.8,1.6,2.5,26.3,60,43.45,"",35,240,74,1100,"","","",2024,6,"",9.8000000000000004E-2,1.7]
[3,"3  Rönneå, uppstr Bålamöllan","2024-07-09",19,7.8,84,7.9,1.6,1.8,24.8,60,31.995000000000001,"",36,96,47,820,"","","",2024,7,"",7.4999999999999997E-2,1.3]
[3,"3  Rönneå, uppstr Bålamöllan","2024-08-15",20.100000000000001,6.5,72,7.6,1.5,3.9,24.2,40,33.18,"",39,70,42,920,"","","",2024,8,"",6.4000000000000001E-2,1.5]
[3,"3  Rönneå, uppstr Bålamöllan","2024-09-18",16.600000000000001,7.7,79,7.8,1.6,4.2,25.6,65,33.97,"",48,190,20,950,"","","",2024,9,"",0.1,2.2000000000000002]
[3,"3  Rönneå, uppstr Bålamöllan","2024-11-19",5.6,9,72,7.8,1.8,5.9,27.4,60,31.205000000000002,"",56,300,66,1100,"","","",2024,11,"",5.1999999999999998E-2,2.2999999999999998]
[3,"3  Rönneå, uppstr Bålamöllan","2024-12-11",3.2,12,90,7.8,1.8,6,27.2,40,24.885000000000002,"",52,500,34,1400,"","","",2024,12,"",6.8000000000000005E-2,2.2999999999999998]
[3,"3  Rönneå, uppstr Bålamöllan","2024-10-17",9.1999999999999993,8.1,71,7.6,1.8,7.2,27.4,45,35.155000000000001,"",52,310,31,1300,"","","",2024,10,"",0.23,2.2999999999999998]
[5,"75 Rönneå, Bögerup vid bron innan Bolebäcken","2024-02-15",2.5,12.7,93,7.7,1.4,2.5,24.7,130,33.575000000000003,"",26,1300,19,1800,"","","",2024,2,"",0.12,1.4]
[5,"75 Rönneå, Bögerup vid bron innan Bolebäcken","2024-04-17",9.9,11,98,7.8,1.5,3.8,25,75,43.45,"",39,900,30,1700,"","","",2024,4,"",0.14000000000000001,2.1]
[5,"75 Rönneå, Bögerup vid bron innan Bolebäcken","2024-07-09",18.8,8.6999999999999993,93,7.9,1.6,1.8,25.1,70,30.810000000000002,"",38,170,38,880,"","","",2024,7,"",7.9000000000000001E-2,1.2]
[5,"75 Rönneå, Bögerup vid bron innan Bolebäcken","2024-08-15",21.9,8.4,96,7.8,1.5,2.8,24.2,50,34.760000000000005,"",38,110,25,890,"","","",2024,8,"",6.5000000000000002E-2,1.6]
[5,"75 Rönneå, Bögerup vid bron innan Bolebäcken","2024-09-18",16.600000000000001,9.1,94,7.7,1.6,3.7,24.7,65,27.650000000000002,"",50,240,"<10",980,"","","",2024,9,"",0.1,2.1]
[5,"75 Rönneå, Bögerup vid bron innan Bolebäcken","2024-11-19",5.5,9.1,72,7.8,1.8,5.7,27.7,60,30.02,"",56,330,"<10",1100,"","","",2024,11,"",5.3999999999999999E-2,2.9]
[10,"11 Rönneå, vid Djupadalsmölla","2024-01-16",0,13.2,90,7.6,1.6,2.9,28.6,65,39.5,"",29,1000,40,1700,"","","BOD-analys med ATU",2024,1,"",0.11,"<3"]
[10,"11 Rönneå, vid Djupadalsmölla","2024-02-15",2.8,12.7,94,7.7,1.3,2,24.4,130,27.650000000000002,"",21,1200,14,1700,"","","",2024,2,"",0.13,1.4]
[10,"11 Rönneå, vid Djupadalsmölla","2024-03-14",4.2,11.6,89,7.6,1.5,3.7,23.7,65,38.314999999999998,"",30,1200,27,2000,"","","",2024,3,"",0.12,2]
[10,"11 Rönneå, vid Djupadalsmölla","2024-04-17",9.6999999999999993,10.7,94,7.7,1.6,2.1,25.1,75,51.35,"",40,910,36,1800,"","","",2024,4,"",0.13,2.2999999999999998]
[10,"11 Rönneå, vid Djupadalsmölla","2024-05-16",16.899999999999999,8.3000000000000007,86,7.8,1.8,4.4000000000000004,28.3,90,39.5,"",54,810,56,1500,"","","",2024,5,"",0.11,1.8]
[10,"11 Rönneå, vid Djupadalsmölla","2024-06-12",15.9,8.6,87,7.9,1.6,1.5,26.5,60,37.524999999999999,"",31,360,26,990,"","","",2024,6,"",8.5999999999999993E-2,1.2]
[10,"11 Rönneå, vid Djupadalsmölla","2024-07-09",16.7,8.8000000000000007,91,7.8,1.6,2.2000000000000002,25.6,60,31.6,"",39,260,22,910,"","","",2024,7,"",8.8999999999999996E-2,1]
[10,"11 Rönneå, vid Djupadalsmölla","2024-08-14",17.3,8.1,84,7.7,1.6,2.2999999999999998,25,40,26.86,"",38,130,17,770,"","","",2024,8,"",6.3E-2,0.96]
[10,"11 Rönneå, vid Djupadalsmölla","2024-09-18",15,8.8000000000000007,88,7.7,1.8,3,25.1,65,34.760000000000005,"",46,250,"<10",1000,"","","",2024,9,"",0.11,1.6]
[10,"11 Rönneå, vid Djupadalsmölla","2024-11-19",6.1,10.199999999999999,82,7.7,1.8,5.2,28.4,60,33.97,"",54,490,58,1200,"","","",2024,11,"",5.8000000000000003E-2,2.2999999999999998]
[10,"11 Rönneå, vid Djupadalsmölla","2024-12-11",3.3,12.3,92,7.8,1.8,4.5,28.4,40,25.675000000000001,"",51,710,21,1500,"","","",2024,12,"",7.9000000000000001E-2,2.2000000000000002]
[10,"11 Rönneå, vid Djupadalsmölla","2024-10-17",8.6,10,86,7.7,1.8,4.5,29.8,50,43.45,"",45,700,11,1400,"","","",2024,10,"",0.17,1.5]
[15,"14 Rönneå, uppstr Ljungbyheds ARV","2024-02-15",3.8,13,99,7.5,1.1000000000000001,3.2,19.7,130,47.400000000000006,"",20,1100,17,1700,"","","",2024,2,"",0.18,1.5]
[15,"14 Rönneå, uppstr Ljungbyheds ARV","2024-04-18",10.4,10.5,94,7.7,1.4,7.4,24.3,120,51.35,"",45,860,40,1400,"","","",2024,4,"",0.2,2.7]
[15,"14 Rönneå, uppstr Ljungbyheds ARV","2024-07-09",18.399999999999999,8.5,91,7.7,1.5,3.2,24.1,90,33.97,"",30,440,18,1000,"","","",2024,7,"",0.13,0.81]
[15,"14 Rönneå, uppstr Ljungbyheds ARV","2024-08-14",19.600000000000001,9.6999999999999993,106,7.7,1.6,3.8,25,50,26.465000000000003,"",30,240,10,850,"","","",2024,8,"",7.5999999999999998E-2,0.78]
[15,"14 Rönneå, uppstr Ljungbyheds ARV","2024-09-18",15.5,10.1,102,7.6,1.6,4,24.4,65,33.97,"",34,380,"<10",930,"","","",2024,9,"",0.11,1.2]
[15,"14 Rönneå, uppstr Ljungbyheds ARV","2024-11-19",5.6,9.4,75,7.7,1.6,6.4,26.9,60,31.6,"",40,610,26,1100,"","","",2024,11,"",7.2999999999999995E-2,1.7]
[20,"79 Rönneå, nedstr Ljungbyhed ARV","2024-02-15",3.7,12.4,94,7.5,1.1000000000000001,2.8,20,130,39.105000000000004,"",20,1300,16,1700,"","","",2024,2,"",0.16,1.3]
[20,"79 Rönneå, nedstr Ljungbyhed ARV","2024-04-18",9.8000000000000007,10.3,91,7.7,1.4,5.3,24.3,150,47.400000000000006,"",44,1000,44,1500,"","","",2024,4,"",0.22,2.7]
[20,"79 Rönneå, nedstr Ljungbyhed ARV","2024-07-09",17.2,9.1,95,7.6,1.5,2.6,25.8,100,30.810000000000002,"",34,1400,100,2200,"","","",2024,7,"",0.11,1.1000000000000001]
[20,"79 Rönneå, nedstr Ljungbyhed ARV","2024-08-14",17.100000000000001,9.9,103,7.6,1.6,1.9,25.9,40,25.675000000000001,"",29,870,100,1500,"","","",2024,8,"",6.9000000000000006E-2,1.2]
[20,"79 Rönneå, nedstr Ljungbyhed ARV","2024-09-18",15.1,10.1,101,7.6,1.6,2.2999999999999998,25.7,65,28.044999999999998,"",29,1400,42,1700,"","","",2024,9,"",0.14000000000000001,1.5]
[20,"79 Rönneå, nedstr Ljungbyhed ARV","2024-11-19",5.4,9.3000000000000007,74,7.7,1.6,3.7,27.4,60,31.995000000000001,"",39,960,89,1500,"","","",2024,11,"",7.4999999999999997E-2,1.8]
[25,"24 Rönneå, vid Forsmöllan","2024-01-16",0.3,13.4,92,7.4,1.2,3.2,22.9,150,51.35,"",24,1100,"",1900,"","","",2024,1,"",0.18,""]
[25,"24 Rönneå, vid Forsmöllan","2024-02-15",3.6,12.4,94,7.5,0.98,3.4,19.7,140,39.5,"",20,1100,"",1600,"","","",2024,2,"",0.19,""]
[25,"24 Rönneå, vid Forsmöllan","2024-03-14",5.0999999999999996,12.5,98,7.5,1.3,4.3,21.1,75,39.5,"",28,1200,"",1900,"","","",2024,3,"",0.15,""]
[25,"24 Rönneå, vid Forsmöllan","2024-04-18",9.1,11.3,98,7.7,1.2,6.9,23,75,43.45,"",36,970,"-",1400,"","","",2024,4,"",0.2,""]
[25,"24 Rönneå, vid Forsmöllan","2024-05-16",17,9.6999999999999993,101,7.7,1.4,4.5999999999999996,24.8,100,37.130000000000003,"",45,1200,"",1600,"","","",2024,5,"",0.15,""]
[25,"24 Rönneå, vid Forsmöllan","2024-06-12",15.3,8.9,89,7.7,1.4,3.5,25,60,34.760000000000005,"",28,730,"",1300,"","","",2024,6,"",0.1,""]
[25,"24 Rönneå, vid Forsmöllan","2024-07-09",17.600000000000001,9.1999999999999993,97,7.6,1.3,4.5,23.8,100,31.995000000000001,"",34,660,"",1200,"","","",2024,7,"",0.12,""]
[25,"24 Rönneå, vid Forsmöllan","2024-08-14",20,9.8000000000000007,108,7.7,1.5,3.8,25.4,50,24.885000000000002,"",32,480,"",1100,"","","",2024,8,"",9.6000000000000002E-2,""]
[25,"24 Rönneå, vid Forsmöllan","2024-09-18",15.7,11,111,7.8,1.5,2.7,26.5,65,32.39,"",28,640,"",1100,"","","",2024,9,"",0.12,""]
[25,"24 Rönneå, vid Forsmöllan","2024-11-19",5.4,9.1999999999999993,73,7.7,1.6,5.0999999999999996,26.2,65,31.6,"",41,810,"",1300,"","","",2024,11,"",8.1000000000000003E-2,""]
[25,"24 Rönneå, vid Forsmöllan","2024-12-11",3.6,12.3,93,7.7,1.5,4.4000000000000004,25.9,70,30.810000000000002,"",38,1100,"",1800,"","","",2024,12,"",0.13,""]
[25,"24 Rönneå, vid Forsmöllan","2024-10-17",8.3000000000000007,10.5,90,7.5,1.3,4,25.7,100,55.300000000000004,"",33,1300,"",1900,"","","",{"$f":"YEAR(C3375)","v":2024},{"$f":"MONTH(C3375)","v":10},"",0.24,""]
[30,"25 Rönneå, vid Stackarps bro","2024-01-16",0,14,96,7.6,1.2,3.1,22.9,120,51.35,"",24,1100,"",1800,"","","",2024,1,"",0.19,""]
[30,"25 Rönneå, vid Stackarps bro","2024-02-15",3.8,12.9,98,7.6,1,3.4,18.8,140,39.5,"",21,1100,"",1600,"","","",2024,2,"",0.19,""]
[30,"25 Rönneå, vid Stackarps bro","2024-03-14",5.0999999999999996,12.6,99,7.6,1.3,4.3,21.1,50,38.710000000000008,"",29,1200,"",1900,"","","",2024,3,"",0.15,""]
[30,"25 Rönneå, vid Stackarps bro","2024-04-18",9.4,12.3,108,7.8,1.2,7,23.2,100,47.400000000000006,"",34,970,"-",1500,"","","",2024,4,"",0.2,""]
[30,"25 Rönneå, vid Stackarps bro","2024-05-16",17,10.199999999999999,106,7.9,1.4,3.9,24.9,110,37.92,"",34,1200,"",1600,"","","",2024,5,"",0.14000000000000001,""]
[30,"25 Rönneå, vid Stackarps bro","2024-06-12",15.7,8.5,86,7.9,1.4,2.8,25.5,60,34.365000000000002,"",26,810,"",1400,"","","",2024,6,"",0.1,""]
[30,"25 Rönneå, vid Stackarps bro","2024-07-09",18.399999999999999,10.1,108,7.8,1.3,3.1,24.3,100,31.995000000000001,"",29,640,"",1200,"","","",2024,7,"",0.12,""]
[30,"25 Rönneå, vid Stackarps bro","2024-08-14",20.399999999999999,11,122,7.9,1.4,2.9,25,50,26.465000000000003,"",26,520,"",1100,"","","",2024,8,"",9.4E-2,""]
[30,"25 Rönneå, vid Stackarps bro","2024-09-18",15.8,11,111,8,1.5,2.1,26.7,65,31.6,"",28,780,"",1200,"","","",2024,9,"",0.12,""]
[30,"25 Rönneå, vid Stackarps bro","2024-11-19",6,10,80,7.9,1.6,3.5,26.4,60,28.044999999999998,"",34,850,"",1300,"","","",2024,11,"",8.2000000000000003E-2,""]
[30,"25 Rönneå, vid Stackarps bro","2024-12-11",3.3,13,97,7.8,1.5,4.5999999999999996,26.4,70,29.625,"",36,1100,"",1700,"","","",2024,12,"",0.12,""]
[30,"25 Rönneå, vid Stackarps bro","2024-10-17",8.4,11.4,97,7.7,1.3,3.9,25.8,100,55.300000000000004,"",31,1400,"",1900,"","","",2024,10,"",0.34,""]
[35,"34 Rönneå, vid Tranarps bro","2024-02-15",4.0999999999999996,12.2,93,7.4,0.82,5.6,17.8,220,38.710000000000008,"",21,1100,41,1700,"","","",2024,2,"",0.23,1.5]
[35,"34 Rönneå, vid Tranarps bro","2024-04-18",9.1999999999999993,11.3,99,7.6,1.1000000000000001,9.1,21,120,51.35,"",38,960,95,1600,"","","",2024,4,"",0.25,2.6]
[35,"34 Rönneå, vid Tranarps bro","2024-07-09",17.7,8.9,94,7.6,1.3,5.5,23.9,200,34.365000000000002,"",29,890,40,1400,"","","",2024,7,"",0.17,0.98]
[35,"34 Rönneå, vid Tranarps bro","2024-08-14",20.100000000000001,9.1999999999999993,101,7.7,1.4,3.1,25.1,50,26.07,"",25,890,31,1400,"","","",2024,8,"",0.15,0.94]
[35,"34 Rönneå, vid Tranarps bro","2024-09-18",14.9,10.6,105,7.8,1.5,3,27.4,65,31.205000000000002,"",24,1100,36,1600,"","","",2024,9,"",0.14000000000000001,1.1000000000000001]
[35,"34 Rönneå, vid Tranarps bro","2024-11-19",6.2,9.4,76,7.7,1.4,15,26.4,100,31.995000000000001,"",53,1500,60,1600,"","","",2024,11,"",0.12,1.7]
[40,"49 Rönneå, uppstr Ängelholm","2024-01-16",0.1,12.9,88,7.3,0.92,4.0999999999999996,20.399999999999999,150,51.35,"",22,1100,68,1900,"","","BOD-analys med ATU",2024,1,"",0.27,"<3"]
[40,"49 Rönneå, uppstr Ängelholm","2024-02-15",4,12.2,93,7.3,0.79,8.6999999999999993,17.7,220,43.45,"",27,1700,31,1700,"","","",2024,2,"",0.23,1.4]
[40,"49 Rönneå, uppstr Ängelholm","2024-03-14",5.2,12.8,101,7.4,1.1000000000000001,5.4,20.100000000000001,75,39.5,"",28,1200,49,2000,"","","",2024,3,"",0.17,1.7]
[40,"49 Rönneå, uppstr Ängelholm","2024-04-18",9.6999999999999993,11.5,101,7.6,1,5.3,21.5,120,51.35,"",36,1000,67,1400,"","","",2024,4,"",0.27,2.1]
[40,"49 Rönneå, uppstr Ängelholm","2024-05-16",16.5,8.9,91,7.6,1.2,5.8,25.3,140,43.45,"",40,1500,35,2000,"","","",2024,5,"",0.21,1.8]
[40,"49 Rönneå, uppstr Ängelholm","2024-06-12",15.4,9,90,7.6,1.3,4,28,60,38.710000000000008,"",28,1300,30,1700,"","","",2024,6,"",0.15,1.4]
[40,"49 Rönneå, uppstr Ängelholm","2024-07-09",17.600000000000001,8.9,93,7.5,1.2,6.9,24.6,200,39.5,"",41,1000,44,1600,"","","",2024,7,"",0.25,1]
[40,"49 Rönneå, uppstr Ängelholm","2024-08-14",19.8,9.3000000000000007,102,7.6,1.3,4.3,26.6,50,30.415000000000003,"",30,1000,26,1600,"","","",2024,8,"",0.19,0.89]
[40,"49 Rönneå, uppstr Ängelholm","2024-09-18",15,10,99,7.6,1.4,3.2,29.2,65,33.97,"",26,1100,26,1600,"","","",2024,9,"",0.17,1]
[40,"49 Rönneå, uppstr Ängelholm","2024-11-19",6.2,9,73,7.7,1.3,9.1999999999999993,28.1,100,33.18,"",49,1300,20,1800,"","","",2024,11,"",0.15,1.9]
[40,"49 Rönneå, uppstr Ängelholm","2024-12-11",3.5,13,98,7.6,1.2,6.4,24.3,100,34.760000000000005,"",33,1200,42,1900,"","","",2024,12,"",0.2,1.6]
[40,"49 Rönneå, uppstr Ängelholm","2024-10-17",8.6,10.7,92,7.4,0.93,6.8,23.5,140,55.300000000000004,"",38,1800,54,2400,"","","",2024,10,"",0.33,1.2]
[45,"57 Rönneå, vid utfl t Skälderviken","2024-01-16",0.1,14,96,7.2,0.59,3.8,15.4,150,51.35,"",22,800,"",1500,"","","",2024,1,"",0.25,""]
[45,"57 Rönneå, vid utfl t Skälderviken","2024-02-15",4.4000000000000004,11.9,92,7.3,0.79,9.3000000000000007,18.3,220,43.45,"",31,1200,"",1800,"","","",2024,2,"",0.23,""]
[45,"57 Rönneå, vid utfl t Skälderviken","2024-03-14",6.3,12.2,99,7.3,0.93,5.6,18.2,100,38.710000000000008,"",29,1000,"",1600,"","","",2024,3,"",0.18,""]
[45,"57 Rönneå, vid utfl t Skälderviken","2024-04-18",9.8000000000000007,10.8,96,7.5,0.98,5.0999999999999996,20.7,150,21.330000000000002,"",35,1000,"",1500,"","","",2024,4,"",0.26,"-"]
[45,"57 Rönneå, vid utfl t Skälderviken","2024-05-16",19.600000000000001,8.9,97,7.5,1.2,6,26.5,140,43.45,"",37,1400,"",2000,"","","",2024,5,"",0.21,""]
[45,"57 Rönneå, vid utfl t Skälderviken","2024-06-12",14.8,9.1999999999999993,91,7.5,1.2,16,24.8,250,47.400000000000006,"",57,1500,"",2000,"","","",2024,6,"",0.21,""]
[45,"57 Rönneå, vid utfl t Skälderviken","2024-07-09",17.600000000000001,9.1,95,7.4,1.1000000000000001,8.4,23.3,200,47.400000000000006,"",53,1000,"",1700,"","","",2024,7,"",0.31,""]
[45,"57 Rönneå, vid utfl t Skälderviken","2024-08-14",21.2,9.6,108,7.4,1.2,5.2,32.799999999999997,50,33.18,"",37,1200,"",1700,"","","",2024,8,"",0.22,""]
[45,"57 Rönneå, vid utfl t Skälderviken","2024-09-18",15.7,10,101,7.4,1.4,3.9,114,65,31.205000000000002,"",29,1300,"",1600,"","","",2024,9,"",0.18,""]
[45,"57 Rönneå, vid utfl t Skälderviken","2024-11-19",6,9.1,73,7.4,1.4,5.9,29.9,100,34.760000000000005,"",36,1100,"",1600,"","","",2024,11,"",0.15,""]
[45,"57 Rönneå, vid utfl t Skälderviken","2024-12-11",3.7,12.7,96,7.5,1.2,5.4,25.6,70,34.760000000000005,"",32,1400,"",1900,"","","",2024,12,"",0.21,""]
[45,"57 Rönneå, vid utfl t Skälderviken","2024-10-17",8.6999999999999993,10.4,90,7.3,0.93,6.6,25,140,71.100000000000009,"",40,2000,"",2600,"","","",2024,10,"",0.36,""]
[50,"6  Bäljaneå, uppstr Röstånga","2024-02-15",4.3,12.9,99,7.9,1.6,13,28,130,15.8,"",39,2900,28,3200,"","","",2024,2,"",9.6000000000000002E-2,1.2]
[50,"6  Bäljaneå, uppstr Röstånga","2024-04-17",8.8000000000000007,11.8,102,8,2.2999999999999998,7.3,35.5,75,36.339999999999996,"",49,2000,12,3000,"","","",2024,4,"",0.1,2]
[50,"6  Bäljaneå, uppstr Röstånga","2024-07-09",15.9,9.9,100,8,2.2999999999999998,9,35.700000000000003,100,25.28,"",75,700,16,1200,"","","",2024,7,"",9.2999999999999999E-2,1.3]
[50,"6  Bäljaneå, uppstr Röstånga","2024-08-15",17.899999999999999,9,95,8.1,2.8,14,39.9,50,18.96,"",82,650,"<10",1000,"","","",2024,8,"",6.5000000000000002E-2,0.83]
[50,"6  Bäljaneå, uppstr Röstånga","2024-09-18",14,10.7,104,8.1,3,8.1,43.2,65,16.195,"",51,650,"<10",830,"","","",2024,9,"",8.7999999999999995E-2,1]
[50,"6  Bäljaneå, uppstr Röstånga","2024-11-19",4.5999999999999996,10.1,78,8.1,3,7.2,43.2,60,21.330000000000002,"",34,1500,"<10",1800,"","","",2024,11,"",7.0999999999999994E-2,1.8]
[55,"8  Bäljaneå, före utfl t Rönneå","2024-02-15",4.5999999999999996,11.6,90,7.4,1.2,7.6,22.3,140,29.230000000000004,"",28,1800,38,2300,"","","",2024,2,"",0.15,0.98]
[55,"8  Bäljaneå, före utfl t Rönneå","2024-04-17",8.1,10.8,92,7.4,1.6,10,27,120,63.2,"",44,1300,110,2300,"","","",2024,4,"",0.19,2.2999999999999998]
[55,"8  Bäljaneå, före utfl t Rönneå","2024-07-09",13.3,8.3000000000000007,80,7.5,2.1,4,32.9,100,22.515000000000001,"",28,1100,28,1400,"","","",2024,7,"",9.1999999999999998E-2,0.88]
[55,"8  Bäljaneå, före utfl t Rönneå","2024-08-15",15.9,8.8000000000000007,89,7.5,2.8,4.4000000000000004,41,50,14.22,"",18,1000,13,1300,"","","",2024,8,"",5.2999999999999999E-2,0.72]
[55,"8  Bäljaneå, före utfl t Rönneå","2024-09-18",12.1,7.7,72,7.6,3,5.2,40.700000000000003,65,13.035,"",23,1200,"<10",1200,"","","",2024,9,"",7.6999999999999999E-2,0.7]
[55,"8  Bäljaneå, före utfl t Rönneå","2024-11-19",5.6,9.1,72,7.6,2.6,4.4000000000000004,39.1,60,20.145,"",19,1500,29,1600,"","","",2024,11,"",0.06,1.1000000000000001]
[60,"59 Klingstorpabäcken, Färingstofta","2024-02-15",3.2,12.8,96,6.5,8.6999999999999994E-2,4,7.16,220,75.05,"",14,630,"",1200,"","","",2024,2,"",0.37,""]
[60,"59 Klingstorpabäcken, Färingstofta","2024-04-18",6.9,12,99,7,0.23,4.3,9.16,200,63.2,"",22,540,"",980,"","","",2024,4,"",0.34,""]
[60,"59 Klingstorpabäcken, Färingstofta","2024-07-09",12.5,11.1,105,7.1,0.52,4,12.3,300,51.35,"",28,530,"",1100,"","","",2024,7,"",0.31,""]
[60,"59 Klingstorpabäcken, Färingstofta","2024-08-14",14.7,9.1999999999999993,91,7,0.54,4,12.4,50,29.625,"",26,550,"",1000,"","","",2024,8,"",0.25,""]
[60,"59 Klingstorpabäcken, Färingstofta","2024-09-18",10.9,10.7,97,7.1,0.61,3.2,12.4,110,34.760000000000005,"",19,510,"",850,"","","",2024,9,"",0.23,""]
[60,"59 Klingstorpabäcken, Färingstofta","2024-11-19",4.5,9.8000000000000007,76,7.2,0.52,5,13.2,200,51.35,"",20,560,"",990,"","","",2024,11,"",0.23,""]
[65,"72 Storedamm, utlopp mot Svenstorp","2024-02-15",2.2000000000000002,14.2,103,6.2,6.2E-2,2.4,6.13,250,79,"",18,250,"",970,"","","",2024,2,"",0.4,""]
[65,"72 Storedamm, utlopp mot Svenstorp","2024-04-18",7.5,11.2,94,6.2,5.6000000000000001E-2,1.5,5.98,120,59.25,"",18,240,"",740,"","","",2024,4,"",0.32,""]
[65,"72 Storedamm, utlopp mot Svenstorp","2024-07-09",15.9,9.6999999999999993,98,6.6,0.12,2.5,6.31,350,67.150000000000006,"",34,"<50","",710,"","","",2024,7,"",0.4,""]
[65,"72 Storedamm, utlopp mot Svenstorp","2024-08-14",18.3,8.3000000000000007,88,6.5,0.15,2.8,6.52,180,51.35,"",48,"<10","",800,"","","",{"$f":"YEAR(C3439)","v":2024},{"$f":"MONTH(C3439)","v":8},"",0.32,""]
[65,"72 Storedamm, utlopp mot Svenstorp","2024-09-18","torrt","","","","","","","","","","","","","","","","inget vatten - inget prov",2024,9,"","",""]
[65,"72 Storedamm, utlopp mot Svenstorp","2024-11-19","torrt","","","","","","","","","","","","","","","","inget vatten-inget prov",2024,11,"","",""]
[70,"15 Ybbarpsån, utfl ur Ybbarpssjön","2024-02-15",2.4,13.3,97,6.4,0.13,4.2,8.0399999999999991,220,59.25,"",18,450,"",970,"","","",2024,2,"",0.31,""]
[70,"15 Ybbarpsån, utfl ur Ybbarpssjön","2024-04-18",9.8000000000000007,9.6999999999999993,86,6.7,0.2,3.9,9.01,150,59.25,"",24,210,"",730,"","","",2024,4,"",0.34,""]
[70,"15 Ybbarpsån, utfl ur Ybbarpssjön","2024-07-09",18.399999999999999,8.8000000000000007,94,7,0.34,8.8000000000000007,9.67,350,47.400000000000006,"",30,"<50","",680,"","","",2024,7,"",0.39,""]
[70,"15 Ybbarpsån, utfl ur Ybbarpssjön","2024-08-14",20.8,8.6,96,7,0.34,4.8,9.36,180,37.524999999999999,"",28,"<50","",640,"","","",2024,8,"",0.35,""]
[70,"15 Ybbarpsån, utfl ur Ybbarpssjön","2024-09-18",15.2,8.9,89,6.9,0.33,4.0999999999999996,8.52,75,47.400000000000006,"",22,"<50","",560,"","","",2024,9,"",0.39,""]
[70,"15 Ybbarpsån, utfl ur Ybbarpssjön","2024-11-19",4.8,9.4,73,7.2,0.31,9.1999999999999993,10.199999999999999,250,37.524999999999999,"",21,150,"",630,"","","",2024,11,"",0.26,""]
[75,"16 Ybbarpsån, nedstr Perstorp AB","2024-01-16",0.4,13.4,93,6.7,0.31,6.4,18.100000000000001,250,75.05,"",22,720,"",1500,"","","",2024,1,"",0.37,""]
[75,"16 Ybbarpsån, nedstr Perstorp AB","2024-02-15",3.1,14,104,6.7,0.2,4.5999999999999996,13.6,220,59.25,"",19,460,"",1100,"","","",2024,2,"",0.31,""]
[75,"16 Ybbarpsån, nedstr Perstorp AB","2024-03-14",5.9,13,104,6.9,0.38,9.3000000000000007,28.3,120,51.35,"",32,940,"",2100,"","","",2024,3,"",0.26,""]
[75,"16 Ybbarpsån, nedstr Perstorp AB","2024-04-18",10,10.9,97,7.3,0.51,3.6,35.799999999999997,180,59.25,"",30,1400,"",1800,"","","",2024,4,"",0.34,""]
[75,"16 Ybbarpsån, nedstr Perstorp AB","2024-05-16",17.399999999999999,8.4,88,7.2,0.56000000000000005,3.6,34,250,59.25,"",41,730,"",1800,"","","",2024,5,"",0.32,""]
[75,"16 Ybbarpsån, nedstr Perstorp AB","2024-06-12",16.3,9.1999999999999993,94,7.3,0.69,4.8,26.9,250,51.35,"",37,210,"",1100,"","","",2024,6,"",0.34,""]
[75,"16 Ybbarpsån, nedstr Perstorp AB","2024-07-09",17.8,9.8000000000000007,103,7.4,0.72,5.6,39.200000000000003,300,47.400000000000006,"",50,1400,"",2200,"","","",2024,7,"",0.38,""]
[75,"16 Ybbarpsån, nedstr Perstorp AB","2024-08-14",20,9,99,7.3,0.52,3.8,33.1,180,36.339999999999996,"",35,1200,"",1900,"","","",2024,8,"",0.35,""]
[75,"16 Ybbarpsån, nedstr Perstorp AB","2024-09-18",15,10.5,104,7.3,0.69,3.6,31.8,75,51.35,"",44,3500,"",4500,"","","",2024,9,"",0.36,""]
[75,"16 Ybbarpsån, nedstr Perstorp AB","2024-11-19",5.8,9.6,77,7.3,0.59,8.5,21.7,250,32.39,"",32,540,"",1100,"","","",2024,11,"",0.22,""]
[75,"16 Ybbarpsån, nedstr Perstorp AB","2024-12-11",2.6,13,96,7.2,0.56000000000000005,8.6,22.6,140,36.339999999999996,"",30,1100,"",1800,"","","",2024,12,"",0.27,""]
[75,"16 Ybbarpsån, nedstr Perstorp AB","2024-10-17",9.3000000000000007,11.1,97,7.4,0.89,7.4,23.5,140,43.45,"",32,410,"",1200,"","","",2024,10,"",0.36,""]
[80,"17 Ybbarpsån, Storarydsdammens utl","2024-02-14",2,13.2,95,6.7,0.16,3.9,13.6,220,59.25,"",20,400,"",1100,"","","",2024,2,"",0.28000000000000003,""]
[80,"17 Ybbarpsån, Storarydsdammens utl","2024-04-18",9.8000000000000007,10,88,7,0.36,5.6,19.2,150,63.2,"",29,1100,"",1500,"","","",2024,4,"",0.35,""]
[80,"17 Ybbarpsån, Storarydsdammens utl","2024-07-09",17.5,9.1,95,7.4,0.67,3.5,28.9,240,47.400000000000006,"",27,480,"",1300,"","","",2024,7,"",0.34,""]
[80,"17 Ybbarpsån, Storarydsdammens utl","2024-08-13",19.7,7.2,79,7.2,0.59,4.0999999999999996,34.700000000000003,180,37.130000000000003,"",30,890,"",1900,"","","",2024,8,"",0.3,""]
[80,"17 Ybbarpsån, Storarydsdammens utl","2024-09-18",15.2,8.6,86,7.2,0.62,5.0999999999999996,32.9,200,47.400000000000006,"",28,1200,"",2000,"","","",2024,9,"",0.34,""]
[80,"17 Ybbarpsån, Storarydsdammens utl","2024-11-19",6.5,8.1999999999999993,67,7.3,0.62,6.1,21.8,250,43.45,"",29,810,"",1300,"","","",2024,11,"",0.23,""]
[85,"22 Ybbarpsån, vid Herrevadskloster","2024-01-16",0.1,12.6,86,6.6,0.31,4.7,15.6,280,110.60000000000001,"",25,650,"",1600,"","","",2024,1,"",0.44,""]
[85,"22 Ybbarpsån, vid Herrevadskloster","2024-02-15",3.2,13,97,6.6,0.21,2.6,12.9,250,67.150000000000006,"",19,640,"",1300,"","","",2024,2,"",0.35,""]
[85,"22 Ybbarpsån, vid Herrevadskloster","2024-03-14",5.2,12.1,95,6.8,0.34,5.0999999999999996,15.5,150,67.150000000000006,"",27,620,"",1400,"","","",2024,3,"",0.32,""]
[85,"22 Ybbarpsån, vid Herrevadskloster","2024-04-18",10.9,10.5,95,7.1,0.36,7.3,19.899999999999999,220,110.60000000000001,"",29,790,"",1400,"","","",2024,4,"",0.37,""]
[85,"22 Ybbarpsån, vid Herrevadskloster","2024-05-16",16.8,9,93,7.1,0.44,10,20.3,250,59.25,"",57,480,"",1300,"","","",2024,5,"",0.28999999999999998,""]
[85,"22 Ybbarpsån, vid Herrevadskloster","2024-06-12",15.2,9.1,91,7.3,0.59,5.4,24.6,250,55.300000000000004,"",34,160,"",1100,"","","",2024,6,"",0.24,""]
[85,"22 Ybbarpsån, vid Herrevadskloster","2024-07-09",18.3,8.8000000000000007,94,7.3,0.67,9.3000000000000007,25.8,300,51.35,"",39,99,"",1000,"","","",2024,7,"",0.28999999999999998,""]
[85,"22 Ybbarpsån, vid Herrevadskloster","2024-08-14",19.3,10.3,112,7.3,0.64,9.6,26,180,37.524999999999999,"",44,32,"",950,"","","",2024,8,"",0.24,""]
[85,"22 Ybbarpsån, vid Herrevadskloster","2024-09-18",16.399999999999999,10.5,108,7.6,0.77,6.9,30.7,75,47.400000000000006,"",38,67,"",970,"","","",2024,9,"",0.28000000000000003,""]
[85,"22 Ybbarpsån, vid Herrevadskloster","2024-11-19",4.8,9.6999999999999993,76,7.3,0.77,8.4,25.5,250,55.300000000000004,"",36,570,"",1400,"","","",2024,11,"",0.25,""]
[85,"22 Ybbarpsån, vid Herrevadskloster","2024-12-11",2.8,12.5,92,7.3,0.72,7,23.1,140,43.45,"",29,680,"",1400,"","","",2024,12,"",0.25,""]
[85,"22 Ybbarpsån, vid Herrevadskloster","2024-10-17",8.5,10.8,93,7.3,0.72,5.8,29.1,140,47.400000000000006,"",33,380,"",1300,"","","",2024,10,"",0.34,""]
[90,"28 Perstorpsbäcken, uppstr Perstorp","2024-02-15",3.5,13.4,101,5.6,3.3000000000000002E-2,2,6.11,250,90.850000000000009,"",20,450,150,1400,"","","",2024,2,"",0.5,1.3]
[90,"28 Perstorpsbäcken, uppstr Perstorp","2024-04-18",5.8,12.4,99,6.5,0.2,12,8.16,220,86.9,"",34,240,160,1100,"","","",2024,4,"",0.57999999999999996,3.6]
[90,"28 Perstorpsbäcken, uppstr Perstorp","2024-07-09",12.6,11.2,106,6.9,0.48,24,11.5,450,75.05,"",35,430,58,1200,"","","",2024,7,"",0.62,1.1000000000000001]
[90,"28 Perstorpsbäcken, uppstr Perstorp","2024-08-14",15.6,9.1999999999999993,93,7,0.43,22,11.1,350,59.25,"",33,380,36,1200,"","","",2024,8,"",0.59,1.3]
[90,"28 Perstorpsbäcken, uppstr Perstorp","2024-09-18",12.2,9.6999999999999993,91,7,0.49,18,11.4,200,71.100000000000009,"",28,360,97,1100,"","","",2024,9,"",0.52,1.4]
[90,"28 Perstorpsbäcken, uppstr Perstorp","2024-11-19",4.3,9.3000000000000007,72,6.7,0.28000000000000003,31,11,350,82.95,"",41,340,230,1300,"","","",2024,11,"",0.39,2]
[95,"29 Perstorpsbäcken, nedstr Perstorp","2024-02-15",3.7,14.7,111,6.3,0.12,3.2,8.26,220,79,"",19,810,200,1700,"","","",2024,2,"",0.42,1.3]
[95,"29 Perstorpsbäcken, nedstr Perstorp","2024-04-18",6.5,12.2,99,6.8,0.31,10,12.5,280,90.850000000000009,"",27,1100,250,1700,"","","",2024,4,"",0.5,2.5]
[95,"29 Perstorpsbäcken, nedstr Perstorp","2024-07-09",14.2,8.9,87,6.9,0.74,9.4,23.5,260,39.105000000000004,"",27,1800,120,2600,"","","",2024,7,"",0.32,1.5]
[95,"29 Perstorpsbäcken, nedstr Perstorp","2024-08-14",16.100000000000001,7.9,80,7,0.7,7.6,25.7,180,71.100000000000009,"",22,2800,54,3300,"","","",2024,8,"",0.28999999999999998,1.1000000000000001]
[95,"29 Perstorpsbäcken, nedstr Perstorp","2024-09-18",12.6,8.4,79,6.9,0.79,6.9,31.7,200,39.5,"",16,3700,97,3700,"","","",2024,9,"",0.24,0.92]
[95,"29 Perstorpsbäcken, nedstr Perstorp","2024-11-19",4.4000000000000004,8.6999999999999993,67,6.9,0.41,14,17.8,250,55.300000000000004,"",30,1800,370,2700,"","","",2024,11,"",0.28000000000000003,2.4]
[100,"76 Oderbäcken, uppstr Oderljunga ARV","2024-02-14",3.5,12.5,94,6.2,5.8999999999999997E-2,3.1,6.84,220,63.2,"",19,490,66,1100,"","","",2024,2,"",0.38,1.4]
[100,"76 Oderbäcken, uppstr Oderljunga ARV","2024-04-18",7.4,12.6,105,6.5,0.13,6.6,7.77,280,71.100000000000009,"",32,360,69,1100,"","","",2024,4,"",0.53,1.8]
[100,"76 Oderbäcken, uppstr Oderljunga ARV","2024-07-09",13.7,11.2,108,6.7,0.38,20,11.9,450,63.2,"",31,580,86,1300,"","","",2024,7,"",0.53,1.2]
[100,"76 Oderbäcken, uppstr Oderljunga ARV","2024-08-13",14.4,9.4,92,6.8,0.33,22,11.1,750,82.95,"",39,350,71,1400,"","","",2024,8,"",0.81,1.5]
[100,"76 Oderbäcken, uppstr Oderljunga ARV","2024-09-18",12.4,10.199999999999999,96,6.8,0.51,20,17.3,75,47.400000000000006,"",22,760,70,1100,"","","",2024,9,"",0.32,1.3]
[100,"76 Oderbäcken, uppstr Oderljunga ARV","2024-11-19",4.4000000000000004,9.3000000000000007,72,6.8,0.23,15,10.4,300,67.150000000000006,"",36,300,81,1100,"","","",2024,11,"",0.44,2]
[105,"30 Bäljaneå, vid Hyllstofta","2024-02-15",3.8,15,114,6.3,8.8999999999999996E-2,3.2,7.46,250,71.100000000000009,"",19,690,110,1300,"","","",2024,2,"",0.38,1.5]
[105,"30 Bäljaneå, vid Hyllstofta","2024-04-18",6.9,12.3,101,6.7,0.18,60,9.49,140,75.05,"",200,640,180,2100,"","","",2024,4,"",0.48,3.1]
[105,"30 Bäljaneå, vid Hyllstofta","2024-07-09",13.5,12.2,117,7.3,0.49,15,15.2,300,51.35,"",28,980,49,1600,"","","",2024,7,"",0.45,1.1000000000000001]
[105,"30 Bäljaneå, vid Hyllstofta","2024-08-14",15.7,11,111,7.3,0.46,12,14.7,300,47.400000000000006,"",26,1100,38,1600,"","","",2024,8,"",0.48,1.2]
[105,"30 Bäljaneå, vid Hyllstofta","2024-09-18",11.9,11.5,107,7.4,0.56999999999999995,12,17.7,75,36.339999999999996,"",16,1100,41,1600,"","","",2024,9,"",0.3,1.2]
[105,"30 Bäljaneå, vid Hyllstofta","2024-11-19",4.5,9.6999999999999993,75,7.1,0.33,19,12.8,300,55.300000000000004,"",41,910,140,1600,"","","",2024,11,"",0.33,2.4]
[110,"32 Bäljaneå, uppstr Klippan","2024-02-15",4,12,92,6.5,0.1,3.3,8.16,250,71.100000000000009,"",18,750,90,1300,"","","",2024,2,"",0.37,1.4]
[110,"32 Bäljaneå, uppstr Klippan","2024-04-18",7.4,12.8,107,7,0.18,54,9.9600000000000009,250,75.05,"",110,750,150,1800,"","","",{"$f":"YEAR(C3503)","v":2024},{"$f":"MONTH(C3503)","v":4},"",0.48,2.8]
[110,"32 Bäljaneå, uppstr Klippan","2024-07-09",15.1,11,110,7.3,0.46,14,14.8,450,63.2,"",32,1100,18,1700,"","","",2024,7,"",0.54,1]
[110,"32 Bäljaneå, uppstr Klippan","2024-08-14",16.899999999999999,10.5,109,7.3,0.44,15,14.6,300,63.2,"",36,1100,12,1700,"","","",2024,8,"",0.54,1.1000000000000001]
[110,"32 Bäljaneå, uppstr Klippan","2024-09-18",13.6,11,106,7.4,0.56000000000000005,10,17.7,200,33.575000000000003,"",19,1300,"<10",1500,"","","",2024,9,"",0.65,1.1000000000000001]
[110,"32 Bäljaneå, uppstr Klippan","2024-11-19",5.0999999999999996,10,79,7.2,0.39,14,14.6,250,51.35,"",33,1000,87,1600,"","","",2024,11,"",0.3,2.2000000000000002]
[115,"78 Bäljaneå, nedstr Klippans ARV","2024-02-15",4.3,11.6,89,6.6,0.13,3.9,8.83,220,67.150000000000006,"",20,880,100,1500,"","","",2024,2,"",0.37,1.4]
[115,"78 Bäljaneå, nedstr Klippans ARV","2024-04-18",7.5,12.4,104,7.1,0.25,64,11.6,300,90.850000000000009,"",99,1000,490,2300,"","","",2024,4,"",0.5,3.9]
[115,"78 Bäljaneå, nedstr Klippans ARV","2024-07-09",16.100000000000001,10.5,107,7.2,0.51,13,18.3,450,59.25,"",39,1500,22,2200,"","","",2024,7,"",0.47,1.1000000000000001]
[115,"78 Bäljaneå, nedstr Klippans ARV","2024-08-14",17.600000000000001,10.7,112,7.1,0.48,12,18.7,220,51.35,"",40,2100,120,2700,"","","",2024,8,"",0.5,1.4]
[115,"78 Bäljaneå, nedstr Klippans ARV","2024-09-18",14.6,10.3,102,7.5,0.56999999999999995,8.6999999999999993,22.1,200,35.550000000000004,"",29,2700,39,2900,"","","",2024,9,"",0.31,1.2]
[115,"78 Bäljaneå, nedstr Klippans ARV","2024-11-19",5.4,8.5,67,7.2,0.44,14,16.399999999999999,250,47.400000000000006,"",36,1100,110,1800,"","","",2024,11,"",0.28000000000000003,1.6]
[120,"33 Bäljaneå, nedstr Klippan","2024-01-16",0,14,96,6.7,0.2,4.2,11,200,75.05,"",22,1000,"",2000,"","","",2024,1,"",0.4,""]
[120,"33 Bäljaneå, nedstr Klippan","2024-02-15",4.0999999999999996,11.9,91,6.5,0.12,3.6,8.43,220,71.100000000000009,"",19,850,"",1400,"","","",2024,2,"",0.4,""]
[120,"33 Bäljaneå, nedstr Klippan","2024-03-14",5.9,12.6,101,6.9,0.3,8.6999999999999993,11.8,200,51.35,"",26,1200,"",2000,"","","",2024,3,"",0.27,""]
[120,"33 Bäljaneå, nedstr Klippan","2024-04-18",7.4,12.7,106,7,0.23,35,10.8,350,36.339999999999996,"",83,880,"",2000,"","","",2024,4,"",0.53,""]
[120,"33 Bäljaneå, nedstr Klippan","2024-05-16",14.3,9,88,7.2,0.48,12,16.399999999999999,300,63.2,"",36,1700,"",2100,"","","",2024,5,"",0.4,""]
[120,"33 Bäljaneå, nedstr Klippan","2024-06-12",13,9.8000000000000007,93,7.3,0.54,13,17.5,280,55.300000000000004,"",32,1400,"",1900,"","","",2024,6,"",0.4,""]
[120,"33 Bäljaneå, nedstr Klippan","2024-07-09",15.8,10.3,104,7.2,0.49,15,15.8,400,67.150000000000006,"",40,1100,"",1900,"","","",2024,7,"",0.56999999999999995,""]
[120,"33 Bäljaneå, nedstr Klippan","2024-08-14",20,9.1,100,7.1,0.48,14,16.899999999999999,300,59.25,"",38,1600,"",2400,"","","",2024,8,"",0.55000000000000004,""]
[120,"33 Bäljaneå, nedstr Klippan","2024-09-18",13.7,10,97,7.2,0.61,10,19.5,75,47.400000000000006,"",25,1900,"",2300,"","","",2024,9,"",0.38,""]
[120,"33 Bäljaneå, nedstr Klippan","2024-11-19",5.3,10,79,7.2,0.44,13,15.7,250,59.25,"",36,1300,"",1800,"","","",2024,11,"",0.31,""]
[120,"33 Bäljaneå, nedstr Klippan","2024-12-11",3.3,13.1,98,7,0.31,9,13.8,250,59.25,"",24,1300,"",1900,"","","",2024,12,"",0.38,""]
[120,"33 Bäljaneå, nedstr Klippan","2024-10-17",7.8,11.3,95,6.9,0.3,7,14.4,250,102.7,"",28,1200,"",1700,"","","",2024,10,"",0.62,""]
[125,"77 Biflöde till Rönneå, uppstr Kvidinge ARV","2024-02-15",5.4,10.3,82,7.1,1.2,17,29.8,130,32.785000000000004,"",70,5500,62,6200,"","","",2024,2,"",0.15,0.98]
[125,"77 Biflöde till Rönneå, uppstr Kvidinge ARV","2024-04-18",7.8,11.4,96,7.6,1.2,20,34.9,75,94.800000000000011,"",110,6500,69,6800,"","","",2024,4,"",0.16,1.7]
[125,"77 Biflöde till Rönneå, uppstr Kvidinge ARV","2024-07-09",15.5,10.5,106,7.5,1.4,38,37.1,400,47.400000000000006,"",220,5500,24,6100,"","","",2024,7,"",0.26,1.3]
[125,"77 Biflöde till Rönneå, uppstr Kvidinge ARV","2024-08-14",19.3,9.5,103,7.7,1.4,21,36.1,50,19.355000000000004,"",110,5700,14,6100,"","","",2024,8,"",0.11,1]
[125,"77 Biflöde till Rönneå, uppstr Kvidinge ARV","2024-09-18",15,10,99,7.8,1.5,82,36.799999999999997,65,24.490000000000002,"",170,5700,47,6200,"","","",2024,9,"",0.11,1.5]
[125,"77 Biflöde till Rönneå, uppstr Kvidinge ARV","2024-11-19",5.9,8.5,68,7.4,1.6,13,38.799999999999997,200,59.25,"",110,5500,56,6100,"","","",2024,11,"",0.26,2]
[130,"36 Pinnån, nedstr Åsljungasjön","2024-02-14",2.2999999999999998,11.8,86,6,5.8999999999999997E-2,3,7.99,250,67.150000000000006,"",20,320,58,880,"","","",2024,2,"",0.41,1.2]
[130,"36 Pinnån, nedstr Åsljungasjön","2024-04-18",9.5,9.5,83,6.3,0.12,5.5,7.94,150,67.150000000000006,"",32,180,29,800,"","","",2024,4,"",0.52,2]
[130,"36 Pinnån, nedstr Åsljungasjön","2024-07-09",17.8,8.9,94,6.8,0.26,5.7,10.7,400,75.05,"",34,140,21,830,"","","",2024,7,"",0.56999999999999995,0.97]
[130,"36 Pinnån, nedstr Åsljungasjön","2024-08-13",18.8,6.8,73,6.6,0.21,7.1,9.9600000000000009,750,106.65,"",46,100,40,1100,"","","",2024,8,"",0.88,1.2]
[130,"36 Pinnån, nedstr Åsljungasjön","2024-09-18",16.3,8.1999999999999993,84,6.8,0.3,11,10.8,400,114.55000000000001,"",41,130,30,940,"","","",2024,9,"",0.9,1.3]
[130,"36 Pinnån, nedstr Åsljungasjön","2024-11-19",5.4,7.9,63,6.6,0.23,12,10.199999999999999,500,106.65,"",46,220,"<10",930,"","","",2024,11,"",0.72,1.3]
[135,"40 Pinnån, nedstr Örkelljunga","2024-02-14",2.8,13.4,99,6.4,8.5000000000000006E-2,3.7,8.67,220,55.300000000000004,"",20,580,160,1200,"","","",2024,2,"",0.38,1.6]
[135,"40 Pinnån, nedstr Örkelljunga","2024-04-18",10.5,11.5,103,6.8,0.14000000000000001,2.4,9.4,220,67.150000000000006,"",24,510,280,1100,"","","",2024,4,"",0.36,2]
[135,"40 Pinnån, nedstr Örkelljunga","2024-07-09",16.600000000000001,9.8000000000000007,101,6.7,0.25,3.2,12.2,280,59.25,"",30,1200,330,1900,"","","",2024,7,"",0.36,2]
[135,"40 Pinnån, nedstr Örkelljunga","2024-08-13",18.399999999999999,8.3000000000000007,88,6.8,0.26,2.8,12.8,180,47.400000000000006,"",31,880,320,2000,"","","",2024,8,"",0.37,1.7]
[135,"40 Pinnån, nedstr Örkelljunga","2024-09-18",15.6,9.3000000000000007,94,6.8,0.34,4,14.1,200,55.300000000000004,"",44,1500,560,2300,"","","",2024,9,"",0.42,3.5]
[135,"40 Pinnån, nedstr Örkelljunga","2024-11-19",6.2,8.8000000000000007,71,6.8,0.28000000000000003,6.9,12.4,300,71.100000000000009,"",33,930,460,1700,"","","",2024,11,"",0.41,2.9]
[140,"42 Pinnån, uppstr Gelita","2024-02-15",3.7,12.1,92,6.2,9.7000000000000003E-2,2.6,8.39,220,67.150000000000006,"",17,570,"",1100,"","","",2024,2,"",0.39,""]
[140,"42 Pinnån, uppstr Gelita","2024-04-18",8,11.5,97,6.8,0.18,4.3,9.69,150,71.100000000000009,"",25,560,"",1200,"","","",2024,4,"",0.39,""]
[140,"42 Pinnån, uppstr Gelita","2024-07-09",14.8,10.3,102,6.6,0.23,6.5,10.7,280,59.25,"",36,1100,"",1700,"","","",2024,7,"",0.38,""]
[140,"42 Pinnån, uppstr Gelita","2024-08-14",18.8,9.6,103,6.8,0.3,3.8,13.2,220,43.45,"",27,1300,"",1800,"","","",2024,8,"",0.35,""]
[140,"42 Pinnån, uppstr Gelita","2024-09-18",15.1,10,100,6.8,0.36,4.7,14.5,200,47.400000000000006,"",24,1400,"",1700,"","","",2024,9,"",0.34,""]
[140,"42 Pinnån, uppstr Gelita","2024-11-19",5.0999999999999996,9.5,75,6.8,0.25,12,11,250,55.300000000000004,"",39,870,"",1300,"","","",2024,11,"",0.33,""]
[145,"44 Pinnån, utfl ur Kopparmölledamm 62","2024-01-16",0.1,14.1,97,6.6,0.18,4.3,17.600000000000001,250,90.850000000000009,"",57,800,"",1900,"","","",2024,1,"",0.44,""]
[145,"44 Pinnån, utfl ur Kopparmölledamm 62","2024-02-15",3.7,12.3,93,6.4,0.12,3,11.5,220,67.150000000000006,"",19,640,"",1200,"","","",2024,2,"",0.37,""]
[145,"44 Pinnån, utfl ur Kopparmölledamm 62","2024-03-14",6,12.6,101,6.8,0.31,4.0999999999999996,17.7,150,59.25,"",24,800,"",1700,"","","",2024,3,"",0.28999999999999998,""]
[145,"44 Pinnån, utfl ur Kopparmölledamm 62","2024-04-18",8.8000000000000007,11.7,101,7.1,0.28000000000000003,3.8,17.600000000000001,180,71.100000000000009,"",26,660,"",1300,"","","",2024,4,"",0.38,""]
[145,"44 Pinnån, utfl ur Kopparmölledamm 62","2024-05-16",16.8,9.5,98,7.3,0.56000000000000005,3.5,33.9,250,51.35,"",28,1600,"",2200,"","","",2024,5,"",0.28999999999999998,""]
[145,"44 Pinnån, utfl ur Kopparmölledamm 62","2024-06-12",14.8,9.4,93,7.2,0.51,4.3,31.7,250,47.400000000000006,"",26,1600,"",2200,"","","",2024,6,"",0.28000000000000003,""]
[145,"44 Pinnån, utfl ur Kopparmölledamm 62","2024-07-09",16.7,9.8000000000000007,101,7,0.38,5.3,22.3,400,67.150000000000006,"",33,1200,"",1800,"","","",2024,7,"",0.46,""]
[145,"44 Pinnån, utfl ur Kopparmölledamm 62","2024-08-14",20.9,10.1,113,7.3,0.54,3.8,36.1,180,47.400000000000006,"",31,1900,"",3100,"","","",2024,8,"",0.36,""]
[145,"44 Pinnån, utfl ur Kopparmölledamm 62","2024-09-18",16.3,10.199999999999999,104,7.3,0.62,4.9000000000000004,40.5,200,47.400000000000006,"",25,2000,"",2100,"","","",2024,9,"",0.36,""]
[145,"44 Pinnån, utfl ur Kopparmölledamm 62","2024-11-19",6.1,9.5,77,7.1,0.36,7.7,22.8,250,59.25,"",30,1000,"",1400,"","","",2024,11,"",0.35,""]
[145,"44 Pinnån, utfl ur Kopparmölledamm 62","2024-12-11",3.8,13,99,7.1,0.38,5.4,24.1,250,51.35,"",26,1300,"",1800,"","","",2024,12,"",0.4,""]
[145,"44 Pinnån, utfl ur Kopparmölledamm 62","2024-10-17",9.3000000000000007,11,96,7,0.33,4.4000000000000004,17.600000000000001,220,71.100000000000009,"",26,830,"",1400,"","","",2024,10,"",0.4,""]
[150,"58 Pinnån, vid utfl t Rönneå","2024-01-16",0.2,13.5,93,6.7,0.25,3.2,17.399999999999999,250,75.05,"",23,960,"",1800,"","","",2024,1,"",0.38,""]
[150,"58 Pinnån, vid utfl t Rönneå","2024-02-15",4.5,12.1,94,6.7,0.2,5.7,12.6,250,59.25,"",23,1200,"",1400,"","","",2024,2,"",0.31,""]
[150,"58 Pinnån, vid utfl t Rönneå","2024-03-14",6,12.3,99,6.9,0.41,5.2,19.5,120,63.2,"",26,1000,"",1900,"","","",2024,3,"",0.27,""]
[150,"58 Pinnån, vid utfl t Rönneå","2024-04-18",10.199999999999999,11.9,106,7.1,0.34,4.3,17.600000000000001,150,51.35,"",28,760,"",1200,"","","",2024,4,"",0.38,""]
[150,"58 Pinnån, vid utfl t Rönneå","2024-05-16",16.7,9.5,98,7.3,0.59,5.8,29.1,250,51.35,"",40,1800,"",2100,"","","",2024,5,"",0.3,""]
[150,"58 Pinnån, vid utfl t Rönneå","2024-06-12",14.5,10.1,99,7.5,0.72,5.4,34.9,250,47.400000000000006,"",30,1600,"",1900,"","","",{"$f":"YEAR(C3567)","v":2024},{"$f":"MONTH(C3567)","v":6},"",0.26,""]
[150,"58 Pinnån, vid utfl t Rönneå","2024-07-09",17,9.8000000000000007,102,7.2,0.56999999999999995,7.8,26.7,350,67.150000000000006,"",54,1300,"",2000,"","","",2024,7,"",0.45,""]
[150,"58 Pinnån, vid utfl t Rönneå","2024-08-14",20.399999999999999,9.9,110,7.3,0.64,5.5,35.5,220,43.45,"",40,2200,"",2600,"","","",2024,8,"",0.37,""]
[150,"58 Pinnån, vid utfl t Rönneå","2024-09-18",15.7,10.8,109,7.5,0.8,4.3,44.2,200,43.45,"",34,2000,"",2200,"","","",2024,9,"",0.33,""]
[150,"58 Pinnån, vid utfl t Rönneå","2024-11-19",6.1,9.5,77,7.3,0.59,17,30.1,300,47.400000000000006,"",58,1800,"",2200,"","","",2024,11,"",0.31,""]
[150,"58 Pinnån, vid utfl t Rönneå","2024-12-11",3.6,13.1,99,7.2,0.51,6.4,26.2,140,47.400000000000006,"",29,1200,"",1900,"","","",2024,12,"",0.34,""]
[150,"58 Pinnån, vid utfl t Rönneå","2024-10-17",8.9,10.8,93,7,0.44,5,19,200,59.25,"",35,1100,"",1500,"","","",2024,10,"",0.36,""]
[155,"70 Kägleån, vid Ängeltofta","2024-02-15",4.4000000000000004,12,93,7.3,0.62,29,14.1,220,37.92,"",62,1100,"",1500,"","","",2024,2,"",0.24,""]
[155,"70 Kägleån, vid Ängeltofta","2024-04-18",10,11.5,102,7.7,0.9,5.8,17.7,150,47.400000000000006,"",35,1100,"",1300,"","","",2024,4,"",0.28999999999999998,""]
[155,"70 Kägleån, vid Ängeltofta","2024-07-09",15.4,11,110,7.4,0.97,8.1,17.399999999999999,450,86.9,"",61,1200,"",2000,"","","",2024,7,"",0.54,""]
[155,"70 Kägleån, vid Ängeltofta","2024-08-14",19.100000000000001,10.3,111,7.7,1.4,12,23,180,63.2,"",64,1800,"",2300,"","","",2024,8,"",0.45,""]
[155,"70 Kägleån, vid Ängeltofta","2024-09-18",16.2,10.6,108,8,1.6,17,26,200,39.5,"",66,1500,"",1700,"","","",2024,9,"",0.27,""]
[155,"70 Kägleån, vid Ängeltofta","2024-11-19",5.6,9.6,76,7.4,0.84,42,17.399999999999999,350,67.150000000000006,"",140,1400,"",2300,"","","",2024,11,"",0.38,""]
[160,"55 Kägleån, vägbro Åkersholm","2024-02-15",4.2,12,92,7.3,0.75,35,16,250,35.945,"",70,1100,"",1700,"","","",2024,2,"",0.25,""]
[160,"55 Kägleån, vägbro Åkersholm","2024-04-18",9.1,11.5,100,7.7,1.2,6.4,20.9,180,51.35,"",38,1000,"",1300,"","","",2024,4,"",0.32,""]
[160,"55 Kägleån, vägbro Åkersholm","2024-07-09",15.5,10.5,106,7.5,1.2,12,19.100000000000001,450,86.9,"",68,1100,"",1900,"","","",2024,7,"",0.53,""]
[160,"55 Kägleån, vägbro Åkersholm","2024-08-14",18.899999999999999,10.199999999999999,110,7.7,1.6,12,26.3,300,59.25,"",66,1500,"",2000,"","","",2024,8,"",0.47,""]
[160,"55 Kägleån, vägbro Åkersholm","2024-09-18",15,10.9,108,7.8,2,20,31.1,110,47.400000000000006,"",59,1500,"",1600,"","","",2024,9,"",0.28000000000000003,""]
[160,"55 Kägleån, vägbro Åkersholm","2024-11-19",5.8,9.5,76,7.4,1,67,19.399999999999999,350,67.150000000000006,"",190,1300,"",2300,"","","",2024,11,"",0.37,""]
[165,"56 Rössjöholmsån, f utfl t Rönneå","2024-01-16",0.1,14.2,97,7.3,0.56000000000000005,4.0999999999999996,14.2,180,43.45,"",22,780,33,1300,"","","BOD-analys med ATU",2024,1,"",0.23,"<3"]
[165,"56 Rössjöholmsån, f utfl t Rönneå","2024-02-15",4.0999999999999996,12.3,94,7.2,0.61,28,13.8,220,37.92,"",56,900,18,1400,"","","",2024,2,"",0.26,1.1000000000000001]
[165,"56 Rössjöholmsån, f utfl t Rönneå","2024-03-14",6.2,12.4,100,7.4,0.87,9.6,17.399999999999999,75,36.339999999999996,"",36,1000,36,1500,"","","",2024,3,"",0.18,1.4]
[165,"56 Rössjöholmsån, f utfl t Rönneå","2024-04-18",9.5,12.2,107,7.5,0.74,12,15.7,180,43.45,"",33,820,18,1100,"","","",2024,4,"",0.3,1.9]
[165,"56 Rössjöholmsån, f utfl t Rönneå","2024-05-16",15.7,9.8000000000000007,99,7.6,0.89,9.1,18.7,140,47.400000000000006,"",40,930,15,1300,"","","",2024,5,"",0.21,1.9]
[165,"56 Rössjöholmsån, f utfl t Rönneå","2024-06-12",13.3,10.1,97,7.4,1.1000000000000001,60,20.5,250,59.25,"",110,1900,35,2500,"","","",2024,6,"",0.33,2]
[165,"56 Rössjöholmsån, f utfl t Rönneå","2024-07-09",15.9,10.8,109,7.4,0.93,11,17.600000000000001,400,75.05,"",63,970,20,1700,"","","",2024,7,"",0.48,1]
[165,"56 Rössjöholmsån, f utfl t Rönneå","2024-08-14",18.8,10,107,7.5,1.1000000000000001,11,19.7,180,51.35,"",51,1200,11,1600,"","","",2024,8,"",0.41,0.9]
[165,"56 Rössjöholmsån, f utfl t Rönneå","2024-09-18",15.1,10.7,107,7.7,1.1000000000000001,8.5,20,200,34.365000000000002,"",38,1100,"<10",1300,"","","",2024,9,"",0.26,1]
[165,"56 Rössjöholmsån, f utfl t Rönneå","2024-11-19",6,9.6,77,7.4,0.93,67,19,350,67.150000000000006,"",200,1300,"<10",2300,"","","",2024,11,"",0.32,2.5]
[165,"56 Rössjöholmsån, f utfl t Rönneå","2024-12-11",3.7,13,98,7.6,1.1000000000000001,7.8,19.899999999999999,120,34.365000000000002,"",33,1000,28,1400,"","","",2024,12,"",0.22,1.3]
[165,"56 Rössjöholmsån, f utfl t Rönneå","2024-10-17",9.3000000000000007,10.3,90,7.4,0.87,7.8,17.100000000000001,140,51.35,"",34,820,"<10",1200,"","","",2024,10,"",0.28999999999999998,0.92]
[170,"60 Storarydsdammen yta","2024-02-14",2,13.2,95,6.8,0.18,"",13.6,220,67.150000000000006,3.1,20,470,"",1200,"",1.1000000000000001,"",2024,2,9.3000000000000007,0.28999999999999998,""]
[170,"60 Storarydsdammen yta","2024-08-13",19.7,7.2,79,7.1,0.59,"",34.1,180,39.105000000000004,3.2,30,880,"",1900,6.6,1.2,"",2024,8,16,0.28000000000000003,""]
[175,"60 Storarydsdammen 4 m","2024-02-14",2.1,12.7,92,6.8,0.18,"",13.6,220,55.300000000000004,4,23,450,"",1100,"","","",2024,2,8.9,0.32,""]
[175,"60 Storarydsdammen 4 m","2024-08-13",19.3,7.5,81,"","","","","","","","","","","","","","",2024,8,"","",""]
[180,"19 Ö Sorrödssjön, ytan","2024-02-14",1.9,13.2,95,6.8,0.15,"",12.8,220,67.150000000000006,3.2,19,470,"",1200,"",1.2,"",2024,2,9.6,0.28999999999999998,""]
[180,"19 Ö Sorrödssjön, ytan","2024-08-13",20.2,9.1999999999999993,101,7.4,0.62,"",27.5,180,47.400000000000006,3.6,36,340,"",1200,17,1.2,"",2024,8,13,0.24,""]
[185,"19 Ö Sorrödssjön,  4 m","2024-02-14",2.2999999999999998,13.1,95,"","","","","","",3.9,22,520,44,1100,"","","",2024,2,9,"",""]
[185,"19 Ö Sorrödssjön,  4 m","2024-08-13",19.7,8.4,92,"","","","","","",2.9,30,460,27,1400,"","","",2024,8,14,"",""]
[190,"37 Hjälmsjön, ytan","2024-02-14",1.6,14.1,101,6.2,5.8999999999999997E-2,"",7.77,250,75.05,2.8,18,430,"",1100,"",1,"",2024,2,10,0.42,""]
[190,"37 Hjälmsjön, ytan","2024-08-13",20.5,8.5,94,7,0.21,"",9.74,150,75.05,3.8,22,170,"",760,16,1.5,"",2024,8,14,0.38,""]
[195,"37 Hjälmsjön, 6,5 m","2024-02-14",2.1,13.9,101,"","","","","","",2.5,19,430,32,1100,"","","",2024,2,11,"",""]
[195,"37 Hjälmsjön, 6,5 m","2024-08-13",16.600000000000001,3.1,32,"","","","","","",4.4000000000000004,29,360,32,950,"","","",2024,8,11,"",""]
[200,"50 Västersjön, ytan","2024-02-14",1.1000000000000001,13,92,6.8,0.11,"",6.45,220,55.300000000000004,"<2",12,180,"",710,"",1.8,"",2024,2,7.8,0.24,""]
[200,"50 Västersjön, ytan","2024-08-13",20.399999999999999,9.3000000000000007,103,"*","*","","*","*","*","*","*","*","","*",18,1.8,"* analys missad",2024,8,"*","*",""]
[205,"50 Västersjön, 10 m","2024-02-14",1.4,12.9,92,"","","","","","",2.7,15,190,18,660,"","","",2024,2,8,"",""]
[205,"50 Västersjön, 10 m","2024-08-13",19.5,8.1,88,"","","","","","",3.1,19,47,32,560,"","","",2024,8,8.1,"",""]
[210,"51 Rössjön, ytan","2024-02-14",1.3,13.9,99,6.8,0.12,"",7.28,220,47.400000000000006,2.4,13,350,"",810,"",2.2999999999999998,"avvikande provplats pga översvämning",2024,2,7.9,0.19,""]
[210,"51 Rössjön, ytan","2024-08-13",20,10,110,7.1,0.16,"",8.4700000000000006,50,43.45,2.2000000000000002,11,280,"",690,8.3000000000000007,2.6,"",2024,8,6.3,0.16,""]
[215,"51 Rössjön, 18 m","2024-02-14",1.7,13.7,98,"","","","","","","<2",14,360,14,830,"","","avvikande provplats pga översvämning",2024,2,7.7,"",""]
[215,"51 Rössjön, 18 m","2024-08-15",13,3.3,31,"","","","","","",2,12,280,12,700,"","","",2024,8,5.4,"",""]
[220,"Ri5 Sätoftasjön, ytan","2024-01-11",0.3,14.5,100,7,0.77,"",17.600000000000001,150,82.95,4.4000000000000004,35,870,"",2200,6.1,1.4,"avvikande provplats och ingen syrgasprofil pga osäker is",2024,1,20,0.37,""]
[220,"Ri5 Sätoftasjön, ytan","2024-02-15",1.7,13.3,95,7.5,0.75,"",16.100000000000001,220,47.400000000000006,4,31,900,"",1600,2.2000000000000002,1.5,"",2024,2,27,0.24,""]
[220,"Ri5 Sätoftasjön, ytan","2024-03-14",3.5,13,98,7.6,0.79,"",16.8,100,51.35,4,34,900,"",1600,9.8000000000000007,1.1000000000000001,"",2024,3,14,0.21,""]
[220,"Ri5 Sätoftasjön, ytan","2024-04-17",10.1,13.5,120,7.9,0.89,"",18.3,100,36.339999999999996,3,26,510,"",1300,24,1.3,"",2024,4,9.4,0.19,""]
[220,"Ri5 Sätoftasjön, ytan","2024-05-20",17.399999999999999,9.6999999999999993,101,7.9,1.1000000000000001,"",20.2,100,43.45,"<2",23,330,"",930,11,1.4,"",2024,5,5.8,0.12,""]
[220,"Ri5 Sätoftasjön, ytan","2024-06-12",16.3,9.5,97,7.9,1.3,"",21.2,60,59.25,3.1,35,270,"",1000,12,1.6,"",2024,6,6.7,0.11,""]
[220,"Ri5 Sätoftasjön, ytan","2024-07-09",19.5,10.3,112,8.1999999999999993,1.4,"",22.1,70,39.5,4,66,120,"",950,17,1.2,"",2024,7,7.9,9.7000000000000003E-2,""]
[220,"Ri5 Sätoftasjön, ytan","2024-08-15",21.1,11.8,132,9.1999999999999993,1.4,"",21.8,50,47.400000000000006,5.2,60,"<10","",1400,67,0.8,"",2024,8,7.3,9.8000000000000004E-2,""]
[220,"Ri5 Sätoftasjön, ytan","2024-09-17",17.600000000000001,11.6,122,8.5,1.5,"",22.9,65,43.45,5.2,60,"<50","",1100,35,1,"",2024,9,8.5,0.13,""]
[220,"Ri5 Sätoftasjön, ytan","2024-10-21",11.4,10.8,99,8,1.6,"",23,60,37.92,4,58,"<10","",1000,"",1,"",2024,10,6.3,6.7000000000000004E-2,""]
[220,"Ri5 Sätoftasjön, ytan","2024-11-20",6.1,11.6,94,8.1,1.6,"",24,60,38.314999999999998,2.2999999999999998,53,50,"",830,46,1,"",2024,11,9.5,6.7000000000000004E-2,""]
[220,"Ri5 Sätoftasjön, ytan","2024-12-11",3.1,13.3,99,8,1.5,"",23.7,50,28.044999999999998,5.0999999999999996,37,190,"",930,27,1.3,"",2024,12,6.7,8.6999999999999994E-2,""]
[225,"Ri5 Sätoftasjön, 15 m","2024-06-12",15.7,9.3000000000000007,94,"","","","","","",2.7,30,270,79,1100,"","","",2024,6,6.6,"",""]
[225,"Ri5 Sätoftasjön, 15 m","2024-07-09",18.600000000000001,8.6,92,"","","","","","",3.4,34,150,60,990,"","","",{"$f":"YEAR(C3631)","v":2024},{"$f":"MONTH(C3631)","v":7},7.6,"",""]
[225,"Ri5 Sätoftasjön, 15 m","2024-08-15",20.100000000000001,5.5,61,"","","","","","",2.7,48,12,290,1400,"","","",2024,8,7.3,"",""]
[225,"Ri5 Sätoftasjön, 15 m","2024-09-17",16.7,7.4,76,"","","","","","",2.8,72,"<50",47,1100,"","","",2024,9,8.9,"",""]
[230,"Ri4 Östra Ringsjön, ytan","2024-01-11",0.7,15.1,105,7.9,1.6,"",27,75,32.39,"<2",33,1500,"",2200,2.6,2.2000000000000002,"avvikande provplats och ingen syrgasprofil pga osäker is",2024,1,23,0.15,""]
[230,"Ri4 Östra Ringsjön, ytan","2024-02-15",1.8,13.4,96,7.9,1.3,"",23.8,130,39.105000000000004,3.2,36,1600,"",2200,2.4,1.8,"",2024,2,24,0.15,""]
[230,"Ri4 Östra Ringsjön, ytan","2024-03-14",3.4,13,98,7.8,1.4,"",22.1,50,39.5,12,44,1500,"",2300,5.4,1.2,"",2024,3,21,0.14000000000000001,""]
[230,"Ri4 Östra Ringsjön, ytan","2024-04-17",9,12.3,107,8.1999999999999993,1.4,"",23.2,75,32.785000000000004,2.2000000000000002,26,1200,"",2000,30,1.3,"",2024,4,9.1,0.14000000000000001,""]
[230,"Ri4 Östra Ringsjön, ytan","2024-05-20",16,9.9,101,7.9,1.4,"",23.8,80,35.945,"<2",24,940,"",1400,5.6,2.1,"",2024,5,5.3,0.11,""]
[230,"Ri4 Östra Ringsjön, ytan","2024-06-12",16.899999999999999,9,93,7.9,1.5,"",23.9,55,37.130000000000003,2.6,26,690,"",1400,14,2.1,"",2024,6,7,9.6000000000000002E-2,""]
[230,"Ri4 Östra Ringsjön, ytan","2024-07-09",18.600000000000001,11.1,119,8.6,1.5,"",23.8,80,35.550000000000004,4.5999999999999996,40,340,"",1000,30,1.4,"",2024,7,7.8,9.7000000000000003E-2,""]
[230,"Ri4 Östra Ringsjön, ytan","2024-08-15",20.6,11.1,123,9.1999999999999993,1.6,"",23,50,39.5,5.9,88,"<10","",1100,70,0.9,"",2024,8,7.1,0.08,""]
[230,"Ri4 Östra Ringsjön, ytan","2024-09-17",17.600000000000001,10.199999999999999,107,8.6999999999999993,1.6,"",24,65,38.710000000000008,18,95,"<10","",960,30,1.1000000000000001,"",2024,9,27,0.12,""]
[230,"Ri4 Östra Ringsjön, ytan","2024-10-21",11.6,10.6,98,8.1,1.6,"",24.6,50,31.205000000000002,21,82,110,"",910,"",1.2,"",2024,10,18,0.12,""]
[230,"Ri4 Östra Ringsjön, ytan","2024-11-20",7.3,10.9,91,8,1.6,"",25,60,31.6,40,85,220,"",890,19,1.3,"",2024,11,49,6.2E-2,""]
[230,"Ri4 Östra Ringsjön, ytan","2024-12-11",4.2,12.4,95,8,1.8,"",25.8,40,26.07,38,75,480,"",1100,13,1.8,"",2024,12,46,7.0000000000000007E-2,""]
[235,"Ri4 Östra Ringsjön, 15 m","2024-06-12",16.3,9.3000000000000007,95,"","","","","","","<2",32,730,80,1500,"","","",2024,6,6.9,"",""]
[235,"Ri4 Östra Ringsjön, 15 m","2024-07-09",18.600000000000001,9.3000000000000007,100,"","","","","","",3.3,40,350,16,1100,"","","",2024,7,6.9,"",""]
[235,"Ri4 Östra Ringsjön, 15 m","2024-08-15",20.2,8.5,94,"","","","","","",2.2000000000000002,72,"<10",23,1100,"","","",2024,8,7.4,"",""]
[235,"Ri4 Östra Ringsjön, 15 m","2024-09-17",17.3,8.9,93,"","","","","","",20,90,"<10","<10",930,"","","",2024,9,26,"",""]
[240,"Ri2 Västra Ringsjön, ytan","2024-01-11",0.7,14.1,98,8,1.6,"",27.8,38,34.365000000000002,"<2",28,930,"",1700,12,2,"avvikande provplats och ingen syrgasprofil pga osäker is",2024,1,14,9.1999999999999998E-2,""]
[240,"Ri2 Västra Ringsjön, ytan","2024-02-15",1.5,13.5,96,8,1.4,"",25.2,130,30.810000000000002,3.2,30,1200,"",1800,12,2,"",2024,2,12,0.1,""]
[240,"Ri2 Västra Ringsjön, ytan","2024-03-14",3.4,13.1,98,8,1.4,"",23,38,37.92,2.1,32,1200,"",2100,30,1.4,"",2024,3,8,0.12,""]
[240,"Ri2 Västra Ringsjön, ytan","2024-04-17",9.8000000000000007,11.4,101,7.9,1.4,"",24.1,38,"",2.6,22,860,"",1500,7.7,1.7,"",2024,4,7.6,0.11,""]
[240,"Ri2 Västra Ringsjön, ytan","2024-05-20",17.600000000000001,9.9,104,8.1,1.5,"",25.2,80,32.39,3.8,24,620,"",1200,6,2.5,"",2024,5,9.6,8.5000000000000006E-2,""]
[240,"Ri2 Västra Ringsjön, ytan","2024-06-12",16.100000000000001,9.6999999999999993,99,8.3000000000000007,1.5,"",24.6,50,37.524999999999999,2.5,32,230,"",1000,19,1.5,"",2024,6,7.9,7.3999999999999996E-2,""]
[240,"Ri2 Västra Ringsjön, ytan","2024-07-09",19.3,10.3,112,8.4,1.5,"",24.4,80,35.155000000000001,"<2",42,"<10","",820,20,1.2,"",2024,7,13,6.7000000000000004E-2,""]
[240,"Ri2 Västra Ringsjön, ytan","2024-08-15",21.2,11.8,133,9,1.5,"",23.7,50,37.524999999999999,6.3,49,"<10","",1000,35,1.4,"",2024,8,9.8000000000000007,7.4999999999999997E-2,""]
[240,"Ri2 Västra Ringsjön, ytan","2024-09-17",18.3,11.7,124,8.6999999999999993,1.6,"",24.3,65,37.524999999999999,5.7,60,"<10","",1100,45,1,"",2024,9,9.1999999999999993,0.12,""]
[240,"Ri2 Västra Ringsjön, ytan","2024-10-21",11.2,10.7,98,8.1,1.6,"",24.4,60,30.02,3.9,56,"<10","",1100,"",0.8,"",2024,10,6.7,8.4000000000000005E-2,""]
[240,"Ri2 Västra Ringsjön, ytan","2024-11-20",5.2,12.1,95,8.1,1.8,"",25.8,60,31.6,2.2000000000000002,56,110,"",1000,47,1.1000000000000001,"",2024,11,9.4,4.9000000000000002E-2,""]
[240,"Ri2 Västra Ringsjön, ytan","2024-12-11",3.1,13.3,99,8.1,1.8,"",25.9,40,23.700000000000003,3.7,42,200,"",1000,38,1.2,"",2024,12,7.5,5.7000000000000002E-2,""]
[245,"Ri2 Västra Ringsjön, 4 m","2024-06-12",15.7,9.6999999999999993,98,"","","","","","","<2",32,240,37,1100,"","","",2024,6,7.7,"",""]
[245,"Ri2 Västra Ringsjön, 4 m","2024-07-09",18.2,9.8000000000000007,104,"","","","","","",3.2,47,"<10","<10",860,"","","",2024,7,9.4,"",""]
[245,"Ri2 Västra Ringsjön, 4 m","2024-08-15",21,10,112,"","","","","","",2.2000000000000002,58,"<10",18,1000,"","","",2024,8,11,"",""]
[245,"Ri2 Västra Ringsjön, 4 m","2024-09-17",16.8,8.8000000000000007,91,"","","","","","",5.9,74,"<10","<10",990,"","","",2024,9,8.4,"",""]

{"sheet":"Rapport","index":10,"n_rows":378,"n_cols":5,"rows_kept":378,"cut":false,"hidden":false,"merged":[]}
[null,"Rönne ån 2025\nRapport"]
[null,"Metoder och mätosäkerhet"]
[null,"Rönne å 2025"]
[null,"Vattenkontroll "]
[null,"På uppdrag av Rönneåkommitén"]
[null,"Ringsjöns vattenråd"]
["Sorterings-","Provtagningspunkt","Provtagn"," Syreh","Siktdjup"]
["ordning","Nr Läge","datum","mg/l","m"]
[250,"januari"]
[3,"3  Rönneå, uppstr Bålamöllan","2025-01-15",12.8]
[10,"11 Rönneå, vid Djupadalsmölla","2025-01-15",13]
[25,"24 Rönneå, vid Forsmöllan","2025-01-15",12.9]
[30,"25 Rönneå, vid Stackarps bro","2025-01-15",13.8]
[40,"49 Rönneå, uppstr Ängelholm","2025-01-15",13.4]
[45,"57 Rönneå, vid utfl t Skälderviken","2025-01-15",13.5]
[75,"16 Ybbarpsån, nedstr Perstorp AB","2025-01-15",13.8]
[85,"22 Ybbarpsån, vid Herrevadskloster","2025-01-15",12.8]
[120,"33 Bäljaneå, nedstr Klippan","2025-01-15",13.5]
[145,"44 Pinnån, utfl ur Kopparmölledamm","2025-01-15",13.8]
[150,"58 Pinnån, vid utfl t Rönneå","2025-01-15",13.2]
[165,"56 Rössjöholmsån, f utfl t Rönneå","2025-01-15",13.6]
[220,"Ri5 Sätoftasjön, ytan","2025-01-15",13.8,1.1000000000000001]
[230,"Ri4 Östra Ringsjön, ytan","2025-01-15",13.5,1.7]
[240,"Ri2 Västra Ringsjön, ytan","2025-01-15",14.9,1]
[300,"provtagningsuppgifter",null,"Provtagning: Jan Pröjts  Uppdragsansvarig: Birgitta Bengtsson"]
[250,"februari"]
[3,"3  Rönneå, uppstr Bålamöllan","2025-02-10",13.9]
[5,"75 Rönneå, Bögerup vid bron innan Bolebäcken","2025-02-10",13.9]
[10,"11 Rönneå, vid Djupadalsmölla","2025-02-10",13.9]
[15,"14 Rönneå, uppstr Ljungbyheds ARV","2025-02-10",13.8]
[20,"79 Rönneå, nedstr Ljungbyhed ARV","2025-02-11",14]
[25,"24 Rönneå, vid Forsmöllan","2025-02-11",14]
[30,"25 Rönneå, vid Stackarps bro","2025-02-11",14.5]
[35,"34 Rönneå, vid Tranarps bro","2025-02-11",14.1]
[40,"49 Rönneå, uppstr Ängelholm","2025-02-11",13.6]
[45,"57 Rönneå, vid utfl t Skälderviken","2025-02-11",13.9]
[50,"6  Bäljaneå, uppstr Röstånga","2025-02-10",13.7]
[55,"8  Bäljaneå, före utfl t Rönneå","2025-02-10",12.4]
[60,"59 Klingstorpabäcken, Färingstofta","2025-02-11",13.7]
[65,"72 Storedamm, utlopp mot Svenstorp","2025-02-11",13.7]
[70,"15 Ybbarpsån, utfl ur Ybbarpssjön","2025-02-11",13.9]
[75,"16 Ybbarpsån, nedstr Perstorp AB","2025-02-11",14]
[80,"17 Ybbarpsån, Storarydsdammens utl","2025-02-12",13.3]
[85,"22 Ybbarpsån, vid Herrevadskloster","2025-02-11",14.2]
[90,"28 Perstorpsbäcken, uppstr Perstorp","2025-02-11",13.4]
[95,"29 Perstorpsbäcken, nedstr Perstorp","2025-02-11",13.4]
[100,"76 Oderbäcken, uppstr Oderljunga ARV","2025-02-12",13.5]
[105,"30 Bäljaneå, vid Hyllstofta","2025-02-11",14.1]
[110,"32 Bäljaneå, uppstr Klippan","2025-02-11",14.1]
[115,"78 Bäljaneå, nedstr Klippans ARV","2025-02-11",13.9]
[120,"33 Bäljaneå, nedstr Klippan","2025-02-11",14]
[125,"77 Biflöde till Rönneå, uppstr Kvidinge ARV","2025-02-11",13.5]
[130,"36 Pinnån, nedstr Åsljungasjön","2025-02-12",12.5]
[135,"40 Pinnån, nedstr Örkelljunga","2025-02-12",13.7]
[140,"42 Pinnån, uppstr Gelita","2025-02-11",13.8]
[145,"44 Pinnån, utfl ur Kopparmölledamm","2025-02-11",13.8]
[150,"58 Pinnån, vid utfl t Rönneå","2025-02-11",13.7]
[155,"70 Kägleån, vid Ängeltofta","2025-02-11",14]
[160,"55 Kägleån, vägbro Åkersholm","2025-02-11",13.9]
[165,"56 Rössjöholmsån, f utfl t Rönneå","2025-02-11",14.1]
[170,"60 Storarydsdammen yta","2025-02-12",13.3,1.3]
[175,"60 Storarydsdammen 4 m","2025-02-12",13.2]
[180,"19 Ö Sorrödssjön, ytan","2025-02-12",13.2,1.1000000000000001]
[185,"19 Ö Sorrödssjön,  4 m","2025-02-12",13.5]
[190,"37 Hjälmsjön, ytan","2025-02-12",13.3,1.1000000000000001]
[195,"37 Hjälmsjön, 6,5 m","2025-02-12",13.4]
[200,"50 Västersjön, ytan","2025-02-12",13.9,1.9]
[205,"50 Västersjön, 10 m","2025-02-12",14]
[210,"51 Rössjön, ytan","2025-02-12",13.6,2.2000000000000002]
[215,"51 Rössjön, 18 m","2025-02-12"]
[220,"Ri5 Sätoftasjön, ytan","2025-02-10",14.1,1.1000000000000001]
[230,"Ri4 Östra Ringsjön, ytan","2025-02-10",14.3,1.5]
[240,"Ri2 Västra Ringsjön, ytan","2025-02-10",14.3,1.7]
[300,"provtagningsuppgifter",null,"Provtagning: Birgiytta Bengtsson/Jan Pröjts  Uppdragsansvarig: Birgitta Bengtsson"]
[250,"mars"]
[3,"3  Rönneå, uppstr Bålamöllan"]
[10,"11 Rönneå, vid Djupadalsmölla"]
[25,"24 Rönneå, vid Forsmöllan"]
[30,"25 Rönneå, vid Stackarps bro"]
[40,"49 Rönneå, uppstr Ängelholm"]
[45,"57 Rönneå, vid utfl t Skälderviken"]
[75,"16 Ybbarpsån, nedstr Perstorp AB"]
[85,"22 Ybbarpsån, vid Herrevadskloster"]
[120,"33 Bäljaneå, nedstr Klippan"]
[145,"44 Pinnån, utfl ur Kopparmölledamm"]
[150,"58 Pinnån, vid utfl t Rönneå"]
[165,"56 Rössjöholmsån, f utfl t Rönneå"]
[220,"Ri5 Sätoftasjön, ytan"]
[230,"Ri4 Östra Ringsjön, ytan"]
[240,"Ri2 Västra Ringsjön, ytan"]
[300,"provtagningsuppgifter",null,"Provtagning: Namn  Uppdragsansvarig: Namn"]
[250,"april"]
[3,"3  Rönneå, uppstr Bålamöllan"]
[5,"75 Rönneå, Bögerup vid bron innan Bolebäcken"]
[10,"11 Rönneå, vid Djupadalsmölla"]
[15,"14 Rönneå, uppstr Ljungbyheds ARV"]
[20,"79 Rönneå, nedstr Ljungbyhed ARV"]
[25,"24 Rönneå, vid Forsmöllan"]
[30,"25 Rönneå, vid Stackarps bro"]
[35,"34 Rönneå, vid Tranarps bro"]
[40,"49 Rönneå, uppstr Ängelholm"]
[45,"57 Rönneå, vid utfl t Skälderviken"]
[50,"6  Bäljaneå, uppstr Röstånga"]
[55,"8  Bäljaneå, före utfl t Rönneå"]
[60,"59 Klingstorpabäcken, Färingstofta"]
[65,"72 Storedamm, utlopp mot Svenstorp"]
[70,"15 Ybbarpsån, utfl ur Ybbarpssjön"]
[75,"16 Ybbarpsån, nedstr Perstorp AB"]
[80,"17 Ybbarpsån, Storarydsdammens utl"]
[85,"22 Ybbarpsån, vid Herrevadskloster"]
[90,"28 Perstorpsbäcken, uppstr Perstorp"]
[95,"29 Perstorpsbäcken, nedstr Perstorp"]
[100,"76 Oderbäcken, uppstr Oderljunga ARV"]
[105,"30 Bäljaneå, vid Hyllstofta"]
[110,"32 Bäljaneå, uppstr Klippan"]
[115,"78 Bäljaneå, nedstr Klippans ARV"]
[120,"33 Bäljaneå, nedstr Klippan"]
[125,"77 Biflöde till Rönneå, uppstr Kvidinge ARV"]
[130,"36 Pinnån, nedstr Åsljungasjön"]
[135,"40 Pinnån, nedstr Örkelljunga"]
[140,"42 Pinnån, uppstr Gelita"]
[145,"44 Pinnån, utfl ur Kopparmölledamm"]
[150,"58 Pinnån, vid utfl t Rönneå"]
[155,"70 Kägleån, vid Ängeltofta"]
[160,"55 Kägleån, vägbro Åkersholm"]
[165,"56 Rössjöholmsån, f utfl t Rönneå"]
[220,"Ri5 Sätoftasjön, ytan"]
[230,"Ri4 Östra Ringsjön, ytan"]
[240,"Ri2 Västra Ringsjön, ytan"]
[300,"provtagningsuppgifter",null,"Provtagning: Namn  Uppdragsansvarig: Namn"]
[250,"maj"]
[3,"3  Rönneå, uppstr Bålamöllan"]
[10,"11 Rönneå, vid Djupadalsmölla"]
[25,"24 Rönneå, vid Forsmöllan"]
[30,"25 Rönneå, vid Stackarps bro"]
[40,"49 Rönneå, uppstr Ängelholm"]
[45,"57 Rönneå, vid utfl t Skälderviken"]
[75,"16 Ybbarpsån, nedstr Perstorp AB"]
[85,"22 Ybbarpsån, vid Herrevadskloster"]
[120,"33 Bäljaneå, nedstr Klippan"]
[145,"44 Pinnån, utfl ur Kopparmölledamm"]
[150,"58 Pinnån, vid utfl t Rönneå"]
[165,"56 Rössjöholmsån, f utfl t Rönneå"]
[220,"Ri5 Sätoftasjön, ytan"]
[230,"Ri4 Östra Ringsjön, ytan"]
[240,"Ri2 Västra Ringsjön, ytan"]
[300,"provtagningsuppgifter",null,"Provtagning: Namn  Uppdragsansvarig: Namn"]
[250,"juni"]
[3,"3  Rönneå, uppstr Bålamöllan"]
[10,"11 Rönneå, vid Djupadalsmölla"]
[25,"24 Rönneå, vid Forsmöllan"]
[30,"25 Rönneå, vid Stackarps bro"]
[40,"49 Rönneå, uppstr Ängelholm"]
[45,"57 Rönneå, vid utfl t Skälderviken"]
[75,"16 Ybbarpsån, nedstr Perstorp AB"]
[85,"22 Ybbarpsån, vid Herrevadskloster"]
[120,"33 Bäljaneå, nedstr Klippan"]
[145,"44 Pinnån, utfl ur Kopparmölledamm"]
[150,"58 Pinnån, vid utfl t Rönneå"]
[165,"56 Rössjöholmsån, f utfl t Rönneå"]
[220,"Ri5 Sätoftasjön, ytan"]
[225,"Ri5 Sätoftasjön, 15 m"]
[230,"Ri4 Östra Ringsjön, ytan"]
[235,"Ri4 Östra Ringsjön, 15 m"]
[240,"Ri2 Västra Ringsjön, ytan"]
[245,"Ri2 Västra Ringsjön, 4 m"]
[300,"provtagningsuppgifter",null,"Provtagning: Namn  Uppdragsansvarig: Namn"]
[250,"juli"]
[3,"3  Rönneå, uppstr Bålamöllan"]
[5,"75 Rönneå, Bögerup vid bron innan Bolebäcken"]
[10,"11 Rönneå, vid Djupadalsmölla"]
[15,"14 Rönneå, uppstr Ljungbyheds ARV"]
[20,"79 Rönneå, nedstr Ljungbyhed ARV"]
[25,"24 Rönneå, vid Forsmöllan"]
[30,"25 Rönneå, vid Stackarps bro"]
[35,"34 Rönneå, vid Tranarps bro"]
[40,"49 Rönneå, uppstr Ängelholm"]
[45,"57 Rönneå, vid utfl t Skälderviken"]
[50,"6  Bäljaneå, uppstr Röstånga"]
[55,"8  Bäljaneå, före utfl t Rönneå"]
[60,"59 Klingstorpabäcken, Färingstofta"]
[65,"72 Storedamm, utlopp mot Svenstorp"]
[70,"15 Ybbarpsån, utfl ur Ybbarpssjön"]
[75,"16 Ybbarpsån, nedstr Perstorp AB"]
[80,"17 Ybbarpsån, Storarydsdammens utl"]
[85,"22 Ybbarpsån, vid Herrevadskloster"]
[90,"28 Perstorpsbäcken, uppstr Perstorp"]
[95,"29 Perstorpsbäcken, nedstr Perstorp"]
[100,"76 Oderbäcken, uppstr Oderljunga ARV"]
[105,"30 Bäljaneå, vid Hyllstofta"]
[110,"32 Bäljaneå, uppstr Klippan"]
[115,"78 Bäljaneå, nedstr Klippans ARV"]
[120,"33 Bäljaneå, nedstr Klippan"]
[125,"77 Biflöde till Rönneå, uppstr Kvidinge ARV"]
[130,"36 Pinnån, nedstr Åsljungasjön"]
[135,"40 Pinnån, nedstr Örkelljunga"]
[140,"42 Pinnån, uppstr Gelita"]
[145,"44 Pinnån, utfl ur Kopparmölledamm"]
[150,"58 Pinnån, vid utfl t Rönneå"]
[155,"70 Kägleån, vid Ängeltofta"]
[160,"55 Kägleån, vägbro Åkersholm"]
[165,"56 Rössjöholmsån, f utfl t Rönneå"]
[220,"Ri5 Sätoftasjön, ytan"]
[225,"Ri5 Sätoftasjön, 15 m"]
[230,"Ri4 Östra Ringsjön, ytan"]
[235,"Ri4 Östra Ringsjön, 15 m"]
[240,"Ri2 Västra Ringsjön, ytan"]
[245,"Ri2 Västra Ringsjön, 4 m"]
[300,"provtagningsuppgifter",null,"Provtagning: Namn  Uppdragsansvarig: Namn"]
[250,"augusti"]
[3,"3  Rönneå, uppstr Bålamöllan"]
[5,"75 Rönneå, Bögerup vid bron innan Bolebäcken"]
[10,"11 Rönneå, vid Djupadalsmölla"]
[15,"14 Rönneå, uppstr Ljungbyheds ARV"]
[20,"79 Rönneå, nedstr Ljungbyhed ARV"]
[25,"24 Rönneå, vid Forsmöllan"]
[30,"25 Rönneå, vid Stackarps bro"]
[35,"34 Rönneå, vid Tranarps bro"]
[40,"49 Rönneå, uppstr Ängelholm"]
[45,"57 Rönneå, vid utfl t Skälderviken"]
[50,"6  Bäljaneå, uppstr Röstånga"]
[55,"8  Bäljaneå, före utfl t Rönneå"]
[60,"59 Klingstorpabäcken, Färingstofta"]
[65,"72 Storedamm, utlopp mot Svenstorp"]
[70,"15 Ybbarpsån, utfl ur Ybbarpssjön"]
[75,"16 Ybbarpsån, nedstr Perstorp AB"]
[80,"17 Ybbarpsån, Storarydsdammens utl"]
[85,"22 Ybbarpsån, vid Herrevadskloster"]
[90,"28 Perstorpsbäcken, uppstr Perstorp"]
[95,"29 Perstorpsbäcken, nedstr Perstorp"]
[100,"76 Oderbäcken, uppstr Oderljunga ARV"]
[105,"30 Bäljaneå, vid Hyllstofta"]
[110,"32 Bäljaneå, uppstr Klippan"]
[115,"78 Bäljaneå, nedstr Klippans ARV"]
[120,"33 Bäljaneå, nedstr Klippan"]
[125,"77 Biflöde till Rönneå, uppstr Kvidinge ARV"]
[130,"36 Pinnån, nedstr Åsljungasjön"]
[135,"40 Pinnån, nedstr Örkelljunga"]
[140,"42 Pinnån, uppstr Gelita"]
[145,"44 Pinnån, utfl ur Kopparmölledamm"]
[150,"58 Pinnån, vid utfl t Rönneå"]
[155,"70 Kägleån, vid Ängeltofta"]
[160,"55 Kägleån, vägbro Åkersholm"]
[165,"56 Rössjöholmsån, f utfl t Rönneå"]
[170,"60 Storarydsdammen yta"]
[175,"60 Storarydsdammen 4 m"]
[180,"19 Ö Sorrödssjön, ytan"]
[185,"19 Ö Sorrödssjön,  4 m"]
[190,"37 Hjälmsjön, ytan"]
[195,"37 Hjälmsjön, 6,5 m"]
[200,"50 Västersjön, ytan"]
[205,"50 Västersjön, 10 m"]
[210,"51 Rössjön, ytan"]
[215,"51 Rössjön, 18 m"]
[220,"Ri5 Sätoftasjön, ytan"]
[225,"Ri5 Sätoftasjön, 15 m"]
[230,"Ri4 Östra Ringsjön, ytan"]
[235,"Ri4 Östra Ringsjön, 15 m"]
[240,"Ri2 Västra Ringsjön, ytan"]
[245,"Ri2 Västra Ringsjön, 4 m"]
[300,"provtagningsuppgifter",null,"Provtagning: Namn  Uppdragsansvarig: Namn"]
[250,"september"]
[3,"3  Rönneå, uppstr Bålamöllan"]
[5,"75 Rönneå, Bögerup vid bron innan Bolebäcken"]
[10,"11 Rönneå, vid Djupadalsmölla"]
[15,"14 Rönneå, uppstr Ljungbyheds ARV"]
[20,"79 Rönneå, nedstr Ljungbyhed ARV"]
[25,"24 Rönneå, vid Forsmöllan"]
[30,"25 Rönneå, vid Stackarps bro"]
[35,"34 Rönneå, vid Tranarps bro"]
[40,"49 Rönneå, uppstr Ängelholm"]
[45,"57 Rönneå, vid utfl t Skälderviken"]
[50,"6  Bäljaneå, uppstr Röstånga"]
[55,"8  Bäljaneå, före utfl t Rönneå"]
[60,"59 Klingstorpabäcken, Färingstofta"]
[65,"72 Storedamm, utlopp mot Svenstorp"]
[70,"15 Ybbarpsån, utfl ur Ybbarpssjön"]
[75,"16 Ybbarpsån, nedstr Perstorp AB"]
[80,"17 Ybbarpsån, Storarydsdammens utl"]
[85,"22 Ybbarpsån, vid Herrevadskloster"]
[90,"28 Perstorpsbäcken, uppstr Perstorp"]
[95,"29 Perstorpsbäcken, nedstr Perstorp"]
[100,"76 Oderbäcken, uppstr Oderljunga ARV"]
[105,"30 Bäljaneå, vid Hyllstofta"]
[110,"32 Bäljaneå, uppstr Klippan"]
[115,"78 Bäljaneå, nedstr Klippans ARV"]
[120,"33 Bäljaneå, nedstr Klippan"]
[125,"77 Biflöde till Rönneå, uppstr Kvidinge ARV"]
[130,"36 Pinnån, nedstr Åsljungasjön"]
[135,"40 Pinnån, nedstr Örkelljunga"]
[140,"42 Pinnån, uppstr Gelita"]
[145,"44 Pinnån, utfl ur Kopparmölledamm"]
[150,"58 Pinnån, vid utfl t Rönneå"]
[155,"70 Kägleån, vid Ängeltofta"]
[160,"55 Kägleån, vägbro Åkersholm"]
[165,"56 Rössjöholmsån, f utfl t Rönneå"]
[220,"Ri5 Sätoftasjön, ytan"]
[225,"Ri5 Sätoftasjön, 15 m"]
[230,"Ri4 Östra Ringsjön, ytan"]
[235,"Ri4 Östra Ringsjön, 15 m"]
[240,"Ri2 Västra Ringsjön, ytan"]
[245,"Ri2 Västra Ringsjön, 4 m"]
[300,"provtagningsuppgifter",null,"Provtagning: Namn  Uppdragsansvarig: Namn"]
[250,"oktober"]
[3,"3  Rönneå, uppstr Bålamöllan"]
[10,"11 Rönneå, vid Djupadalsmölla"]
[25,"24 Rönneå, vid Forsmöllan"]
[30,"25 Rönneå, vid Stackarps bro"]
[40,"49 Rönneå, uppstr Ängelholm"]
[45,"57 Rönneå, vid utfl t Skälderviken"]
[75,"16 Ybbarpsån, nedstr Perstorp AB"]
[85,"22 Ybbarpsån, vid Herrevadskloster"]
[120,"33 Bäljaneå, nedstr Klippan"]
[145,"44 Pinnån, utfl ur Kopparmölledamm"]
[150,"58 Pinnån, vid utfl t Rönneå"]
[165,"56 Rössjöholmsån, f utfl t Rönneå"]
[220,"Ri5 Sätoftasjön, ytan"]
[230,"Ri4 Östra Ringsjön, ytan"]
[240,"Ri2 Västra Ringsjön, ytan"]
[300,"provtagningsuppgifter",null,"Provtagning: Namn  Uppdragsansvarig: Namn"]
[250,"november"]
[3,"3  Rönneå, uppstr Bålamöllan"]
[5,"75 Rönneå, Bögerup vid bron innan Bolebäcken"]
[10,"11 Rönneå, vid Djupadalsmölla"]
[15,"14 Rönneå, uppstr Ljungbyheds ARV"]
[20,"79 Rönneå, nedstr Ljungbyhed ARV"]
[25,"24 Rönneå, vid Forsmöllan"]
[30,"25 Rönneå, vid Stackarps bro"]
[35,"34 Rönneå, vid Tranarps bro"]
[40,"49 Rönneå, uppstr Ängelholm"]
[45,"57 Rönneå, vid utfl t Skälderviken"]
[50,"6  Bäljaneå, uppstr Röstånga"]
[55,"8  Bäljaneå, före utfl t Rönneå"]
[60,"59 Klingstorpabäcken, Färingstofta"]
[65,"72 Storedamm, utlopp mot Svenstorp"]
[70,"15 Ybbarpsån, utfl ur Ybbarpssjön"]
[75,"16 Ybbarpsån, nedstr Perstorp AB"]
[80,"17 Ybbarpsån, Storarydsdammens utl"]
[85,"22 Ybbarpsån, vid Herrevadskloster"]
[90,"28 Perstorpsbäcken, uppstr Perstorp"]
[95,"29 Perstorpsbäcken, nedstr Perstorp"]
[100,"76 Oderbäcken, uppstr Oderljunga ARV"]
[105,"30 Bäljaneå, vid Hyllstofta"]
[110,"32 Bäljaneå, uppstr Klippan"]
[115,"78 Bäljaneå, nedstr Klippans ARV"]
[120,"33 Bäljaneå, nedstr Klippan"]
[125,"77 Biflöde till Rönneå, uppstr Kvidinge ARV"]
[130,"36 Pinnån, nedstr Åsljungasjön"]
[135,"40 Pinnån, nedstr Örkelljunga"]
[140,"42 Pinnån, uppstr Gelita"]
[145,"44 Pinnån, utfl ur Kopparmölledamm"]
[150,"58 Pinnån, vid utfl t Rönneå"]
[155,"70 Kägleån, vid Ängeltofta"]
[160,"55 Kägleån, vägbro Åkersholm"]
[165,"56 Rössjöholmsån, f utfl t Rönneå"]
[220,"Ri5 Sätoftasjön, ytan"]
[230,"Ri4 Östra Ringsjön, ytan"]
[240,"Ri2 Västra Ringsjön, ytan"]
[300,"provtagningsuppgifter",null,"Provtagning: Namn  Uppdragsansvarig: Namn"]
[250,"december"]
[3,"3  Rönneå, uppstr Bålamöllan"]
[10,"11 Rönneå, vid Djupadalsmölla"]
[25,"24 Rönneå, vid Forsmöllan"]
[30,"25 Rönneå, vid Stackarps bro"]
[40,"49 Rönneå, uppstr Ängelholm"]
[45,"57 Rönneå, vid utfl t Skälderviken"]
[75,"16 Ybbarpsån, nedstr Perstorp AB"]
[85,"22 Ybbarpsån, vid Herrevadskloster"]
[120,"33 Bäljaneå, nedstr Klippan"]
[145,"44 Pinnån, utfl ur Kopparmölledamm"]
[150,"58 Pinnån, vid utfl t Rönneå"]
[165,"56 Rössjöholmsån, f utfl t Rönneå"]
[220,"Ri5 Sätoftasjön, ytan"]
[230,"Ri4 Östra Ringsjön, ytan"]
[240,"Ri2 Västra Ringsjön, ytan"]
[300,"provtagningsuppgifter",null,"Provtagning: Namn  Uppdragsansvarig: Namn"]
[null,""]
[null,""]

{"sheet":"Kommentarer","index":11,"n_rows":132,"n_cols":4,"rows_kept":132,"cut":false,"hidden":false,"merged":[]}
[]
[null,"Rönne å 2025"]
[null,"Vattenkontroll - Kommentarer till resultat"]
[]
[null," "]
[null,null,null,"Så här skriver du ut!"]
[null,null,null,"Klicka på aktuell månad till vänster\nObservera att sidbrytningar kan bli olika beroende på skrivare och skrivarinställningar"]
[]
[]
[]
[null,"Lund","2025-02-18"]
[null,"     Rönneåkommitén, Ringsjöns vattenråd"]
[]
[]
[]
[]
[]
[]
[]
[]
[null,"Lund ","2025-03-19"]
[null,"      Rönneåkommitén och Ringsjöns vattenråd"]
[]
[]
[]
[]
[]
[]
[]
[]
[null,"Lund ","2025-04-"]
[null,"      Rönneåkommitén och Ringsjöns vattenråd"]
[]
[]
[]
[]
[]
[]
[]
[]
[null,"Lund ","2025-05-"]
[null,"      Rönneåkommitén och Ringsjöns vattenråd"]
[]
[]
[]
[]
[]
[]
[]
[]
[null,"Lund ","2025-06-"]
[null,"      Rönneåkommitén och Ringsjöns vattenråd"]
[]
[]
[]
[]
[]
[]
[]
[]
[null,"Lund ","2025-08-"]
[null,"      Rönneåkommitén och Ringsjöns vattenråd"]
[]
[]
[]
[]
[]
[]
[]
[]
[null,"Lund ","2025-08-"]
[null,"      Rönneåkommitén och Ringsjöns vattenråd"]
[]
[]
[]
[]
[]
[]
[]
[]
[null,"Lund","2025-09-"]
[null,"      Rönneåkommitén och Ringsjöns vattenråd"]
[]
[]
[]
[]
[]
[]
[]
[]
[null,"Lund ","2025-10-"]
[null,"      Rönneåkommitén och Ringsjöns vattenråd"]
[]
[]
[]
[]
[]
[]
[]
[]
[null,"Lund ","2025-11-"]
[null,"      Rönneåkommitén och Ringsjöns vattenråd"]
[]
[]
[]
[]
[]
[]
[]
[]
[null,"Lund  ","2025-12-"]
[null,"      Rönneåkommitén och Ringsjöns vattenråd"]
[]
[]
[]
[]
[]
[]
[]
[]
[null,"Lund ","2026-01-"]
[null,"      Rönneåkommitén och Ringsjöns vattenråd"]
[]
[]
[]
[]
[]
[]
[]
[]
[null,"Lund ","2026-xx-xx"]
[null,"      Rönneåkommitén och Ringsjöns vattenråd"]

{"sheet":"Kontakt","index":12,"n_rows":18,"n_cols":6,"rows_kept":18,"cut":false,"hidden":false,"merged":[[20,3,21,3],[22,3,23,3]]}
[null,"Rönne å"]
[null,"Vattenkontroll - kontaktpersoner"]
[]
[null,"Konsult:",null,"Uppdragsgivare:",null,"Uppdragsgivare:"]
[null,"Ekologigruppen",null,"Ringsjöns vattenråd",null,"Rönneåkomittén"]
[null,"Stora Södergatan 8C"]
[null,"222 23 Lund",null,"Höörs kommun",null,"c/o Klippans kommun"]
[null,null,null,"Södergatan 28",null,"Trädgårdsgatan 12"]
[null,"Telefon: 046-106750 (växel)",null,"243 31 Höör",null,"264 80 Klippan"]
[]
[]
[null,"E-post:",null,"E-post:",null,"E-post:"]
[null,"birgitta.bengtsson@ekologigruppen.se",null,"richard.nilsson@hoor.se",null,"nora.bjorn@klippan.se"]
[]
[null,"Hemsida:",null,"Hemsida:",null,"Hemsida:"]
[null,"http://www.ekologigruppen.se/",null,"https://www.ringsjon.se/",null,"Rönneåns vattenråd"]
[]
[null,"Kontaktperson: Birgitta Bengtsson",null,"Kontaktperson: Richard Nilsson",null,"Kontaktperson: Nora Björn"]

{"sheet":"Länkar","index":13,"n_rows":18,"n_cols":3,"rows_kept":18,"cut":false,"hidden":false,"merged":[]}
[]
[null,"Rönne å"]
[null,"Vattenkontroll - länkar till äldre resultat mm"]
[null,"Länkar till nationell databas, SLU (Sveriges LantbruksUniversitet). "]
[null,"Välj data från en eller flera stationer. Välj från stationskarta eller tabell."]
[null,"Internetuppkoppling krävs för denna funktion."]
[]
[null,"SLU, MVM                 fr o m 2013*","  * Välj i Undersökningar, t ex: \"SRK Rönneå\" "]
[]
[]
[null,"Rönneåns vattenråd"]
[null,"VattenAtlas"]
[null,"Vattenkartan"]
[null,"VISS, länsstyrelsernas databas för vattendata"]
[]
[null,"Länsstyrelsen i Skåne län"]
[null,"Vattenmyndigheterna"]
[null,"Naturvårdsverket"]

{"sheet":"Förklaring","index":14,"n_rows":56,"n_cols":8,"rows_kept":56,"cut":false,"hidden":false,"merged":[]}
[]
[null,"Rönne å"]
[null,"Vattenkontroll - förklaring till färgmarkeringar"]
[]
[null,"Indelning av halter och värden baseras på:"]
[null,"Bedömningsgrunder för miljökvalitet - Sjöar och Vattendrag "]
[null,"Naturvårdsverket 1999 (Rapport 4913)"]
[]
[null,"Observera att bedömningsgrunderna rymmer fem klasser:"]
[]
[null,"Följande parametrar ingår i den automatiska färgmarkeringen:"]
[]
[null,"klass:",1,2,3,4,5,"Kommentar"]
[null,"pH, surhet","nära neutralt","svagt surt","måttligt","surt","mycket surt"]
[null,"pH-värde",">6,8","6,5-6,8","6,2-6,5","5,6-6,19","<5,6"]
[null,"Alkalinitet, buffertkapacitet","mycket god","god","svagt","mycket svag","obefintlig"]
[null,"mekv/l",">0,2","0,1-0,2","0,05-0,1","0,02-0,05","<0,02"]
[null,"färg, färgning","obetydligt","svagt","måttligt","betydligt ","starkt"]
[null,"mg Pt/l","<10","25-10","25-60","61-100",">100"]
[null,"grumlighet","obetydligt","svagt","måttligt","betydligt ","starkt"]
[null,"FNU/FTU","<0,5","0,5-1","1,0-2,5","2,6-7,0",">7,0"]
[null,"syrehalt, tillstånd","syrerikt","måttligt","svagt","syrefattigt","syrefritt","i sjöar bedöms bottenvatten"]
[null,"mg O2/l",">7","5-7","3-5","1-2,9","<1"]
[null,"Perm.t (COD-Mn), halt","mycket låg","låg","måttligt","hög","mycket hög","gränserna är omräknade fr"]
[null,"mg/l","<15,8","15,8-31,6","31,6-47,4","47,7-63,2",">63,2","COD-Mn med faktor 3,95"]
[null,"totalfosfor, halt","låg","måttligt hög","hög","mycket hög","extremt hög","egentligen sjöar"]
[null," µg/l","<12,5","12,5-25","25-50","51-100",">100","medel maj-oktober"]
[null,"totalkväve, halt","låg","måttligt hög","hög","mycket hög","extremt hög","egentligen sjöar"]
[null," µg/l","<300","300-625","625-1250","1251-5000",">5000","medel maj-oktober"]
[null,"Klorofyll a, halt","låg","måttligt hög","hög","mycket hög","extremt hög"]
[null," µg/l","<2","2-5","5-12","12-25",">25","medel maj-oktober"]
[null,"Siktdjup","mycket stort","stort","måttligt","litet","mycket litet"]
[null,"m",">8","5-8","2,5-5","1-2,5","<1"]
[]
[]
[null,"Observera att klassningssystemet egentligen är uppbyggt för att karaktärisera en provpunkt"]
[null,"där en serie av provresultat föreligger, t ex 12 prover under ett år. Oftast rekommenderas "]
[null,"att medelvärdena för mätperioden klassas men i fallet syretillstånd skall klassningen baseras"]
[null,"på minimivärdet för mätperioden."]
[]
[]
[null,"Varför färgmarkering/avmarkering?"]
[]
[null,"Färgmarkeringsfunktionen har lagts till för att uppmärksamma läsaren på anmärkningsvärt höga/"]
[null,"låga värden. Avmarkeringsfunktionen finns för att användaren enkelt skall kunna välja hur arket"]
[null,"skall studeras eller skrivas ut. "]
[]
[null,"Färgmarkeringar i resultatrapporter ingår ej i Ekologigruppens ackreditering."]
[]
[]
[null,"Referenser:"]
[null,"De referenser Ekologigruppen använder som stöd för tolkningar av kemidata och indexberäkningar är"]
[null," följande:"]
[null,"Naturvårdsverket 1999. Bedömningsgrunder för miljökvalitet - Sjöar och vattendrag. Rapport 4913."]
[null,"Havs- och vattenmyndighetens föreskrifter om klassificering och miljökvalitetsnormer avseende "]
[null,"   ytvatten, HVMFS 2019:25. Havs- och vattenmyndighetens författningssamling."]

{"sheet":"Problemhantering","index":15,"n_rows":31,"n_cols":5,"rows_kept":31,"cut":false,"hidden":true,"merged":[]}
["Problemhantering"]
[]
["OBS! Makrohanteraren är skyddad, för att få fram makron gäller lösenordet \"kontroll\""]
["Info om versionsuppdateringar, liksom makrofunktioner m m finns i en separat fil:",null,null,null,"Arsfil_Versionshistorik_och_makron.xlsx"]
[]
[]
["Om ni stöter på problem i just denna fil eller har förslag till förbättringar, skriv in nedan"]
[]
["Datum","Version","Problembeskrivning / uppdatering","Sign"]
["2021-08-19","1.6","Ny flik  \"Problemhantering\". Flikarna \"Verionshistorik\" och \"Makron m m\" flyttas till separat fil, gemensam för alla årsfiler. ","BW"]
["2022-02-08","1.7","Uppdaterat till 2022, samt ny version med förändrad inskrivning och rapportdel","BW"]
["2024-01-09","1.7","Fil klar för Kävlingeån redovisning 2024. Återstår lite fix på statistik-delen. \nOBS! Porvpunkt 12A ligger utanför valbar matris eftesrom det saknas historisk data","BW"]
["2024-01-09","1.71",null,"BW"]
["2024-01-23",null,"Historisk data importerad. Problem med Callunas data; \"tomma\" celler som inte var toma. Kan sökas genom att markera område - Gå till special -Tomma caller","BW"]
["2024-01-23",null,"Resrevdiagram (3 st) flyttade till rad 230","BW"]
["2024-01-24",null,"Listruta på statisstik hamnar utanför vid liten skärm. Löst med två listrutor. Olika ingång till statistik-modulen","BW"]
["2024-01-24",null,"Syrgasflik tillagd. Ingår i subarna Lockup och Lock_normal","BW"]
["2024-02-01",null,"Parametrar utökade med Ca, Mg, SO4","BW"]
["2024-02-05",null,"Utökad med COD-Cr (efter Perm.tal). Lagt tillbaka formel för Syrem % i Indata","BW"]
["2024-02-08",null,"Fixat några buggar samt lagt till färgmarkering för Klorofyll","BW"]
["2024-02-12",null,"Lagt till färgmarkering: Perm-tal (COD-Mn), Alk, Siktdjup. Uppdaterat förklaring","BW"]
["2024-02-12",null,"Dubbla listrutor funkar ej i public-version. Lagt till TaframBlad och DoljBlad i programsnuttarna samt lagt till flik Provpunkter i de båda subarna","BW"]
["2024-03-12",null,"Fyllt på med diagram för syreprofil Ö-Ring och Sätofta t o m juni\nLagt in histt data dec 2023","BW"]
["2024-06-03",null,"Diagram fixat för syreprofiler Ringssjöarna","BW"]
["2024-06-03","1.72","Syrgasdiagram klara. OBS! vid uppdatering kolla så att hämtade värden från Resultat-fliken stämmer. Ändring av struktur i Resultatfliken kan påverka Syrediagrammen","BW"]
["2024-08-15",null,"Lagt till siktdjup i rapport-fliken. Samt ändrat i makron \"Ny_Sortering\"","BW"]
["2024-09-04",null,"Rättat till länkar i syrgasdiagram, Rönnesjöar Aug till rätt plats","BW"]
["2024-10-01",null,"Korrigerat felaktiga utskriftsområden i \"Rapport\"","BW"]
["2025-01-14","1.72","Synkad till v 1.72 med övriga årsfiler. Ändring Rapport-flik, se fil Arsfil_versionshistorik..","BW"]
["2025-01-14",null,"Uppdaterad till 2025. Historisk data 2024 ej uppdaterad","BW"]
["2025-02-25",null,"Rättat COD-Cr i Sorterat-fliken (har hämtat värden från PO4-P i RS-fliken). Rättat även i 2024-filen.\nLagt in rätt enhet (mekv/l) för Ca, Mg, SO4","BW"]

{"sheet":"Provpunkter","index":16,"n_rows":61,"n_cols":11,"rows_kept":61,"cut":false,"hidden":true,"merged":[]}
[3,"3  Rönneå, uppstr Bålamöllan",12,null,null,null,9,9,null,null,7]
[5,"75 Rönneå, Bögerup vid bron innan Bolebäcken",6,null,null,null,{"$f":"H2+34","v":35},1]
[10,"11 Rönneå, vid Djupadalsmölla",12]
[15,"14 Rönneå, uppstr Ljungbyheds ARV",6]
[25,"24 Rönneå, vid Forsmöllan",12]
[30,"25 Rönneå, vid Stackarps bro",12]
[35,"34 Rönneå, vid Tranarps bro",6]
[40,"49 Rönneå, uppstr Ängelholm",12]
[45,"57 Rönneå, vid utfl t Skälderviken",12]
[50,"6  Bäljaneå, uppstr Röstånga",6]
[55,"8  Bäljaneå, före utfl t Rönneå",6]
[60,"59 Klingstorpabäcken, Färingstofta",6]
[70,"15 Ybbarpsån, utfl ur Ybbarpssjön",6]
[75,"16 Ybbarpsån, nedstr Perstorp AB",12]
[80,"17 Ybbarpsån, Storarydsdammens utl",6]
[85,"22 Ybbarpsån, vid Herrevadskloster",12]
[90,"28 Perstorpsbäcken, uppstr Perstorp",6]
[95,"29 Perstorpsbäcken, nedstr Perstorp",6]
[100,"76 Oderbäcken, uppstr Oderljunga ARV",6]
[105,"30 Bäljaneå, vid Hyllstofta",6]
[110,"32 Bäljaneå, uppstr Klippan",6]
[120,"33 Bäljaneå, nedstr Klippan",12]
[125,"77 Biflöde till Rönneå, uppstr Kvidinge ARV",6]
[130,"36 Pinnån, nedstr Åsljungasjön",6]
[135,"40 Pinnån, nedstr Örkelljunga",6]
[140,"42 Pinnån, uppstr Gelita",6]
[145,"44 Pinnån, utfl ur Kopparmölledamm",12]
[150,"58 Pinnån, vid utfl t Rönneå",12]
[155,"70 Kägleån, vid Ängeltofta",6]
[160,"55 Kägleån, vägbro Åkersholm",6]
[165,"56 Rössjöholmsån, f utfl t Rönneå",12]
[20,"79 Rönneå, nedstr Ljungbyhed ARV",6]
[65,"72 Storedamm, utlopp mot Svenstorp",6]
[115,"78 Bäljaneå, nedstr Klippans ARV",6]
[170,"60 Storarydsdammen yta",2]
[175,"60 Storarydsdammen 4 m",2]
[180,"19 Ö Sorrödssjön, ytan",2]
[185,"19 Ö Sorrödssjön,  4 m",2]
[190,"37 Hjälmsjön, ytan",2]
[195,"37 Hjälmsjön, 6,5 m",2]
[200,"50 Västersjön, ytan",2]
[205,"50 Västersjön, 10 m",2]
[210,"51 Rössjön, ytan",2]
[215,"51 Rössjön, 18 m",2]
[220,"Ri5 Sätoftasjön, ytan",12]
[225,"Ri5 Sätoftasjön, 15 m",4]
[230,"Ri4 Östra Ringsjön, ytan",12]
[235,"Ri4 Östra Ringsjön, 15 m",4]
[240,"Ri2 Västra Ringsjön, ytan",12]
[245,"Ri2 Västra Ringsjön, 4 m",4]
[]
[]
["Provpunkter som finns i historik, men ej i aktuell redovisning"]
[216,"Ri71 Hörbyån, norra armen"]
[217,"Ri72 Hörbyån, södra armen"]
[47,"73 Hålsaxabäcken"]
[121,"74 Smålarpsån"]
[57,"10 Snällerödsbäcken, ned N Rörum"]
[86,"23 Skärån, vid Järbäck"]
[87,"26 Klövabäcken, vid Frumölla"]
[146,"48 Pråmöllebäcken, vid Ällekärr"]

{"sheet":"Formler","index":17,"n_rows":19,"n_cols":41,"rows_kept":19,"cut":false,"hidden":true,"merged":[]}
["Detta blad används endast av Ekologgruppens personal. Bladet är skrivskyddat."]
["Formler för alkalinitet och syremättnad",null,null,null,null,null,null,null,null,null,null,null,null,null,null,null,null,null,null,null,null,null,null,null,null,"Formler enl Miljödata MVM"]
["Kopiera cellerna i kolumn F-H på rad 5 till de rader i bladet Resultat där syremättnad och alkalinitet ska beräknas",null,null,null,null,null,null,null,null,null,null,null,null,null,null,null,null,null,null,null,null,null,"mg/l","mg/l","mg/l","mekv/l","mekv/l","mekv/l"]
["Sorterings-","Provtagningspunkt","Provtagn"," Vattenf"," Temp"," Syreh","Syrem","  pH","Gruml","  Kond","BOD7","PO4-P","Tot-P","Part.-P"," NO3+2-N","NH4-N"," Tot-N","Susp","Anmärkning","provtagare/projektledare",null,null,"Ca","Mg","SO4","Ca","Mg","SO4"]
[null,null,null,null,null,null,{"$f":"ROUND((F5/((9.266*EXP(-0.04555*E5)+5.374))*100),0)","v":0},null,null,null,null,null,null,null,null,null,null,null,null,null,null,null,null,null,null,{"$f":"W5*0.0499002","v":0},{"$f":"X5*0.079681275","v":0},{"$f":"Y5*0.02082118","v":0},null,null,null,null,null,null,null,null,null,null,null,null,0.02]
[null,null,null,null,null,null,null,null,null,null,null,null,null,null,null,null,null,null,null,null,null,null,null,null,null,{"$f":"W6*0.0499002","v":0},{"$f":"X6*0.079681275","v":0},{"$f":"Y6*0.02082118","v":0}]
[null,null,null,null,null,null,null,null,null,null,null,null,null,null,null,null,null,null,null,null,null,null,null,null,null,0,0,0]
[null,null,null,null,null,null,null,null,null,null,null,null,null,null,null,null,null,null,null,null,null,null,null,null,null,0,0,0]
[null,null,null,null,null,null,null,null,null,null,null,null,null,null,null,null,null,null,null,null,null,null,null,null,null,0,0,0]
[null,null,null,null,null,null,null,null,null,null,null,null,null,null,null,null,null,null,null,null,null,null,null,null,null,0,0,0]
[null,null,null,null,null,null,null,null,null,null,null,null,null,null,null,null,null,null,null,null,null,null,null,null,null,0,0,0]
[null,null,null,null,null,null,null,null,null,null,null,null,null,null,null,null,null,null,null,null,null,null,null,null,null,0,0,0]
[null,null,null,null,null,null,null,null,null,null,null,null,null,null,null,null,null,null,null,null,null,null,null,null,null,0,0,0]
[]
["Sorteringsordning ALC atmis (infoga rad överst)"]
[6,2,4,3,1,5,18,14,11,12,15,13,10,16,17,19,7,9,21,8]
["Absorbans 420 nm, filt","Alkalinitet, HCO3","Färg","Konduktivitet 25°C","pH vid 20°C","Turbiditet FNU","Sulfat, SO4","Ammoniumkväve, NH4-N","Fosfor total, P, filt","Fosfor total, P","Kväve total, N","Nitrat + nitritkväve, NO23-N","Fosfatfosfor, PO4-P","Kalcium, Ca","Magnesium, Mg","Klorofyll a","BOD7 (ATU)","COD(Cr)","Kemisk syreförbrukn. COD-Mn","COD-Mn/värden","permtal/formel"]
["Data/Sortera/Alternativ - sortera vänster till höger-OK . Sortera efter rad 1."]
["Glöm ej att kryssa tillbaka till uppifrån och ned under Alternativ.",null,null,null,null,null,null,null,null,null,null,null,null,null,null,null,null,null,null,null,{"$f":"+AG19*3.95","v":0}]